Workbook

Sheet PID
L3: PID: | M3: Vyplňte PID kód žádosti
L5: Pořadové číslo žádosti: | M5: =IF($M$3="vyplňte PID kód žádosti"," ",(VLOOKUP($M$3,'PID abecedně'!$A$2:$J$302,8)))
L7: Datum elektronické evidence žádosti: | M7: =IF($M$3="vyplňte PID kód žádosti"," ",(VLOOKUP($M$3,'PID abecedně'!$A$2:$J$302,2)))
L9: Datum doručení listinné verze žádosti: | M9: =IF(N9=0," ",N9) | N9: =IF($M$3="vyplňte PID kód žádosti"," ",(VLOOKUP($M$3,'PID abecedně'!A1:J301,3)))
L11: STAV žádosti: | M11: =IF($M$3="vyplňte PID kód žádosti"," ",(VLOOKUP($M$3,'PID abecedně'!$A$2:$J$302,7)))
L13: SCHVÁLENO v Kč: | M13: =IF($M$3="vyplňte PID kód žádosti"," ",(VLOOKUP($M$3,'PID abecedně'!$A$2:$J$302,4)))
L15: PROPLACENO v Kč: | M15: =IF($M$3="vyplňte PID kód žádosti"," ",(VLOOKUP($M$3,'PID abecedně'!$A$2:$J$302,5)))
L17: PROPLACENO: | M17: =IF(N17=0," ",N17) | N17: =IF($M$3="vyplňte PID kód žádosti"," ",(VLOOKUP($M$3,'PID abecedně'!$A$1:$J$301,9)))
L19: Aktualizováno k 5. 4. 2023
B21: Komentář ke stavu žádosti:
B23: =IF(M11="EVIDOVÁNO",stavy!B3,IF(M11="NEDOLOŽENA LISTINNÁ VERZE",stavy!B5,IF(M11="VYŘAZENO",stavy!B7,IF(M11="schváleno FORMÁLNĚ A VĚCNĚ",stavy!B9,IF(OR(M11="Schváleno k podpoře", M11="AMO-SCHVÁLENO"),stavy!B11,IF(M11="PROPLACENO",stavy!B13,IF(M11="ZÁSOBNÍK",stavy!B15," "))))))) | M23: =TODAY() -> 45357

Sheet PID abecedně
A1: PID | B1: Datum podání (= elektronická evidence) | C1: #3 Datum podání listinné verze žádosti | D1: dotace - schválená | E1: dotace - PROPLACENÁ | F1: STAV skutečný | G1: STAV k zobrazení | H1: pořadí | I1: PROPLACENO | J1: ROK (schválení/ revokace)
A2: KUOLX01KDIQS | B2: 44438 | C2: 44445 | D2: 127500 | E2: 127500 | F2: SCHVÁLENO k podpoře | G2: =IF(I2>0,"PROPLACENO",F2) -> PROPLACENO | H2: 33 | I2: 44599 | J2: 44508
A3: KUOLX01KDJAT | B3: 44438 | C3: 44439 | D3: 67382.25 | E3: 67382.25 | F3: SCHVÁLENO k podpoře | G3: =IF(I3>0,"PROPLACENO",F3) -> PROPLACENO | H3: 83 | I3: 44630 | J3: 44508
A4: KUOLX01KDKOO | B4: 44438 | C4: 44439 | D4: 101231.33 | E4: 101231.33 | F4: SCHVÁLENO k podpoře | G4: =IF(I4>0,"PROPLACENO",F4) -> PROPLACENO | H4: 11 | I4: 44599 | J4: 44508
A5: KUOLX01KDMEO | B5: 44438 | C5: 44439 | D5: 71205.98 | E5: 71205.98 | F5: SCHVÁLENO k podpoře | G5: =IF(I5>0,"PROPLACENO",F5) -> PROPLACENO | H5: 173 | I5: 44629 | J5: 44536
A6: KUOLX01KDO08 | B6: 44438 | C6: 44442 | D6: 107500 | E6: 107500 | F6: SCHVÁLENO k podpoře | G6: =IF(I6>0,"PROPLACENO",F6) -> PROPLACENO | H6: 236 | I6: 44739 | J6: 44690
A7: KUOLX01KDP72 | B7: 44438 | C7: 44445 | D7: 102500 | E7: 102243.75 | F7: AMO - SCHVÁLENO | G7: =IF(I7>0,"PROPLACENO",F7) -> PROPLACENO | H7: 259 | I7: 44798 | J7: 44732
A8: KUOLX01KDQWE | B8: 44438 | C8: 44440 | D8: 102500 | E8: 101594.25 | F8: SCHVÁLENO k podpoře | G8: =IF(I8>0,"PROPLACENO",F8) -> PROPLACENO | H8: 146 | I8: 44657 | J8: 44536
A9: KUOLX01KDQZZ | B9: 44438 | C9: 44438 | D9: 102500 | E9: 102500 | F9: SCHVÁLENO k podpoře | G9: =IF(I9>0,"PROPLACENO",F9) -> PROPLACENO | H9: 60 | I9: 44595 | J9: 44508
A10: KUOLX01KDR38 | B10: 44438 | C10: 44440 | D10: 127500 | E10: 127500 | F10: SCHVÁLENO k podpoře | G10: =IF(I10>0,"PROPLACENO",F10) -> PROPLACENO | H10: 243 | I10: 44809 | J10: 44732
A11: KUOLX01KDR7O | B11: 44438 | C11: 44442 | D11: 102500 | E11: 102500 | F11: SCHVÁLENO k podpoře | G11: =IF(I11>0,"PROPLACENO",F11) -> PROPLACENO | H11: 191 | I11: 44665 | J11: 44536
A12: KUOLX01KDRJ0 | B12: 44438 | C12: 44440 | D12: 107500 | E12: 107500 | F12: AMO - SCHVÁLENO | G12: =IF(I12>0,"PROPLACENO",F12) -> PROPLACENO | H12: 206 | I12: 44718 | J12: 44627
A13: KUOLX01KDTRI | B13: 44438 | C13: 44441 | D13: 127500 | E13: 127500 | F13: SCHVÁLENO k podpoře | G13: =IF(I13>0,"PROPLACENO",F13) -> PROPLACENO | H13: 81 | I13: 44608 | J13: 44508
... A27: KUOLX01KERZF | B27: 44438 | C27: 44445 | D27: 127500 | E27: 127500 | F27: SCHVÁLENO k podpoře | G27: =IF(I27>0,"PROPLACENO",F27) -> PROPLACENO | H27: 136 | I27: 44644 | J27: 44536
A28: KUOLX01KQ5WS | B28: 44438 | C28: 44445 | D28: 0 | F28: VYŘAZENO | G28: =IF(I28>0,"PROPLACENO",F28) -> VYŘAZENO | H28: 27
A29: KUOLX01KES2T | B29: 44438 | C29: 44445 | D29: 102500 | E29: 90075.75 | F29: SCHVÁLENO k podpoře | G29: =IF(I29>0,"PROPLACENO",F29) -> PROPLACENO | H29: 161 | I29: 44671 | J29: 44536
A30: KUOLX01KES3O | B30: 44438 | C30: 44448 | D30: 127500 | E30: 127500 | F30: SCHVÁLENO k podpoře | G30: =IF(I30>0,"PROPLACENO",F30) -> PROPLACENO | H30: 156 | I30: 44679 | J30: 44536
A31: KUOLX01KEV6O | B31: 44438 | C31: 44442 | D31: 84983.4 | E31: 84983.4 | F31: SCHVÁLENO k podpoře | G31: =IF(I31>0,"PROPLACENO",F31) -> PROPLACENO | H31: 223 | I31: 44679 | J31: 44627
A32: KUOLX01KF2TR | B32: 44438 | C32: 44445 | D32: 102500 | E32: 102500 | F32: SCHVÁLENO k podpoře | G32: =IF(I32>0,"PROPLACENO",F32) -> PROPLACENO | H32: 40 | I32: 44595 | J32: 44508
A33: KUOLX01KFDHA | B33: 44438 | C33: 44440 | D33: 127500 | E33: 127500 | F33: SCHVÁLENO k podpoře | G33: =IF(I33>0,"PROPLACENO",F33) -> PROPLACENO | H33: 234 | I33: 44711 | J33: 44690
A34: KUOLX01KFDLQ | B34: 44438 | C34: 44441 | D34: 66448.5 | E34: 66448.5 | F34: SCHVÁLENO k podpoře | G34: =IF(I34>0,"PROPLACENO",F34) -> PROPLACENO | H34: 267 | I34: 44952 | J34: 44844
A35: KUOLX01KFJ98 | B35: 44438 | C35: 44445 | D35: 127500 | E35: 127500 | F35: SCHVÁLENO k podpoře | G35: =IF(I35>0,"PROPLACENO",F35) -> PROPLACENO | H35: 123 | I35: 44655 | J35: 44536
A36: KUOLX01KFJUB | B36: 44438 | C36: 44441 | D36: 102500 | E36: 102500 | F36: SCHVÁLENO k podpoře | G36: =IF(I36>0,"PROPLACENO",F36) -> PROPLACENO | H36: 4 | I36: 44616 | J36: 44508
A37: KUOLX01KFJV6 | B37: 44438 | C37: 44440 | D37: 127500 | E37: 127500 | F37: SCHVÁLENO k podpoře | G37: =IF(I37>0,"PROPLACENO",F37) -> PROPLACENO | H37: 175 | I37: 44672 | J37: 44536
A38: KUOLX01KFJW1 | B38: 44438 | C38: 44441 | D38: 127500 | E38: 127500 | F38: SCHVÁLENO k podpoře | G38: =IF(I38>0,"PROPLACENO",F38) -> PROPLACENO | H38: 94 | I38: 44552 | J38: 44508
A39: KUOLX01KQ8J0 | B39: 44438 | D39: 0 | F39: NEDOLOŽENA LISTINNÁ VERZE | G39: =IF(I39>0,"PROPLACENO",F39) -> NEDOLOŽENA LISTINNÁ VERZE | H39: 38
A40: KUOLX01KFLWN | B40: 44438 | C40: 44440 | D40: 120000 | E40: 120000 | F40: SCHVÁLENO k podpoře | G40: =IF(I40>0,"PROPLACENO",F40) -> PROPLACENO | H40: 25 | I40: 44552 | J40: 44508
A41: KUOLX01KG0SX | B41: 44438 | C41: 44448 | D41: 127500 | E41: 127500 | F41: SCHVÁLENO k podpoře | G41: =IF(I41>0,"PROPLACENO",F41) -> PROPLACENO | H41: 132 | I41: 44648 | J41: 44536
A42: KUOLX01KG137 | B42: 44438 | C42: 44442 | D42: 127500 | E42: 127500 | F42: SCHVÁLENO k podpoře | G42: =IF(I42>0,"PROPLACENO",F42) -> PROPLACENO | H42: 157 | I42: 44651 | J42: 44536
A43: KUOLX01KG17N | B43: 44438 | C43: 44439 | D43: 95000 | E43: 95000 | F43: SCHVÁLENO k podpoře | G43: =IF(I43>0,"PROPLACENO",F43) -> PROPLACENO | H43: 100 | I43: 44599 | J43: 44508
A44: KUOLX01KG1A8 | B44: 44438 | C44: 44448 | D44: 102500 | E44: 102500 | F44: SCHVÁLENO k podpoře | G44: =IF(I44>0,"PROPLACENO",F44) -> PROPLACENO | H44: 134 | I44: 44622 | J44: 44536
A45: KUOLX01KG1EO | B45: 44438 | C45: 44446 | D45: 88642.28 | E45: 88642.28 | F45: SCHVÁLENO k podpoře | G45: =IF(I45>0,"PROPLACENO",F45) -> PROPLACENO | H45: 6 | I45: 44599 | J45: 44508
A46: KUOLX01KG6X2 | B46: 44438 | C46: 44439 | D46: 127500 | E46: 127500 | F46: SCHVÁLENO k podpoře | G46: =IF(I46>0,"PROPLACENO",F46) -> PROPLACENO | H46: 95 | I46: 44622 | J46: 44508
A47: KUOLX01KG968 | B47: 44438 | C47: 44439 | D47: 102500 | E47: 102500 | F47: SCHVÁLENO k podpoře | G47: =IF(I47>0,"PROPLACENO",F47) -> PROPLACENO | H47: 118 | I47: 44655 | J47: 44536
A48: KUOLX01KG9CE | B48: 44438 | C48: 44442 | D48: 100000 | E48: 100000 | F48: SCHVÁLENO k podpoře | G48: =IF(I48>0,"PROPLACENO",F48) -> PROPLACENO | H48: 209 | I48: 44683 | J48: 44627
A49: KUOLX01KGVY2 | B49: 44438 | C49: 44442 | D49: 107500 | E49: 107500 | F49: AMO - SCHVÁLENO | G49: =IF(I49>0,"PROPLACENO",F49) -> PROPLACENO | H49: 258 | I49: 44846 | J49: 44732
A50: KUOLX01KGW0L | B50: 44438 | C50: 44441 | D50: 127500 | E50: 127500 | F50: SCHVÁLENO k podpoře | G50: =IF(I50>0,"PROPLACENO",F50) -> PROPLACENO | H50: 165 | I50: 44658 | J50: 44536
A51: KUOLX01KGW36 | B51: 44438 | C51: 44449 | D51: 120000 | E51: 120000 | F51: SCHVÁLENO k podpoře | G51: =IF(I51>0,"PROPLACENO",F51) -> PROPLACENO | H51: 220 | I51: 44683 | J51: 44627
... A61: KUOLX01KHE2G | B61: 44438 | C61: 44449 | D61: 127500 | E61: 127500 | F61: SCHVÁLENO k podpoře | G61: =IF(I61>0,"PROPLACENO",F61) -> PROPLACENO | H61: 242 | I61: 44817 | J61: 44732
A62: KUOLX01KQ7SY | B62: 44438 | C62: 44446 | D62: 0 | F62: VYŘAZENO | G62: =IF(I62>0,"PROPLACENO",F62) -> VYŘAZENO | H62: 61
...

Sheet stavy
B3: Stav "EVIDOVÁNO" znamená, že je žádost elektronicky zaevidována a současně byla ve stanoveném termínu doložena listinná verze žádosti. Žádost čeká na kontrolu formální a věcné správnosti ze strany pracovníků oddělení administrace kotlíkových dotací.
B5: Při stavu "NEDOLOŽENÁ LISTINNÁ VERZE" nesplnil žadatel povinnost doložit po elektronické evidenci žádosti i její listinnou podobu, a to do 10 pracovních dnů od elektronické evidence žádosti. O nesplnění povinnosti a o vyřazení žádosti bude každý žadatel neprodleně písemně informován.
B7: Stav "VYŘAZENO" je u žádosti, ve které bylo zjištěno nesplnění nebo porušení podmínek dotačního programu a taková žádost nemůže být schválena k podpoře. O vyřazení žádosti je žadatel neprodleně písemně informován.
B9: Stav "Schváleno FORMÁLNĚ A VĚCNĚ" znamená, že žádost prošla procesem kontroly, vyhovuje podmínkám dotačního programu a bude předložena Radě Olomouckého kraje k projednání. O výsledku rozhodnutí Rady bude žadatel písemně vyrozuměn a zároveň bude na webových stránkách ke kotlíkovým dotacím zveřejněn seznam žádostí schválených k podpoře.
B11: Stav "Schváleno K PODPOŘE" nebo "AMO - SCHVÁLENO" znamená, že žádost byla schválena Radou Olomouckého kraje k podpoře. O schválení žádosti bude žadatel písemně vyrozuměn a zároveň bude na webových stránkách ke kotlíkovým dotacím zveřejněn seznam žádostí schválených k podpoře.
B13: "PROPLACENO" znamená, že žadatel předložil vyúčtování dotace, které bylo schváleno a finanční prostředky byly zaslány žadateli v uvedené datum na bankovní účet uvedený v žádosti.
B15: "ZÁSOBNÍK" znamená, že žádost splnila podmínky dotačního programu, ale z důvodu vyčerpání finančních prostředků ji nebylo možné schválit k podpoře. Pokud bude možné žádost dodatečně podpořit, bude žadatel o této skutečnosti informován.
