Workbook

Sheet PID
L3: PID: | M3: Vyplňte PID kód žádosti
L5: Pořadové číslo žádosti: | M5: =IF($M$3="vyplňte PID kód žádosti"," ",(VLOOKUP($M$3,'PID abecedně'!$A$2:$J$302,8)))
L7: Datum elektronické evidence žádosti: | M7: =IF($M$3="vyplňte PID kód žádosti"," ",(VLOOKUP($M$3,'PID abecedně'!$A$2:$J$302,2)))
L9: Datum doručení listinné verze žádosti: | M9: =IF(N9=0," ",N9) | N9: =IF($M$3="vyplňte PID kód žádosti"," ",(VLOOKUP($M$3,'PID abecedně'!A1:J301,3)))
L11: STAV žádosti: | M11: =IF($M$3="vyplňte PID kód žádosti"," ",(VLOOKUP($M$3,'PID abecedně'!$A$2:$J$302,7)))
L13: SCHVÁLENO v Kč: | M13: =IF($M$3="vyplňte PID kód žádosti"," ",(VLOOKUP($M$3,'PID abecedně'!$A$2:$J$302,4)))
L15: PROPLACENO v Kč: | M15: =IF($M$3="vyplňte PID kód žádosti"," ",(VLOOKUP($M$3,'PID abecedně'!$A$2:$J$302,5)))
L17: PROPLACENO: | M17: =IF(N17=0," ",N17) | N17: =IF($M$3="vyplňte PID kód žádosti"," ",(VLOOKUP($M$3,'PID abecedně'!$A$1:$J$301,9)))
L19: Aktualizováno k 5. 4. 2023
B21: Komentář ke stavu žádosti:
B23: =IF(M11="EVIDOVÁNO",stavy!B3,IF(M11="NEDOLOŽENA LISTINNÁ VERZE",stavy!B5,IF(M11="VYŘAZENO",stavy!B7,IF(M11="schváleno FORMÁLNĚ A VĚCNĚ",stavy!B9,IF(OR(M11="Schváleno k podpoře", M11="AMO-SCHVÁLENO"),stavy!B11,IF(M11="PROPLACENO",stavy!B13,IF(M11="ZÁSOBNÍK",stavy!B15," "))))))) | M23: =TODAY() -> 45357

Sheet PID abecedně
A1: PID | B1: Datum podání (= elektronická evidence) | C1: #3 Datum podání listinné verze žádosti | D1: dotace - schválená | E1: dotace - PROPLACENÁ | F1: STAV skutečný | G1: STAV k zobrazení | H1: pořadí | I1: PROPLACENO | J1: ROK (schválení/ revokace)
A2: KUOLX01KDIQS | B2: 44438 | C2: 44445 | D2: 127500 | E2: 127500 | F2: SCHVÁLENO k podpoře | G2: =IF(I2>0,"PROPLACENO",F2) -> PROPLACENO | H2: 33 | I2: 44599 | J2: 44508
A3: KUOLX01KDJAT | B3: 44438 | C3: 44439 | D3: 67382.25 | E3: 67382.25 | F3: SCHVÁLENO k podpoře | G3: =IF(I3>0,"PROPLACENO",F3) -> PROPLACENO | H3: 83 | I3: 44630 | J3: 44508
A4: KUOLX01KDKOO | B4: 44438 | C4: 44439 | D4: 101231.33 | E4: 101231.33 | F4: SCHVÁLENO k podpoře | G4: =IF(I4>0,"PROPLACENO",F4) -> PROPLACENO | H4: 11 | I4: 44599 | J4: 44508
A5: KUOLX01KDMEO | B5: 44438 | C5: 44439 | D5: 71205.98 | E5: 71205.98 | F5: SCHVÁLENO k podpoře | G5: =IF(I5>0,"PROPLACENO",F5) -> PROPLACENO | H5: 173 | I5: 44629 | J5: 44536
A6: KUOLX01KDO08 | B6: 44438 | C6: 44442 | D6: 107500 | E6: 107500 | F6: SCHVÁLENO k podpoře | G6: =IF(I6>0,"PROPLACENO",F6) -> PROPLACENO | H6: 236 | I6: 44739 | J6: 44690
A7: KUOLX01KDP72 | B7: 44438 | C7: 44445 | D7: 102500 | E7: 102243.75 | F7: AMO - SCHVÁLENO | G7: =IF(I7>0,"PROPLACENO",F7) -> PROPLACENO | H7: 259 | I7: 44798 | J7: 44732
A8: KUOLX01KDQWE | B8: 44438 | C8: 44440 | D8: 102500 | E8: 101594.25 | F8: SCHVÁLENO k podpoře | G8: =IF(I8>0,"PROPLACENO",F8) -> PROPLACENO | H8: 146 | I8: 44657 | J8: 44536
A9: KUOLX01KDQZZ | B9: 44438 | C9: 44438 | D9: 102500 | E9: 102500 | F9: SCHVÁLENO k podpoře | G9: =IF(I9>0,"PROPLACENO",F9) -> PROPLACENO | H9: 60 | I9: 44595 | J9: 44508
A10: KUOLX01KDR38 | B10: 44438 | C10: 44440 | D10: 127500 | E10: 127500 | F10: SCHVÁLENO k podpoře | G10: =IF(I10>0,"PROPLACENO",F10) -> PROPLACENO | H10: 243 | I10: 44809 | J10: 44732
A11: KUOLX01KDR7O | B11: 44438 | C11: 44442 | D11: 102500 | E11: 102500 | F11: SCHVÁLENO k podpoře | G11: =IF(I11>0,"PROPLACENO",F11) -> PROPLACENO | H11: 191 | I11: 44665 | J11: 44536
A12: KUOLX01KDRJ0 | B12: 44438 | C12: 44440 | D12: 107500 | E12: 107500 | F12: AMO - SCHVÁLENO | G12: =IF(I12>0,"PROPLACENO",F12) -> PROPLACENO | H12: 206 | I12: 44718 | J12: 44627
A13: KUOLX01KDTRI | B13: 44438 | C13: 44441 | D13: 127500 | E13: 127500 | F13: SCHVÁLENO k podpoře | G13: =IF(I13>0,"PROPLACENO",F13) -> PROPLACENO | H13: 81 | I13: 44608 | J13: 44508
... A27: KUOLX01KERZF | B27: 44438 | C27: 44445 | D27: 127500 | E27: 127500 | F27: SCHVÁLENO k podpoře | G27: =IF(I27>0,"PROPLACENO",F27) -> PROPLACENO | H27: 136 | I27: 44644 | J27: 44536
A28: KUOLX01KQ5WS | B28: 44438 | C28: 44445 | D28: 0 | F28: VYŘAZENO | G28: =IF(I28>0,"PROPLACENO",F28) -> VYŘAZENO | H28: 27
A29: KUOLX01KES2T | B29: 44438 | C29: 44445 | D29: 102500 | E29: 90075.75 | F29: SCHVÁLENO k podpoře | G29: =IF(I29>0,"PROPLACENO",F29) -> PROPLACENO | H29: 161 | I29: 44671 | J29: 44536
A30: KUOLX01KES3O | B30: 44438 | C30: 44448 | D30: 127500 | E30: 127500 | F30: SCHVÁLENO k podpoře | G30: =IF(I30>0,"PROPLACENO",F30) -> PROPLACENO | H30: 156 | I30: 44679 | J30: 44536
A31: KUOLX01KEV6O | B31: 44438 | C31: 44442 | D31: 84983.4 | E31: 84983.4 | F31: SCHVÁLENO k podpoře | G31: =IF(I31>0,"PROPLACENO",F31) -> PROPLACENO | H31: 223 | I31: 44679 | J31: 44627
A32: KUOLX01KF2TR | B32: 44438 | C32: 44445 | D32: 102500 | E32: 102500 | F32: SCHVÁLENO k podpoře | G32: =IF(I32>0,"PROPLACENO",F32) -> PROPLACENO | H32: 40 | I32: 44595 | J32: 44508
A33: KUOLX01KFDHA | B33: 44438 | C33: 44440 | D33: 127500 | E33: 127500 | F33: SCHVÁLENO k podpoře | G33: =IF(I33>0,"PROPLACENO",F33) -> PROPLACENO | H33: 234 | I33: 44711 | J33: 44690
A34: KUOLX01KFDLQ | B34: 44438 | C34: 44441 | D34: 66448.5 | E34: 66448.5 | F34: SCHVÁLENO k podpoře | G34: =IF(I34>0,"PROPLACENO",F34) -> PROPLACENO | H34: 267 | I34: 44952 | J34: 44844
A35: KUOLX01KFJ98 | B35: 44438 | C35: 44445 | D35: 127500 | E35: 127500 | F35: SCHVÁLENO k podpoře | G35: =IF(I35>0,"PROPLACENO",F35) -> PROPLACENO | H35: 123 | I35: 44655 | J35: 44536
A36: KUOLX01KFJUB | B36: 44438 | C36: 44441 | D36: 102500 | E36: 102500 | F36: SCHVÁLENO k podpoře | G36: =IF(I36>0,"PROPLACENO",F36) -> PROPLACENO | H36: 4 | I36: 44616 | J36: 44508
A37: KUOLX01KFJV6 | B37: 44438 | C37: 44440 | D37: 127500 | E37: 127500 | F37: SCHVÁLENO k podpoře | G37: =IF(I37>0,"PROPLACENO",F37) -> PROPLACENO | H37: 175 | I37: 44672 | J37: 44536
A38: KUOLX01KFJW1 | B38: 44438 | C38: 44441 | D38: 127500 | E38: 127500 | F38: SCHVÁLENO k podpoře | G38: =IF(I38>0,"PROPLACENO",F38) -> PROPLACENO | H38: 94 | I38: 44552 | J38: 44508
A39: KUOLX01KQ8J0 | B39: 44438 | D39: 0 | F39: NEDOLOŽENA LISTINNÁ VERZE | G39: =IF(I39>0,"PROPLACENO",F39) -> NEDOLOŽENA LISTINNÁ VERZE | H39: 38
A40: KUOLX01KFLWN | B40: 44438 | C40: 44440 | D40: 120000 | E40: 120000 | F40: SCHVÁLENO k podpoře | G40: =IF(I40>0,"PROPLACENO",F40) -> PROPLACENO | H40: 25 | I40: 44552 | J40: 44508
A41: KUOLX01KG0SX | B41: 44438 | C41: 44448 | D41: 127500 | E41: 127500 | F41: SCHVÁLENO k podpoře | G41: =IF(I41>0,"PROPLACENO",F41) -> PROPLACENO | H41: 132 | I41: 44648 | J41: 44536
A42: KUOLX01KG137 | B42: 44438 | C42: 44442 | D42: 127500 | E42: 127500 | F42: SCHVÁLENO k podpoře | G42: =IF(I42>0,"PROPLACENO",F42) -> PROPLACENO | H42: 157 | I42: 44651 | J42: 44536
A43: KUOLX01KG17N | B43: 44438 | C43: 44439 | D43: 95000 | E43: 95000 | F43: SCHVÁLENO k podpoře | G43: =IF(I43>0,"PROPLACENO",F43) -> PROPLACENO | H43: 100 | I43: 44599 | J43: 44508
A44: KUOLX01KG1A8 | B44: 44438 | C44: 44448 | D44: 102500 | E44: 102500 | F44: SCHVÁLENO k podpoře | G44: =IF(I44>0,"PROPLACENO",F44) -> PROPLACENO | H44: 134 | I44: 44622 | J44: 44536
A45: KUOLX01KG1EO | B45: 44438 | C45: 44446 | D45: 88642.28 | E45: 88642.28 | F45: SCHVÁLENO k podpoře | G45: =IF(I45>0,"PROPLACENO",F45) -> PROPLACENO | H45: 6 | I45: 44599 | J45: 44508
A46: KUOLX01KG6X2 | B46: 44438 | C46: 44439 | D46: 127500 | E46: 127500 | F46: SCHVÁLENO k podpoře | G46: =IF(I46>0,"PROPLACENO",F46) -> PROPLACENO | H46: 95 | I46: 44622 | J46: 44508
A47: KUOLX01KG968 | B47: 44438 | C47: 44439 | D47: 102500 | E47: 102500 | F47: SCHVÁLENO k podpoře | G47: =IF(I47>0,"PROPLACENO",F47) -> PROPLACENO | H47: 118 | I47: 44655 | J47: 44536
A48: KUOLX01KG9CE | B48: 44438 | C48: 44442 | D48: 100000 | E48: 100000 | F48: SCHVÁLENO k podpoře | G48: =IF(I48>0,"PROPLACENO",F48) -> PROPLACENO | H48: 209 | I48: 44683 | J48: 44627
A49: KUOLX01KGVY2 | B49: 44438 | C49: 44442 | D49: 107500 | E49: 107500 | F49: AMO - SCHVÁLENO | G49: =IF(I49>0,"PROPLACENO",F49) -> PROPLACENO | H49: 258 | I49: 44846 | J49: 44732
A50: KUOLX01KGW0L | B50: 44438 | C50: 44441 | D50: 127500 | E50: 127500 | F50: SCHVÁLENO k podpoře | G50: =IF(I50>0,"PROPLACENO",F50) -> PROPLACENO | H50: 165 | I50: 44658 | J50: 44536
A51: KUOLX01KGW36 | B51: 44438 | C51: 44449 | D51: 120000 | E51: 120000 | F51: SCHVÁLENO k podpoře | G51: =IF(I51>0,"PROPLACENO",F51) -> PROPLACENO | H51: 220 | I51: 44683 | J51: 44627
... A61: KUOLX01KHE2G | B61: 44438 | C61: 44449 | D61: 127500 | E61: 127500 | F61: SCHVÁLENO k podpoře | G61: =IF(I61>0,"PROPLACENO",F61) -> PROPLACENO | H61: 242 | I61: 44817 | J61: 44732
A62: KUOLX01KQ7SY | B62: 44438 | C62: 44446 | D62: 0 | F62: VYŘAZENO | G62: =IF(I62>0,"PROPLACENO",F62) -> VYŘAZENO | H62: 61
A63: KUOLX01KHEKY | B63: 44438 | C63: 44449 | D63: 100000 | E63: 100000 | F63: AMO - SCHVÁLENO | G63: =IF(I63>0,"PROPLACENO",F63) -> PROPLACENO | H63: 195 | I63: 44606 | J63: 44536
A64: KUOLX01KNPRO | B64: 44438 | C64: 44446 | D64: 0 | F64: VYŘAZENO | G64: =IF(I64>0,"PROPLACENO",F64) -> VYŘAZENO | H64: 63
A65: KUOLX01KHEP9 | B65: 44438 | C65: 44449 | D65: 102500 | E65: 102500 | F65: SCHVÁLENO k podpoře | G65: =IF(I65>0,"PROPLACENO",F65) -> PROPLACENO | H65: 31 | I65: 44601 | J65: 44508
A66: KUOLX01KHHPO | B66: 44438 | C66: 44446 | D66: 102500 | E66: 102500 | F66: SCHVÁLENO k podpoře | G66: =IF(I66>0,"PROPLACENO",F66) -> PROPLACENO | H66: 2 | I66: 44616 | J66: 44508
A67: KUOLX01KHHQJ | B67: 44438 | C67: 44441 | D67: 102500 | E67: 102500 | F67: SCHVÁLENO k podpoře | G67: =IF(I67>0,"PROPLACENO",F67) -> PROPLACENO | H67: 46 | I67: 44595 | J67: 44508
A68: KUOLX01KHHS9 | B68: 44438 | C68: 44439 | D68: 93750 | E68: 93750 | F68: SCHVÁLENO k podpoře | G68: =IF(I68>0,"PROPLACENO",F68) -> PROPLACENO | H68: 92 | I68: 44601 | J68: 44508
A69: KUOLX01KI333 | B69: 44438 | C69: 44446 | D69: 107500 | E69: 107500 | F69: SCHVÁLENO k podpoře | G69: =IF(I69>0,"PROPLACENO",F69) -> PROPLACENO | H69: 53 | I69: 44552 | J69: 44508
A70: KUOLX01KI3BZ | B70: 44438 | C70: 44440 | D70: 127500 | E70: 127500 | F70: AMO - SCHVÁLENO | G70: =IF(I70>0,"PROPLACENO",F70) -> PROPLACENO | H70: 204 | I70: 44686 | J70: 44627
A71: KUOLX01KQ760 | B71: 44438 | C71: 44447 | D71: 0 | F71: VYŘAZENO | G71: =IF(I71>0,"PROPLACENO",F71) -> VYŘAZENO | H71: 70
A72: KUOLX01KI3YS | B72: 44438 | C72: 44441 | D72: 127500 | E72: 127500 | F72: AMO - SCHVÁLENO | G72: =IF(I72>0,"PROPLACENO",F72) -> PROPLACENO | H72: 231 | I72: 44718 | J72: 44690
A73: KUOLX01KI44R | B73: 44438 | C73: 44445 | D73: 102500 | E73: 102500 | F73: SCHVÁLENO k podpoře | G73: =IF(I73>0,"PROPLACENO",F73) -> PROPLACENO | H73: 190 | I73: 44664 | J73: 44536
A74: KUOLX01KI46H | B74: 44438 | C74: 44440 | D74: 127500 | E74: 127500 | F74: SCHVÁLENO k podpoře | G74: =IF(I74>0,"PROPLACENO",F74) -> PROPLACENO | H74: 162 | I74: 44649 | J74: 44536
A75: KUOLX01KI751 | B75: 44438 | C75: 44447 | D75: 127500 | E75: 127500 | F75: SCHVÁLENO k podpoře | G75: =IF(I75>0,"PROPLACENO",F75) -> PROPLACENO | H75: 23 | I75: 44607 | J75: 44508
A76: KUOLX01KI9AY | B76: 44439 | C76: 44446 | D76: 96171 | E76: 96171 | F76: SCHVÁLENO k podpoře | G76: =IF(I76>0,"PROPLACENO",F76) -> PROPLACENO | H76: 298 | I76: 44963 | J76: 44844
A77: KUOLX01KIGE1 | B77: 44438 | C77: 44442 | D77: 127500 | E77: 127500 | F77: SCHVÁLENO k podpoře | G77: =IF(I77>0,"PROPLACENO",F77) -> PROPLACENO | H77: 54 | I77: 44599 | J77: 44508
A78: KUOLX01KIH8O | B78: 44438 | C78: 44442 | D78: 127500 | E78: 127500 | F78: SCHVÁLENO k podpoře | G78: =IF(I78>0,"PROPLACENO",F78) -> PROPLACENO | H78: 268 | I78: 44916 | J78: 44844
A79: KUOLX01KIHY2 | B79: 44438 | C79: 44442 | D79: 120000 | E79: 120000 | F79: SCHVÁLENO k podpoře | G79: =IF(I79>0,"PROPLACENO",F79) -> PROPLACENO | H79: 215 | I79: 44690 | J79: 44627
A80: KUOLX01KII1G | B80: 44438 | C80: 44445 | D80: 107500 | E80: 107500 | F80: SCHVÁLENO k podpoře | G80: =IF(I80>0,"PROPLACENO",F80) -> PROPLACENO | H80: 9 | I80: 44614 | J80: 44508
A81: KUOLX01KII5W | B81: 44438 | C81: 44442 | D81: 102500 | E81: 102500 | F81: SCHVÁLENO k podpoře | G81: =IF(I81>0,"PROPLACENO",F81) -> PROPLACENO | H81: 76 | I81: 44599 | J81: 44508
A82: KUOLX01KIIUF | B82: 44438 | C82: 44449 | D82: 102500 | E82: 102500 | F82: SCHVÁLENO k podpoře | G82: =IF(I82>0,"PROPLACENO",F82) -> PROPLACENO | H82: 89 | I82: 44641 | J82: 44508
A83: KUOLX01KIJ24 | B83: 44438 | C83: 44449 | D83: 120000 | E83: 120000 | F83: Schváleno/REVOKACE | G83: =IF(I83>0,"PROPLACENO",F83) -> PROPLACENO | H83: 52 | I83: 44644 | J83: 44536
... A86: KUOLX01KIJG6 | B86: 44438 | C86: 44449 | D86: 102500 | E86: 95970 | F86: SCHVÁLENO k podpoře | G86: =IF(I86>0,"PROPLACENO",F86) -> PROPLACENO | H86: 12 | I86: 44599 | J86: 44508
A87: KUOLX01KDYKI | B87: 44438 | D87: 0 | F87: NEDOLOŽENA LISTINNÁ VERZE | G87: =IF(I87>0,"PROPLACENO",F87) -> NEDOLOŽENA LISTINNÁ VERZE | H87: 86
A88: KUOLX01KIJH1 | B88: 44438 | C88: 44449 | D88: 127500 | E88: 127500 | F88: SCHVÁLENO k podpoře | G88: =IF(I88>0,"PROPLACENO",F88) -> PROPLACENO | H88: 79 | I88: 44651 | J88: 44508
A89: KUOLX01KIJIW | B89: 44438 | C89: 44449 | D89: 102500 | E89: 102500 | F89: AMO - SCHVÁLENO | G89: =IF(I89>0,"PROPLACENO",F89) -> PROPLACENO | H89: 198 | I89: 44664 | J89: 44536
A90: KUOLX01KIQ4H | B90: 44438 | C90: 44440 | D90: 100000 | E90: 100000 | F90: SCHVÁLENO k podpoře | G90: =IF(I90>0,"PROPLACENO",F90) -> PROPLACENO | H90: 160 | I90: 44655 | J90: 44536
A91: KUOLX01KIROI | B91: 44438 | C91: 44447 | D91: 102500 | E91: 102500 | F91: SCHVÁLENO k podpoře | G91: =IF(I91>0,"PROPLACENO",F91) -> PROPLACENO | H91: 221 | I91: 44678 | J91: 44627
A92: KUOLX01KIY7I | B92: 44438 | C92: 44446 | D92: 102500 | E92: 102500 | F92: SCHVÁLENO k podpoře | G92: =IF(I92>0,"PROPLACENO",F92) -> PROPLACENO | H92: 97 | I92: 44600 | J92: 44508
A93: KUOLX01KIYIZ | B93: 44438 | C93: 44447 | D93: 53415 | E93: 53415 | F93: SCHVÁLENO k podpoře | G93: =IF(I93>0,"PROPLACENO",F93) -> PROPLACENO | H93: 166 | I93: 44634 | J93: 44536
A94: KUOLX01KJ0B7 | B94: 44438 | C94: 44441 | D94: 127500 | E94: 127500 | F94: SCHVÁLENO k podpoře | G94: =IF(I94>0,"PROPLACENO",F94) -> PROPLACENO | H94: 113 | I94: 44634 | J94: 44508
A95: KUOLX01KJ0DX | B95: 44438 | C95: 44440 | D95: 120000 | E95: 120000 | F95: SCHVÁLENO k podpoře | G95: =IF(I95>0,"PROPLACENO",F95) -> PROPLACENO | H95: 18 | I95: 44607 | J95: 44508
A96: KUOLX01KJ0ES | B96: 44438 | C96: 44440 | D96: 120000 | E96: 120000 | F96: AMO - SCHVÁLENO | G96: =IF(I96>0,"PROPLACENO",F96) -> PROPLACENO | H96: 205 | I96: 44678 | J96: 44627
A97: KUOLX01KJ0FN | B97: 44438 | C97: 44438 | D97: 120000 | E97: 120000 | F97: SCHVÁLENO k podpoře | G97: =IF(I97>0,"PROPLACENO",F97) -> PROPLACENO | H97: 131 | I97: 44599 | J97: 44536
A98: KUOLX01KJBP4 | B98: 44438 | C98: 44440 | D98: 85965.75 | E98: 85965.75 | F98: SCHVÁLENO k podpoře | G98: =IF(I98>0,"PROPLACENO",F98) -> PROPLACENO | H98: 103 | I98: 44655 | J98: 44508
A99: KUOLX01KJFLW | B99: 44438 | C99: 44441 | D99: 97500 | E99: 81897 | F99: SCHVÁLENO k podpoře | G99: =IF(I99>0,"PROPLACENO",F99) -> PROPLACENO | H99: 56 | I99: 44616 | J99: 44508
... A107: KUOLX01KJULZ | B107: 44438 | C107: 44452 | D107: 127500 | E107: 127500 | F107: SCHVÁLENO k podpoře | G107: =IF(I107>0,"PROPLACENO",F107) -> PROPLACENO | H107: 214 | I107: 44686 | J107: 44627
A108: KUOLX01KELPZ | B108: 44438 | D108: 0 | F108: NEDOLOŽENA LISTINNÁ VERZE | G108: =IF(I108>0,"PROPLACENO",F108) -> NEDOLOŽENA LISTINNÁ VERZE | H108: 107
A109: KUOLX01KKA1A | B109: 44438 | C109: 44445 | D109: 102500 | E109: 102500 | F109: SCHVÁLENO k podpoře | G109: =IF(I109>0,"PROPLACENO",F109) -> PROPLACENO | H109: 170 | I109: 44644 | J109: 44536
A110: KUOLX01KKIPE | B110: 44438 | C110: 44441 | D110: 100000 | E110: 100000 | F110: SCHVÁLENO k podpoře | G110: =IF(I110>0,"PROPLACENO",F110) -> PROPLACENO | H110: 87 | I110: 44608 | J110: 44508
A111: KUOLX01KKKFE | B111: 44438 | C111: 44446 | D111: 127500 | E111: 127500 | F111: SCHVÁLENO k podpoře | G111: =IF(I111>0,"PROPLACENO",F111) -> PROPLACENO | H111: 177 | I111: 44657 | J111: 44536
A112: KUOLX01KKNVL | B112: 44438 | C112: 44446 | D112: 127500 | E112: 127500 | F112: SCHVÁLENO k podpoře | G112: =IF(I112>0,"PROPLACENO",F112) -> PROPLACENO | H112: 239 | I112: 44805 | J112: 44732
A113: KUOLX01KKO8L | B113: 44438 | C113: 44441 | D113: 102500 | E113: 102500 | F113: AMO - SCHVÁLENO | G113: =IF(I113>0,"PROPLACENO",F113) -> PROPLACENO | H113: 207 | I113: 44679 | J113: 44627
A114: KUOLX01KKP5T | B114: 44438 | C114: 44445 | D114: 127500 | E114: 127500 | F114: SCHVÁLENO k podpoře | G114: =IF(I114>0,"PROPLACENO",F114) -> PROPLACENO | H114: 295 | I114: 44952 | J114: 44844
A115: KUOLX01KKSVM | B115: 44438 | C115: 44446 | D115: 127500 | E115: 127500 | F115: SCHVÁLENO k podpoře | G115: =IF(I115>0,"PROPLACENO",F115) -> PROPLACENO | H115: 30 | I115: 44607 | J115: 44508
A116: KUOLX01KL572 | B116: 44438 | C116: 44439 | D116: 120000 | E116: 120000 | F116: SCHVÁLENO k podpoře | G116: =IF(I116>0,"PROPLACENO",F116) -> PROPLACENO | H116: 184 | I116: 44655 | J116: 44536
A117: KUOLX01KLIUC | B117: 44438 | C117: 44440 | D117: 87816 | E117: 87816 | F117: SCHVÁLENO k podpoře | G117: =IF(I117>0,"PROPLACENO",F117) -> PROPLACENO | H117: 273 | I117: 44916 | J117: 44844
A118: KUOLX01KLKS8 | B118: 44438 | C118: 44441 | D118: 107500 | E118: 107500 | F118: SCHVÁLENO k podpoře | G118: =IF(I118>0,"PROPLACENO",F118) -> PROPLACENO | H118: 240 | I118: 44812 | J118: 44732
A119: KUOLX01KLKUY | B119: 44438 | C119: 44449 | D119: 107500 | E119: 107500 | F119: SCHVÁLENO k podpoře | G119: =IF(I119>0,"PROPLACENO",F119) -> PROPLACENO | H119: 144 | I119: 44670 | J119: 44536
A120: KUOLX01KLKWO | B120: 44438 | C120: 44445 | D120: 67011.75 | E120: 67011.75 | F120: SCHVÁLENO k podpoře | G120: =IF(I120>0,"PROPLACENO",F120) -> PROPLACENO | H120: 67 | I120: 44655 | J120: 44508
... A122: KUOLX01KLM9H | B122: 44438 | C122: 44445 | D122: 102500 | E122: 102500 | F122: SCHVÁLENO k podpoře | G122: =IF(I122>0,"PROPLACENO",F122) -> PROPLACENO | H122: 106 | I122: 44634 | J122: 44508
A123: KUOLX01KG1GE | B123: 44438 | C123: 44446 | D123: 0 | F123: VYŘAZENO | G123: =IF(I123>0,"PROPLACENO",F123) -> VYŘAZENO | H123: 122
A124: KUOLX01KLQ0Y | B124: 44438 | C124: 44441 | D124: 107500 | E124: 107500 | F124: SCHVÁLENO k podpoře | G124: =IF(I124>0,"PROPLACENO",F124) -> PROPLACENO | H124: 127 | I124: 44662 | J124: 44536
A125: KUOLX01KLWLV | B125: 44438 | C125: 44445 | D125: 120000 | E125: 120000 | F125: SCHVÁLENO k podpoře | G125: =IF(I125>0,"PROPLACENO",F125) -> PROPLACENO | H125: 99 | I125: 44616 | J125: 44508
A126: KUOLX01KLXTK | B126: 44438 | C126: 44441 | D126: 100000 | E126: 100000 | F126: SCHVÁLENO k podpoře | G126: =IF(I126>0,"PROPLACENO",F126) -> PROPLACENO | H126: 208 | I126: 44690 | J126: 44627
A127: KUOLX01KM4MT | B127: 44438 | C127: 44446 | D127: 127500 | E127: 127500 | F127: SCHVÁLENO k podpoře | G127: =IF(I127>0,"PROPLACENO",F127) -> PROPLACENO | H127: 15 | I127: 44599 | J127: 44508
A128: KUOLX01KM4NO | B128: 44438 | C128: 44441 | D128: 107500 | E128: 107500 | F128: AMO - SCHVÁLENO | G128: =IF(I128>0,"PROPLACENO",F128) -> PROPLACENO | H128: 261 | I128: 44774 | J128: 44732
A129: KUOLX01KM4TU | B129: 44438 | C129: 44441 | D129: 102500 | E129: 73150.5 | F129: SCHVÁLENO k podpoře | G129: =IF(I129>0,"PROPLACENO",F129) -> PROPLACENO | H129: 28 | I129: 44599 | J129: 44508
A130: KUOLX01KQ8LQ | B130: 44438 | C130: 44442 | D130: 0 | F130: Schváleno/NENAPLNĚNÍ ÚČELU | G130: NENAPLNĚNÍ ÚČELU | H130: 129
A131: KUOLX01KMBZN | B131: 44438 | C131: 44446 | D131: 102500 | E131: 102500 | F131: SCHVÁLENO k podpoře | G131: =IF(I131>0,"PROPLACENO",F131) -> PROPLACENO | H131: 82 | I131: 44608 | J131: 44508
A132: KUOLX01KMGDQ | B132: 44438 | C132: 44448 | D132: 102500 | E132: 78393.63 | F132: SCHVÁLENO k podpoře | G132: =IF(I132>0,"PROPLACENO",F132) -> PROPLACENO | H132: 119 | I132: 44676 | J132: 44536
...

Sheet stavy
B3: Stav "EVIDOVÁNO" znamená, že je žádost elektronicky zaevidována a současně byla ve stanoveném termínu doložena listinná verze žádosti. Žádost čeká na kontrolu formální a věcné správnosti ze strany pracovníků oddělení administrace kotlíkových dotací.
B5: Při stavu "NEDOLOŽENÁ LISTINNÁ VERZE" nesplnil žadatel povinnost doložit po elektronické evidenci žádosti i její listinnou podobu, a to do 10 pracovních dnů od elektronické evidence žádosti. O nesplnění povinnosti a o vyřazení žádosti bude každý žadatel neprodleně písemně informován.
B7: Stav "VYŘAZENO" je u žádosti, ve které bylo zjištěno nesplnění nebo porušení podmínek dotačního programu a taková žádost nemůže být schválena k podpoře. O vyřazení žádosti je žadatel neprodleně písemně informován.
B9: Stav "Schváleno FORMÁLNĚ A VĚCNĚ" znamená, že žádost prošla procesem kontroly, vyhovuje podmínkám dotačního programu a bude předložena Radě Olomouckého kraje k projednání. O výsledku rozhodnutí Rady bude žadatel písemně vyrozuměn a zároveň bude na webových stránkách ke kotlíkovým dotacím zveřejněn seznam žádostí schválených k podpoře.
B11: Stav "Schváleno K PODPOŘE" nebo "AMO - SCHVÁLENO" znamená, že žádost byla schválena Radou Olomouckého kraje k podpoře. O schválení žádosti bude žadatel písemně vyrozuměn a zároveň bude na webových stránkách ke kotlíkovým dotacím zveřejněn seznam žádostí schválených k podpoře.
B13: "PROPLACENO" znamená, že žadatel předložil vyúčtování dotace, které bylo schváleno a finanční prostředky byly zaslány žadateli v uvedené datum na bankovní účet uvedený v žádosti.
B15: "ZÁSOBNÍK" znamená, že žádost splnila podmínky dotačního programu, ale z důvodu vyčerpání finančních prostředků ji nebylo možné schválit k podpoře. Pokud bude možné žádost dodatečně podpořit, bude žadatel o této skutečnosti informován.
