Workbook

Sheet Krycí list
A11: ANALÝZA POTŘEB NA ŠKOLÁCH v Olomouckém kraji
A17: Materiál byl vytvořen v rámci projektu P-KAP, který je podporován z fondu/Evropských strukturálních a investičních fondů.
A18: Řešitelem projektu je Národní ústav pro vzdělávání.
A19: Projekt byl zahájen 1.3.2016.

Sheet obsah
A2: OBSAH
A4: Prioritizace oblastí intervencí:
A5: P1 | B5: Prioritizace povinných oblastí intervencí
A6: P2 | B6: Důležitost nepovinných oblastí intervencí
A8: Oblast kariérového poradenství:
A9: A1_A4 | B9: Současná úroveň rozvoje kariérového poradenství a předpokládaný posun
A10: A2 | B10: Činnosti, na kterých se školy v rámci rozvoje kariérového poradenství aktivně podílí
A11: A3 | B11: Překážky, na které školy v rámci rozvoje kariérového poradenství narážejí
A12: A5 | B12: Opatření, která by školám v rámci rozvoje kariérového poradenství pomohla
A13: A6 | B13: Činnosti vedoucích k prevenci předčasných odchodů ze vzdělávání, na kterých se školy v rámci rozvoje kariérového poradenství aktivně podílí
A16: Polytechnické vzdělávání:
A17: B1_B4 | B17: Současná úroveň podpory polytechnického vzdělávání a předpokládaný posun
A18: B2 | B18: Činnosti, na kterých se školy v rámci rozvoje polytechnického vzdělávání aktivně podílí
A19: B3 | B19: Překážky, na které školy v rámci rozvoje polytechnického vzdělávání narážejí
A20: B5 | B20: Opatření, která by školám v rámci rozvoje polytechnického vzdělávání pomohla
A23: Podpora kompetencí k podnikavosti:
A24: C1_C4 | B24: Současná úroveň podpory kompetencí k podnikavosti a předpokládaný posun
A25: C2 | B25: Činnosti, na kterých se školy v rámci rozvoje kompetencí k podnikavosti aktivně podílí
A26: C3 | B26: Překážky, na které školy v rámci rozvoje kompetencí k podnikavosti narážejí
A27: C5 | B27: Opatření, která by školám v rámci rozvoje kompetencí k podnikavosti pomohla
A30: Rozvoj školy jako centra celoživotního učení:
A31: D1_D4 | B31: Současná úroveň rozvoje školy jako centra celoživotního učení a předpokládaný posun
A32: D2 | B32: Činnosti, na kterých se školy v rámci rozvoje školy jako centra celoživotního učení aktivně podílí
A33: D3 | B33: Překážky, na které školy v rámci rozvoje školy jako centra celoživotního učení narážejí
A34: D5 | B34: Opatření, která by školám v rámci rozvoje školy jako centra celoživotního učení pomohla
A37: Podpora odborného vzdělávání, spolupráce škol a zaměstnavatelů
A38: E1_E4 | B38: Současná úroveň podpory odborného vzdělávání, spolupráce škol a zaměstnavatelů a předpokládaný posun
A39: E2 | B39: Činnosti, na kterých se školy v rámci spolupráce se zaměstnavateli aktivně podílí
A40: E3 | B40: Překážky, na které školy v rámci spolupráce se zaměstnavateli narážejí
A41: E5 | B41: Opatření, která by školám v rámci spolupráce se zaměstnavateli pomohla
A44: Podpora inkluzivního vzdělávání
A45: F1_F4 | B45: Současná úroveň rozvoje inkluzivního vzdělávání a předpokládaný posun
A46: F2 | B46: Činnosti, na kterých se školy v rámci rozvoje inkluzivního vzdělávání aktivně podílí
A47: F3 | B47: Překážky, na které školy v rámci realizace inkluzivního vzdělávání narážejí
A48: F5 | B48: Opatření, která by školám v rámci rozvoje inkluzivního vzdělávání pomohla
A49: F6 | B49: Činnosti, na které se školy zaměřují v rámci podpory nadaných a mimořádně nadaných žáků
A52: Podpora jazykového vzdělávání
A53: G1_G4 | B53: Současná úroveň rozvoje jazykového vzdělávání a předpokládaný posun
A54: G2 | B54: Činnosti, na kterých se školy v rámci rozvoje jazykového vzdělávání aktivně podílí
A55: G3 | B55: Překážky, na které školy v rámci rozvoje jazykového vzdělávání narážejí
...

Sheet P1
A1: ZPĚT
A2: =pomo!B1 -> Prioritizace povinných oblastí intervencí
P5: Prioritizace povinných oblastí intervencí - II.vlna | Q5: 1 = nejdůležitější | R5: 2 | S5: 3 | T5: 4 | U5: 5 | V5: 6 | W5: 7 = nejméně důležité | X5: Průměrná pozice
P6: Rozvoj infrastruktury | Q6: 0.47826087 | R6: 0.22826087 | S6: 0.097826087 | T6: 0.097826087 | U6: 0.054347826 | V6: 0.010869565 | W6: 0.032608696 | X6: 2.18
P7: Podpora odborného vzdělávání, spolupráce škol a zaměstnavatelů | Q7: 0.27173913 | R7: 0.32608696 | S7: 0.16304348 | T7: 0.065217391 | U7: 0.043478261 | V7: 0.10869565 | W7: 0.02173913 | X7: 2.7
P8: Podpora polytechnického vzdělávání | Q8: 0.16304348 | R8: 0.2173913 | S8: 0.19565217 | T8: 0.086956522 | U8: 0.13043478 | V8: 0.10869565 | W8: 0.097826087 | X8: 3.52
P9: Podpora kompetencí k podnikavosti, iniciativě a kreativitě | Q9: 0.02173913 | R9: 0.076086957 | S9: 0.2173913 | T9: 0.26086957 | U9: 0.19565217 | V9: 0.14130435 | W9: 0.086956522 | X9: 4.3
P10: Rozvoj kariérového poradenství | Q10: 0.032608696 | R10: 0.054347826 | S10: 0.18478261 | T10: 0.2173913 | U10: 0.2826087 | V10: 0.18478261 | W10: 0.043478261 | X10: 4.39
P11: Rozvoj školy jako centra celoživotního učení | Q11: 0.02173913 | R11: 0.054347826 | S11: 0.076086957 | T11: 0.25 | U11: 0.17391304 | V11: 0.23913043 | W11: 0.18478261 | X11: 4.96
P12: Inkluzivní vzdělávání | Q12: 0.010869565 | R12: 0.043478261 | S12: 0.065217391 | T12: 0.02173913 | U12: 0.11956522 | V12: 0.20652174 | W12: 0.5326087 | X12: 5.95
Q26: 1 | R26: 2 | S26: 3 | T26: 4 | U26: 5 | V26: 6 | W26: 7
Q27: Rozvoj infrastruktury školy, vč. rekonstrukcí a vybavení | R27: Podpora odborného vzdělávání, spolupráce škol a zam. | S27: Podpora polytechnického vzdělávání | T27: Podpora kompetencí k podnikavosti | U27: Rozvoj kariérového poradenství | V27: Rozvoj školy jako centra celoživotního učení | W27: Inkluzivní vzdělávání
O28: 1 | P28: I.vlna šetření | Q28: 2.3854167 | R28: 2.7708333 | S28: 4.1354167 | T28: 3.9375 | U28: 4.875 | V28: 4.2604167 | W28: 5.6354167
O29: 2 | P29: II. vlna šetření | Q29: 2.18 | R29: 2.7 | S29: 3.52 | T29: 4.3 | U29: 4.39 | V29: 4.96 | W29: 5.95
Q30: =+Q28-Q29 -> 0.20541667 | R30: =+R28-R29 -> 0.070833333 | S30: =+S28-S29 -> 0.61541667 | T30: =+T28-T29 -> -0.3625 | U30: =+U28-U29 -> 0.485 | V30: =+V28-V29 -> -0.69958333 | W30: =+W28-W29 -> -0.31458333

Sheet P2
A1: ZPĚT
A2: =pomo!B2 -> Důležitost nepovinných oblastí intervencí
P5: Důležitost nepovinných oblastí | Q5: I. vlna | R5: II. vlna | S5: Rozdíl
P6: ICT včetně potřeb infrastruktury | Q6: 0.875 | R6: 0.94565217 | S6: =R6-Q6 -> 0.070652174
P7: Jazykové vzdělávání vč. potřeb infrastruktury | Q7: 0.79166667 | R7: 0.81521739 | S7: =R7-Q7 -> 0.023550725
P8: Podpora rozvoje matematické gramotnosti | Q8: 0.72916667 | R8: 0.77173913 | S8: =R8-Q8 -> 0.042572464
P9: Podpora rozvoje čtenářské gramotnosti | Q9: 0.6875 | R9: 0.7173913 | S9: =R9-Q9 -> 0.029891304
P10: Žádné z těchto témat pro nás není důležité | Q10: 0.014492754 | R10: 0.032608696 | S10: =R10-Q10 -> 0.018115942

Sheet A1_A4
A1: ZPĚT
A2: =pomo!B4 -> Současná úroveň rozvoje kariérového poradenství a předpokládaný posun
X5: Úroveň rozvoje - II. vlna | Y5: Současný stav | Z5: Cílový stav | AA5: Předpokládaný posun
X6: Průměrná úroveň | Y6: 0.40817091 | Z6: 0.58245877 | AA6: =+Z6-Y6 -> 0.17428786
X7: Základní úroveň | Y7: 0.22282609 | Z7: 0.25543478 | AA7: =+Z7-Y7 -> 0.032608696
X8: Mírně pokročilá úroveň | Y8: 0.40217391 | Z8: 0.47826087 | AA8: =+Z8-Y8 -> 0.076086957
X9: Pokročilá úroveň | Y9: 0.48007246 | Z9: 0.62137681 | AA9: =+Z9-Y9 -> 0.14130435
X10: Nejvyšší úroveň | Y10: 0.37732919 | Z10: 0.61801242 | AA10: =+Z10-Y10 -> 0.24068323
X25: Úroveň současného stavu - časové srovnání | Y25: I. vlna | Z25: II.vlna | AA25: Rozdíl
X26: Průměrná úroveň | Y26: 0.30621408 | Z26: 0.40817091 | AA26: =Z26-Y26 -> 0.10195683
X27: Základní úroveň | Y27: 0.30729167 | Z27: 0.22282609 | AA27: =Z27-Y27 -> -0.08446558
X28: Mírně pokročilá úroveň | Y28: 0.36458333 | Z28: 0.40217391 | AA28: =Z28-Y28 -> 0.03759058
X29: Pokročilá úroveň | Y29: 0.36111111 | Z29: 0.48007246 | AA29: =Z29-Y29 -> 0.11896135
X30: Nejvyšší úroveň | Y30: 0.25 | Z30: 0.37732919 | AA30: =Z30-Y30 -> 0.12732919

Sheet A2
A1: ZPĚT
A2: =pomo!B5 -> Činnosti, na kterých se školy v rámci rozvoje kariérového poradenství aktivně podílí
S5: Aktivita | T5: I. vlna | U5: II. vlna | V5: Rozdíl
S6: Organizování exkurzí, besed apod. pro kariérovou orientaci žáků | T6: 0.89583333 | U6: 0.93478261 | V6: =U6-T6 -> 0.038949275
S7: Poskytování individuálních služeb kariérového poradenství pro žáky | T7: 0.73958333 | U7: 0.88043478 | V7: =U7-T7 -> 0.14085145
S8: Prevence a intervence předčasných odchodů žáků ze školy | T8: 0.65625 | U8: 0.75 | V8: =U8-T8 -> 0.09375
S9: Využívání a poskytování kariérových informací | T9: 0.70833333 | U9: 0.72826087 | V9: =U9-T9 -> 0.019927536
S10: Realizace odborného výcviku/odborné praxe v reálném pracovním prostředí | T10: 0.70833333 | U10: 0.70652174 | V10: =U10-T10 -> -0.0018115942
S11: Spolupráce se zaměstnavateli či VŠ při náborových aktivitách | T11: 0.65625 | U11: 0.70652174 | V11: =U11-T11 -> 0.050271739
S12: Zapojení odborníků z praxe do výuky a dalších aktivit školy | T12: 0.58333333 | U12: 0.70652174 | V12: =U12-T12 -> 0.12318841
S13: Spolupráce s rodiči (představení profese rodičů ve škole, řešení předčasných odchodů) | T13: 0.76041667 | U13: 0.69565217 | V13: =U13-T13 -> -0.064764493
S14: Podpora žáků se znevýhodněním zdravotním a/nebo sociálním | T14: 0.6875 | U14: 0.67391304 | V14: =U14-T14 -> -0.013586957
S15: Spolupráce s externími subjekty z oblasti kariérového poradenství | T15: 0.4375 | U15: 0.47826087 | V15: =U15-T15 -> 0.04076087
S16: Příprava materiálů pro výuku průřezového tématu či vzděl. oblasti Člověk a svět práce | T16: 0.44791667 | U16: 0.42391304 | V16: =U16-T16 -> -0.024003623
S17: Průběžné vzdělávání pedagogických pracovníků v oblasti kariérového poradenství | T17: 0.27083333 | U17: 0.36956522 | V17: =U17-T17 -> 0.098731884
S18: Jiné | T18: 0.010416667 | U18: 0.032608696 | V18: =U18-T18 -> 0.022192029

Sheet A3
A1: ZPĚT
A2: =pomo!B6 -> Překážky, na které školy v rámci rozvoje kariérového poradenství narážejí
S5: Překážky | T5: I. vlna | U5: II vlna | V5: Rozdíl
S6: Nedostatečné finanční prostředky pro zajištění kariérového poradenství ve škole | T6: 0.65625 | U6: 0.69565217 | V6: =U6-T6 -> 0.039402174
S7: Nízká časová dotace poradce pro poskytování služeb kariérového poradenství | T7: 0.48958333 | U7: 0.55434783 | V7: =U7-T7 -> 0.064764493
S8: Malý zájem o kariérové poradenství ze strany žáků a rodičů | T8: 0.54166667 | U8: 0.54347826 | V8: =U8-T8 -> 0.0018115942
S9: Nedostatek příležitostí pro vzdělávání kariérových (výchovných) poradců | T9: 0.33333333 | U9: 0.32608696 | V9: =U9-T9 -> -0.0072463768
S10: Malý zájem ze strany zaměstnavatelů | T10: 0.42708333 | U10: 0.32608696 | V10: =U10-T10 -> -0.10099638
S11: Absence pozice samostatného kariérového poradce | T11: 0.39583333 | U11: 0.32608696 | V11: =U11-T11 -> -0.069746377
S12: Nedostatečné technické a materiální zabezpečení pro kariérové poradenství | T12: 0.34375 | U12: 0.30434783 | V12: =U12-T12 -> -0.039402174
S13: Nedostatečné vzdělání kariérových (výchovných) poradců | T13: 0.23958333 | U13: 0.2826087 | V13: =U13-T13 -> 0.043025362
S14: Nedostačující možnosti pro zajištění externího kariérového poradenství | T14: 0.3125 | U14: 0.19565217 | V14: =U14-T14 -> -0.11684783
S15: Nedostatečná podpora ze strany zřizovatele | T15: 0.11458333 | U15: 0.10869565 | V15: =U15-T15 -> -0.0058876812
S16: Nedostatečná podpora oblasti kariérové orientace ve škole | T16: 0.125 | U16: 0.097826087 | V16: =U16-T16 -> -0.027173913
S17: Jiné | T17: 0.010416667 | U17: 0.043478261 | V17: =U17-T17 -> 0.033061594
S18: V této oblasti nenarážíme na žádné překážky | T18: 0.020833333 | U18: 0.02173913 | V18: =U18-T18 -> 0.0009057971

Sheet A5
A1: ZPĚT
A2: =pomo!B7 -> Opatření, která by školám v rámci rozvoje kariérového poradenství pomohla
V5: Opatření | W5: I. vlna | X5: II. vlna | Y5: Rozdíl
V6: Finanční prostředky na realizaci exkurzí, besed apod. | W6: 0.85416667 | X6: 0.79347826 | Y6: =X6-W6 -> -0.060688406
V7: Vytvoření odpovídající časové dotace vyučujícím pro poskytování služeb kariérového poradenství | W7: 0.60416667 | X7: 0.63043478 | Y7: =X7-W7 -> 0.026268116
V8: Možnost pro prohloubené vzdělávání kariérových poradců | W8: 0.40625 | X8: 0.57608696 | Y8: =X8-W8 -> 0.16983696
V9: Možnost exkurzí do provozů různých zaměstnavatelů pro vyučující SŠ i vyučující ZŠ | W9: 0.63541667 | X9: 0.56521739 | Y9: =X9-W9 -> -0.070199275
V10: Zapojení externích odborníků v oblasti kariérového poradenství | W10: 0.5 | X10: 0.52173913 | Y10: =X10-W10 -> 0.02173913
V11: Rozvoj spolupráce s VŠ | W11: 0.54166667 | X11: 0.51086957 | Y11: =X11-W11 -> -0.030797101
V12: Podpora systematické spolupráce s personalisty podniků | W12: 0.51041667 | X12: 0.51086957 | Y12: =X12-W12 -> 0.00045289855
V13: Zapojení zaměstnavatelů do náborových aktivit školy | W13: 0.46875 | X13: 0.48913043 | Y13: =X13-W13 -> 0.020380435
V14: Zapojení zaměstnavatelů do výuky i mimo učebních aktivit | W14: 0.42708333 | X14: 0.4673913 | Y14: =X14-W14 -> 0.040307971
V15: Vytvoření pozice samostatného kariérového poradce | W15: 0.4375 | X15: 0.44565217 | Y15: =X15-W15 -> 0.0081521739
V16: Možnost pro základní vzdělávání kariérových poradců | W16: 0.375 | X16: 0.42391304 | Y16: =X16-W16 -> 0.048913043
V17: Zajištění podpory pro výuku průřezového tématu či vzděl. oblasti Člověk a svět práce ve škole | W17: 0.33333333 | X17: 0.31521739 | Y17: =X17-W17 -> -0.018115942
... V23: Jiné | W23: 0.010416667 | X23: 0.010869565 | Y23: =X23-W23 -> 0.00045289855

Sheet A6
A1: ZPĚT
A2: =pomo!B8 -> Činnosti vedoucích k prevenci předčasných odchodů ze vzdělávání, na kterých se školy v rámci rozvoje kariérového poradenství aktivně podílí
X5: Aktivita | Y5: I. vlna | Z5: II. vlna | AA5: Rozdíl
X6: Škola pořádá dny otevřených dveří, informuje žáky a rodiče o oborech, požadavcích a nárocích studia | Y6: - | Z6: 0.92391304 | AA6: -
X7: Škola žákům se špatným prospěchem a nedostatky ve znalostech nabízí individuální doučování a konzultace | Y7: - | Z7: 0.89130435 | AA7: -
X8: Škola posiluje motivaci žáků ke studiu jejich zapojením do odborných soutěží, exkurzí, zahraničních stáží | Y8: - | Z8: 0.82608696 | AA8: -
X9: Škola má systém, kterým rodiče včas informuje o absencích a špatném prospěchu žáka, usiluje o zapojení rodičů | Y9: - | Z9: 0.7826087 | AA9: -
X10: Škola v případě žáků ohrožených předčasným odchodem spolupracuje s PPP, SPC, OSPOD a dalšími institucemi | Y10: - | Z10: 0.7173913 | AA10: -
X11: Škola individuálně reaguje na špatný prospěch žáka nebo absence, navrhuje konkrétní postup, apod. | Y11: - | Z11: 0.69565217 | AA11: -
X12: Školní psych. nebo vých. poradce řeší problém předčasných odchodů a poskytuje individuální pomoc žákům | Y12: - | Z12: 0.69565217 | AA12: -
X13: Škola realizuje programy s cílem usnadnit adaptaci žáků v 1. ročnících | Y13: - | Z13: 0.67391304 | AA13: -
X14: Škola pořádá volnočasové, kulturní a spol. akce s ohledem na možnost zapojení i žáků se soc. znevýhodněním | Y14: - | Z14: 0.59782609 | AA14: -
X15: Škola preventivně vyhledává žáky potenciálně ohrožené předčasným odchodem ze školy | Y15: - | Z15: 0.56521739 | AA15: -
X16: Škola předčasně odcházejícím žákům poskytuje poradenství zaměřené na možnost přechodu na jinou školu či obor | Y16: - | Z16: 0.54347826 | AA16: -
X17: Žáci školy mohou získat finanční podporu nebo stipendium (podpora oborů, spolupráce s firmami) | Y17: - | Z17: 0.5 | AA17: -
... X20: Jiné | Y20: - | Z20: 0.043478261 | AA20: -

Sheet B1_B4
A1: ZPĚT
A2: =pomo!B10 -> Současná úroveň podpory polytechnického vzdělávání a předpokládaný posun
X5: Úroveň rozvoje - II. vlna | Y5: Současný stav | Z5: Cílový stav | AA5: Předpokládaný posun
X6: Průměrná úroveň | Y6: 0.410037 | Z6: 0.55689177 | AA6: =+Z6-Y6 -> 0.14685476
X7: Základní úroveň | Y7: 0.79347826 | Z7: 0.82608696 | AA7: =+Z7-Y7 -> 0.032608696
X8: Mírně pokročilá úroveň | Y8: 0.54076087 | Z8: 0.60869565 | AA8: =+Z8-Y8 -> 0.067934783
X9: Pokročilá úroveň | Y9: 0.51811594 | Z9: 0.64492754 | AA9: =+Z9-Y9 -> 0.12681159
X10: Nejvyšší úroveň | Y10: 0.24130435 | Z10: 0.44347826 | AA10: =+Z10-Y10 -> 0.20217391
X25: Úroveň současného stavu - časové srovnání | Y25: I. vlna | Z25: II.vlna | AA25: Rozdíl
X26: Průměrná úroveň | Y26: 0.32047872 | Z26: 0.410037 | AA26: =Z26-Y26 -> 0.089558279
X27: Základní úroveň | Y27: 0.78125 | Z27: 0.79347826 | AA27: =Z27-Y27 -> 0.012228261
X28: Mírně pokročilá úroveň | Y28: 0.46875 | Z28: 0.54076087 | AA28: =Z28-Y28 -> 0.07201087
X29: Pokročilá úroveň | Y29: 0.41145833 | Z29: 0.51811594 | AA29: =Z29-Y29 -> 0.10665761
X30: Nejvyšší úroveň | Y30: 0.15625 | Z30: 0.24130435 | AA30: =Z30-Y30 -> 0.085054348

Sheet B2
A1: ZPĚT
A2: =pomo!B11 -> Činnosti, na kterých se školy v rámci rozvoje polytechnického vzdělávání aktivně podílí
S5: Aktivita | T5: I. vlna | U5: II. vlna | V5: Rozdíl
S6: Zapojení žáků do soutěží/olympiád apod. | T6: 0.72916667 | U6: 0.76086957 | V6: =U6-T6 -> 0.031702899
S7: Součástí výuky jsou laboratorní cvičení, pokusy, exkurze | T7: 0.63541667 | U7: 0.70652174 | V7: =U7-T7 -> 0.071105072
S8: Motivační akce pro žáky ZŠ | T8: 0.60416667 | U8: 0.56521739 | V8: =U8-T8 -> -0.038949275
S9: Individuální práce se žáky s mimořádným zájmem o polytechniku | T9: 0.34375 | U9: 0.45652174 | V9: =U9-T9 -> 0.11277174
S10: Příprava výukových materiálů pro výuku polytechnického charakteru | T10: 0.42708333 | U10: 0.45652174 | V10: =U10-T10 -> 0.029438406
S11: Spolupráce se ZŠ – využití laboratoří, dílen, mediálních laboratoří | T11: 0.42708333 | U11: 0.43478261 | V11: =U11-T11 -> 0.0076992754
S12: Spolupráce s VŠ, výzkumnými pracovišti technického zaměření | T12: 0.34375 | U12: 0.33695652 | V12: =U12-T12 -> -0.0067934783
S13: Cílená příprava žáků ke studiu polytechnických oborů na VŠ | T13: 0.29166667 | U13: 0.29347826 | V13: =U13-T13 -> 0.0018115942
S14: Zapojení žáků do nepovinných předmětů polytechnického zaměření | T14: 0.23958333 | U14: 0.2173913 | V14: =U14-T14 -> -0.022192029
S15: Zpracování provázaného plánu výuky polytechnických předmětů a matematiky | T15: 0.1875 | U15: 0.18478261 | V15: =U15-T15 -> -0.0027173913
S16: Rozvíjíme polytechnické vzdělávání dospělých | T16: 0.17708333 | U16: 0.17391304 | V16: =U16-T16 -> -0.0031702899
S17: Žáci zpracovávají samostatné práce na témata, která poskytují sociální partneři | T17: 0.19791667 | U17: 0.15217391 | V17: =U17-T17 -> -0.045742754
... S21: Jiné | T21: 0.0625 | U21: 0.02173913 | V21: =U21-T21 -> -0.04076087

Sheet B3
A1: ZPĚT
A2: =pomo!B12 -> Překážky, na které školy v rámci rozvoje polytechnického vzdělávání narážejí
S5: Překážky | T5: I. vlna | U5: II. vlna | V5: Rozdíl
S6: Nedostatek financí na úhradu vedení nepovinných předmětů | T6: 0.66666667 | U6: 0.7173913 | V6: =U6-T6 -> 0.050724638
S7: Zastaralé vybavení IT pro výuku | T7: 0.5 | U7: 0.66304348 | V7: =U7-T7 -> 0.16304348
S8: Nedostatečné znalosti žáků ze ZŠ v oblasti polytechnického vzdělávání | T8: 0.54166667 | U8: 0.63043478 | V8: =U8-T8 -> 0.088768116
S9: Nedostatečná motivace žáků ze ZŠ k polytechnickému vzdělávání | T9: 0.54166667 | U9: 0.57608696 | V9: =U9-T9 -> 0.03442029
S10: Nezájem žáků školy o polytechnické vzdělávání | T10: 0.51041667 | U10: 0.56521739 | V10: =U10-T10 -> 0.054800725
S11: Nevhodné či žádné vybavení laboratoří, odborných učeben, dílen apod. | T11: 0.4375 | U11: 0.54347826 | V11: =U11-T11 -> 0.10597826
S12: Nedostatek materiálu pro výuku polytechnických předmětů | T12: 0.375 | U12: 0.5 | V12: =U12-T12 -> 0.125
S13: Nedostatečné/neodpovídající prostory | T13: 0.42708333 | U13: 0.48913043 | V13: =U13-T13 -> 0.062047101
S14: Učitelé polytech. předmětů nejsou jazykově vybaveni pro výuku v cizích jazycích | T14: 0.38541667 | U14: 0.41304348 | V14: =U14-T14 -> 0.027626812
S15: Nedostatečná podpora žáků se zájmem o polytech. vzdělávání ze strany jejich rodičů | T15: 0.35416667 | U15: 0.36956522 | V15: =U15-T15 -> 0.015398551
S16: Malá podpora ze strany zaměstnavatelů | T16: 0.35416667 | U16: 0.30434783 | V16: =U16-T16 -> -0.049818841
S17: Nedostatečná podpora víceoborových tříd příbuzných oborů | T17: 0.21875 | U17: 0.2173913 | V17: =U17-T17 -> -0.0013586957
... S21: V této oblasti nenarážíme na žádné překážky | T21: 0.041666667 | U21: 0.032608696 | V21: =U21-T21 -> -0.009057971

Sheet B5
A1: ZPĚT
A2: =pomo!B13 -> Opatření, která by školám v rámci rozvoje polytechnického vzdělávání pomohla
V5: Opatření | W5: I. vlna | X5: II. vlna | Y5: Rozdíl
V6: Zvýšení počtu a kvality PC/notebooků/tabletů ve škole/dalších zařízení | W6: 0.70833333 | X6: 0.82608696 | Y6: =X6-W6 -> 0.11775362
V7: Možnost nákupu učebnic, pomůcek, výukových materiálů | W7: 0.66666667 | X7: 0.7826087 | Y7: =X7-W7 -> 0.11594203
V8: Zvýšení kvality softwarového vybavení školy | W8: 0.71875 | X8: 0.7826087 | Y8: =X8-W8 -> 0.063858696
V9: Nákup/příprava materiálů pro výuku | W9: 0.59375 | X9: 0.77173913 | Y9: =X9-W9 -> 0.17798913
V10: Zkvalitnění IT sítí ve škole, včetně připojení na internet a vybavení IT učeben | W10: 0.59375 | X10: 0.76086957 | Y10: =X10-W10 -> 0.16711957
V11: Nákup softwarového vybavení do škol pro podporu polytechnického vzdělávání | W11: 0.53125 | X11: 0.73913043 | Y11: =X11-W11 -> 0.20788043
V12: Zlepšení vybavení odborných učeben, laboratoří a dílen odborného výcviku | W12: 0.66666667 | X12: 0.70652174 | Y12: =X12-W12 -> 0.039855072
V13: Podpora dělení výukových hodin pro vybrané polytechnické předměty a matematiku | W13: 0.53125 | X13: 0.65217391 | Y13: =X13-W13 -> 0.12092391
V14: Úhrada mzdových nákladů na výuku nepovinných předmětů polytechnického zaměření | W14: 0.57291667 | X14: 0.64130435 | Y14: =X14-W14 -> 0.068387681
V15: Účast pedagogických pracovníků na školení IT různé úrovně | W15: 0.59375 | X15: 0.64130435 | Y15: =X15-W15 -> 0.047554348
V16: Vzdělávání pedagog. prac. v metodách vhodných při výuce polytech. předmětů a odborného výcviku | W16: 0.42708333 | X16: 0.56521739 | Y16: =X16-W16 -> 0.13813406
V17: Úhrada účasti na soutěžích i zahraničních pro žáky i pedagogický dozor | W17: 0.53125 | X17: 0.56521739 | Y17: =X17-W17 -> 0.033967391
... V29: Jiné | W29: 0.020833333 | X29: 0 | Y29: =X29-W29 -> -0.020833333

Sheet C1_C4
A1: ZPĚT
A2: =pomo!B15 -> Současná úroveň podpory kompetencí k podnikavosti a předpokládaný posun
X5: Úroveň rozvoje - II. vlna | Y5: Současný stav | Z5: Cílový stav | AA5: Předpokládaný posun
X6: Průměrná úroveň | Y6: 0.27771739 | Z6: 0.42735507 | AA6: =+Z6-Y6 -> 0.14963768
X7: Základní úroveň | Y7: 0.4673913 | Z7: 0.54347826 | AA7: =+Z7-Y7 -> 0.076086957
X8: Mírně pokročilá úroveň | Y8: 0.39130435 | Z8: 0.47826087 | AA8: =+Z8-Y8 -> 0.086956522
X9: Pokročilá úroveň | Y9: 0.29166667 | Z9: 0.4076087 | AA9: =+Z9-Y9 -> 0.11594203
X10: Nejvyšší úroveň | Y10: 0.22961957 | Z10: 0.41847826 | AA10: =+Z10-Y10 -> 0.1888587
X25: Úroveň současného stavu - časové srovnání | Y25: I. vlna | Z25: II.vlna | AA25: Rozdíl
X26: Průměrná úroveň | Y26: 0.196875 | Z26: 0.27771739 | AA26: =Z26-Y26 -> 0.080842391
X27: Základní úroveň | Y27: 0.50520833 | Z27: 0.4673913 | AA27: =Z27-Y27 -> -0.037817029
X28: Mírně pokročilá úroveň | Y28: 0.3515625 | Z28: 0.39130435 | AA28: =Z28-Y28 -> 0.039741848
X29: Pokročilá úroveň | Y29: 0.21701389 | Z29: 0.29166667 | AA29: =Z29-Y29 -> 0.074652778
X30: Nejvyšší úroveň | Y30: 0.12760417 | Z30: 0.22961957 | AA30: =Z30-Y30 -> 0.1020154

Sheet C2
A1: ZPĚT
A2: =pomo!B16 -> Činnosti, na kterých se školy v rámci rozvoje kompetencí k podnikavosti aktivně podílí
T5: Aktivita | U5: I. vlna | V5: II. vlna | W5: Rozdíl
T6: Škola učí žáky myslet kriticky a nacházet inovativní podnikatelská řešení | U6: 0.51041667 | V6: 0.64130435 | W6: =V6-U6 -> 0.13088768
T7: Výchova k podnikavosti v rámci odborného vzdělávání | U7: 0.46875 | V7: 0.56521739 | W7: =V7-U7 -> 0.096467391
T8: Výchova k podnikavosti v rámci všeobecného vzdělávání | U8: 0.41666667 | V8: 0.51086957 | W8: =V8-U8 -> 0.094202899
T9: Pedagog. prac. získávají informace ke zlepšování vzdělávání a využívají je ve výuce | U9: 0.44791667 | V9: 0.44565217 | W9: =V9-U9 -> -0.0022644928
T10: Začlenění ekonomických aspektů i do výuky v neekonomických předmětech | U10: 0.47916667 | V10: 0.44565217 | W10: =V10-U10 -> -0.033514493
T11: Organizování konzultací a exkurzí k problematice podnikavosti pro žáky i učitele | U11: 0.3125 | V11: 0.42391304 | W11: =V11-U11 -> 0.11141304
T12: Návštěvy a přednášky podnikatelů ve výuce | U12: 0.34375 | V12: 0.42391304 | W12: =V12-U12 -> 0.080163043
T13: Škola realizuje projektové vyučování podněcující kreativní uvažování | U13: 0.35416667 | V13: 0.36956522 | W13: =V13-U13 -> 0.015398551
T14: Pravidelné kontakty s podnikateli z okolí k získání podnětů k rozvoji podnikavosti žáků | U14: 0.27083333 | V14: 0.34782609 | W14: =V14-U14 -> 0.076992754
T15: Ve škole probíhají každoročně projektové dny zaměřené na uplatnění podnikavosti | U15: 0.17708333 | V15: 0.31521739 | W15: =V15-U15 -> 0.13813406
T16: Možnost aktivního zapojení žáků do vedení vyučování a života školy | U16: 0.21875 | V16: 0.2826087 | W16: =V16-U16 -> 0.063858696
T17: Žáci se aktivně podílejí na činnostech fiktivních firem či akcích Junior Achievement apod. | U17: 0.26041667 | V17: 0.25 | W17: =V17-U17 -> -0.010416667
... T21: Jiné | U21: 0.041666667 | V21: 0.032608696 | W21: =V21-U21 -> -0.009057971

Sheet C3
A1: ZPĚT
A2: =pomo!B17 -> Překážky, na které školy v rámci rozvoje kompetencí k podnikavosti narážejí
S5: Překážky | T5: I. vlna | U5: II vlna | V5: Rozdíl
S6: Nedostatek finančních prostředků pro realizaci vzdělávání mimo vlastní výuku | T6: 0.6875 | U6: 0.68478261 | V6: =U6-T6 -> -0.0027173913
S7: Nedostatek výukových materiálů, pomůcek a metodik | T7: 0.55208333 | U7: 0.57608696 | V7: =U7-T7 -> 0.024003623
S8: Malý zájem žáků o ekonomické aktivity, cvičení, projekty | T8: 0.46875 | U8: 0.55434783 | V8: =U8-T8 -> 0.085597826
S9: Nedostatek příležitosti ke vzdělávání pedagogických pracovníků | T9: 0.35416667 | U9: 0.42391304 | V9: =U9-T9 -> 0.069746377
S10: Malý zájem pedagogů o podporu podnikavosti | T10: 0.3125 | U10: 0.35869565 | V10: =U10-T10 -> 0.046195652
S11: Malý zájem zaměstnavatelů a podnikatelů o spolupráci se školami na tématu | T11: 0.36458333 | U11: 0.35869565 | V11: =U11-T11 -> -0.0058876812
S12: Management školy nepovažuje téma za prioritu | T12: 0.10416667 | U12: 0.13043478 | V12: =U12-T12 -> 0.026268116
S13: Problematika je nová, nerozumíme jí, nemáme žádné zkušenosti | T13: 0.11458333 | U13: 0.11956522 | V13: =U13-T13 -> 0.0049818841
S14: Zřizovatel školy nepovažuje téma za prioritu | T14: 0.09375 | U14: 0.076086957 | V14: =U14-T14 -> -0.017663043
S15: V regionu je nepříznivé podnikatelské klima | T15: 0.20833333 | U15: 0.076086957 | V15: =U15-T15 -> -0.13224638
S16: Jiné | T16: 0.0625 | U16: 0.065217391 | V16: =U16-T16 -> 0.0027173913
S17: V této oblasti nenarážíme na žádné překážky | T17: 0.052083333 | U17: 0.032608696 | V17: =U17-T17 -> -0.019474638

Sheet C5
A1: ZPĚT
A2: =pomo!B18 -> Opatření, která by školám v rámci rozvoje kompetencí k podnikavosti pomohla
U5: Opatření | V5: I. vlna | W5: II. vlna | X5: Rozdíl
U6: Kvalitativní či kvantitativní zlepšení ICT vybavení školy | V6: 0.63541667 | W6: 0.80434783 | X6: =W6-V6 -> 0.16893116
U7: Podpora školních projektů (dny otevřených dveří pro děti z MŠ a žáky ZŠ, školní ples apod.) | V7: 0.69791667 | W7: 0.73913043 | X7: =W7-V7 -> 0.041213768
U8: Přednášky a jiné formy účasti odborníka z praxe ve výuce | V8: 0.60416667 | W8: 0.67391304 | X8: =W8-V8 -> 0.069746377
U9: Metodické materiály a kurzy pro pedagogy na témata kreativity a podnikavosti | V9: 0.55208333 | W9: 0.63043478 | X9: =W9-V9 -> 0.078351449
U10: Rozvoj didaktických dovedností vyučujících potřebných pro výuku k podnikavosti | V10: 0.54166667 | W10: 0.48913043 | X10: =W10-V10 -> -0.052536232
U11: Podpora komunikace/řízení a organizování práce prostřednictvím ICT | V11: 0.38541667 | W11: 0.48913043 | X11: =W11-V11 -> 0.10371377
U12: Analýza stávajících a potenciálních partnerů v regionu pro možné navázání spolupráce | V12: 0.42708333 | W12: 0.40217391 | X12: =W12-V12 -> -0.02490942
U13: Více disponibilních hodin | V13: 0.36458333 | W13: 0.33695652 | X13: =W13-V13 -> -0.027626812
U14: Příprava strategie výuky podnikavosti na škole | V14: 0.36458333 | W14: 0.31521739 | X14: =W14-V14 -> -0.049365942
U15: Podpora vytváření školních „firem“ (internetový obchod, nabídka služeb pro veřejnost apod.) | V15: 0.36458333 | W15: 0.30434783 | X15: =W15-V15 -> -0.060235507
U16: Možnost napojení se na nějakou síť podnikatelských aktivit a start-upů v regionu | V16: 0.26041667 | W16: 0.2826087 | X16: =W16-V16 -> 0.022192029
U17: Spolupráce žáků ZŠ a SŠ | V17: 0.32291667 | W17: 0.22826087 | X17: =W17-V17 -> -0.094655797
... U19: Jiné | V19: 0.03125 | W19: 0.010869565 | X19: =W19-V19 -> -0.020380435

Sheet D1_D4
A1: ZPĚT
A2: =pomo!B20 -> Současná úroveň rozvoje školy jako centra celoživotního učení a předpokládaný posun
X5: Úroveň rozvoje - II. vlna | Y5: Současný stav | Z5: Cílový stav | AA5: Předpokládaný posun
X6: Průměrná úroveň | Y6: 0.23702665 | Z6: 0.3569425 | AA6: =+Z6-Y6 -> 0.11991585
X7: Základní úroveň | Y7: 0.16304348 | Z7: 0.19021739 | AA7: =+Z7-Y7 -> 0.027173913
X8: Mírně pokročilá úroveň | Y8: 0.1884058 | Z8: 0.23188406 | AA8: =+Z8-Y8 -> 0.043478261
X9: Pokročilá úroveň | Y9: 0.32246377 | Z9: 0.42572464 | AA9: =+Z9-Y9 -> 0.10326087
X10: Nejvyšší úroveň | Y10: 0.20652174 | Z10: 0.352657 | AA10: =+Z10-Y10 -> 0.14613527
X25: Úroveň současného stavu - časové srovnání | Y25: I. vlna | Z25: II.vlna | AA25: Rozdíl
X26: Průměrná úroveň | Y26: 0.18313172 | Z26: 0.23702665 | AA26: =Z26-Y26 -> 0.053894928
X27: Základní úroveň | Y27: 0.19270833 | Z27: 0.16304348 | AA27: =Z27-Y27 -> -0.029664855
X28: Mírně pokročilá úroveň | Y28: 0.18402778 | Z28: 0.1884058 | AA28: =Z28-Y28 -> 0.0043780193
X29: Pokročilá úroveň | Y29: 0.27951389 | Z29: 0.32246377 | AA29: =Z29-Y29 -> 0.042949879
X30: Nejvyšší úroveň | Y30: 0.13425926 | Z30: 0.20652174 | AA30: =Z30-Y30 -> 0.07226248

Sheet D2
A1: ZPĚT
A2: =pomo!B21 -> Činnosti, na kterých se školy v rámci rozvoje školy jako centra celoživotního učení aktivně podílí
P5: Aktivita | Q5: I. vlna | R5: II. vlna | S5: Rozdíl
P6: Další vzdělávání pedagogů | Q6: 0.47916667 | R6: 0.47826087 | S6: =R6-Q6 -> -0.0009057971
P7: Odborné vzdělávání pro zaměstnavatele | Q7: 0.32291667 | R7: 0.38043478 | S7: =R7-Q7 -> 0.057518116
P8: Příprava na vykonání zkoušky podle NSK | Q8: 0.29166667 | R8: 0.2826087 | S8: =R8-Q8 -> -0.009057971
P9: Zkoušky podle zákona 179/2006 Sb. v platném znění | Q9: 0.26041667 | R9: 0.27173913 | S9: =R9-Q9 -> 0.011322464
P10: Rekvalifikace | Q10: 0.29166667 | R10: 0.22826087 | S10: =R10-Q10 -> -0.063405797
P11: Zájmové vzdělávání pro veřejnost (jazykové kurzy, keramika apod.) | Q11: 0.34375 | R11: 0.2173913 | S11: =R11-Q11 -> -0.1263587
P12: Vzdělávání v oblasti ICT dovedností | Q12: 0.21875 | R12: 0.20652174 | S12: =R12-Q12 -> -0.012228261
P13: Občanské vzdělávání | Q13: 0.083333333 | R13: 0.086956522 | S13: =R13-Q13 -> 0.0036231884
P14: Čeština pro cizince | Q14: 0.0625 | R14: 0.065217391 | S14: =R14-Q14 -> 0.0027173913
P15: Vzdělávání seniorů | Q15: 0.11458333 | R15: 0.054347826 | S15: =R15-Q15 -> -0.060235507
P16: Jiné | Q16: 0.0625 | R16: 0.22826087 | S16: =R16-Q16 -> 0.16576087
U18: =TRIM(T18)
U19: =TRIM(T19)
U20: =TRIM(T20)
U21: =TRIM(T21)
U22: =TRIM(T22)
U23: =TRIM(T23)
U24: =TRIM(T24)
U25: =TRIM(T25)
U26: =TRIM(T26)
U27: =TRIM(T27)
U28: =TRIM(T28)

Sheet D3
A1: ZPĚT
A2: =pomo!B22 -> Překážky, na které školy v rámci rozvoje školy jako centra celoživotního učení narážejí
T5: Překážky | U5: I. vlna | V5: II vlna | W5: Rozdíl
T6: Nedostatek fin. prostředků pro pracovníka, který by zaštiťoval tuto oblast | U6: 0.55208333 | V6: 0.58695652 | W6: =V6-U6 -> 0.034873188
T7: Malý zájem dospělých o další vzdělávání | U7: 0.46875 | V7: 0.55434783 | W7: =V7-U7 -> 0.085597826
T8: Náročné zpracování dokumentace potřebné k účasti ve výběrových řízeních | U8: 0.27083333 | V8: 0.41304348 | W8: =V8-U8 -> 0.14221014
T9: Administrativa spojená se získáním akreditace rekvalifikací | U9: 0.36458333 | V9: 0.39130435 | W9: =V9-U9 -> 0.026721014
T10: Malý zájem zaměstnavatelů o další vzdělávání | U10: 0.34375 | V10: 0.38043478 | W10: =V10-U10 -> 0.036684783
T11: Nedostatečné vybavení dílen/odborného výcviku | U11: 0.1875 | V11: 0.29347826 | W11: =V11-U11 -> 0.10597826
T12: Administrativní náročnost při získávání autorizace podle z. 179/2006 Sb. | U12: 0.25 | V12: 0.2826087 | W12: =V12-U12 -> 0.032608696
T13: Malý zájem pedagogů o výuku v programech dalšího vzdělávání | U13: 0.25 | V13: 0.27173913 | W13: =V13-U13 -> 0.02173913
T14: Obtíže při tvorbě programů dalšího vzdělávání | U14: 0.1875 | V14: 0.18478261 | W14: =V14-U14 -> -0.0027173913
T15: Nedostačující spolupráce s úřady práce | U15: 0.23958333 | V15: 0.18478261 | W15: =V15-U15 -> -0.054800725
T16: Nedostatečná propagace dalšího vzdělávání realizovaného školou | U16: 0.21875 | V16: 0.17391304 | W16: =V16-U16 -> -0.044836957
T17: Obtíže spojené s přípravou zkoušky podle z. 179/2006 Sb. | U17: 0.16666667 | V17: 0.11956522 | W17: =V17-U17 -> -0.047101449
... T22: V této oblasti nenarážíme na žádné překážky | U22: 0.083333333 | V22: 0.086956522 | W22: =V22-U22 -> 0.0036231884

Sheet D5
A1: ZPĚT
A2: =pomo!B23 -> Opatření, která by školám v rámci rozvoje školy jako centra celoživotního učení pomohla
V5: Opatření | W5: I. vlna | X5: II. vlna | Y5: Rozdíl
V6: Zlepšení ICT školy po kvalitativní či kvantitativní stránce | W6: 0.58333333 | X6: 0.63043478 | Y6: =X6-W6 -> 0.047101449
V7: Finance na kvalitní materiál | W7: 0.5 | X7: 0.51086957 | Y7: =X7-W7 -> 0.010869565
V8: Příprava pedagogických pracovníků jako lektorů dalšího vzdělávání | W8: 0.59375 | X8: 0.5 | Y8: =X8-W8 -> -0.09375
V9: Zlepšit vybavení učeben teoretické výuky | W9: 0.48958333 | X9: 0.45652174 | Y9: =X9-W9 -> -0.033061594
V10: Rekvalifikace pro úřady práce bez výběrového řízení | W10: 0.5 | X10: 0.43478261 | Y10: =X10-W10 -> -0.065217391
V11: Aktualizované materiály pro výuku i pro vyučující/lektory | W11: 0.44791667 | X11: 0.42391304 | Y11: =X11-W11 -> -0.024003623
V12: Stáže lektorů/pracovníků školy ve firmách | W12: 0.40625 | X12: 0.40217391 | Y12: =X12-W12 -> -0.004076087
V13: Zlepšit vybavení dílen pro odborný výcvik | W13: 0.39583333 | X13: 0.36956522 | Y13: =X13-W13 -> -0.026268116
V14: Zapojení odborníků z mimoškolního prostředí jako lektorů | W14: 0.36458333 | X14: 0.32608696 | Y14: =X14-W14 -> -0.038496377
V15: Proškolení pracovníka školy v problematice výběrových řízení, vedení dokumentace apod. | W15: 0.375 | X15: 0.29347826 | Y15: =X15-W15 -> -0.081521739
V16: Více učeben | W16: 0.35416667 | X16: 0.22826087 | Y16: =X16-W16 -> -0.1259058
V17: Informace o NSK a procesu uznávání | W17: 0.20833333 | X17: 0.2173913 | Y17: =X17-W17 -> 0.009057971
... V24: Jiné | W24: 0.125 | X24: 0.086956522 | Y24: =X24-W24 -> -0.038043478

Sheet E1_E4
A1: ZPĚT
A2: =pomo!B25 -> Současná úroveň podpory odborného vzdělávání, spolupráce škol a zaměstnavatelů a předpokládaný posun
V5: Úroveň rozvoje - II. vlna | W5: Současný stav | X5: Cílový stav | Y5: Předpokládaný posun
V6: Průměrná úroveň | W6: 0.30602007 | X6: 0.43628763 | Y6: =+X6-W6 -> 0.13026756
V7: Základní úroveň | W7: 0.10597826 | X7: 0.14130435 | Y7: =+X7-W7 -> 0.035326087
V8: Mírně pokročilá úroveň | W8: 0.21467391 | X8: 0.28804348 | Y8: =+X8-W8 -> 0.073369565
V9: Pokročilá úroveň | W9: 0.37732919 | X9: 0.47670807 | Y9: =+X9-W9 -> 0.099378882
V10: Nejvyšší úroveň | W10: 0.30706522 | X10: 0.48369565 | Y10: =+X10-W10 -> 0.17663043
V25: Úroveň současného stavu - časové srovnání | W25: I. vlna | X25: II.vlna | Y25: Rozdíl
V26: Průměrná úroveň | W26: 0.21169872 | X26: 0.30602007 | Y26: =X26-W26 -> 0.094321349
V27: Základní úroveň | W27: 0.16145833 | X27: 0.10597826 | Y27: =X27-W27 -> -0.055480072
V28: Mírně pokročilá úroveň | W28: 0.19010417 | X28: 0.21467391 | Y28: =X28-W28 -> 0.024569746
V29: Pokročilá úroveň | W29: 0.29017857 | X29: 0.37732919 | Y29: =X29-W29 -> 0.087150621
V30: Nejvyšší úroveň | W30: 0.171875 | X30: 0.30706522 | Y30: =X30-W30 -> 0.13519022

Sheet E2
A1: ZPĚT
A2: =pomo!B26 -> Činnosti, na kterých se školy v rámci spolupráce se zaměstnavateli aktivně podílí
S5: Aktivita | T5: I. vlna | U5: II. vlna | V5: Rozdíl
S6: Přednášky a jiné formy účasti odborníka z praxe ve výuce | T6: 0.66666667 | U6: 0.72826087 | V6: =U6-T6 -> 0.061594203
S7: Odborný výcvik nebo praxe žáků na pracovištích zaměstnavatelů | T7: 0.66666667 | U7: 0.70652174 | V7: =U7-T7 -> 0.039855072
S8: Kariérové poradenství ve spolupráci se zaměstnavateli | T8: 0.3125 | U8: 0.4673913 | V8: =U8-T8 -> 0.1548913
S9: Spolupráce se ZŠ na pracovních výchovách a ukázkách aktivit oboru | T9: 0.40625 | U9: 0.43478261 | V9: =U9-T9 -> 0.028532609
S10: Analýza stávajících a potenc. partnerů v regionu a možností spolupráce s nimi | T10: 0.30208333 | U10: 0.43478261 | V10: =U10-T10 -> 0.13269928
S11: Stáže pro pedagogy na pracovištích a v moderních provozech | T11: 0.25 | U11: 0.42391304 | V11: =U11-T11 -> 0.17391304
S12: Účast zástupců zaměstnavatelů při profilových maturitních zkouškách | T12: 0.33333333 | U12: 0.40217391 | V12: =U12-T12 -> 0.06884058
S13: Nábor žáků ve spolupráci se zaměstnavateli | T13: 0.28125 | U13: 0.40217391 | V13: =U13-T13 -> 0.12092391
S14: Zpracování plánů spolupráce se zaměstnavateli a dalšími partnery | T14: 0.20833333 | U14: 0.33695652 | V14: =U14-T14 -> 0.12862319
S15: Spolupráce s reprezentací zam., na základě regionálních sektorových dohod | T15: 0.29166667 | U15: 0.31521739 | V15: =U15-T15 -> 0.023550725
S16: Účast zástupců zaměstnavatelů při profilových maturitních zkouškách | T16: 0.19791667 | U16: 0.22826087 | V16: =U16-T16 -> 0.030344203
S17: Zpracování strategie spolupráce se zaměstnavateli a dalšími partnery | T17: 0.29166667 | U17: 0.2173913 | V17: =U17-T17 -> -0.074275362
S18: Jiné | T18: 0.0625 | U18: 0.043478261 | V18: =U18-T18 -> -0.019021739

Sheet E3
A1: ZPĚT
A2: =pomo!B27 -> Překážky, na které školy v rámci spolupráce se zaměstnavateli narážejí
S5: Překážky | T5: I. vlna | U5: II vlna | V5: Rozdíl
S6: Firmy se nemohou přizpůsobit vzdělávacím potřebám žáků | T6: 0.36458333 | U6: 0.40217391 | V6: =U6-T6 -> 0.03759058
S7: Zdrav. prohlídky a pojištění žáků před vstupem na pracoviště (fin. náročnost) | T7: 0.41666667 | U7: 0.36956522 | V7: =U7-T7 -> -0.047101449
S8: Žáci nejsou dostatečně disciplinovaní a motivovaní pro práci v reálném prac. prostředí | T8: 0.375 | U8: 0.32608696 | V8: =U8-T8 -> -0.048913043
S9: Firmy mají zájem, ale nemohou spolupráci ve svých podmínkách zorganizovat | T9: 0.26041667 | U9: 0.31521739 | V9: =U9-T9 -> 0.054800725
S10: Malá dostupnost firem vhodných pro daný obor a zaměření | T10: 0.35416667 | U10: 0.29347826 | V10: =U10-T10 -> -0.060688406
S11: Nezájem firem o spolupráci se školami | T11: 0.34375 | U11: 0.27173913 | V11: =U11-T11 -> -0.07201087
S12: Firma klade na žáky příliš vysoké požadavky, kterých na SŠ ještě nedosahují | T12: 0.21875 | U12: 0.22826087 | V12: =U12-T12 -> 0.0095108696
S13: Spolupráce je pro školu příliš finančně nákladná | T13: 0.22916667 | U13: 0.2173913 | V13: =U13-T13 -> -0.011775362
S14: Zaměstnavatelé nemají zájem o účast svých zástupců na závěrečných zkouškách | T14: 0.17708333 | U14: 0.19565217 | V14: =U14-T14 -> 0.018568841
S15: Jiné | T15: 0.072916667 | U15: 0.086956522 | V15: =U15-T15 -> 0.014039855
S16: V této oblasti nenarážíme na žádné překážky | T16: 0.11458333 | U16: 0.14130435 | V16: =U16-T16 -> 0.026721014

Sheet E5
A1: ZPĚT
A2: =pomo!B28 -> Opatření, která by školám v rámci spolupráce se zaměstnavateli pomohla
U5: Opatření | V5: I. vlna | W5: II. vlna | X5: Rozdíl
U6: Přednášky a jiné formy účasti odborníka z praxe ve výuce | V6: 0.54166667 | W6: 0.60869565 | X6: =W6-V6 -> 0.067028986
U7: Finance na organizaci, pomůcky, pojištění a dojíždění k zaměstnavatelům | V7: 0.59375 | W7: 0.59782609 | X7: =W7-V7 -> 0.004076087
U8: Stáže pro pedagogy na pracovištích a moderních provozech, včetně zahraničních | V8: 0.45833333 | W8: 0.58695652 | X8: =W8-V8 -> 0.12862319
U9: Odborný výcvik nebo praxe žáků na pracovištích zaměstnavatelů | V9: 0.54166667 | W9: 0.57608696 | X9: =W9-V9 -> 0.03442029
U10: Vzdělávání vyučujících odborných předmětů či odborného výcviku – rozvoj odbornosti | V10: 0.5 | W10: 0.55434783 | X10: =W10-V10 -> 0.054347826
U11: Zajištění finančních prostředků pro praxe žáků (např. úhrada zdravotních prohlídek) | V11: 0.58333333 | W11: 0.5 | X11: =W11-V11 -> -0.083333333
U12: Metodické materiály na podporu výuky odborných předmětů a odborného výcviku | V12: 0.42708333 | W12: 0.48913043 | X12: =W12-V12 -> 0.062047101
U13: Stáže žáků v zahraničních firmách (podpora výuky cizích jazyků) | V13: 0.5 | W13: 0.44565217 | X13: =W13-V13 -> -0.054347826
U14: Podpora náborových aktivit realizovaných ve spolupráci se zaměstnavateli | V14: 0.41666667 | W14: 0.44565217 | X14: =W14-V14 -> 0.028985507
U15: Příprava plánů spolupráce se zaměstnavateli a dalšími partnery | V15: 0.42708333 | W15: 0.40217391 | X15: =W15-V15 -> -0.02490942
U16: Příprava strategie spolupráce se zaměstnavateli a dalšími partnery | V16: 0.53125 | W16: 0.39130435 | X16: =W16-V16 -> -0.13994565
U17: Vzdělávání vyučujících odbor. předmětů či výcviku – rozvoj pedagogicko-psychologické složky | V17: 0.32291667 | W17: 0.38043478 | X17: =W17-V17 -> 0.057518116
... U24: Jiné | V24: 0.052083333 | W24: 0.054347826 | X24: =W24-V24 -> 0.0022644928

Sheet F1_F4
A1: ZPĚT
A2: =pomo!B30 -> Současná úroveň rozvoje inkluzivního vzdělávání a předpokládaný posun
Z5: Úroveň rozvoje - II. vlna | AA5: Současný stav | AB5: Cílový stav | AC5: Předpokládaný posun
Z6: Průměrná úroveň | AA6: 0.41841278 | AB6: 0.55055003 | AC6: =+AB6-AA6 -> 0.13213724
Z7: Základní úroveň | AA7: 0.61141304 | AB7: 0.65217391 | AC7: =+AB7-AA7 -> 0.04076087
Z8: Mírně pokročilá úroveň | AA8: 0.58152174 | AB8: 0.63804348 | AC8: =+AB8-AA8 -> 0.056521739
Z9: Pokročilá úroveň | AA9: 0.44444444 | AB9: 0.56280193 | AC9: =+AB9-AA9 -> 0.11835749
Z10: Nejvyšší úroveň | AA10: 0.27038043 | AB10: 0.47282609 | AC10: =+AB10-AA10 -> 0.20244565
Z25: Úroveň současného stavu - časové srovnání | AA25: I. vlna | AB25: II.vlna | AC25: Rozdíl
Z26: Průměrná úroveň | AA26: 0.2873996 | AB26: 0.41841278 | AC26: =AB26-AA26 -> 0.13101318
Z27: Základní úroveň | AA27: 0.5859375 | AB27: 0.61141304 | AC27: =AB27-AA27 -> 0.025475543
Z28: Mírně pokročilá úroveň | AA28: 0.478125 | AB28: 0.58152174 | AC28: =AB28-AA28 -> 0.10339674
Z29: Pokročilá úroveň | AA29: 0.29282407 | AB29: 0.44444444 | AC29: =AB29-AA29 -> 0.15162037
Z30: Nejvyšší úroveň | AA30: 0.12630208 | AB30: 0.27038043 | AC30: =AB30-AA30 -> 0.14407835

Sheet F2
A1: ZPĚT
A2: =pomo!B31 -> Činnosti, na kterých se školy v rámci rozvoje inkluzivního vzdělávání aktivně podílí
T5: Aktivita | U5: I. vlna | V5: II. vlna | W5: Rozdíl
T6: Škola eviduje žáky se speciálními vzdělávacími potřebami | U6: 0.9375 | V6: 0.94565217 | W6: =V6-U6 -> 0.0081521739
T7: Vyučující volí formy, metody a styl výuky v souladu se spec. vzděl. potřebami žáků | U7: 0.84375 | V7: 0.92391304 | W7: =V7-U7 -> 0.080163043
T8: Vyučující volí vhodné metody pro zjišťování výsledků učení žáků | U8: 0.77083333 | V8: 0.85869565 | W8: =V8-U8 -> 0.087862319
T9: Škola při péči o žáky se spec. vzděl. potřebami spolupracuje se ŠPZ, která mají žáky v péči | U9: 0.80208333 | V9: 0.85869565 | W9: =V9-U9 -> 0.056612319
T10: Škola zohledňuje charakter obtíží žáků v průběhu přijímacího řízení i při ukončování studia | U10: 0.77083333 | V10: 0.82608696 | W10: =V10-U10 -> 0.055253623
T11: Škola zpracovává a průběžně vyhodnocuje individuální vzdělávací/výchovné plány | U11: 0.60416667 | V11: 0.80434783 | W11: =V11-U11 -> 0.20018116
T12: Vyučující spolupracují při naplňování vzděl. potřeb žáků (např. společnými poradami apod.) | U12: 0.59375 | V12: 0.70652174 | W12: =V12-U12 -> 0.11277174
T13: ŠPP metodicky vede vyučující k tomu, aby podporovali naplňování spec. vzděl. potřeb žáků | U13: 0.45833333 | V13: 0.67391304 | W13: =V13-U13 -> 0.21557971
T14: Škola upravuje organizaci vyučování v souladu s potřebami žáků se spec. vzděl. potřebami | U14: 0.53125 | V14: 0.60869565 | W14: =V14-U14 -> 0.077445652
T15: Škola při péči o žáky se spec. vzděl. potřebami spolupracuje s dalšími institucemi | U15: 0.48958333 | V15: 0.59782609 | W15: =V15-U15 -> 0.10824275
T16: Vedení vytváří podmínky pro realizaci inkluzivních principů ve vzdělávání na škole | U16: 0.38541667 | V16: 0.57608696 | W16: =V16-U16 -> 0.19067029
T17: Součástí plánu dalšího vzděl. pedagogických prac. školy jsou témata inkluzivního vzdělávání | U17: 0.32291667 | V17: 0.51086957 | W17: =V17-U17 -> 0.1879529
... T27: Jiné | U27: 0.010416667 | V27: 0.010869565 | W27: =V27-U27 -> 0.00045289855

Sheet F3
A1: ZPĚT
A2: =pomo!B32 -> Překážky, na které školy v rámci realizace inkluzivního vzdělávání narážejí
T5: Překážky | U5: I. vlna | V5: II vlna | W5: Rozdíl
T6: Nedostatečné finanční prostředky pro zajištění inkluzivního vzdělávání ve škole | U6: 0.48958333 | V6: 0.45652174 | W6: =V6-U6 -> -0.033061594
T7: Nedostatečné vzdělání vyučujících v oblasti inkluzivního vzdělávání | U7: 0.46875 | V7: 0.41304348 | W7: =V7-U7 -> -0.055706522
T8: Nedostatečné technické a materiální zabezpečení pro inkluzivní vzdělávání | U8: 0.5 | V8: 0.33695652 | W8: =V8-U8 -> -0.16304348
T9: Příliš velký počet žáků ve třídě | U9: 0.32291667 | V9: 0.2826087 | W9: =V9-U9 -> -0.040307971
T10: Malý zájem ze strany žáků a rodičů o inkluzivní vzdělávání | U10: 0.30208333 | V10: 0.27173913 | W10: =V10-U10 -> -0.030344203
T11: Na škole nepůsobí ŠPP v rozšířené podobě (členem týmu psych. nebo spec. pedagog) | U11: 0.29166667 | V11: 0.27173913 | W11: =V11-U11 -> -0.019927536
T12: Neochota vyučujících k realizaci inkluzivního vzdělávání | U12: 0.26041667 | V12: 0.26086957 | W12: =V12-U12 -> 0.00045289855
T13: Nezájem vyučujících o inkluzivní pojetí vzdělávání | U13: 0.22916667 | V13: 0.22826087 | W13: =V13-U13 -> -0.0009057971
T14: Nedostatek příležitostí pro vzdělávání pedagogů v oblasti inkluzivního vzdělávání | U14: 0.35416667 | V14: 0.20652174 | W14: =V14-U14 -> -0.14764493
T15: Velký počet žáků se speciálními vzdělávacími potřebami v jedné třídě | U15: 0.15625 | V15: 0.16304348 | W15: =V15-U15 -> 0.0067934783
T16: Nedostačující možnosti pro zajištění asistentů pedagogů | U16: 0.26041667 | V16: 0.16304348 | W16: =V16-U16 -> -0.097373188
T17: V této oblasti nenarážíme na žádné překážky | U17: 0.09375 | V17: 0.13043478 | W17: =V17-U17 -> 0.036684783
... T22: Jiné | U22: 0.041666667 | V22: 0.097826087 | W22: =V22-U22 -> 0.05615942

Sheet F5
A1: ZPĚT
A2: =pomo!B33 -> Opatření, která by školám v rámci rozvoje inkluzivního vzdělávání pomohla
U5: Opatření | V5: I. vlna | W5: II. vlna | X5: Rozdíl
U6: Vytvoření odpovídajících finančních podmínek pro inkluzivní vzdělávání | V6: 0.64583333 | W6: 0.60869565 | X6: =W6-V6 -> -0.037137681
U7: Další vzdělávání pedagog. prac. v oblasti metod a forem práce a organizace vzdělávání | V7: 0.53125 | W7: 0.5 | X7: =W7-V7 -> -0.03125
U8: Další vzdělávání pedagog. prac. v oblasti hodnocení žáků, využívání formativního hodnocení | V8: 0.39583333 | W8: 0.4673913 | X8: =W8-V8 -> 0.071557971
U9: Zajištění dostatečných možností pro vzdělávání pedagogů v oblasti inkluzivního vzdělávání | V9: 0.44791667 | W9: 0.43478261 | X9: =W9-V9 -> -0.013134058
U10: Opatření vedoucí ke zlepšení komunikace s rodiči žáků | V10: 0.38541667 | W10: 0.38043478 | X10: =W10-V10 -> -0.0049818841
U11: Zajištění metodické podpory inkluzivního vzdělávání ve škole | V11: 0.4375 | W11: 0.38043478 | X11: =W11-V11 -> -0.057065217
U12: Zajištění prostorových dispozic školy pro realizaci inkluzivního vzdělávání | V12: 0.41666667 | W12: 0.35869565 | X12: =W12-V12 -> -0.057971014
U13: Vytvoření odpovídajících personálních podmínek pro inkluzivní vzdělávání | V13: 0.45833333 | W13: 0.35869565 | X13: =W13-V13 -> -0.099637681
U14: Zajištění metodické podpory inkluzivního vzdělávání z centra | V14: 0.38541667 | W14: 0.34782609 | X14: =W14-V14 -> -0.03759058
U15: Vytvoření podmínek pro práci školního poradenského pracoviště se žáky | V15: 0.35416667 | W15: 0.31521739 | X15: =W15-V15 -> -0.038949275
U16: Zajištění metodického vedení školního poradenského pracoviště | V16: 0.30208333 | W16: 0.30434783 | X16: =W16-V16 -> 0.0022644928
U17: Vytvoření odpovídajících legislativních podmínek pro inkluzivní vzdělávání | V17: 0.34375 | W17: 0.30434783 | X17: =W17-V17 -> -0.039402174
... U24: Jiné | V24: 0.083333333 | W24: 0.086956522 | X24: =W24-V24 -> 0.0036231884

Sheet F6
A1: ZPĚT
A2: =pomo!B34 -> Činnosti, na které se školy zaměřují v rámci podpory nadaných a mimořádně nadaných žáků
W5: Aktivita | X5: I. vlna | Y5: II. vlna | Z5: Rozdíl
W6: Žáci školy se účastní soutěží pro nadané a mimořádně nadané žáky | X6: - | Y6: 0.52173913 | Z6: -
W7: Pedagogičtí prac. vzájemně komunikují o formě podpory nadaných a mimořádně nadaných žáků | X7: - | Y7: 0.5 | Z7: -
W8: Škola při péči o nadané a mimořádně nadané žáky spolupracuje s jejich zákonnými zástupci | X8: - | Y8: 0.48913043 | Z8: -
W9: Vyučující při vzdělávání nadaných a mimořádně nadaných žáků využívají různé formy práce | X9: - | Y9: 0.47826087 | Z9: -
W10: Škola nabízí mimoškolní a volnočasové aktivity pro nadané a mimořádně nadané žáky | X10: - | Y10: 0.4673913 | Z10: -
W11: Škola při identifikaci nadaných a mimořádně nadaných žáků spolupracuje se ŠPZ | X11: - | Y11: 0.41304348 | Z11: -
W12: Škola se podílí na aktivitách a stážích určených pro nadané a mimořádně nadané žáky | X12: - | Y12: 0.33695652 | Z12: -
W13: Na škole působí koordinátor podpory nadání (výchovný poradce, školní psycholog) | X13: - | Y13: 0.30434783 | Z13: -
W14: Pedag. prac. komunikují o formě podpory nadaných a mimořádně nadaných žáků s dalšími odb. | X14: - | Y14: 0.2826087 | Z14: -
W15: Koordinátor podpory nadání na škole komunikuje možnosti podpory se zákonnými zástupci žáků | X15: - | Y15: 0.26086957 | Z15: -
W16: Škola při péči o nadané a mimořádně nadané žáky využívá pedagogicko-organizační úpravy | X16: - | Y16: 0.23913043 | Z16: -
W17: Škola spolupracuje se zam. na podpoře nadaných a mimoř. nad. žáků při jejich vstupu na trh práce | X17: - | Y17: 0.23913043 | Z17: -
... W25: Na škole neprobíhá systematická podpora nadaných a mimořádně nadaných žáků | X25: - | Y25: 0.11956522 | Z25: -

Sheet G1_G4
A1: ZPĚT
A2: =pomo!B36 -> Současná úroveň rozvoje jazykového vzdělávání a předpokládaný posun
Z5: Úroveň rozvoje - II. vlna | AA5: Současný stav | AB5: Cílový stav | AC5: Předpokládaný posun
Z6: Průměrná úroveň | AA6: 0.21927928 | AB6: 0.39009009 | AC6: =+AB6-AA6 -> 0.17081081
Z7: Základní úroveň | AA7: 0.15047619 | AB7: 0.17142857 | AC7: =+AB7-AA7 -> 0.020952381
Z8: Mírně pokročilá úroveň | AA8: 0.36380952 | AB8: 0.41904762 | AC8: =+AB8-AA8 -> 0.055238095
Z9: Pokročilá úroveň | AA9: 0.3352381 | AB9: 0.55047619 | AC9: =+AB9-AA9 -> 0.2152381
Z10: Nejvyšší úroveň | AA10: 0.095 | AB10: 0.32 | AC10: =+AB10-AA10 -> 0.225

Sheet G2
A1: ZPĚT
A2: =pomo!B37 -> Činnosti, na kterých se školy v rámci rozvoje jazykového vzdělávání aktivně podílí
S5: Aktivita | T5: I. vlna | U5: II. vlna | V5: Rozdíl
S6: Podpora žáků ohrožených školním neúspěchem (doučování, konzultace) | T6: - | U6: 0.82666667 | V6: -
S7: Výuka dalšího cizího jazyka | T7: - | U7: 0.74666667 | V7: -
S8: Lokální mobilita žáků (např. besedy, přednášky, divadla) | T8: - | U8: 0.72 | V8: -
S9: Podpora nadaných žáků (jazykové soutěže, olympiády) | T9: - | U9: 0.72 | V9: -
S10: Využívání autentických materiálů ve výuce | T10: - | U10: 0.70666667 | V10: -
S11: Další vzdělávání vyučujících cizího jazyka – rozvoj jazykových znalostí | T11: - | U11: 0.69333333 | V11: -
S12: Další vzdělávání vyučujících cizího jazyka v oblasti metod a forem práce | T12: - | U12: 0.69333333 | V12: -
S13: Tvorba vlastních výukových materiálů | T13: - | U13: 0.68 | V13: -
S14: Mezinárodní mobilita žáků (mezinárodní projekty, Erasmus, eTwinnig, apod.) | T14: - | U14: 0.61333333 | V14: -
S15: Diferenciace výuky podle úrovně znalostí žáků | T15: - | U15: 0.50666667 | V15: -
S16: Celoškolní koncepce výuky cizích jazyků (včetně práce předmětových týmů) | T16: - | U16: 0.46666667 | V16: -
S17: Další vzdělávání ostatních pedagogických pracovníků - jazykové vzdělávání | T17: - | U17: 0.46666667 | V17: -
... S24: Jiné | T24: - | U24: 0.013333333 | V24: -

Sheet G3
A1: ZPĚT
A2: =pomo!B38 -> Překážky, na které školy v rámci rozvoje jazykového vzdělávání narážejí
S5: Překážky | T5: I. vlna | U5: II vlna | V5: Rozdíl
S6: Nízká vstupní úroveň jazykových znalostí žáků | T6: - | U6: 0.82666667 | V6: -
S7: Nedostatek finančních zdrojů na nákup techniky a výukových materiálů | T7: - | U7: 0.73333333 | V7: -
S8: Nedostatečné technické a materiální vybavení tříd | T8: - | U8: 0.68 | V8: -
S9: Vysoká míra diferenciace jazykové úrovně žáků v rámci tříd | T9: - | U9: 0.68 | V9: -
S10: Nedostatek finančních zdrojů na vzdělávání vyučujících | T10: - | U10: 0.6 | V10: -
S11: Nízká motivovanost žáků (pro aktivní účast ve výuce, na aktivitách, k mobilitě) | T11: - | U11: 0.58666667 | V11: -
S12: Na škole nepůsobí rodilý mluvčí | T12: - | U12: 0.49333333 | V12: -
S13: Vysoká pravděpodobnost neúspěchu při podávání projektových žádostí | T13: - | U13: 0.44 | V13: -
S14: Nízká motivovanost vyučujících k práci nad rámec výuky | T14: - | U14: 0.30666667 | V14: -
S15: Nízká časová dotace pro výuku cizích jazyků | T15: - | U15: 0.28 | V15: -
S16: Nedostatečná spolupráce v rámci předmětových týmů či mezi předmětovými týmy | T16: - | U16: 0.12 | V16: -
S17: Nízká aprobovanost vyučujících pro výuku cizího jazyka | T17: - | U17: 0.04 | V17: -
... S19: V této oblasti nenarážíme na žádné překážky | T19: - | U19: 0 | V19: -

Sheet G5
A1: ZPĚT
A2: =pomo!B39 -> Opatření, která by školám v rámci rozvoje jazykového vzdělávání pomohla
V5: Opatření | W5: I. vlna | X5: II. vlna | Y5: Rozdíl
V6: Digitální podpora výuky cizích jazyků | W6: 0.73684211 | X6: 0.86666667 | Y6: =X6-W6 -> 0.12982456
V7: Mobility vyuč. do zahraničí s cílem posílit jejich jazykové kompetence | W7: 0.72368421 | X7: 0.78666667 | Y7: =X7-W7 -> 0.062982456
V8: Prostředky na zajištění mobilit žáků – jazyková praxe pro všechny | W8: 0.69736842 | X8: 0.69333333 | Y8: =X8-W8 -> -0.0040350877
V9: Vytvoření podmínek pro diferenciaci výuky podle úrovně žáků | W9: 0.63157895 | X9: 0.69333333 | Y9: =X9-W9 -> 0.061754386
V10: Výukové materiály cizích jazyků s tematickým nebo odborným zaměřením | W10: 0.73684211 | X10: 0.66666667 | Y10: =X10-W10 -> -0.070175439
V11: Podpora rozvoje čtenářské gramotnosti v cizím jazyce dle jazykové úrovně žáků | W11: 0.69736842 | X11: 0.57333333 | Y11: =X11-W11 -> -0.12403509
V12: Dostatek zvukových nahrávek z různých oblastí, situací, žánrů | W12: 0.48684211 | X12: 0.56 | Y12: =X12-W12 -> 0.073157895
V13: Prostředky na výuku vedenou rodilým mluvčím, nejlépe kvalifikovaným | W13: 0.51315789 | X13: 0.56 | Y13: =X13-W13 -> 0.046842105
V14: Vyučující cizího jazyka se budou orientovat v oboru, pro který se jejich žáci připravují | W14: 0.46052632 | X14: 0.54666667 | Y14: =X14-W14 -> 0.086140351
V15: Systematické jaz. vzdělávání učitelů se zaměřením na využití metody CLIL | W15: 0.51315789 | X15: 0.48 | Y15: =X15-W15 -> -0.033157895
V16: Prostředky pro realizaci aktivit s různou úrovní náročnosti | W16: 0.43421053 | X16: 0.45333333 | Y16: =X16-W16 -> 0.019122807
V17: Systematické jazykové vzdělávání pro učitele odb. předmětů včetně zaměření na obor | W17: 0.55263158 | X17: 0.41333333 | Y17: =X17-W17 -> -0.13929825
... V22: Jiné | W22: 0.026315789 | X22: 0 | Y22: =X22-W22 -> -0.026315789

Sheet H1_H4
A1: ZPĚT
A2: =pomo!B41 -> Současná úroveň rozvoje oblasti ICT a předpokládaný posun
Y5: Úroveň rozvoje - II. vlna | Z5: Současný stav | AA5: Cílový stav | AB5: Předpokládaný posun
Y6: Průměrná úroveň | Z6: 0.24782306 | AA6: 0.47962382 | AB6: =+AA6-Z6 -> 0.23180077
Y7: Základní úroveň | Z7: 0.13103448 | AA7: 0.13333333 | AB7: =+AA7-Z7 -> 0.0022988506
Y8: Mírně pokročilá úroveň | Z8: 0.40804598 | AA8: 0.49425287 | AB8: =+AA8-Z8 -> 0.086206897
Y9: Pokročilá úroveň | Z9: 0.30213465 | AA9: 0.53858785 | AB9: =+AA9-Z9 -> 0.2364532
Y10: Nejvyšší úroveň | Z10: 0.1592775 | AA10: 0.4909688 | AB10: =+AA10-Z10 -> 0.3316913

Sheet H2
A1: ZPĚT
A2: =pomo!B42 -> Činnosti, na kterých se školy v rámci oblasti ICT aktivně podílí
S5: Aktivita | T5: I. vlna | U5: II. vlna | V5: Rozdíl
S6: Škola využívá ICT i v jiných předmětech, než jsou informatické předměty | T6: - | U6: 0.90804598 | V6: -
S7: Škola nastavuje pravidla použití ICT prostřednictvím školního řádu | T7: - | U7: 0.73563218 | V7: -
S8: Škola motivuje žáky i pedagogy k účelnému používání ICT | T8: - | U8: 0.72413793 | V8: -
S9: Škola podporuje pedagogy k sebevzdělávání v oblasti ICT | T9: - | U9: 0.70114943 | V9: -
S10: Pedagogové získané dovednosti v oblasti ICT začleňují do výuky | T10: - | U10: 0.68965517 | V10: -
S11: Pedagogové plánují výuku s použitím ICT a nových výukových metod | T11: - | U11: 0.66666667 | V11: -
S12: Škola vypracovává plán pro pořízení HW a SW | T12: - | U12: 0.62068966 | V12: -
S13: Pedagogové mezi sebou sdílejí znalosti a zkušenosti v oblasti ICT | T13: - | U13: 0.59770115 | V13: -
S14: ICT hraje významnou roli, škola přizpůsobuje plány rozvoje inovativnímu využití ICT | T14: - | U14: 0.55172414 | V14: -
S15: Dochází k posilování etického a odpovědného přístupu k ICT | T15: - | U15: 0.54022989 | V15: -
S16: Škola hledá nové možnosti zdokonalení stávajících postupů v oblasti výuky ICT | T16: - | U16: 0.49425287 | V16: -
S17: Žáci jsou schopni efektivně využívat ICT v další profesní a studijní dráze | T17: - | U17: 0.48275862 | V17: -
... S27: Jiné | T27: - | U27: 0 | V27: -

Sheet H3
A1: ZPĚT
A2: =pomo!B43 -> Překážky, na které školy v rámci oblasti ICT narážejí
S5: Překážky | T5: I. vlna | U5: II vlna | V5: Rozdíl
S6: Nedostatečné či neodpovídající prostory či vybavení školy | T6: - | U6: 0.67816092 | V6: -
S7: Nedostatečné SW vybavení školy | T7: - | U7: 0.56321839 | V7: -
S8: Nedostatečné vzdělání pedagogů na škole v oblasti ICT | T8: - | U8: 0.52873563 | V8: -
S9: Nedostatečné finance či prostory pro organizování a vedení nepovinných předmětů | T9: - | U9: 0.49425287 | V9: -
S10: Studenti nemají vlastní zařízení vhodná pro využití ve výuce | T10: - | U10: 0.43678161 | V10: -
S11: Vyučující nejsou schopni vyřešit problémy s ICT bez výrazného omezení chodu výuky | T11: - | U11: 0.3908046 | V11: -
S12: Nízká časová dotace či absence ICT koordinátora | T12: - | U12: 0.36781609 | V12: -
S13: Nedostatečná motivace pedagogů k dalšímu vzdělávání v oblasti ICT | T13: - | U13: 0.34482759 | V13: -
S14: Učitelé nemají k dispozici vlastní pracovní počítač | T14: - | U14: 0.33333333 | V14: -
S15: Nedostačující zdroje a informace, jak lépe začlenit ICT do výuky | T15: - | U15: 0.28735632 | V15: -
S16: Jiné | T16: - | U16: 0.08045977 | V16: -
S17: V této oblasti nenarážíme na žádné překážky | T17: - | U17: 0.034482759 | V17: -

Sheet H5
A1: ZPĚT
A2: =pomo!B44 -> Opatření, která by školám v rámci oblasti ICT pomohla
U5: Opatření | V5: I. vlna | W5: II. vlna | X5: Rozdíl
U6: Vybavení běžných tříd dig. tech., multimediál. tech. atp. | V6: 0.80952381 | W6: 0.83908046 | X6: =W6-V6 -> 0.02955665
U7: Vybavení ICT učeben dig. tech., multimediální tech. atp. | V7: 0.69047619 | W7: 0.75862069 | X7: =W7-V7 -> 0.068144499
U8: Technická podpora - správa sítě, provoz a údržba zařízení, aktualizace a upgrady, audity | V8: 0.73809524 | W8: 0.74712644 | X8: =W8-V8 -> 0.0090311987
U9: Vybavení spec. učeben, pracoven, laboratoří a dílen dig. tech., multimediální tech. atp. | V9: 0.70238095 | W9: 0.73563218 | X9: =W9-V9 -> 0.033251232
U10: Aplikace – pořizování licencí, aktualizace | V10: 0.72619048 | W10: 0.70114943 | X10: =W10-V10 -> -0.025041051
U11: Vysokorychlostní připojení školy k internetu | V11: 0.67857143 | W11: 0.67816092 | X11: =W11-V11 -> -0.00041050903
U12: Podpora při budování školní počítačové sítě | V12: 0.63095238 | W12: 0.63218391 | X12: =W12-V12 -> 0.0012315271
U13: Vzdělávání zaměřené na práci s novými tech., seznámení s novými službami, SW, HW | V13: 0.5952381 | W13: 0.59770115 | X13: =W13-V13 -> 0.0024630542
U14: Vzdělávání, metod. a učeb. materiály pro žáky zaměřené na rozvoj digit. gramotnosti | V14: 0.58333333 | W14: 0.56321839 | X14: =W14-V14 -> -0.020114943
