Workbook
Name DZACATEK: List1!#REF!
Name FZACATEK: List1!#REF!
Name LZACATEK: List1!#REF!

Sheet List1
A1: Poř. číslo | B1: Žadatel | K1: Název akce/projektu | L1: Popis akce/projektu | M1: Účel použití dotace na akci/projekt a jeho cíl | N1: Celkové náklady realizované akce/projektu | O1: Termín akce/realizace projektu | Q1: Požadovaná částka z rozpočtu OK | R1: Termín vyúčtování dotace | S1: Bodové hodnocení | W1: Návrh
B2: Sídlo | Q2: v Kč | S2: A | T2: B | U2: C | V2: Celkem | W2: v Kč
B3: Název | C3: Ulice | D3: Obec | E3: PSČ | F3: Okres | G3: Právní forma | H3: IČ | I3: Bankovní účet | J3: Zastoupení | N3: =SUM(N4:N37) -> 742435 | O3: od | P3: do | Q3: =SUM(Q4:Q37) -> 521800 | U3: návrh | W3: =SUM(W4:W37) -> 521800
A4: 31 | B4: Městys Dub nad Moravou | C4: Brodecká 1 | D4: Dub nad Moravou | E4: 78375 | F4: Olomouc | G4: Obec, m. č. hl. m. Prahy | H4: 00298867 | I4: anonymizováno | K4: Zajištění akceschopnosti pro JSDH Dub nad Moravou | L4: JSDH II potřebuje rozšířit počet strojníků s ŘP sk. C, aby se zlepšila akceschopnost a možnost plánování služeb mezi více členů JSDH. | M4: b) získání řidičského oprávnění skupiny C pro 2 členy JSDH | N4: 30000 | O4: 1/2020 | P4: 6/2021 | Q4: 20000 | R4: 44393 | S4: 100 | T4: 100 | U4: 100 | V4: =SUM(S4:U4) -> 300 | W4: 20000
A5: 27 | B5: Město Kostelec na Hané | C5: Jakubské náměstí 138 | D5: Kostelec na Hané | E5: 79841 | F5: Prostějov | G5: Obec, m. č. hl. m. Prahy | H5: 00288373 | I5: anonymizováno | K5: Zajištění akceschopnosti pro JSDH Kostelec na Hané | L5: Aby byla zajištěna akceschopnost jednotky je zapotřebí, aby dva členové získali oprávnění strojníka. | M5: b) získání řidičského oprávnění skupiny C pro 2 členy JSDH | N5: 20000 | O5: 1/2020 | P5: 6/2021 | Q5: 20000 | R5: 44393 | S5: 100 | T5: 100 | U5: 100 | V5: =SUM(S5:U5) -> 300 | W5: 20000
A6: 17 | B6: Obec Opatovice | C6: Hlavní 170 | D6: Opatovice | E6: 75356 | F6: Přerov | G6: Obec, m. č. hl. m. Prahy | H6: 00301655 | I6: anonymizováno | K6: Zajištění akceschopnosti pro JSDH Opatovice | L6: Cílem projektu je zajištění akceschopnosti JSDH Opatovice. | M6: a) získání řidičského oprávnění skupiny C pro 1 člena JSDH | N6: 10000 | O6: 1/2020 | P6: 6/2021 | Q6: 10000 | R6: 44393 | S6: 100 | T6: 100 | U6: 100 | V6: =SUM(S6:U6) -> 300 | W6: 10000
A7: 12 | B7: Statutární město Prostějov | C7: nám. T. G. Masaryka 130/14 | D7: Prostějov | E7: 79601 | F7: Prostějov | G7: Obec, m. č. hl. m. Prahy | H7: 00288659 | I7: anonymizováno | K7: Zajištění akceschopnosti pro JSDH Prostějov | L7: Zajištění akceschopnosti JSDH Prostějov - zajištění řidičského oprávnění skupiny C pro člena JSDH. | M7: a) získání řidičského oprávnění skupiny C pro 1 člena JSDH | N7: 18000 | O7: 1/2020 | P7: 6/2021 | Q7: 10000 | R7: 44393 | S7: 100 | T7: 100 | U7: 100 | V7: =SUM(S7:U7) -> 300 | W7: 10000
A8: 9 | B8: Město Tovačov | C8: Náměstí 12 | D8: Tovačov | E8: 75101 | F8: Přerov | G8: Obec, m. č. hl. m. Prahy | H8: 00302082 | I8: anonymizováno | K8: Zajištění akceschopnosti pro JSDH Tovačov | L8: řidičské oprávnění skupiny C pro 1 člena JSDH | M8: a) získání řidičského oprávnění skupiny C pro 1 člena JSDH | N8: 10000 | O8: 1/2020 | P8: 6/2021 | Q8: 10000 | R8: 44393 | S8: 100 | T8: 100 | U8: 100 | V8: =SUM(S8:U8) -> 300 | W8: 10000
A9: 28 | B9: Obec Bohuňovice | C9: 6. května 109 | D9: Bohuňovice | E9: 78314 | F9: Olomouc | G9: Obec, m. č. hl. m. Prahy | H9: 00298697 | I9: anonymizováno | K9: Zajištění akceschopnosti pro JSDH Bohuňovice | L9: Zvýšení akceschopnosti JSDH Bohuňovice | M9: d) získání řidičského oprávnění skupiny C pro 2 členy JSDH obce a zároveň absolvování kurzu bezpečné jízdy | N9: 28000 | O9: 1/2020 | P9: 6/2021 | Q9: 28000 | R9: 44393 | S9: 50 | T9: 100 | U9: 100 | V9: =SUM(S9:U9) -> 250 | W9: 28000
A10: 2 | B10: Městys Náměšť na Hané | C10: nám. T. G. Masaryka 100 | D10: Náměšť na Hané | E10: 78344 | F10: Olomouc | G10: Obec, m. č. hl. m. Prahy | H10: 00299260 | I10: anonymizováno | K10: Zajištění akceschopnosti pro JSDH Náměšť na Hané | L10: Povinností JPO II je zajistit výjezd jednotky do 5 minut. Městys má 2 hasiče z JPO II jako zaměstnance z toho pouze 1 řidič (sk.C) Od 1.3.2020 přibude 3 hasič, který oprávnění C nemá a proto ho chce získat, včetně absolvování kurzu bezpečné jízdy. | M10: c) získání řidičského oprávnění skupiny C pro 1 člena JSDH obce a zároveň absolvování kurzu bezpečné jízdy | N10: 32000 | O10: 1/2020 | P10: 6/2021 | Q10: 14000 | R10: 44393 | S10: 50 | T10: 100 | U10: 100 | V10: =SUM(S10:U10) -> 250 | W10: 14000
A11: 19 | B11: Město Němčice nad Hanou | C11: Palackého nám. 3 | D11: Němčice nad Hanou | E11: 79827 | F11: Prostějov | G11: Obec, m. č. hl. m. Prahy | H11: 00288497 | I11: anonymizováno | K11: Zajištění akceschopnosti pro JSDH Němčice nad Hanou | L11: Dotace bude využita pro jednoho člena JSDH JPO II/1 na zajištění řidičského oprávnění skupiny C, včetně kurzu bezpečné jízdy. | M11: c) získání řidičského oprávnění skupiny C pro 1 člena JSDH obce a zároveň absolvování kurzu bezpečné jízdy | N11: 20000 | O11: 1/2020 | P11: 6/2021 | Q11: 14000 | R11: 44393 | S11: 50 | T11: 100 | U11: 100 | V11: =SUM(S11:U11) -> 250 | W11: 14000
A12: 29 | B12: Městys Protivanov | C12: Náměstí 32 | D12: Protivanov | E12: 79848 | F12: Prostějov | G12: Obec, m. č. hl. m. Prahy | H12: 00288675 | I12: anonymizováno | K12: Zajištění akceschopnosti pro JSDH Protivanov | L12: Získání řidičského oprávnění skupiny C pro jednoho člena JSDH pro zajištění akceschopnosti jednotky a kurz bezpečné jízdy pro 2 členy jednotky pro zvýšení bezpečnosti posádky hasičského vozidla a ostatních účastníků silničního provozu. | M12: c) získání řidičského oprávnění skupiny C pro 1 člena JSDH obce a zároveň absolvování kurzu bezpečné jízdy | N12: 19800 | O12: 1/2020 | P12: 6/2021 | Q12: 14000 | R12: 44393 | S12: 50 | T12: 100 | U12: 100 | V12: =SUM(S12:U12) -> 250 | W12: 14000
A13: 11 | B13: Obec Radslavice | C13: Na Návsi 103 | D13: Radslavice | E13: 75111 | F13: Přerov | G13: Obec, m. č. hl. m. Prahy | H13: 00301884 | I13: anonymizováno | K13: Zajištění akceschopnosti pro JSDH Radslavice | L13: Získáním nového řidiče s řidičským oprávněním skupiny C dojde k jednoznačnému zvýšení akceschopnosti JSDH Radslavice. | M13: a) získání řidičského oprávnění skupiny C pro 1 člena JSDH | N13: 16500 | O13: 1/2020 | P13: 6/2021 | Q13: 10000 | R13: 44393 | S13: 100 | T13: 50 | U13: 100 | V13: =SUM(S13:U13) -> 250 | W13: 10000
A14: 24 | B14: Obec Senice na Hané | C14: Jos. Vodičky 243 | D14: Senice na Hané | E14: 78345 | F14: Olomouc | G14: Obec, m. č. hl. m. Prahy | H14: 00299421 | I14: anonymizováno | K14: Zajištění akceschopnosti pro JSDH Senice na Hané | L14: Získání řidičského oprávnění skupiny C pro 2 členy JSDH | M14: b) získání řidičského oprávnění skupiny C pro 2 členy JSDH | N14: 40000 | O14: 1/2020 | P14: 6/2021 | Q14: 20000 | R14: 44393 | S14: 100 | T14: 50 | U14: 100 | V14: =SUM(S14:U14) -> 250 | W14: 20000
A15: 16 | B15: Městys Velký Újezd | C15: Olomoucká 15 | D15: Velký Újezd | E15: 78355 | F15: Olomouc | G15: Obec, m. č. hl. m. Prahy | H15: 00299677 | I15: anonymizováno | K15: Zajištění akceschopnosti pro JSDH Velký Újezd | L15: Zvýšení akceschopnosti jednotky při řešení mimořádných událostí. | M15: b) získání řidičského oprávnění skupiny C pro 2 členy JSDH | N15: 30000 | O15: 1/2020 | P15: 6/2021 | Q15: 20000 | R15: 44393 | S15: 100 | T15: 50 | U15: 100 | V15: =SUM(S15:U15) -> 250 | W15: 20000
... A37: 5 | B37: Statutární město Přerov | C37: Bratrská 709/34 | D37: Přerov | E37: 75002 | F37: Přerov | G37: Obec, m. č. hl. m. Prahy | H37: 00301825 | I37: anonymizováno | K37: Zajištění akceschopnosti pro JSDH Přerov - I Město | L37: S ohledem na otevření nového úseku dálnice D1 na Přerovsku a s tím rostoucí pravděpodobností přivolání JSDH Přerov I – Město jako podpory HZS ČR při zásahu na této komunikaci, je nezbytné zajistit proškolení řidičů. | M37: h) absolvování kurzu bezpečné jízdy pro 4 členy JSDH obce | N37: 16000 | O37: 1/2020 | P37: 6/2021 | Q37: 16000 | R37: 44393 | S37: 30 | T37: 50 | U37: 100 | V37: =SUM(S37:U37) -> 180 | W37: 16000

Sheet tisk
B1: Poř. Číslo z VFP | C1: Žadatel | D1: Název akce/činnosti | E1: Celkové předpokládané výdaje realizované akce/činnosti | F1: Termín akce/ realizace činnosti OD - DO | G1: Požadovaná částka z rozpočtu OK | H1: Termín vyúčtování dotace | I1: Bodové hodnocení | M1: Návrh dotace
D2: Stručný popis akce/činnosti | I2: A | J2: B | K2: C | L2: Celkem
D3: Účel použití dotace na akci/činnost | K3: návrh | M3: =SUM(M4:M105) -> 521800
B4: =IF(OFFSET(List1!A$4,tisk!A3,0)>0,OFFSET(List1!A$4,tisk!A3,0),"") -> 31 | C4: =IF(B4="","",CONCATENATE(OFFSET(List1!B$4,tisk!A3,0)," ",OFFSET(List1!C$4,tisk!A3,0)," ",OFFSET(List1!D$4,tisk!A3,0)," ",OFFSET(List1!E$4,tisk!A3,0))) -> Městys Dub nad Moravou Brodecká 1 Dub nad Moravou 78375 | D4: =IF(B4="","",OFFSET(List1!K$4,tisk!A3,0)) -> Zajištění akceschopnosti pro JSDH Dub nad Moravou | E4: =IF(B4="","",OFFSET(List1!N$4,tisk!A3,0)) -> 30000 | F4: =IF(B4="","",OFFSET(List1!O$4,tisk!A3,0)) -> 1/2020 | G4: =IF(B4="","",OFFSET(List1!Q$4,tisk!A3,0)) -> 20000 | H4: =IF(B4="","",OFFSET(List1!R$4,tisk!A3,0)) -> 44393 | I4: =IF(B4="","",OFFSET(List1!S$4,tisk!A3,0)) -> 100 | J4: =IF(B4="","",OFFSET(List1!T$4,tisk!A3,0)) -> 100 | K4: =IF(B4="","",OFFSET(List1!U$4,tisk!A3,0)) -> 100 | L4: =IF(B4="","",OFFSET(List1!V$4,tisk!A3,0)) -> 300 | M4: =IF(B4="","",OFFSET(List1!W$4,tisk!A3,0)) -> 20000
C5: =IF(B4="","",CONCATENATE("Okres ",OFFSET(List1!F$4,tisk!A3,0)," ","Právní forma"," ",OFFSET(List1!G$4,tisk!A3,0)," ","IČO ",OFFSET(List1!H$4,tisk!A3,0)," ","B.Ú. ",OFFSET(List1!I$4,tisk!A3,0))) -> Okres Olomouc Právní forma Obec, m. č. hl. m. Prahy IČO 00298867 B.Ú. anonymizováno | D5: =IF(B4="","",OFFSET(List1!L$4,tisk!A3,0)) -> JSDH II potřebuje rozšířit počet strojníků s ŘP sk. C, aby se zlepšila akceschopnost a možnost plánování služeb mezi více členů JSDH.
A6: =ROW()/3-1 -> 1 | C6: =IF(B4="","",CONCATENATE("Zástupce"," ",OFFSET(List1!J$4,tisk!A3,0))) -> Zástupce | D6: =IF(B4="","",CONCATENATE("Dotace bude použita na:"," ",OFFSET(List1!M$4,tisk!A3,0))) -> Dotace bude použita na: b) získání řidičského oprávnění skupiny C pro 2 členy JSDH | F6: =IF(B4="","",OFFSET(List1!P$4,tisk!A3,0)) -> 6/2021
B7: =IF(OFFSET(List1!A$4,tisk!A6,0)>0,OFFSET(List1!A$4,tisk!A6,0),"") -> 27 | C7: =IF(B7="","",CONCATENATE(OFFSET(List1!B$4,tisk!A6,0)," ",OFFSET(List1!C$4,tisk!A6,0)," ",OFFSET(List1!D$4,tisk!A6,0)," ",OFFSET(List1!E$4,tisk!A6,0))) -> Město Kostelec na Hané Jakubské náměstí 138 Kostelec na Hané 79841 | D7: =IF(B7="","",OFFSET(List1!K$4,tisk!A6,0)) -> Zajištění akceschopnosti pro JSDH Kostelec na Hané | E7: =IF(B7="","",OFFSET(List1!N$4,tisk!A6,0)) -> 20000 | F7: =IF(B7="","",OFFSET(List1!O$4,tisk!A6,0)) -> 1/2020 | G7: =IF(B7="","",OFFSET(List1!Q$4,tisk!A6,0)) -> 20000 | H7: =IF(B7="","",OFFSET(List1!R$4,tisk!A6,0)) -> 44393 | I7: =IF(B7="","",OFFSET(List1!S$4,tisk!A6,0)) -> 100 | J7: =IF(B7="","",OFFSET(List1!T$4,tisk!A6,0)) -> 100 | K7: =IF(B7="","",OFFSET(List1!U$4,tisk!A6,0)) -> 100 | L7: =IF(B7="","",OFFSET(List1!V$4,tisk!A6,0)) -> 300 | M7: =IF(B7="","",OFFSET(List1!W$4,tisk!A6,0)) -> 20000
C8: =IF(B7="","",CONCATENATE("Okres ",OFFSET(List1!F$4,tisk!A6,0)," ","Právní forma"," ",OFFSET(List1!G$4,tisk!A6,0)," ","IČO ",OFFSET(List1!H$4,tisk!A6,0)," ","B.Ú. ",OFFSET(List1!I$4,tisk!A6,0))) -> Okres Prostějov Právní forma Obec, m. č. hl. m. Prahy IČO 00288373 B.Ú. anonymizováno | D8: =IF(B7="","",OFFSET(List1!L$4,tisk!A6,0)) -> Aby byla zajištěna akceschopnost jednotky je zapotřebí, aby dva členové získali oprávnění strojníka.
A9: =ROW()/3-1 -> 2 | C9: =IF(B7="","",CONCATENATE("Zástupce"," ",OFFSET(List1!J$4,tisk!A6,0))) -> Zástupce | D9: =IF(B7="","",CONCATENATE("Dotace bude použita na:",OFFSET(List1!M$4,tisk!A6,0))) -> Dotace bude použita na:b) získání řidičského oprávnění skupiny C pro 2 členy JSDH | F9: =IF(B7="","",OFFSET(List1!P$4,tisk!A6,0)) -> 6/2021
B10: =IF(OFFSET(List1!A$4,tisk!A9,0)>0,OFFSET(List1!A$4,tisk!A9,0),"") -> 17 | C10: =IF(B10="","",CONCATENATE(OFFSET(List1!B$4,tisk!A9,0)," ",OFFSET(List1!C$4,tisk!A9,0)," ",OFFSET(List1!D$4,tisk!A9,0)," ",OFFSET(List1!E$4,tisk!A9,0))) -> Obec Opatovice Hlavní 170 Opatovice 75356 | D10: =IF(B10="","",OFFSET(List1!K$4,tisk!A9,0)) -> Zajištění akceschopnosti pro JSDH Opatovice | E10: =IF(B10="","",OFFSET(List1!N$4,tisk!A9,0)) -> 10000 | F10: =IF(B10="","",OFFSET(List1!O$4,tisk!A9,0)) -> 1/2020 | G10: =IF(B10="","",OFFSET(List1!Q$4,tisk!A9,0)) -> 10000 | H10: =IF(B10="","",OFFSET(List1!R$4,tisk!A9,0)) -> 44393 | I10: =IF(B10="","",OFFSET(List1!S$4,tisk!A9,0)) -> 100 | J10: =IF(B10="","",OFFSET(List1!T$4,tisk!A9,0)) -> 100 | K10: =IF(B10="","",OFFSET(List1!U$4,tisk!A9,0)) -> 100 | L10: =IF(B10="","",OFFSET(List1!V$4,tisk!A9,0)) -> 300 | M10: =IF(B10="","",OFFSET(List1!W$4,tisk!A9,0)) -> 10000
C11: =IF(B10="","",CONCATENATE("Okres ",OFFSET(List1!F$4,tisk!A9,0)," ","Právní forma"," ",OFFSET(List1!G$4,tisk!A9,0)," ","IČO ",OFFSET(List1!H$4,tisk!A9,0)," ","B.Ú. ",OFFSET(List1!I$4,tisk!A9,0))) -> Okres Přerov Právní forma Obec, m. č. hl. m. Prahy IČO 00301655 B.Ú. anonymizováno | D11: =IF(B10="","",OFFSET(List1!L$4,tisk!A9,0)) -> Cílem projektu je zajištění akceschopnosti JSDH Opatovice.
A12: =ROW()/3-1 -> 3 | C12: =IF(B10="","",CONCATENATE("Zástupce"," ",OFFSET(List1!J$4,tisk!A9,0))) -> Zástupce | D12: =IF(B10="","",CONCATENATE("Dotace bude použita na:",OFFSET(List1!M$4,tisk!A9,0))) -> Dotace bude použita na:a) získání řidičského oprávnění skupiny C pro 1 člena JSDH | F12: =IF(B10="","",OFFSET(List1!P$4,tisk!A9,0)) -> 6/2021
B13: =IF(OFFSET(List1!A$4,tisk!A12,0)>0,OFFSET(List1!A$4,tisk!A12,0),"") -> 12 | C13: =IF(B13="","",CONCATENATE(OFFSET(List1!B$4,tisk!A12,0)," ",OFFSET(List1!C$4,tisk!A12,0)," ",OFFSET(List1!D$4,tisk!A12,0)," ",OFFSET(List1!E$4,tisk!A12,0))) -> Statutární město Prostějov nám. T. G. Masaryka 130/14 Prostějov 79601 | D13: =IF(B13="","",OFFSET(List1!K$4,tisk!A12,0)) -> Zajištění akceschopnosti pro JSDH Prostějov | E13: =IF(B13="","",OFFSET(List1!N$4,tisk!A12,0)) -> 18000 | F13: =IF(B13="","",OFFSET(List1!O$4,tisk!A12,0)) -> 1/2020 | G13: =IF(B13="","",OFFSET(List1!Q$4,tisk!A12,0)) -> 10000 | H13: =IF(B13="","",OFFSET(List1!R$4,tisk!A12,0)) -> 44393 | I13: =IF(B13="","",OFFSET(List1!S$4,tisk!A12,0)) -> 100 | J13: =IF(B13="","",OFFSET(List1!T$4,tisk!A12,0)) -> 100 | K13: =IF(B13="","",OFFSET(List1!U$4,tisk!A12,0)) -> 100 | L13: =IF(B13="","",OFFSET(List1!V$4,tisk!A12,0)) -> 300 | M13: =IF(B13="","",OFFSET(List1!W$4,tisk!A12,0)) -> 10000
C14: =IF(B13="","",CONCATENATE("Okres ",OFFSET(List1!F$4,tisk!A12,0)," ","Právní forma"," ",OFFSET(List1!G$4,tisk!A12,0)," ","IČO ",OFFSET(List1!H$4,tisk!A12,0)," ","B.Ú. ",OFFSET(List1!I$4,tisk!A12,0))) -> Okres Prostějov Právní forma Obec, m. č. hl. m. Prahy IČO 00288659 B.Ú. anonymizováno | D14: =IF(B13="","",OFFSET(List1!L$4,tisk!A12,0)) -> Zajištění akceschopnosti JSDH Prostějov - zajištění řidičského oprávnění skupiny C pro člena JSDH.
A15: =ROW()/3-1 -> 4 | C15: =IF(B13="","",CONCATENATE("Zástupce"," ",OFFSET(List1!J$4,tisk!A12,0))) -> Zástupce | D15: =IF(B13="","",CONCATENATE("Dotace bude použita na:",OFFSET(List1!M$4,tisk!A12,0))) -> Dotace bude použita na:a) získání řidičského oprávnění skupiny C pro 1 člena JSDH | F15: =IF(B13="","",OFFSET(List1!P$4,tisk!A12,0)) -> 6/2021
B16: =IF(OFFSET(List1!A$4,tisk!A15,0)>0,OFFSET(List1!A$4,tisk!A15,0),"") -> 9 | C16: =IF(B16="","",CONCATENATE(OFFSET(List1!B$4,tisk!A15,0)," ",OFFSET(List1!C$4,tisk!A15,0)," ",OFFSET(List1!D$4,tisk!A15,0)," ",OFFSET(List1!E$4,tisk!A15,0))) -> Město Tovačov Náměstí 12 Tovačov 75101 | D16: =IF(B16="","",OFFSET(List1!K$4,tisk!A15,0)) -> Zajištění akceschopnosti pro JSDH Tovačov | E16: =IF(B16="","",OFFSET(List1!N$4,tisk!A15,0)) -> 10000 | F16: =IF(B16="","",OFFSET(List1!O$4,tisk!A15,0)) -> 1/2020 | G16: =IF(B16="","",OFFSET(List1!Q$4,tisk!A15,0)) -> 10000 | H16: =IF(B16="","",OFFSET(List1!R$4,tisk!A15,0)) -> 44393 | I16: =IF(B16="","",OFFSET(List1!S$4,tisk!A15,0)) -> 100 | J16: =IF(B16="","",OFFSET(List1!T$4,tisk!A15,0)) -> 100 | K16: =IF(B16="","",OFFSET(List1!U$4,tisk!A15,0)) -> 100 | L16: =IF(B16="","",OFFSET(List1!V$4,tisk!A15,0)) -> 300 | M16: =IF(B16="","",OFFSET(List1!W$4,tisk!A15,0)) -> 10000
C17: =IF(B16="","",CONCATENATE("Okres ",OFFSET(List1!F$4,tisk!A15,0)," ","Právní forma"," ",OFFSET(List1!G$4,tisk!A15,0)," ","IČO ",OFFSET(List1!H$4,tisk!A15,0)," ","B.Ú. ",OFFSET(List1!I$4,tisk!A15,0))) -> Okres Přerov Právní forma Obec, m. č. hl. m. Prahy IČO 00302082 B.Ú. anonymizováno | D17: =IF(B16="","",OFFSET(List1!L$4,tisk!A15,0)) -> řidičské oprávnění skupiny C pro 1 člena JSDH
A18: =ROW()/3-1 -> 5 | C18: =IF(B16="","",CONCATENATE("Zástupce"," ",OFFSET(List1!J$4,tisk!A15,0))) -> Zástupce | D18: =IF(B16="","",CONCATENATE("Dotace bude použita na:",OFFSET(List1!M$4,tisk!A15,0))) -> Dotace bude použita na:a) získání řidičského oprávnění skupiny C pro 1 člena JSDH | F18: =IF(B16="","",OFFSET(List1!P$4,tisk!A15,0)) -> 6/2021
B19: =IF(OFFSET(List1!A$4,tisk!A18,0)>0,OFFSET(List1!A$4,tisk!A18,0),"") -> 28 | C19: =IF(B19="","",CONCATENATE(OFFSET(List1!B$4,tisk!A18,0)," ",OFFSET(List1!C$4,tisk!A18,0)," ",OFFSET(List1!D$4,tisk!A18,0)," ",OFFSET(List1!E$4,tisk!A18,0))) -> Obec Bohuňovice 6. května 109 Bohuňovice 78314 | D19: =IF(B19="","",OFFSET(List1!K$4,tisk!A18,0)) -> Zajištění akceschopnosti pro JSDH Bohuňovice | E19: =IF(B19="","",OFFSET(List1!N$4,tisk!A18,0)) -> 28000 | F19: =IF(B19="","",OFFSET(List1!O$4,tisk!A18,0)) -> 1/2020 | G19: =IF(B19="","",OFFSET(List1!Q$4,tisk!A18,0)) -> 28000 | H19: =IF(B19="","",OFFSET(List1!R$4,tisk!A18,0)) -> 44393 | I19: =IF(B19="","",OFFSET(List1!S$4,tisk!A18,0)) -> 50 | J19: =IF(B19="","",OFFSET(List1!T$4,tisk!A18,0)) -> 100 | K19: =IF(B19="","",OFFSET(List1!U$4,tisk!A18,0)) -> 100 | L19: =IF(B19="","",OFFSET(List1!V$4,tisk!A18,0)) -> 250 | M19: =IF(B19="","",OFFSET(List1!W$4,tisk!A18,0)) -> 28000
C20: =IF(B19="","",CONCATENATE("Okres ",OFFSET(List1!F$4,tisk!A18,0)," ","Právní forma"," ",OFFSET(List1!G$4,tisk!A18,0)," ","IČO ",OFFSET(List1!H$4,tisk!A18,0)," ","B.Ú. ",OFFSET(List1!I$4,tisk!A18,0))) -> Okres Olomouc Právní forma Obec, m. č. hl. m. Prahy IČO 00298697 B.Ú. anonymizováno | D20: =IF(B19="","",OFFSET(List1!L$4,tisk!A18,0)) -> Zvýšení akceschopnosti JSDH Bohuňovice
A21: =ROW()/3-1 -> 6 | C21: =IF(B19="","",CONCATENATE("Zástupce"," ",OFFSET(List1!J$4,tisk!A18,0))) -> Zástupce | D21: =IF(B19="","",CONCATENATE("Dotace bude použita na:",OFFSET(List1!M$4,tisk!A18,0))) -> Dotace bude použita na:d) získání řidičského oprávnění skupiny C pro 2 členy JSDH obce a zároveň absolvování kurzu bezpečné jízdy | F21: =IF(B19="","",OFFSET(List1!P$4,tisk!A18,0)) -> 6/2021
B22: =IF(OFFSET(List1!A$4,tisk!A21,0)>0,OFFSET(List1!A$4,tisk!A21,0),"") -> 2 | C22: =IF(B22="","",CONCATENATE(OFFSET(List1!B$4,tisk!A21,0)," ",OFFSET(List1!C$4,tisk!A21,0)," ",OFFSET(List1!D$4,tisk!A21,0)," ",OFFSET(List1!E$4,tisk!A21,0))) -> Městys Náměšť na Hané nám. T. G. Masaryka 100 Náměšť na Hané 78344 | D22: =IF(B22="","",OFFSET(List1!K$4,tisk!A21,0)) -> Zajištění akceschopnosti pro JSDH Náměšť na Hané | E22: =IF(B22="","",OFFSET(List1!N$4,tisk!A21,0)) -> 32000 | F22: =IF(B22="","",OFFSET(List1!O$4,tisk!A21,0)) -> 1/2020 | G22: =IF(B22="","",OFFSET(List1!Q$4,tisk!A21,0)) -> 14000 | H22: =IF(B22="","",OFFSET(List1!R$4,tisk!A21,0)) -> 44393 | I22: =IF(B22="","",OFFSET(List1!S$4,tisk!A21,0)) -> 50 | J22: =IF(B22="","",OFFSET(List1!T$4,tisk!A21,0)) -> 100 | K22: =IF(B22="","",OFFSET(List1!U$4,tisk!A21,0)) -> 100 | L22: =IF(B22="","",OFFSET(List1!V$4,tisk!A21,0)) -> 250 | M22: =IF(B22="","",OFFSET(List1!W$4,tisk!A21,0)) -> 14000
C23: =IF(B22="","",CONCATENATE("Okres ",OFFSET(List1!F$4,tisk!A21,0)," ","Právní forma"," ",OFFSET(List1!G$4,tisk!A21,0)," ","IČO ",OFFSET(List1!H$4,tisk!A21,0)," ","B.Ú. ",OFFSET(List1!I$4,tisk!A21,0))) -> Okres Olomouc Právní forma Obec, m. č. hl. m. Prahy IČO 00299260 B.Ú. anonymizováno | D23: =IF(B22="","",OFFSET(List1!L$4,tisk!A21,0)) -> Povinností JPO II je zajistit výjezd jednotky do 5 minut. Městys má 2 hasiče z JPO II jako zaměstnance z toho pouze 1 řidič (sk.C) Od 1.3.2020 přibude 3 hasič, který oprávnění C nemá a proto ho chce získat, včetně absolvování kurzu bezpečné jízdy.
A24: =ROW()/3-1 -> 7 | C24: =IF(B22="","",CONCATENATE("Zástupce"," ",OFFSET(List1!J$4,tisk!A21,0))) -> Zástupce | D24: =IF(B22="","",CONCATENATE("Dotace bude použita na:",OFFSET(List1!M$4,tisk!A21,0))) -> Dotace bude použita na:c) získání řidičského oprávnění skupiny C pro 1 člena JSDH obce a zároveň absolvování kurzu bezpečné jízdy | F24: =IF(B22="","",OFFSET(List1!P$4,tisk!A21,0)) -> 6/2021
B25: =IF(OFFSET(List1!A$4,tisk!A24,0)>0,OFFSET(List1!A$4,tisk!A24,0),"") -> 19 | C25: =IF(B25="","",CONCATENATE(OFFSET(List1!B$4,tisk!A24,0)," ",OFFSET(List1!C$4,tisk!A24,0)," ",OFFSET(List1!D$4,tisk!A24,0)," ",OFFSET(List1!E$4,tisk!A24,0))) -> Město Němčice nad Hanou Palackého nám. 3 Němčice nad Hanou 79827 | D25: =IF(B25="","",OFFSET(List1!K$4,tisk!A24,0)) -> Zajištění akceschopnosti pro JSDH Němčice nad Hanou | E25: =IF(B25="","",OFFSET(List1!N$4,tisk!A24,0)) -> 20000 | F25: =IF(B25="","",OFFSET(List1!O$4,tisk!A24,0)) -> 1/2020 | G25: =IF(B25="","",OFFSET(List1!Q$4,tisk!A24,0)) -> 14000 | H25: =IF(B25="","",OFFSET(List1!R$4,tisk!A24,0)) -> 44393 | I25: =IF(B25="","",OFFSET(List1!S$4,tisk!A24,0)) -> 50 | J25: =IF(B25="","",OFFSET(List1!T$4,tisk!A24,0)) -> 100 | K25: =IF(B25="","",OFFSET(List1!U$4,tisk!A24,0)) -> 100 | L25: =IF(B25="","",OFFSET(List1!V$4,tisk!A24,0)) -> 250 | M25: =IF(B25="","",OFFSET(List1!W$4,tisk!A24,0)) -> 14000
C26: =IF(B25="","",CONCATENATE("Okres ",OFFSET(List1!F$4,tisk!A24,0)," ","Právní forma"," ",OFFSET(List1!G$4,tisk!A24,0)," ","IČO ",OFFSET(List1!H$4,tisk!A24,0)," ","B.Ú. ",OFFSET(List1!I$4,tisk!A24,0))) -> Okres Prostějov Právní forma Obec, m. č. hl. m. Prahy IČO 00288497 B.Ú. anonymizováno | D26: =IF(B25="","",OFFSET(List1!L$4,tisk!A24,0)) -> Dotace bude využita pro jednoho člena JSDH JPO II/1 na zajištění řidičského oprávnění skupiny C, včetně kurzu bezpečné jízdy.
A27: =ROW()/3-1 -> 8 | C27: =IF(B25="","",CONCATENATE("Zástupce"," ",OFFSET(List1!J$4,tisk!A24,0))) -> Zástupce | D27: =IF(B25="","",CONCATENATE("Dotace bude použita na:",OFFSET(List1!M$4,tisk!A24,0))) -> Dotace bude použita na:c) získání řidičského oprávnění skupiny C pro 1 člena JSDH obce a zároveň absolvování kurzu bezpečné jízdy | F27: =IF(B25="","",OFFSET(List1!P$4,tisk!A24,0)) -> 6/2021
B28: =IF(OFFSET(List1!A$4,tisk!A27,0)>0,OFFSET(List1!A$4,tisk!A27,0),"") -> 29 | C28: =IF(B28="","",CONCATENATE(OFFSET(List1!B$4,tisk!A27,0)," ",OFFSET(List1!C$4,tisk!A27,0)," ",OFFSET(List1!D$4,tisk!A27,0)," ",OFFSET(List1!E$4,tisk!A27,0))) -> Městys Protivanov Náměstí 32 Protivanov 79848 | D28: =IF(B28="","",OFFSET(List1!K$4,tisk!A27,0)) -> Zajištění akceschopnosti pro JSDH Protivanov | E28: =IF(B28="","",OFFSET(List1!N$4,tisk!A27,0)) -> 19800 | F28: =IF(B28="","",OFFSET(List1!O$4,tisk!A27,0)) -> 1/2020 | G28: =IF(B28="","",OFFSET(List1!Q$4,tisk!A27,0)) -> 14000 | H28: =IF(B28="","",OFFSET(List1!R$4,tisk!A27,0)) -> 44393 | I28: =IF(B28="","",OFFSET(List1!S$4,tisk!A27,0)) -> 50 | J28: =IF(B28="","",OFFSET(List1!T$4,tisk!A27,0)) -> 100 | K28: =IF(B28="","",OFFSET(List1!U$4,tisk!A27,0)) -> 100 | L28: =IF(B28="","",OFFSET(List1!V$4,tisk!A27,0)) -> 250 | M28: =IF(B28="","",OFFSET(List1!W$4,tisk!A27,0)) -> 14000
C29: =IF(B28="","",CONCATENATE("Okres ",OFFSET(List1!F$4,tisk!A27,0)," ","Právní forma"," ",OFFSET(List1!G$4,tisk!A27,0)," ","IČO ",OFFSET(List1!H$4,tisk!A27,0)," ","B.Ú. ",OFFSET(List1!I$4,tisk!A27,0))) -> Okres Prostějov Právní forma Obec, m. č. hl. m. Prahy IČO 00288675 B.Ú. anonymizováno | D29: =IF(B28="","",OFFSET(List1!L$4,tisk!A27,0)) -> Získání řidičského oprávnění skupiny C pro jednoho člena JSDH pro zajištění akceschopnosti jednotky a kurz bezpečné jízdy pro 2 členy jednotky pro zvýšení bezpečnosti posádky hasičského vozidla a ostatních účastníků silničního provozu.
A30: =ROW()/3-1 -> 9 | C30: =IF(B28="","",CONCATENATE("Zástupce"," ",OFFSET(List1!J$4,tisk!A27,0))) -> Zástupce | D30: =IF(B28="","",CONCATENATE("Dotace bude použita na:",OFFSET(List1!M$4,tisk!A27,0))) -> Dotace bude použita na:c) získání řidičského oprávnění skupiny C pro 1 člena JSDH obce a zároveň absolvování kurzu bezpečné jízdy | F30: =IF(B28="","",OFFSET(List1!P$4,tisk!A27,0)) -> 6/2021
B31: =IF(OFFSET(List1!A$4,tisk!A30,0)>0,OFFSET(List1!A$4,tisk!A30,0),"") -> 11 | C31: =IF(B31="","",CONCATENATE(OFFSET(List1!B$4,tisk!A30,0)," ",OFFSET(List1!C$4,tisk!A30,0)," ",OFFSET(List1!D$4,tisk!A30,0)," ",OFFSET(List1!E$4,tisk!A30,0))) -> Obec Radslavice Na Návsi 103 Radslavice 75111 | D31: =IF(B31="","",OFFSET(List1!K$4,tisk!A30,0)) -> Zajištění akceschopnosti pro JSDH Radslavice | E31: =IF(B31="","",OFFSET(List1!N$4,tisk!A30,0)) -> 16500 | F31: =IF(B31="","",OFFSET(List1!O$4,tisk!A30,0)) -> 1/2020 | G31: =IF(B31="","",OFFSET(List1!Q$4,tisk!A30,0)) -> 10000 | H31: =IF(B31="","",OFFSET(List1!R$4,tisk!A30,0)) -> 44393 | I31: =IF(B31="","",OFFSET(List1!S$4,tisk!A30,0)) -> 100 | J31: =IF(B31="","",OFFSET(List1!T$4,tisk!A30,0)) -> 50 | K31: =IF(B31="","",OFFSET(List1!U$4,tisk!A30,0)) -> 100 | L31: =IF(B31="","",OFFSET(List1!V$4,tisk!A30,0)) -> 250 | M31: =IF(B31="","",OFFSET(List1!W$4,tisk!A30,0)) -> 10000
C32: =IF(B31="","",CONCATENATE("Okres ",OFFSET(List1!F$4,tisk!A30,0)," ","Právní forma"," ",OFFSET(List1!G$4,tisk!A30,0)," ","IČO ",OFFSET(List1!H$4,tisk!A30,0)," ","B.Ú. ",OFFSET(List1!I$4,tisk!A30,0))) -> Okres Přerov Právní forma Obec, m. č. hl. m. Prahy IČO 00301884 B.Ú. anonymizováno | D32: =IF(B31="","",OFFSET(List1!L$4,tisk!A30,0)) -> Získáním nového řidiče s řidičským oprávněním skupiny C dojde k jednoznačnému zvýšení akceschopnosti JSDH Radslavice.
A33: =ROW()/3-1 -> 10 | C33: =IF(B31="","",CONCATENATE("Zástupce"," ",OFFSET(List1!J$4,tisk!A30,0))) -> Zástupce | D33: =IF(B31="","",CONCATENATE("Dotace bude použita na:",OFFSET(List1!M$4,tisk!A30,0))) -> Dotace bude použita na:a) získání řidičského oprávnění skupiny C pro 1 člena JSDH | F33: =IF(B31="","",OFFSET(List1!P$4,tisk!A30,0)) -> 6/2021
B34: =IF(OFFSET(List1!A$4,tisk!A33,0)>0,OFFSET(List1!A$4,tisk!A33,0),"") -> 24 | C34: =IF(B34="","",CONCATENATE(OFFSET(List1!B$4,tisk!A33,0)," ",OFFSET(List1!C$4,tisk!A33,0)," ",OFFSET(List1!D$4,tisk!A33,0)," ",OFFSET(List1!E$4,tisk!A33,0))) -> Obec Senice na Hané Jos. Vodičky 243 Senice na Hané 78345 | D34: =IF(B34="","",OFFSET(List1!K$4,tisk!A33,0)) -> Zajištění akceschopnosti pro JSDH Senice na Hané | E34: =IF(B34="","",OFFSET(List1!N$4,tisk!A33,0)) -> 40000 | F34: =IF(B34="","",OFFSET(List1!O$4,tisk!A33,0)) -> 1/2020 | G34: =IF(B34="","",OFFSET(List1!Q$4,tisk!A33,0)) -> 20000 | H34: =IF(B34="","",OFFSET(List1!R$4,tisk!A33,0)) -> 44393 | I34: =IF(B34="","",OFFSET(List1!S$4,tisk!A33,0)) -> 100 | J34: =IF(B34="","",OFFSET(List1!T$4,tisk!A33,0)) -> 50 | K34: =IF(B34="","",OFFSET(List1!U$4,tisk!A33,0)) -> 100 | L34: =IF(B34="","",OFFSET(List1!V$4,tisk!A33,0)) -> 250 | M34: =IF(B34="","",OFFSET(List1!W$4,tisk!A33,0)) -> 20000
C35: =IF(B34="","",CONCATENATE("Okres ",OFFSET(List1!F$4,tisk!A33,0)," ","Právní forma"," ",OFFSET(List1!G$4,tisk!A33,0)," ","IČO ",OFFSET(List1!H$4,tisk!A33,0)," ","B.Ú. ",OFFSET(List1!I$4,tisk!A33,0))) -> Okres Olomouc Právní forma Obec, m. č. hl. m. Prahy IČO 00299421 B.Ú. anonymizováno | D35: =IF(B34="","",OFFSET(List1!L$4,tisk!A33,0)) -> Získání řidičského oprávnění skupiny C pro 2 členy JSDH
A36: =ROW()/3-1 -> 11 | C36: =IF(B34="","",CONCATENATE("Zástupce"," ",OFFSET(List1!J$4,tisk!A33,0))) -> Zástupce | D36: =IF(B34="","",CONCATENATE("Dotace bude použita na:",OFFSET(List1!M$4,tisk!A33,0))) -> Dotace bude použita na:b) získání řidičského oprávnění skupiny C pro 2 členy JSDH | F36: =IF(B34="","",OFFSET(List1!P$4,tisk!A33,0)) -> 6/2021
B37: =IF(OFFSET(List1!A$4,tisk!A36,0)>0,OFFSET(List1!A$4,tisk!A36,0),"") -> 16 | C37: =IF(B37="","",CONCATENATE(OFFSET(List1!B$4,tisk!A36,0)," ",OFFSET(List1!C$4,tisk!A36,0)," ",OFFSET(List1!D$4,tisk!A36,0)," ",OFFSET(List1!E$4,tisk!A36,0))) -> Městys Velký Újezd Olomoucká 15 Velký Újezd 78355 | D37: =IF(B37="","",OFFSET(List1!K$4,tisk!A36,0)) -> Zajištění akceschopnosti pro JSDH Velký Újezd | E37: =IF(B37="","",OFFSET(List1!N$4,tisk!A36,0)) -> 30000 | F37: =IF(B37="","",OFFSET(List1!O$4,tisk!A36,0)) -> 1/2020 | G37: =IF(B37="","",OFFSET(List1!Q$4,tisk!A36,0)) -> 20000 | H37: =IF(B37="","",OFFSET(List1!R$4,tisk!A36,0)) -> 44393 | I37: =IF(B37="","",OFFSET(List1!S$4,tisk!A36,0)) -> 100 | J37: =IF(B37="","",OFFSET(List1!T$4,tisk!A36,0)) -> 50 | K37: =IF(B37="","",OFFSET(List1!U$4,tisk!A36,0)) -> 100 | L37: =IF(B37="","",OFFSET(List1!V$4,tisk!A36,0)) -> 250 | M37: =IF(B37="","",OFFSET(List1!W$4,tisk!A36,0)) -> 20000
C38: =IF(B37="","",CONCATENATE("Okres ",OFFSET(List1!F$4,tisk!A36,0)," ","Právní forma"," ",OFFSET(List1!G$4,tisk!A36,0)," ","IČO ",OFFSET(List1!H$4,tisk!A36,0)," ","B.Ú. ",OFFSET(List1!I$4,tisk!A36,0))) -> Okres Olomouc Právní forma Obec, m. č. hl. m. Prahy IČO 00299677 B.Ú. anonymizováno | D38: =IF(B37="","",OFFSET(List1!L$4,tisk!A36,0)) -> Zvýšení akceschopnosti jednotky při řešení mimořádných událostí.
A39: =ROW()/3-1 -> 12 | C39: =IF(B37="","",CONCATENATE("Zástupce"," ",OFFSET(List1!J$4,tisk!A36,0))) -> Zástupce | D39: =IF(B37="","",CONCATENATE("Dotace bude použita na:",OFFSET(List1!M$4,tisk!A36,0))) -> Dotace bude použita na:b) získání řidičského oprávnění skupiny C pro 2 členy JSDH | F39: =IF(B37="","",OFFSET(List1!P$4,tisk!A36,0)) -> 6/2021
B40: =IF(OFFSET(List1!A$4,tisk!A39,0)>0,OFFSET(List1!A$4,tisk!A39,0),"") -> 6 | C40: =IF(B40="","",CONCATENATE(OFFSET(List1!B$4,tisk!A39,0)," ",OFFSET(List1!C$4,tisk!A39,0)," ",OFFSET(List1!D$4,tisk!A39,0)," ",OFFSET(List1!E$4,tisk!A39,0))) -> Obec Hlubočky Olomoucká 17 Hlubočky 78361 | D40: =IF(B40="","",OFFSET(List1!K$4,tisk!A39,0)) -> Zajištění akceschopnosti pro JSDH Hlubočky | E40: =IF(B40="","",OFFSET(List1!N$4,tisk!A39,0)) -> 16000 | F40: =IF(B40="","",OFFSET(List1!O$4,tisk!A39,0)) -> 1/2020 | G40: =IF(B40="","",OFFSET(List1!Q$4,tisk!A39,0)) -> 16000 | H40: =IF(B40="","",OFFSET(List1!R$4,tisk!A39,0)) -> 44393 | I40: =IF(B40="","",OFFSET(List1!S$4,tisk!A39,0)) -> 30 | J40: =IF(B40="","",OFFSET(List1!T$4,tisk!A39,0)) -> 100 | K40: =IF(B40="","",OFFSET(List1!U$4,tisk!A39,0)) -> 100 | L40: =IF(B40="","",OFFSET(List1!V$4,tisk!A39,0)) -> 230 | M40: =IF(B40="","",OFFSET(List1!W$4,tisk!A39,0)) -> 16000
C41: =IF(B40="","",CONCATENATE("Okres ",OFFSET(List1!F$4,tisk!A39,0)," ","Právní forma"," ",OFFSET(List1!G$4,tisk!A39,0)," ","IČO ",OFFSET(List1!H$4,tisk!A39,0)," ","B.Ú. ",OFFSET(List1!I$4,tisk!A39,0))) -> Okres Olomouc Právní forma Obec, m. č. hl. m. Prahy IČO 00298891 B.Ú. anonymizováno | D41: =IF(B40="","",OFFSET(List1!L$4,tisk!A39,0)) -> Záměr: Absolvování kurzu bezpečné jízdy pro čtyři strojníky JSDH Hlubočky - JPO II.
A42: =ROW()/3-1 -> 13 | C42: =IF(B40="","",CONCATENATE("Zástupce"," ",OFFSET(List1!J$4,tisk!A39,0))) -> Zástupce | D42: =IF(B40="","",CONCATENATE("Dotace bude použita na:",OFFSET(List1!M$4,tisk!A39,0))) -> Dotace bude použita na:h) absolvování kurzu bezpečné jízdy pro 4 členy JSDH obce | F42: =IF(B40="","",OFFSET(List1!P$4,tisk!A39,0)) -> 6/2021
B43: =IF(OFFSET(List1!A$4,tisk!A42,0)>0,OFFSET(List1!A$4,tisk!A42,0),"") -> 23 | C43: =IF(B43="","",CONCATENATE(OFFSET(List1!B$4,tisk!A42,0)," ",OFFSET(List1!C$4,tisk!A42,0)," ",OFFSET(List1!D$4,tisk!A42,0)," ",OFFSET(List1!E$4,tisk!A42,0))) -> Město Javorník nám. Svobody 134 Javorník 79070 | D43: =IF(B43="","",OFFSET(List1!K$4,tisk!A42,0)) -> Zajištění akceschopnosti pro JSDH Javorník | E43: =IF(B43="","",OFFSET(List1!N$4,tisk!A42,0)) -> 16000 | F43: =IF(B43="","",OFFSET(List1!O$4,tisk!A42,0)) -> 1/2020 | G43: =IF(B43="","",OFFSET(List1!Q$4,tisk!A42,0)) -> 16000 | H43: =IF(B43="","",OFFSET(List1!R$4,tisk!A42,0)) -> 44393 | I43: =IF(B43="","",OFFSET(List1!S$4,tisk!A42,0)) -> 30 | J43: =IF(B43="","",OFFSET(List1!T$4,tisk!A42,0)) -> 100 | K43: =IF(B43="","",OFFSET(List1!U$4,tisk!A42,0)) -> 100 | L43: =IF(B43="","",OFFSET(List1!V$4,tisk!A42,0)) -> 230 | M43: =IF(B43="","",OFFSET(List1!W$4,tisk!A42,0)) -> 16000
C44: =IF(B43="","",CONCATENATE("Okres ",OFFSET(List1!F$4,tisk!A42,0)," ","Právní forma"," ",OFFSET(List1!G$4,tisk!A42,0)," ","IČO ",OFFSET(List1!H$4,tisk!A42,0)," ","B.Ú. ",OFFSET(List1!I$4,tisk!A42,0))) -> Okres Jeseník Právní forma Obec, m. č. hl. m. Prahy IČO 00302708 B.Ú. anonymizováno | D44: =IF(B43="","",OFFSET(List1!L$4,tisk!A42,0)) -> Absolvování kurzu bezpečné jízdy členů JSDH Javorník.
A45: =ROW()/3-1 -> 14 | C45: =IF(B43="","",CONCATENATE("Zástupce"," ",OFFSET(List1!J$4,tisk!A42,0))) -> Zástupce | D45: =IF(B43="","",CONCATENATE("Dotace bude použita na:",OFFSET(List1!M$4,tisk!A42,0))) -> Dotace bude použita na:h) absolvování kurzu bezpečné jízdy pro 4 členy JSDH obce | F45: =IF(B43="","",OFFSET(List1!P$4,tisk!A42,0)) -> 6/2021
B46: =IF(OFFSET(List1!A$4,tisk!A45,0)>0,OFFSET(List1!A$4,tisk!A45,0),"") -> 15 | C46: =IF(B46="","",CONCATENATE(OFFSET(List1!B$4,tisk!A45,0)," ",OFFSET(List1!C$4,tisk!A45,0)," ",OFFSET(List1!D$4,tisk!A45,0)," ",OFFSET(List1!E$4,tisk!A45,0))) -> Statutární město Olomouc Horní náměstí 583 Olomouc 77900 | D46: =IF(B46="","",OFFSET(List1!K$4,tisk!A45,0)) -> Zajištění akceschopnosti pro JSDH Olomouc | E46: =IF(B46="","",OFFSET(List1!N$4,tisk!A45,0)) -> 20000 | F46: =IF(B46="","",OFFSET(List1!O$4,tisk!A45,0)) -> 1/2020 | G46: =IF(B46="","",OFFSET(List1!Q$4,tisk!A45,0)) -> 16000 | H46: =IF(B46="","",OFFSET(List1!R$4,tisk!A45,0)) -> 44393 | I46: =IF(B46="","",OFFSET(List1!S$4,tisk!A45,0)) -> 30 | J46: =IF(B46="","",OFFSET(List1!T$4,tisk!A45,0)) -> 100 | K46: =IF(B46="","",OFFSET(List1!U$4,tisk!A45,0)) -> 100 | L46: =IF(B46="","",OFFSET(List1!V$4,tisk!A45,0)) -> 230 | M46: =IF(B46="","",OFFSET(List1!W$4,tisk!A45,0)) -> 16000
C47: =IF(B46="","",CONCATENATE("Okres ",OFFSET(List1!F$4,tisk!A45,0)," ","Právní forma"," ",OFFSET(List1!G$4,tisk!A45,0)," ","IČO ",OFFSET(List1!H$4,tisk!A45,0)," ","B.Ú. ",OFFSET(List1!I$4,tisk!A45,0))) -> Okres Olomouc Právní forma Obec, m. č. hl. m. Prahy IČO 00299308 B.Ú. anonymizováno | D47: =IF(B46="","",OFFSET(List1!L$4,tisk!A45,0)) -> Dotace bude použita na kurz bezpečné jízdy k zajištění akceschopnosti JSDH Olomouc.
A48: =ROW()/3-1 -> 15 | C48: =IF(B46="","",CONCATENATE("Zástupce"," ",OFFSET(List1!J$4,tisk!A45,0))) -> Zástupce | D48: =IF(B46="","",CONCATENATE("Dotace bude použita na:",OFFSET(List1!M$4,tisk!A45,0))) -> Dotace bude použita na:h) absolvování kurzu bezpečné jízdy pro 4 členy JSDH obce | F48: =IF(B46="","",OFFSET(List1!P$4,tisk!A45,0)) -> 6/2021
B49: =IF(OFFSET(List1!A$4,tisk!A48,0)>0,OFFSET(List1!A$4,tisk!A48,0),"") -> 14 | C49: =IF(B49="","",CONCATENATE(OFFSET(List1!B$4,tisk!A48,0)," ",OFFSET(List1!C$4,tisk!A48,0)," ",OFFSET(List1!D$4,tisk!A48,0)," ",OFFSET(List1!E$4,tisk!A48,0))) -> Město Štíty nám. Míru 55 Štíty 78991 | D49: =IF(B49="","",OFFSET(List1!K$4,tisk!A48,0)) -> Zajištění akceschopnosti pro JSDH Štíty | E49: =IF(B49="","",OFFSET(List1!N$4,tisk!A48,0)) -> 20000 | F49: =IF(B49="","",OFFSET(List1!O$4,tisk!A48,0)) -> 1/2020 | G49: =IF(B49="","",OFFSET(List1!Q$4,tisk!A48,0)) -> 16000 | H49: =IF(B49="","",OFFSET(List1!R$4,tisk!A48,0)) -> 44393 | I49: =IF(B49="","",OFFSET(List1!S$4,tisk!A48,0)) -> 30 | J49: =IF(B49="","",OFFSET(List1!T$4,tisk!A48,0)) -> 100 | K49: =IF(B49="","",OFFSET(List1!U$4,tisk!A48,0)) -> 100 | L49: =IF(B49="","",OFFSET(List1!V$4,tisk!A48,0)) -> 230 | M49: =IF(B49="","",OFFSET(List1!W$4,tisk!A48,0)) -> 16000
C50: =IF(B49="","",CONCATENATE("Okres ",OFFSET(List1!F$4,tisk!A48,0)," ","Právní forma"," ",OFFSET(List1!G$4,tisk!A48,0)," ","IČO ",OFFSET(List1!H$4,tisk!A48,0)," ","B.Ú. ",OFFSET(List1!I$4,tisk!A48,0))) -> Okres Šumperk Právní forma Obec, m. č. hl. m. Prahy IČO 00303453 B.Ú. anonymizováno | D50: =IF(B49="","",OFFSET(List1!L$4,tisk!A48,0)) -> Zajištění kurzu bezpečné jízdy pro strojníky zásahové jednotky. Zvýšení bezpečnosti zasahujících hasičů a vyšší ochrana majetku zřizovatele.
A51: =ROW()/3-1 -> 16 | C51: =IF(B49="","",CONCATENATE("Zástupce"," ",OFFSET(List1!J$4,tisk!A48,0))) -> Zástupce | D51: =IF(B49="","",CONCATENATE("Dotace bude použita na:",OFFSET(List1!M$4,tisk!A48,0))) -> Dotace bude použita na:h) absolvování kurzu bezpečné jízdy pro 4 členy JSDH obce | F51: =IF(B49="","",OFFSET(List1!P$4,tisk!A48,0)) -> 6/2021
B52: =IF(OFFSET(List1!A$4,tisk!A51,0)>0,OFFSET(List1!A$4,tisk!A51,0),"") -> 26 | C52: =IF(B52="","",CONCATENATE(OFFSET(List1!B$4,tisk!A51,0)," ",OFFSET(List1!C$4,tisk!A51,0)," ",OFFSET(List1!D$4,tisk!A51,0)," ",OFFSET(List1!E$4,tisk!A51,0))) -> Obec Bělotín Bělotín 151 Bělotín 75364 | D52: =IF(B52="","",OFFSET(List1!K$4,tisk!A51,0)) -> Zajištění akceschopnosti pro JSDH Bělotín | E52: =IF(B52="","",OFFSET(List1!N$4,tisk!A51,0)) -> 40000 | F52: =IF(B52="","",OFFSET(List1!O$4,tisk!A51,0)) -> 1/2020 | G52: =IF(B52="","",OFFSET(List1!Q$4,tisk!A51,0)) -> 28000 | H52: =IF(B52="","",OFFSET(List1!R$4,tisk!A51,0)) -> 44393 | I52: =IF(B52="","",OFFSET(List1!S$4,tisk!A51,0)) -> 50 | J52: =IF(B52="","",OFFSET(List1!T$4,tisk!A51,0)) -> 50 | K52: =IF(B52="","",OFFSET(List1!U$4,tisk!A51,0)) -> 100 | L52: =IF(B52="","",OFFSET(List1!V$4,tisk!A51,0)) -> 200 | M52: =IF(B52="","",OFFSET(List1!W$4,tisk!A51,0)) -> 28000
C53: =IF(B52="","",CONCATENATE("Okres ",OFFSET(List1!F$4,tisk!A51,0)," ","Právní forma"," ",OFFSET(List1!G$4,tisk!A51,0)," ","IČO ",OFFSET(List1!H$4,tisk!A51,0)," ","B.Ú. ",OFFSET(List1!I$4,tisk!A51,0))) -> Okres Přerov Právní forma Obec, m. č. hl. m. Prahy IČO 00301019 B.Ú. anonymizováno | D53: =IF(B52="","",OFFSET(List1!L$4,tisk!A51,0)) -> Získání řidičského oprávnění skupiny C pro 2 členy JSDH obce a zároveň absolvování kurzu bezpečné jízdy zvýší zastupitelnost strojníků v rámci neprofesionální zásahové jednotky a zvýší bezpečnost.
A54: =ROW()/3-1 -> 17 | C54: =IF(B52="","",CONCATENATE("Zástupce"," ",OFFSET(List1!J$4,tisk!A51,0))) -> Zástupce | D54: =IF(B52="","",CONCATENATE("Dotace bude použita na:",OFFSET(List1!M$4,tisk!A51,0))) -> Dotace bude použita na:d) získání řidičského oprávnění skupiny C pro 2 členy JSDH obce a zároveň absolvování kurzu bezpečné jízdy | F54: =IF(B52="","",OFFSET(List1!P$4,tisk!A51,0)) -> 6/2021
B55: =IF(OFFSET(List1!A$4,tisk!A54,0)>0,OFFSET(List1!A$4,tisk!A54,0),"") -> 33 | C55: =IF(B55="","",CONCATENATE(OFFSET(List1!B$4,tisk!A54,0)," ",OFFSET(List1!C$4,tisk!A54,0)," ",OFFSET(List1!D$4,tisk!A54,0)," ",OFFSET(List1!E$4,tisk!A54,0))) -> Městys Brodek u Přerova Masarykovo náměstí 13 Brodek u Přerova 75103 | D55: =IF(B55="","",OFFSET(List1!K$4,tisk!A54,0)) -> Zajištění akceschopnosti pro JSDH Brodek u Přerova | E55: =IF(B55="","",OFFSET(List1!N$4,tisk!A54,0)) -> 20000 | F55: =IF(B55="","",OFFSET(List1!O$4,tisk!A54,0)) -> 1/2020 | G55: =IF(B55="","",OFFSET(List1!Q$4,tisk!A54,0)) -> 10000 | H55: =IF(B55="","",OFFSET(List1!R$4,tisk!A54,0)) -> 44393 | I55: =IF(B55="","",OFFSET(List1!S$4,tisk!A54,0)) -> 100 | J55: =IF(B55="","",OFFSET(List1!T$4,tisk!A54,0)) -> 50 | K55: =IF(B55="","",OFFSET(List1!U$4,tisk!A54,0)) -> 50 | L55: =IF(B55="","",OFFSET(List1!V$4,tisk!A54,0)) -> 200 | M55: =IF(B55="","",OFFSET(List1!W$4,tisk!A54,0)) -> 10000
C56: =IF(B55="","",CONCATENATE("Okres ",OFFSET(List1!F$4,tisk!A54,0)," ","Právní forma"," ",OFFSET(List1!G$4,tisk!A54,0)," ","IČO ",OFFSET(List1!H$4,tisk!A54,0)," ","B.Ú. ",OFFSET(List1!I$4,tisk!A54,0))) -> Okres Přerov Právní forma Obec, m. č. hl. m. Prahy IČO 00301078 B.Ú. anonymizováno | D56: =IF(B55="","",OFFSET(List1!L$4,tisk!A54,0)) -> člen jednotky získá řidičské oprávnění skupiny C
A57: =ROW()/3-1 -> 18 | C57: =IF(B55="","",CONCATENATE("Zástupce"," ",OFFSET(List1!J$4,tisk!A54,0))) -> Zástupce | D57: =IF(B55="","",CONCATENATE("Dotace bude použita na:",OFFSET(List1!M$4,tisk!A54,0))) -> Dotace bude použita na:a) získání řidičského oprávnění skupiny C pro 1 člena JSDH | F57: =IF(B55="","",OFFSET(List1!P$4,tisk!A54,0)) -> 6/2021
B58: =IF(OFFSET(List1!A$4,tisk!A57,0)>0,OFFSET(List1!A$4,tisk!A57,0),"") -> 18 | C58: =IF(B58="","",CONCATENATE(OFFSET(List1!B$4,tisk!A57,0)," ",OFFSET(List1!C$4,tisk!A57,0)," ",OFFSET(List1!D$4,tisk!A57,0)," ",OFFSET(List1!E$4,tisk!A57,0))) -> Obec Česká Ves Jánského 341 Česká Ves 79081 | D58: =IF(B58="","",OFFSET(List1!K$4,tisk!A57,0)) -> Zajištění akceschopnosti pro JSDH Česká Ves | E58: =IF(B58="","",OFFSET(List1!N$4,tisk!A57,0)) -> 24000 | F58: =IF(B58="","",OFFSET(List1!O$4,tisk!A57,0)) -> 1/2020 | G58: =IF(B58="","",OFFSET(List1!Q$4,tisk!A57,0)) -> 20000 | H58: =IF(B58="","",OFFSET(List1!R$4,tisk!A57,0)) -> 44393 | I58: =IF(B58="","",OFFSET(List1!S$4,tisk!A57,0)) -> 100 | J58: =IF(B58="","",OFFSET(List1!T$4,tisk!A57,0)) -> 50 | K58: =IF(B58="","",OFFSET(List1!U$4,tisk!A57,0)) -> 50 | L58: =IF(B58="","",OFFSET(List1!V$4,tisk!A57,0)) -> 200 | M58: =IF(B58="","",OFFSET(List1!W$4,tisk!A57,0)) -> 20000
C59: =IF(B58="","",CONCATENATE("Okres ",OFFSET(List1!F$4,tisk!A57,0)," ","Právní forma"," ",OFFSET(List1!G$4,tisk!A57,0)," ","IČO ",OFFSET(List1!H$4,tisk!A57,0)," ","B.Ú. ",OFFSET(List1!I$4,tisk!A57,0))) -> Okres Jeseník Právní forma Obec, m. č. hl. m. Prahy IČO 00636037 B.Ú. anonymizováno | D59: =IF(B58="","",OFFSET(List1!L$4,tisk!A57,0)) -> žádáme o dotaci na získání řidičského oprávnění skupiny C pro dva členy JSDH
A60: =ROW()/3-1 -> 19 | C60: =IF(B58="","",CONCATENATE("Zástupce"," ",OFFSET(List1!J$4,tisk!A57,0))) -> Zástupce | D60: =IF(B58="","",CONCATENATE("Dotace bude použita na:",OFFSET(List1!M$4,tisk!A57,0))) -> Dotace bude použita na:b) získání řidičského oprávnění skupiny C pro 2 členy JSDH | F60: =IF(B58="","",OFFSET(List1!P$4,tisk!A57,0)) -> 6/2021
B61: =IF(OFFSET(List1!A$4,tisk!A60,0)>0,OFFSET(List1!A$4,tisk!A60,0),"") -> 7 | C61: =IF(B61="","",CONCATENATE(OFFSET(List1!B$4,tisk!A60,0)," ",OFFSET(List1!C$4,tisk!A60,0)," ",OFFSET(List1!D$4,tisk!A60,0)," ",OFFSET(List1!E$4,tisk!A60,0))) -> Obec Dolany Dolany 58 Dolany 78316 | D61: =IF(B61="","",OFFSET(List1!K$4,tisk!A60,0)) -> Zajištění akceschopnosti pro JSDH Dolany | E61: =IF(B61="","",OFFSET(List1!N$4,tisk!A60,0)) -> 30000 | F61: =IF(B61="","",OFFSET(List1!O$4,tisk!A60,0)) -> 1/2020 | G61: =IF(B61="","",OFFSET(List1!Q$4,tisk!A60,0)) -> 20000 | H61: =IF(B61="","",OFFSET(List1!R$4,tisk!A60,0)) -> 44393 | I61: =IF(B61="","",OFFSET(List1!S$4,tisk!A60,0)) -> 100 | J61: =IF(B61="","",OFFSET(List1!T$4,tisk!A60,0)) -> 50 | K61: =IF(B61="","",OFFSET(List1!U$4,tisk!A60,0)) -> 50 | L61: =IF(B61="","",OFFSET(List1!V$4,tisk!A60,0)) -> 200 | M61: =IF(B61="","",OFFSET(List1!W$4,tisk!A60,0)) -> 20000
C62: =IF(B61="","",CONCATENATE("Okres ",OFFSET(List1!F$4,tisk!A60,0)," ","Právní forma"," ",OFFSET(List1!G$4,tisk!A60,0)," ","IČO ",OFFSET(List1!H$4,tisk!A60,0)," ","B.Ú. ",OFFSET(List1!I$4,tisk!A60,0))) -> Okres Olomouc Právní forma Obec, m. č. hl. m. Prahy IČO 00298808 B.Ú. anonymizováno | D62: =IF(B61="","",OFFSET(List1!L$4,tisk!A60,0)) -> Řidičské oprávnění
A63: =ROW()/3-1 -> 20 | C63: =IF(B61="","",CONCATENATE("Zástupce"," ",OFFSET(List1!J$4,tisk!A60,0))) -> Zástupce | D63: =IF(B61="","",CONCATENATE("Dotace bude použita na:",OFFSET(List1!M$4,tisk!A60,0))) -> Dotace bude použita na:b) získání řidičského oprávnění skupiny C pro 2 členy JSDH | F63: =IF(B61="","",OFFSET(List1!P$4,tisk!A60,0)) -> 6/2021
B64: =IF(OFFSET(List1!A$4,tisk!A63,0)>0,OFFSET(List1!A$4,tisk!A63,0),"") -> 13 | C64: =IF(B64="","",CONCATENATE(OFFSET(List1!B$4,tisk!A63,0)," ",OFFSET(List1!C$4,tisk!A63,0)," ",OFFSET(List1!D$4,tisk!A63,0)," ",OFFSET(List1!E$4,tisk!A63,0))) -> Obec Domašov nad Bystřicí Náměstí 35 Domašov nad Bystřicí 78306 | D64: =IF(B64="","",OFFSET(List1!K$4,tisk!A63,0)) -> Zajištění akceschopnosti pro JSDH Domašov nad Bystřicí | E64: =IF(B64="","",OFFSET(List1!N$4,tisk!A63,0)) -> 17000 | F64: =IF(B64="","",OFFSET(List1!O$4,tisk!A63,0)) -> 1/2020 | G64: =IF(B64="","",OFFSET(List1!Q$4,tisk!A63,0)) -> 10000 | H64: =IF(B64="","",OFFSET(List1!R$4,tisk!A63,0)) -> 44393 | I64: =IF(B64="","",OFFSET(List1!S$4,tisk!A63,0)) -> 100 | J64: =IF(B64="","",OFFSET(List1!T$4,tisk!A63,0)) -> 50 | K64: =IF(B64="","",OFFSET(List1!U$4,tisk!A63,0)) -> 50 | L64: =IF(B64="","",OFFSET(List1!V$4,tisk!A63,0)) -> 200 | M64: =IF(B64="","",OFFSET(List1!W$4,tisk!A63,0)) -> 10000
C65: =IF(B64="","",CONCATENATE("Okres ",OFFSET(List1!F$4,tisk!A63,0)," ","Právní forma"," ",OFFSET(List1!G$4,tisk!A63,0)," ","IČO ",OFFSET(List1!H$4,tisk!A63,0)," ","B.Ú. ",OFFSET(List1!I$4,tisk!A63,0))) -> Okres Olomouc Právní forma Obec, m. č. hl. m. Prahy IČO 00298824 B.Ú. anonymizováno | D65: =IF(B64="","",OFFSET(List1!L$4,tisk!A63,0)) -> Z důvodu zvýšení akceschopnosti JSDH.
A66: =ROW()/3-1 -> 21 | C66: =IF(B64="","",CONCATENATE("Zástupce"," ",OFFSET(List1!J$4,tisk!A63,0))) -> Zástupce | D66: =IF(B64="","",CONCATENATE("Dotace bude použita na:",OFFSET(List1!M$4,tisk!A63,0))) -> Dotace bude použita na:a) získání řidičského oprávnění skupiny C pro 1 člena JSDH | F66: =IF(B64="","",OFFSET(List1!P$4,tisk!A63,0)) -> 6/2021
B67: =IF(OFFSET(List1!A$4,tisk!A66,0)>0,OFFSET(List1!A$4,tisk!A66,0),"") -> 22 | C67: =IF(B67="","",CONCATENATE(OFFSET(List1!B$4,tisk!A66,0)," ",OFFSET(List1!C$4,tisk!A66,0)," ",OFFSET(List1!D$4,tisk!A66,0)," ",OFFSET(List1!E$4,tisk!A66,0))) -> Město Kojetín Masarykovo náměstí 20 Kojetín 75201 | D67: =IF(B67="","",OFFSET(List1!K$4,tisk!A66,0)) -> Zajištění akceschopnosti pro JSDH Kojetín | E67: =IF(B67="","",OFFSET(List1!N$4,tisk!A66,0)) -> 34000 | F67: =IF(B67="","",OFFSET(List1!O$4,tisk!A66,0)) -> 1/2020 | G67: =IF(B67="","",OFFSET(List1!Q$4,tisk!A66,0)) -> 20000 | H67: =IF(B67="","",OFFSET(List1!R$4,tisk!A66,0)) -> 44393 | I67: =IF(B67="","",OFFSET(List1!S$4,tisk!A66,0)) -> 100 | J67: =IF(B67="","",OFFSET(List1!T$4,tisk!A66,0)) -> 50 | K67: =IF(B67="","",OFFSET(List1!U$4,tisk!A66,0)) -> 50 | L67: =IF(B67="","",OFFSET(List1!V$4,tisk!A66,0)) -> 200 | M67: =IF(B67="","",OFFSET(List1!W$4,tisk!A66,0)) -> 20000
C68: =IF(B67="","",CONCATENATE("Okres ",OFFSET(List1!F$4,tisk!A66,0)," ","Právní forma"," ",OFFSET(List1!G$4,tisk!A66,0)," ","IČO ",OFFSET(List1!H$4,tisk!A66,0)," ","B.Ú. ",OFFSET(List1!I$4,tisk!A66,0))) -> Okres Přerov Právní forma Obec, m. č. hl. m. Prahy IČO 00301370 B.Ú. anonymizováno | D68: =IF(B67="","",OFFSET(List1!L$4,tisk!A66,0)) -> Zajištění akceschopnosti JSDH Kojetín vzhledem k nedostatku řidičů (strojníků) skupiny C - jednotka je vybavena vozidlem CAS 20 MAN.
A69: =ROW()/3-1 -> 22 | C69: =IF(B67="","",CONCATENATE("Zástupce"," ",OFFSET(List1!J$4,tisk!A66,0))) -> Zástupce | D69: =IF(B67="","",CONCATENATE("Dotace bude použita na:",OFFSET(List1!M$4,tisk!A66,0))) -> Dotace bude použita na:b) získání řidičského oprávnění skupiny C pro 2 členy JSDH | F69: =IF(B67="","",OFFSET(List1!P$4,tisk!A66,0)) -> 6/2021
B70: =IF(OFFSET(List1!A$4,tisk!A69,0)>0,OFFSET(List1!A$4,tisk!A69,0),"") -> 1 | C70: =IF(B70="","",CONCATENATE(OFFSET(List1!B$4,tisk!A69,0)," ",OFFSET(List1!C$4,tisk!A69,0)," ",OFFSET(List1!D$4,tisk!A69,0)," ",OFFSET(List1!E$4,tisk!A69,0))) -> Město Konice Masarykovo nám. 27 Konice 79852 | D70: =IF(B70="","",OFFSET(List1!K$4,tisk!A69,0)) -> Zajištění akceschopnosti pro JSDH Konice | E70: =IF(B70="","",OFFSET(List1!N$4,tisk!A69,0)) -> 32000 | F70: =IF(B70="","",OFFSET(List1!O$4,tisk!A69,0)) -> 1/2020 | G70: =IF(B70="","",OFFSET(List1!Q$4,tisk!A69,0)) -> 20000 | H70: =IF(B70="","",OFFSET(List1!R$4,tisk!A69,0)) -> 44393 | I70: =IF(B70="","",OFFSET(List1!S$4,tisk!A69,0)) -> 100 | J70: =IF(B70="","",OFFSET(List1!T$4,tisk!A69,0)) -> 50 | K70: =IF(B70="","",OFFSET(List1!U$4,tisk!A69,0)) -> 50 | L70: =IF(B70="","",OFFSET(List1!V$4,tisk!A69,0)) -> 200 | M70: =IF(B70="","",OFFSET(List1!W$4,tisk!A69,0)) -> 20000
C71: =IF(B70="","",CONCATENATE("Okres ",OFFSET(List1!F$4,tisk!A69,0)," ","Právní forma"," ",OFFSET(List1!G$4,tisk!A69,0)," ","IČO ",OFFSET(List1!H$4,tisk!A69,0)," ","B.Ú. ",OFFSET(List1!I$4,tisk!A69,0))) -> Okres Prostějov Právní forma Obec, m. č. hl. m. Prahy IČO 00288365 B.Ú. anonymizováno | D71: =IF(B70="","",OFFSET(List1!L$4,tisk!A69,0)) -> Absolvování kurzu na získání řidičského oprávnění skupiny C u dvou členů jednotky je důležité z důvodu zajištění zastupitelnosti členů v jednotce SDH a zabezpečení její akceschopnost.
A72: =ROW()/3-1 -> 23 | C72: =IF(B70="","",CONCATENATE("Zástupce"," ",OFFSET(List1!J$4,tisk!A69,0))) -> Zástupce | D72: =IF(B70="","",CONCATENATE("Dotace bude použita na:",OFFSET(List1!M$4,tisk!A69,0))) -> Dotace bude použita na:b) získání řidičského oprávnění skupiny C pro 2 členy JSDH | F72: =IF(B70="","",OFFSET(List1!P$4,tisk!A69,0)) -> 6/2021
B73: =IF(OFFSET(List1!A$4,tisk!A72,0)>0,OFFSET(List1!A$4,tisk!A72,0),"") -> 20 | C73: =IF(B73="","",CONCATENATE(OFFSET(List1!B$4,tisk!A72,0)," ",OFFSET(List1!C$4,tisk!A72,0)," ",OFFSET(List1!D$4,tisk!A72,0)," ",OFFSET(List1!E$4,tisk!A72,0))) -> Obec Lipová-lázně Lipová -lázně 396 Lipová-lázně 79061 | D73: =IF(B73="","",OFFSET(List1!K$4,tisk!A72,0)) -> Zajištění akceschopnosti pro JSDH Lipová - lázně | E73: =IF(B73="","",OFFSET(List1!N$4,tisk!A72,0)) -> 14000 | F73: =IF(B73="","",OFFSET(List1!O$4,tisk!A72,0)) -> 1/2020 | G73: =IF(B73="","",OFFSET(List1!Q$4,tisk!A72,0)) -> 14000 | H73: =IF(B73="","",OFFSET(List1!R$4,tisk!A72,0)) -> 44393 | I73: =IF(B73="","",OFFSET(List1!S$4,tisk!A72,0)) -> 50 | J73: =IF(B73="","",OFFSET(List1!T$4,tisk!A72,0)) -> 50 | K73: =IF(B73="","",OFFSET(List1!U$4,tisk!A72,0)) -> 100 | L73: =IF(B73="","",OFFSET(List1!V$4,tisk!A72,0)) -> 200 | M73: =IF(B73="","",OFFSET(List1!W$4,tisk!A72,0)) -> 14000
C74: =IF(B73="","",CONCATENATE("Okres ",OFFSET(List1!F$4,tisk!A72,0)," ","Právní forma"," ",OFFSET(List1!G$4,tisk!A72,0)," ","IČO ",OFFSET(List1!H$4,tisk!A72,0)," ","B.Ú. ",OFFSET(List1!I$4,tisk!A72,0))) -> Okres Jeseník Právní forma Obec, m. č. hl. m. Prahy IČO 00302929 B.Ú. anonymizováno | D74: =IF(B73="","",OFFSET(List1!L$4,tisk!A72,0)) -> Doplnění počtu strojníků v JPO III Lipová -lázně
A75: =ROW()/3-1 -> 24 | C75: =IF(B73="","",CONCATENATE("Zástupce"," ",OFFSET(List1!J$4,tisk!A72,0))) -> Zástupce | D75: =IF(B73="","",CONCATENATE("Dotace bude použita na:",OFFSET(List1!M$4,tisk!A72,0))) -> Dotace bude použita na:c) získání řidičského oprávnění skupiny C pro 1 člena JSDH obce a zároveň absolvování kurzu bezpečné jízdy | F75: =IF(B73="","",OFFSET(List1!P$4,tisk!A72,0)) -> 6/2021
B76: =IF(OFFSET(List1!A$4,tisk!A75,0)>0,OFFSET(List1!A$4,tisk!A75,0),"") -> 8 | C76: =IF(B76="","",CONCATENATE(OFFSET(List1!B$4,tisk!A75,0)," ",OFFSET(List1!C$4,tisk!A75,0)," ",OFFSET(List1!D$4,tisk!A75,0)," ",OFFSET(List1!E$4,tisk!A75,0))) -> Obec Loučná nad Desnou Loučná nad Desnou 57 Loučná nad Desnou 78811 | D76: =IF(B76="","",OFFSET(List1!K$4,tisk!A75,0)) -> Zajištění akceschopnosti pro JSDH Loučná nad Desnou | E76: =IF(B76="","",OFFSET(List1!N$4,tisk!A75,0)) -> 20000 | F76: =IF(B76="","",OFFSET(List1!O$4,tisk!A75,0)) -> 1/2020 | G76: =IF(B76="","",OFFSET(List1!Q$4,tisk!A75,0)) -> 14000 | H76: =IF(B76="","",OFFSET(List1!R$4,tisk!A75,0)) -> 44393 | I76: =IF(B76="","",OFFSET(List1!S$4,tisk!A75,0)) -> 50 | J76: =IF(B76="","",OFFSET(List1!T$4,tisk!A75,0)) -> 50 | K76: =IF(B76="","",OFFSET(List1!U$4,tisk!A75,0)) -> 100 | L76: =IF(B76="","",OFFSET(List1!V$4,tisk!A75,0)) -> 200 | M76: =IF(B76="","",OFFSET(List1!W$4,tisk!A75,0)) -> 14000
C77: =IF(B76="","",CONCATENATE("Okres ",OFFSET(List1!F$4,tisk!A75,0)," ","Právní forma"," ",OFFSET(List1!G$4,tisk!A75,0)," ","IČO ",OFFSET(List1!H$4,tisk!A75,0)," ","B.Ú. ",OFFSET(List1!I$4,tisk!A75,0))) -> Okres Šumperk Právní forma Obec, m. č. hl. m. Prahy IČO 00302953 B.Ú. anonymizováno | D77: =IF(B76="","",OFFSET(List1!L$4,tisk!A75,0)) -> Záměrem je zajištění provozuschopnosti a akceschopnosti jednotky sboru dobrovolných hasičů. Jednotka potřebuje zvýšit počet strojníků v jednotce z důvodu zvyšujícího se množství zásahů (vichřice, silný vítr - pády stromů,dopravní nehody).
A78: =ROW()/3-1 -> 25 | C78: =IF(B76="","",CONCATENATE("Zástupce"," ",OFFSET(List1!J$4,tisk!A75,0))) -> Zástupce | D78: =IF(B76="","",CONCATENATE("Dotace bude použita na:",OFFSET(List1!M$4,tisk!A75,0))) -> Dotace bude použita na:c) získání řidičského oprávnění skupiny C pro 1 člena JSDH obce a zároveň absolvování kurzu bezpečné jízdy | F78: =IF(B76="","",OFFSET(List1!P$4,tisk!A75,0)) -> 6/2021
B79: =IF(OFFSET(List1!A$4,tisk!A78,0)>0,OFFSET(List1!A$4,tisk!A78,0),"") -> 32 | C79: =IF(B79="","",CONCATENATE(OFFSET(List1!B$4,tisk!A78,0)," ",OFFSET(List1!C$4,tisk!A78,0)," ",OFFSET(List1!D$4,tisk!A78,0)," ",OFFSET(List1!E$4,tisk!A78,0))) -> Obec Olšany u Prostějova Olšany u Prostějova 50 Olšany u Prostějova 79814 | D79: =IF(B79="","",OFFSET(List1!K$4,tisk!A78,0)) -> Zajištění akceschopnosti pro JSDH Olšany u Prostějova | E79: =IF(B79="","",OFFSET(List1!N$4,tisk!A78,0)) -> 20000 | F79: =IF(B79="","",OFFSET(List1!O$4,tisk!A78,0)) -> 1/2020 | G79: =IF(B79="","",OFFSET(List1!Q$4,tisk!A78,0)) -> 10000 | H79: =IF(B79="","",OFFSET(List1!R$4,tisk!A78,0)) -> 44393 | I79: =IF(B79="","",OFFSET(List1!S$4,tisk!A78,0)) -> 100 | J79: =IF(B79="","",OFFSET(List1!T$4,tisk!A78,0)) -> 50 | K79: =IF(B79="","",OFFSET(List1!U$4,tisk!A78,0)) -> 50 | L79: =IF(B79="","",OFFSET(List1!V$4,tisk!A78,0)) -> 200 | M79: =IF(B79="","",OFFSET(List1!W$4,tisk!A78,0)) -> 10000
C80: =IF(B79="","",CONCATENATE("Okres ",OFFSET(List1!F$4,tisk!A78,0)," ","Právní forma"," ",OFFSET(List1!G$4,tisk!A78,0)," ","IČO ",OFFSET(List1!H$4,tisk!A78,0)," ","B.Ú. ",OFFSET(List1!I$4,tisk!A78,0))) -> Okres Prostějov Právní forma Obec, m. č. hl. m. Prahy IČO 00288560 B.Ú. anonymizováno | D80: =IF(B79="","",OFFSET(List1!L$4,tisk!A78,0)) -> získání řidičského oprávnění skupiny C pro dva členy JSDH Olšany u Prostějova zařazené v kategorii JPO III
A81: =ROW()/3-1 -> 26 | C81: =IF(B79="","",CONCATENATE("Zástupce"," ",OFFSET(List1!J$4,tisk!A78,0))) -> Zástupce | D81: =IF(B79="","",CONCATENATE("Dotace bude použita na:",OFFSET(List1!M$4,tisk!A78,0))) -> Dotace bude použita na:b) získání řidičského oprávnění skupiny C pro 2 členy JSDH | F81: =IF(B79="","",OFFSET(List1!P$4,tisk!A78,0)) -> 6/2021
B82: =IF(OFFSET(List1!A$4,tisk!A81,0)>0,OFFSET(List1!A$4,tisk!A81,0),"") -> 4 | C82: =IF(B82="","",CONCATENATE(OFFSET(List1!B$4,tisk!A81,0)," ",OFFSET(List1!C$4,tisk!A81,0)," ",OFFSET(List1!D$4,tisk!A81,0)," ",OFFSET(List1!E$4,tisk!A81,0))) -> Obec Osek nad Bečvou Osek nad Bečvou 65 Osek nad Bečvou 75122 | D82: =IF(B82="","",OFFSET(List1!K$4,tisk!A81,0)) -> Zajištění akceschopnosti pro JSDH Osek nad Bečvou | E82: =IF(B82="","",OFFSET(List1!N$4,tisk!A81,0)) -> 22000 | F82: =IF(B82="","",OFFSET(List1!O$4,tisk!A81,0)) -> 1/2020 | G82: =IF(B82="","",OFFSET(List1!Q$4,tisk!A81,0)) -> 10000 | H82: =IF(B82="","",OFFSET(List1!R$4,tisk!A81,0)) -> 44393 | I82: =IF(B82="","",OFFSET(List1!S$4,tisk!A81,0)) -> 100 | J82: =IF(B82="","",OFFSET(List1!T$4,tisk!A81,0)) -> 50 | K82: =IF(B82="","",OFFSET(List1!U$4,tisk!A81,0)) -> 50 | L82: =IF(B82="","",OFFSET(List1!V$4,tisk!A81,0)) -> 200 | M82: =IF(B82="","",OFFSET(List1!W$4,tisk!A81,0)) -> 10000
C83: =IF(B82="","",CONCATENATE("Okres ",OFFSET(List1!F$4,tisk!A81,0)," ","Právní forma"," ",OFFSET(List1!G$4,tisk!A81,0)," ","IČO ",OFFSET(List1!H$4,tisk!A81,0)," ","B.Ú. ",OFFSET(List1!I$4,tisk!A81,0))) -> Okres Přerov Právní forma Obec, m. č. hl. m. Prahy IČO 00301680 B.Ú. anonymizováno | D83: =IF(B82="","",OFFSET(List1!L$4,tisk!A81,0)) -> 1x získání řidičského oprávnění skupiny C pro člena JSDH Osek nad Bečvou
A84: =ROW()/3-1 -> 27 | C84: =IF(B82="","",CONCATENATE("Zástupce"," ",OFFSET(List1!J$4,tisk!A81,0))) -> Zástupce | D84: =IF(B82="","",CONCATENATE("Dotace bude použita na:",OFFSET(List1!M$4,tisk!A81,0))) -> Dotace bude použita na:a) získání řidičského oprávnění skupiny C pro 1 člena JSDH | F84: =IF(B82="","",OFFSET(List1!P$4,tisk!A81,0)) -> 6/2021
B85: =IF(OFFSET(List1!A$4,tisk!A84,0)>0,OFFSET(List1!A$4,tisk!A84,0),"") -> 34 | C85: =IF(B85="","",CONCATENATE(OFFSET(List1!B$4,tisk!A84,0)," ",OFFSET(List1!C$4,tisk!A84,0)," ",OFFSET(List1!D$4,tisk!A84,0)," ",OFFSET(List1!E$4,tisk!A84,0))) -> Město Plumlov Rudé armády 302 Plumlov 79803 | D85: =IF(B85="","",OFFSET(List1!K$4,tisk!A84,0)) -> Zajištění akceschopnosti pro JSDH Plumlov | E85: =IF(B85="","",OFFSET(List1!N$4,tisk!A84,0)) -> 32000 | F85: =IF(B85="","",OFFSET(List1!O$4,tisk!A84,0)) -> 1/2020 | G85: =IF(B85="","",OFFSET(List1!Q$4,tisk!A84,0)) -> 20000 | H85: =IF(B85="","",OFFSET(List1!R$4,tisk!A84,0)) -> 44393 | I85: =IF(B85="","",OFFSET(List1!S$4,tisk!A84,0)) -> 100 | J85: =IF(B85="","",OFFSET(List1!T$4,tisk!A84,0)) -> 50 | K85: =IF(B85="","",OFFSET(List1!U$4,tisk!A84,0)) -> 50 | L85: =IF(B85="","",OFFSET(List1!V$4,tisk!A84,0)) -> 200 | M85: =IF(B85="","",OFFSET(List1!W$4,tisk!A84,0)) -> 20000
C86: =IF(B85="","",CONCATENATE("Okres ",OFFSET(List1!F$4,tisk!A84,0)," ","Právní forma"," ",OFFSET(List1!G$4,tisk!A84,0)," ","IČO ",OFFSET(List1!H$4,tisk!A84,0)," ","B.Ú. ",OFFSET(List1!I$4,tisk!A84,0))) -> Okres Prostějov Právní forma Obec, m. č. hl. m. Prahy IČO 00288632 B.Ú. anonymizováno | D86: =IF(B85="","",OFFSET(List1!L$4,tisk!A84,0)) -> JSDH Plumlov - získání řidičského oprávnění skupiny C pro 2 členy
A87: =ROW()/3-1 -> 28 | C87: =IF(B85="","",CONCATENATE("Zástupce"," ",OFFSET(List1!J$4,tisk!A84,0))) -> Zástupce | D87: =IF(B85="","",CONCATENATE("Dotace bude použita na:",OFFSET(List1!M$4,tisk!A84,0))) -> Dotace bude použita na:b) získání řidičského oprávnění skupiny C pro 2 členy JSDH | F87: =IF(B85="","",OFFSET(List1!P$4,tisk!A84,0)) -> 6/2021
B88: =IF(OFFSET(List1!A$4,tisk!A87,0)>0,OFFSET(List1!A$4,tisk!A87,0),"") -> 10 | C88: =IF(B88="","",CONCATENATE(OFFSET(List1!B$4,tisk!A87,0)," ",OFFSET(List1!C$4,tisk!A87,0)," ",OFFSET(List1!D$4,tisk!A87,0)," ",OFFSET(List1!E$4,tisk!A87,0))) -> Obec Stará Červená Voda Stará Červená Voda 204 Stará Červená Voda 79053 | D88: =IF(B88="","",OFFSET(List1!K$4,tisk!A87,0)) -> Zajištění akceschopnosti pro JSDH Stará Červená Voda | E88: =IF(B88="","",OFFSET(List1!N$4,tisk!A87,0)) -> 17000 | F88: =IF(B88="","",OFFSET(List1!O$4,tisk!A87,0)) -> 1/2020 | G88: =IF(B88="","",OFFSET(List1!Q$4,tisk!A87,0)) -> 10000 | H88: =IF(B88="","",OFFSET(List1!R$4,tisk!A87,0)) -> 44393 | I88: =IF(B88="","",OFFSET(List1!S$4,tisk!A87,0)) -> 100 | J88: =IF(B88="","",OFFSET(List1!T$4,tisk!A87,0)) -> 50 | K88: =IF(B88="","",OFFSET(List1!U$4,tisk!A87,0)) -> 50 | L88: =IF(B88="","",OFFSET(List1!V$4,tisk!A87,0)) -> 200 | M88: =IF(B88="","",OFFSET(List1!W$4,tisk!A87,0)) -> 10000
C89: =IF(B88="","",CONCATENATE("Okres ",OFFSET(List1!F$4,tisk!A87,0)," ","Právní forma"," ",OFFSET(List1!G$4,tisk!A87,0)," ","IČO ",OFFSET(List1!H$4,tisk!A87,0)," ","B.Ú. ",OFFSET(List1!I$4,tisk!A87,0))) -> Okres Jeseník Právní forma Obec, m. č. hl. m. Prahy IČO 00303356 B.Ú. anonymizováno | D89: =IF(B88="","",OFFSET(List1!L$4,tisk!A87,0)) -> Potřeba dalšího řidiče s oprávněním sk. C.
A90: =ROW()/3-1 -> 29 | C90: =IF(B88="","",CONCATENATE("Zástupce"," ",OFFSET(List1!J$4,tisk!A87,0))) -> Zástupce | D90: =IF(B88="","",CONCATENATE("Dotace bude použita na:",OFFSET(List1!M$4,tisk!A87,0))) -> Dotace bude použita na:a) získání řidičského oprávnění skupiny C pro 1 člena JSDH | F90: =IF(B88="","",OFFSET(List1!P$4,tisk!A87,0)) -> 6/2021
B91: =IF(OFFSET(List1!A$4,tisk!A90,0)>0,OFFSET(List1!A$4,tisk!A90,0),"") -> 21 | C91: =IF(B91="","",CONCATENATE(OFFSET(List1!B$4,tisk!A90,0)," ",OFFSET(List1!C$4,tisk!A90,0)," ",OFFSET(List1!D$4,tisk!A90,0)," ",OFFSET(List1!E$4,tisk!A90,0))) -> Obec Střítež nad Ludinou Střítež nad Ludinou 122 Střítež nad Ludinou 75363 | D91: =IF(B91="","",OFFSET(List1!K$4,tisk!A90,0)) -> Zajištění akceschopnosti pro JSDH Střítež nad Ludinou | E91: =IF(B91="","",OFFSET(List1!N$4,tisk!A90,0)) -> 18000 | F91: =IF(B91="","",OFFSET(List1!O$4,tisk!A90,0)) -> 1/2020 | G91: =IF(B91="","",OFFSET(List1!Q$4,tisk!A90,0)) -> 10000 | H91: =IF(B91="","",OFFSET(List1!R$4,tisk!A90,0)) -> 44393 | I91: =IF(B91="","",OFFSET(List1!S$4,tisk!A90,0)) -> 100 | J91: =IF(B91="","",OFFSET(List1!T$4,tisk!A90,0)) -> 50 | K91: =IF(B91="","",OFFSET(List1!U$4,tisk!A90,0)) -> 50 | L91: =IF(B91="","",OFFSET(List1!V$4,tisk!A90,0)) -> 200 | M91: =IF(B91="","",OFFSET(List1!W$4,tisk!A90,0)) -> 10000
C92: =IF(B91="","",CONCATENATE("Okres ",OFFSET(List1!F$4,tisk!A90,0)," ","Právní forma"," ",OFFSET(List1!G$4,tisk!A90,0)," ","IČO ",OFFSET(List1!H$4,tisk!A90,0)," ","B.Ú. ",OFFSET(List1!I$4,tisk!A90,0))) -> Okres Přerov Právní forma Obec, m. č. hl. m. Prahy IČO 00302023 B.Ú. anonymizováno | D92: =IF(B91="","",OFFSET(List1!L$4,tisk!A90,0)) -> Zajištění akceschopnosti JSDH obcí Olomouckého kraje - podpora při získání řidičského oprávnění skupiny C
A93: =ROW()/3-1 -> 30 | C93: =IF(B91="","",CONCATENATE("Zástupce"," ",OFFSET(List1!J$4,tisk!A90,0))) -> Zástupce | D93: =IF(B91="","",CONCATENATE("Dotace bude použita na:",OFFSET(List1!M$4,tisk!A90,0))) -> Dotace bude použita na:a) získání řidičského oprávnění skupiny C pro 1 člena JSDH | F93: =IF(B91="","",OFFSET(List1!P$4,tisk!A90,0)) -> 6/2021
B94: =IF(OFFSET(List1!A$4,tisk!A93,0)>0,OFFSET(List1!A$4,tisk!A93,0),"") -> 25 | C94: =IF(B94="","",CONCATENATE(OFFSET(List1!B$4,tisk!A93,0)," ",OFFSET(List1!C$4,tisk!A93,0)," ",OFFSET(List1!D$4,tisk!A93,0)," ",OFFSET(List1!E$4,tisk!A93,0))) -> Město Jeseník Masarykovo nám. 167/1 Jeseník 79001 | D94: =IF(B94="","",OFFSET(List1!K$4,tisk!A93,0)) -> Zajištění akceschopnosti pro JSDH Jeseník | E94: =IF(B94="","",OFFSET(List1!N$4,tisk!A93,0)) -> 7800 | F94: =IF(B94="","",OFFSET(List1!O$4,tisk!A93,0)) -> 1/2020 | G94: =IF(B94="","",OFFSET(List1!Q$4,tisk!A93,0)) -> 7800 | H94: =IF(B94="","",OFFSET(List1!R$4,tisk!A93,0)) -> 44393 | I94: =IF(B94="","",OFFSET(List1!S$4,tisk!A93,0)) -> 30 | J94: =IF(B94="","",OFFSET(List1!T$4,tisk!A93,0)) -> 50 | K94: =IF(B94="","",OFFSET(List1!U$4,tisk!A93,0)) -> 100 | L94: =IF(B94="","",OFFSET(List1!V$4,tisk!A93,0)) -> 180 | M94: =IF(B94="","",OFFSET(List1!W$4,tisk!A93,0)) -> 7800
C95: =IF(B94="","",CONCATENATE("Okres ",OFFSET(List1!F$4,tisk!A93,0)," ","Právní forma"," ",OFFSET(List1!G$4,tisk!A93,0)," ","IČO ",OFFSET(List1!H$4,tisk!A93,0)," ","B.Ú. ",OFFSET(List1!I$4,tisk!A93,0))) -> Okres Jeseník Právní forma Obec, m. č. hl. m. Prahy IČO 00302724 B.Ú. anonymizováno | D95: =IF(B94="","",OFFSET(List1!L$4,tisk!A93,0)) -> Zkvalitnění akceschopnosti jednotky a zvýšení bezpečnosti členů jednotky sboru dobrovolných hasičů při jízdách k zásahům.
A96: =ROW()/3-1 -> 31 | C96: =IF(B94="","",CONCATENATE("Zástupce"," ",OFFSET(List1!J$4,tisk!A93,0))) -> Zástupce | D96: =IF(B94="","",CONCATENATE("Dotace bude použita na:",OFFSET(List1!M$4,tisk!A93,0))) -> Dotace bude použita na:f) absolvování kurzu bezpečné jízdy pro 2 členy JSDH obce | F96: =IF(B94="","",OFFSET(List1!P$4,tisk!A93,0)) -> 6/2021
B97: =IF(OFFSET(List1!A$4,tisk!A96,0)>0,OFFSET(List1!A$4,tisk!A96,0),"") -> 30 | C97: =IF(B97="","",CONCATENATE(OFFSET(List1!B$4,tisk!A96,0)," ",OFFSET(List1!C$4,tisk!A96,0)," ",OFFSET(List1!D$4,tisk!A96,0)," ",OFFSET(List1!E$4,tisk!A96,0))) -> Obec Lukavice Lukavice 47 Lukavice 78901 | D97: =IF(B97="","",OFFSET(List1!K$4,tisk!A96,0)) -> Zajištění akceschopnosti pro JSDH Lukavice | E97: =IF(B97="","",OFFSET(List1!N$4,tisk!A96,0)) -> 16335 | F97: =IF(B97="","",OFFSET(List1!O$4,tisk!A96,0)) -> 1/2020 | G97: =IF(B97="","",OFFSET(List1!Q$4,tisk!A96,0)) -> 12000 | H97: =IF(B97="","",OFFSET(List1!R$4,tisk!A96,0)) -> 44393 | I97: =IF(B97="","",OFFSET(List1!S$4,tisk!A96,0)) -> 30 | J97: =IF(B97="","",OFFSET(List1!T$4,tisk!A96,0)) -> 50 | K97: =IF(B97="","",OFFSET(List1!U$4,tisk!A96,0)) -> 100 | L97: =IF(B97="","",OFFSET(List1!V$4,tisk!A96,0)) -> 180 | M97: =IF(B97="","",OFFSET(List1!W$4,tisk!A96,0)) -> 12000
C98: =IF(B97="","",CONCATENATE("Okres ",OFFSET(List1!F$4,tisk!A96,0)," ","Právní forma"," ",OFFSET(List1!G$4,tisk!A96,0)," ","IČO ",OFFSET(List1!H$4,tisk!A96,0)," ","B.Ú. ",OFFSET(List1!I$4,tisk!A96,0))) -> Okres Šumperk Právní forma Obec, m. č. hl. m. Prahy IČO 00302961 B.Ú. anonymizováno | D98: =IF(B97="","",OFFSET(List1!L$4,tisk!A96,0)) -> Kurz bezpečné jízdy pro členy - řidiče JSDH Lukavice. Zdokonalení řidičských schopností a dovedností.
A99: =ROW()/3-1 -> 32 | C99: =IF(B97="","",CONCATENATE("Zástupce"," ",OFFSET(List1!J$4,tisk!A96,0))) -> Zástupce | D99: =IF(B97="","",CONCATENATE("Dotace bude použita na:",OFFSET(List1!M$4,tisk!A96,0))) -> Dotace bude použita na:g) absolvování kurzu bezpečné jízdy pro 3 členy JSDH obce | F99: =IF(B97="","",OFFSET(List1!P$4,tisk!A96,0)) -> 6/2021
B100: =IF(OFFSET(List1!A$4,tisk!A99,0)>0,OFFSET(List1!A$4,tisk!A99,0),"") -> 3 | C100: =IF(B100="","",CONCATENATE(OFFSET(List1!B$4,tisk!A99,0)," ",OFFSET(List1!C$4,tisk!A99,0)," ",OFFSET(List1!D$4,tisk!A99,0)," ",OFFSET(List1!E$4,tisk!A99,0))) -> Obec Lutín Školní 203 Lutín 78349 | D100: =IF(B100="","",OFFSET(List1!K$4,tisk!A99,0)) -> Zajištění akceschopnosti pro JSDH Třebčín | E100: =IF(B100="","",OFFSET(List1!N$4,tisk!A99,0)) -> 16000 | F100: =IF(B100="","",OFFSET(List1!O$4,tisk!A99,0)) -> 1/2020 | G100: =IF(B100="","",OFFSET(List1!Q$4,tisk!A99,0)) -> 16000 | H100: =IF(B100="","",OFFSET(List1!R$4,tisk!A99,0)) -> 44393 | I100: =IF(B100="","",OFFSET(List1!S$4,tisk!A99,0)) -> 30 | J100: =IF(B100="","",OFFSET(List1!T$4,tisk!A99,0)) -> 50 | K100: =IF(B100="","",OFFSET(List1!U$4,tisk!A99,0)) -> 100 | L100: =IF(B100="","",OFFSET(List1!V$4,tisk!A99,0)) -> 180 | M100: =IF(B100="","",OFFSET(List1!W$4,tisk!A99,0)) -> 16000
...
