Workbook
Name DZACATEK: List1!$N$1
Name FZACATEK: List1!$Q$1
Name LZACATEK: List1!$W$1

Sheet List1
B8: P.č. z VFP | C8: Žadatel | L8: Název akce/projektu | M8: Popis akce/projektu | N8: Účel použití dotace na akci/projekt a jeho cíl | O8: Celkové náklady realizované akce/projektu | P8: Termín akce/realizace projektu | R8: Požadovaná částka z rozpočtu OK | S8: Termín vyúčtování dotace | T8: Bodové hodnocení | X8: Návrh
C9: Sídlo | T9: A | U9: B | V9: C | W9: Celkem | X9: kráceno na rozpočet
C10: Název | D10: Ulice | E10: Obec | F10: PSČ | G10: Okres | H10: Právní forma | I10: IČ | J10: Bankovní účet | K10: Zastoupení | O10: =SUM(O11:O262) -> 25275910 | P10: od | Q10: do | R10: =SUM(R11:R262) -> 12224800 | V10: návrh | X10: =SUM(X11:X262) -> 9978200
B11: 177 | C11: Město Kostelec na Hané | D11: Jakubské náměstí 138 | E11: Kostelec na Hané | F11: 79841 | G11: Prostějov | H11: Obec, m. č. hl. m. Prahy | I11: 00288373 | J11: anonymizováno | L11: Pořízení, technické zhodnocení a oprava požární techniky a nákup věcného vybavení pro JSDH Kostelec na Hané | M11: Oprava CAS 16 Praga NTS 265 (PVA 16-50), nutná oprava zadní nápravy. | N11: opravu cisternové automobilové stříkačky | O11: 109000 | P11: 1/2020 | Q11: 11/2020 | R11: 54500 | S11: 44176 | T11: 160 | U11: 200 | V11: 200 | W11: =SUM(T11:V11) -> 560 | X11: 54500
B12: 208 | C12: Obec Libina | D12: Libina 523 | E12: Libina | F12: 78805 | G12: Šumperk | H12: Obec, m. č. hl. m. Prahy | I12: 00302899 | J12: anonymizováno | L12: Pořízení, technické zhodnocení a oprava požární techniky a nákup věcného vybavení pro JSDH obce Libina | M12: Oprava cisternové stříkačky TATRA 815 CAS využívané pro potřeby JSDH obce Libina při výjezdech. | N12: opravu cisternové stříkačky | O12: 447700 | P12: 1/2020 | Q12: 11/2020 | R12: 200000 | S12: 44176 | T12: 160 | U12: 200 | V12: 200 | W12: =SUM(T12:V12) -> 560 | X12: 200000
B13: 210 | C13: Obec Rozstání | D13: Rozstání 77 | E13: Rozstání | F13: 79862 | G13: Prostějov | H13: Obec, m. č. hl. m. Prahy | I13: 00288721 | J13: anonymizováno | L13: Pořízení, technické zhodnocení a oprava požární techniky a nákup věcného vybavení pro JSDH Rozstání | M13: Při likvidaci požáru v lese byl poškozen motor zásahového vozidla Ford o vyčnívající pařez, proto je třeba jej opravit. | N13: opravu dopravního automobilu | O13: 96000 | P13: 1/2020 | Q13: 11/2020 | R13: 48000 | S13: 44176 | T13: 180 | U13: 170 | V13: 200 | W13: =SUM(T13:V13) -> 550 | X13: 44800
B14: 247 | C14: Obec Huzová | D14: Huzová 131 | E14: Huzová | F14: 79351 | G14: Olomouc | H14: Obec, m. č. hl. m. Prahy | I14: 00296040 | J14: anonymizováno | L14: Pořízení, technické zhodnocení a oprava požární techniky a nákup věcného vybavení pro JSDH Huzová | M14: Cílem akce je pořízení nových dýchacích přístrojů | N14: pořízení dýchacích přístrojů, tlakových lahví ocelových, obalů na lahve a vyváděcích masek | O14: 139837 | P14: 1/2020 | Q14: 11/2020 | R14: 69900 | S14: 44176 | T14: 180 | U14: 160 | V14: 200 | W14: =SUM(T14:V14) -> 540 | X14: 65200
B15: 161 | C15: Městys Nezamyslice | D15: Tjabinova 111 | E15: Nezamyslice | F15: 79826 | G15: Prostějov | H15: Obec, m. č. hl. m. Prahy | I15: 00288501 | J15: anonymizováno | L15: Pořízení, technické zhodnocení a oprava požární techniky a nákup věcného vybavení pro JSDH Nezamyslice | M15: Projekt je zaměřen na zdokonalení akceschopnosti zásahové jednotky. V roce 2016 pořízená CAS SCANIA bude technicky zhodnocena doplněním sanační lišty, využitelné zejména při odstraňování živelných pohrom jak v Nezamyslicích, tak i v okolních obcích. | N15: technické zhodnocení cisternové automobilové stříkačky - koupě sanační lišty investiční dotace | O15: 79000 | P15: 1/2020 | Q15: 11/2020 | R15: 39000 | S15: 44176 | T15: 160 | U15: 180 | V15: 200 | W15: =SUM(T15:V15) -> 540 | X15: 36400
B16: 179 | C16: Obec Bohuňovice | D16: 6. května 109 | E16: Bohuňovice | F16: 78314 | G16: Olomouc | H16: Obec, m. č. hl. m. Prahy | I16: 00298697 | J16: anonymizováno | L16: Pořízení, technické zhodnocení a oprava požární techniky a nákup věcného vybavení pro JSDH Bohuňovice | M16: Pořízení osobních ochranných prostředků | N16: pořízení obuvi pro hasiče, přileb pro hasiče, rukavic pro hasiče a zásahových oděvů | O16: 159000 | P16: 1/2020 | Q16: 11/2020 | R16: 79500 | S16: 44176 | T16: 160 | U16: 175 | V16: 200 | W16: =SUM(T16:V16) -> 535 | X16: 74100
B17: 105 | C17: Obec Domašov nad Bystřicí | D17: Náměstí 35 | E17: Domašov nad Bystřicí | F17: 78306 | G17: Olomouc | H17: Obec, m. č. hl. m. Prahy | I17: 00298824 | J17: anonymizováno | L17: Pořízení, technické zhodnocení a oprava požární techniky a nákup věcného vybavení pro JSDH Domašov nad Bystřicí | M17: OP jsou již značně poškozené a neplní ochrannou funkci (seprané, roztrhané, propálené, nevyhovující velikosti). | N17: pořízení ochranných prostředkůdo pro hasiče | O17: 102000 | P17: 1/2020 | Q17: 11/2020 | R17: 51000 | S17: 44176 | T17: 180 | U17: 155 | V17: 200 | W17: =SUM(T17:V17) -> 535 | X17: 47600
B18: 63 | C18: Obec Hlubočky | D18: Olomoucká 17 | E18: Hlubočky | F18: 78361 | G18: Olomouc | H18: Obec, m. č. hl. m. Prahy | I18: 00298891 | J18: anonymizováno | L18: Pořízení, technické zhodnocení a oprava požární techniky a nákup věcného vybavení pro JSDH Hlubočky | M18: Záměr: Dovybavit jednotku SDH - JPO II Hlubočky novými zásahovými obleky v počtu 5 kusů. Obměna starých zásahových obleků za nové. | N18: pořízení ochranných prostředků pro hasiče | O18: 126000 | P18: 1/2020 | Q18: 11/2020 | R18: 63000 | S18: 44176 | T18: 160 | U18: 175 | V18: 200 | W18: =SUM(T18:V18) -> 535 | X18: 58700
B19: 146 | C19: Město Němčice nad Hanou | D19: Palackého nám. 3 | E19: Němčice nad Hanou | F19: 79827 | G19: Prostějov | H19: Obec, m. č. hl. m. Prahy | I19: 00288497 | J19: anonymizováno | L19: Pořízení, technické zhodnocení a oprava požární techniky a nákup věcného vybavení pro JSDH Němčice nad Hanou | M19: Dotace bude využita na pořízení ochranných prostředků, jako např. boty, oblek, rukavice, pracovní oblek, osobní svítilna a další. | N19: pořízení ochranných prostředků | O19: 120000 | P19: 1/2020 | Q19: 11/2020 | R19: 60000 | S19: 44176 | T19: 160 | U19: 175 | V19: 200 | W19: =SUM(T19:V19) -> 535 | X19: 56000
B20: 91 | C20: Město Štíty | D20: nám. Míru 55 | E20: Štíty | F20: 78991 | G20: Šumperk | H20: Obec, m. č. hl. m. Prahy | I20: 00303453 | J20: anonymizováno | L20: Pořízení, technické zhodnocení a oprava požární techniky a nákup věcného vybavení pro JSDH Štíty | M20: Zajištění osobních ochranných prostředků pro členy zásahové jednotky | N20: pořízení ochranných prostředků pro hasiče | O20: 158000 | P20: 1/2020 | Q20: 11/2020 | R20: 79000 | S20: 44176 | T20: 160 | U20: 175 | V20: 200 | W20: =SUM(T20:V20) -> 535 | X20: 73700
B21: 19 | C21: Obec Velké Losiny | D21: Rudé armády 321 | E21: Velké Losiny | F21: 78815 | G21: Šumperk | H21: Obec, m. č. hl. m. Prahy | I21: 00303551 | J21: anonymizováno | L21: Pořízení, technické zhodnocení a oprava požární techniky a nákup věcného vybavení pro JSDH Velké Losiny | M21: Zajištění akceschopnosti jednotky pořízením nových ochranných prostředků z důvodu jejich opotřebení a uplynutí jejich stanovené životnosti. | N21: pořízení ochranných prostředků pro hasiče | O21: 430000 | P21: 1/2020 | Q21: 11/2020 | R21: 200000 | S21: 44176 | T21: 160 | U21: 175 | V21: 200 | W21: =SUM(T21:V21) -> 535 | X21: 186500
B22: 214 | C22: Městys Dub nad Moravou | D22: Brodecká 1 | E22: Dub nad Moravou | F22: 78375 | G22: Olomouc | H22: Obec, m. č. hl. m. Prahy | I22: 00298867 | J22: anonymizováno | L22: Pořízení, technické zhodnocení a oprava požární techniky a nákup věcného vybavení pro JSDH Dub nad Moravou | M22: Jedná se o nákup hydraulického nástroje (nůžek), které budou sloužit k zásahům při dopravních nehodách, k jejichž likvidaci je naše JPO II předurčena. | N22: pořízení nůžek k hydraulickému vyprošťovacímu zařízení investiční dotace | O22: 80000 | P22: 1/2020 | Q22: 11/2020 | R22: 40000 | S22: 44176 | T22: 160 | U22: 165 | V22: 200 | W22: =SUM(T22:V22) -> 525 | X22: 37300
... B262: 128 | C262: Statutární město Olomouc | D262: Horní náměstí 583 | E262: Olomouc | F262: 77900 | G262: Olomouc | H262: Obec, m. č. hl. m. Prahy | I262: 00299308 | J262: anonymizováno | L262: Pořízení, technické zhodnocení a oprava požární techniky a nákup věcného vybavení pro JSDH Topolany | M262: Pořízení prostředků k mechanickému odvětrávání kouře a horkých plynů při požáru vč. příslušenství pro zajištění akceschopnosti JSDH Topolany. | N262: pořízení prostředků k mechanickému odvětrávání kouře a horkých plynů při požáru včetně příslušenství | O262: 40000 | P262: 1/2020 | Q262: 11/2020 | R262: 35000 | S262: 44176 | T262: 30 | U262: 105 | V262: 2 | W262: =SUM(T262:V262) -> 137 | X262: 0

Sheet tisk
B1: Poř. č. z VFP | C1: Žadatel | D1: Název akce/činnosti | E1: Celkové předpokládané výdaje realizované akce/činnosti | F1: Termín akce/ realizace činnosti OD - DO | G1: Požadovaná částka z rozpočtu OK | H1: Termín vyúčtování dotace | I1: Bodové hodnocení | M1: Návrh
D2: Stručný popis akce/činnosti | I2: A | J2: B | K2: C | L2: Celkem
D3: Účel použití dotace na akci/činnost | G3: =SUM(G4:G759) -> 12224800 | K3: návrh | M3: =SUM(M4:M759) -> 9978200
B4: =IF(OFFSET(List1!B$11,tisk!A3,0)>0,OFFSET(List1!B$11,tisk!A3,0),"") -> 177 | C4: =IF(B4="","",CONCATENATE(OFFSET(List1!C$11,tisk!A3,0)," ",OFFSET(List1!D$11,tisk!A3,0)," ",OFFSET(List1!E$11,tisk!A3,0)," ",OFFSET(List1!F$11,tisk!A3,0))) -> Město Kostelec na Hané Jakubské náměstí 138 Kostelec na Hané 79841 | D4: =IF(B4="","",OFFSET(List1!L$11,tisk!A3,0)) -> Pořízení, technické zhodnocení a oprava požární techniky a nákup věcného vybavení pro JSDH Kostelec na Hané | E4: =IF(B4="","",OFFSET(List1!O$11,tisk!A3,0)) -> 109000 | F4: =IF(B4="","",OFFSET(List1!P$11,tisk!A3,0)) -> 1/2020 | G4: =IF(B4="","",OFFSET(List1!R$11,tisk!A3,0)) -> 54500 | H4: =IF(B4="","",OFFSET(List1!S$11,tisk!A3,0)) -> 44176 | I4: =IF(B4="","",OFFSET(List1!T$11,tisk!A3,0)) -> 160 | J4: =IF(B4="","",OFFSET(List1!U$11,tisk!A3,0)) -> 200 | K4: =IF(B4="","",OFFSET(List1!V$11,tisk!A3,0)) -> 200 | L4: =IF(B4="","",OFFSET(List1!W$11,tisk!A3,0)) -> 560 | M4: =IF(B4="","",OFFSET(List1!X$11,tisk!A3,0)) -> 54500
C5: =IF(B4="","",CONCATENATE("Okres ",OFFSET(List1!G$11,tisk!A3,0)," ","Právní forma"," ",OFFSET(List1!H$11,tisk!A3,0)," ","IČO ",OFFSET(List1!I$11,tisk!A3,0)," ","B.Ú. ",OFFSET(List1!J$11,tisk!A3,0))) -> Okres Prostějov Právní forma Obec, m. č. hl. m. Prahy IČO 00288373 B.Ú. anonymizováno | D5: =IF(B4="","",OFFSET(List1!M$11,tisk!A3,0)) -> Oprava CAS 16 Praga NTS 265 (PVA 16-50), nutná oprava zadní nápravy.
A6: =ROW()/3-1 -> 1 | C6: =IF(B4="","",CONCATENATE("Zástupce"," ",OFFSET(List1!K$11,tisk!A3,0))) -> Zástupce | D6: =IF(B4="","",CONCATENATE("Dotace bude použita na:"," ",OFFSET(List1!N$11,tisk!A3,0))) -> Dotace bude použita na: opravu cisternové automobilové stříkačky | F6: =IF(B4="","",OFFSET(List1!Q$11,tisk!A3,0)) -> 11/2020
B7: =IF(OFFSET(List1!B$11,tisk!A6,0)>0,OFFSET(List1!B$11,tisk!A6,0),"") -> 208 | C7: =IF(B7="","",CONCATENATE(OFFSET(List1!C$11,tisk!A6,0)," ",OFFSET(List1!D$11,tisk!A6,0)," ",OFFSET(List1!E$11,tisk!A6,0)," ",OFFSET(List1!F$11,tisk!A6,0))) -> Obec Libina Libina 523 Libina 78805 | D7: =IF(B7="","",OFFSET(List1!L$11,tisk!A6,0)) -> Pořízení, technické zhodnocení a oprava požární techniky a nákup věcného vybavení pro JSDH obce Libina | E7: =IF(B7="","",OFFSET(List1!O$11,tisk!A6,0)) -> 447700 | F7: =IF(B7="","",OFFSET(List1!P$11,tisk!A6,0)) -> 1/2020 | G7: =IF(B7="","",OFFSET(List1!R$11,tisk!A6,0)) -> 200000 | H7: =IF(B7="","",OFFSET(List1!S$11,tisk!A6,0)) -> 44176 | I7: =IF(B7="","",OFFSET(List1!T$11,tisk!A6,0)) -> 160 | J7: =IF(B7="","",OFFSET(List1!U$11,tisk!A6,0)) -> 200 | K7: =IF(B7="","",OFFSET(List1!V$11,tisk!A6,0)) -> 200 | L7: =IF(B7="","",OFFSET(List1!W$11,tisk!A6,0)) -> 560 | M7: =IF(B7="","",OFFSET(List1!X$11,tisk!A6,0)) -> 200000
C8: =IF(B7="","",CONCATENATE("Okres ",OFFSET(List1!G$11,tisk!A6,0)," ","Právní forma"," ",OFFSET(List1!H$11,tisk!A6,0)," ","IČO ",OFFSET(List1!I$11,tisk!A6,0)," ","B.Ú. ",OFFSET(List1!J$11,tisk!A6,0))) -> Okres Šumperk Právní forma Obec, m. č. hl. m. Prahy IČO 00302899 B.Ú. anonymizováno | D8: =IF(B7="","",OFFSET(List1!M$11,tisk!A6,0)) -> Oprava cisternové stříkačky TATRA 815 CAS využívané pro potřeby JSDH obce Libina při výjezdech.
A9: =ROW()/3-1 -> 2 | C9: =IF(B7="","",CONCATENATE("Zástupce"," ",OFFSET(List1!K$11,tisk!A6,0))) -> Zástupce | D9: =IF(B7="","",CONCATENATE("Dotace bude použita na:",OFFSET(List1!N$11,tisk!A6,0))) -> Dotace bude použita na:opravu cisternové stříkačky | F9: =IF(B7="","",OFFSET(List1!Q$11,tisk!A6,0)) -> 11/2020
B10: =IF(OFFSET(List1!B$11,tisk!A9,0)>0,OFFSET(List1!B$11,tisk!A9,0),"") -> 210 | C10: =IF(B10="","",CONCATENATE(OFFSET(List1!C$11,tisk!A9,0)," ",OFFSET(List1!D$11,tisk!A9,0)," ",OFFSET(List1!E$11,tisk!A9,0)," ",OFFSET(List1!F$11,tisk!A9,0))) -> Obec Rozstání Rozstání 77 Rozstání 79862 | D10: =IF(B10="","",OFFSET(List1!L$11,tisk!A9,0)) -> Pořízení, technické zhodnocení a oprava požární techniky a nákup věcného vybavení pro JSDH Rozstání | E10: =IF(B10="","",OFFSET(List1!O$11,tisk!A9,0)) -> 96000 | F10: =IF(B10="","",OFFSET(List1!P$11,tisk!A9,0)) -> 1/2020 | G10: =IF(B10="","",OFFSET(List1!R$11,tisk!A9,0)) -> 48000 | H10: =IF(B10="","",OFFSET(List1!S$11,tisk!A9,0)) -> 44176 | I10: =IF(B10="","",OFFSET(List1!T$11,tisk!A9,0)) -> 180 | J10: =IF(B10="","",OFFSET(List1!U$11,tisk!A9,0)) -> 170 | K10: =IF(B10="","",OFFSET(List1!V$11,tisk!A9,0)) -> 200 | L10: =IF(B10="","",OFFSET(List1!W$11,tisk!A9,0)) -> 550 | M10: =IF(B10="","",OFFSET(List1!X$11,tisk!A9,0)) -> 44800
C11: =IF(B10="","",CONCATENATE("Okres ",OFFSET(List1!G$11,tisk!A9,0)," ","Právní forma"," ",OFFSET(List1!H$11,tisk!A9,0)," ","IČO ",OFFSET(List1!I$11,tisk!A9,0)," ","B.Ú. ",OFFSET(List1!J$11,tisk!A9,0))) -> Okres Prostějov Právní forma Obec, m. č. hl. m. Prahy IČO 00288721 B.Ú. anonymizováno | D11: =IF(B10="","",OFFSET(List1!M$11,tisk!A9,0)) -> Při likvidaci požáru v lese byl poškozen motor zásahového vozidla Ford o vyčnívající pařez, proto je třeba jej opravit.
A12: =ROW()/3-1 -> 3 | C12: =IF(B10="","",CONCATENATE("Zástupce"," ",OFFSET(List1!K$11,tisk!A9,0))) -> Zástupce | D12: =IF(B10="","",CONCATENATE("Dotace bude použita na:",OFFSET(List1!N$11,tisk!A9,0))) -> Dotace bude použita na:opravu dopravního automobilu | F12: =IF(B10="","",OFFSET(List1!Q$11,tisk!A9,0)) -> 11/2020
B13: =IF(OFFSET(List1!B$11,tisk!A12,0)>0,OFFSET(List1!B$11,tisk!A12,0),"") -> 247 | C13: =IF(B13="","",CONCATENATE(OFFSET(List1!C$11,tisk!A12,0)," ",OFFSET(List1!D$11,tisk!A12,0)," ",OFFSET(List1!E$11,tisk!A12,0)," ",OFFSET(List1!F$11,tisk!A12,0))) -> Obec Huzová Huzová 131 Huzová 79351 | D13: =IF(B13="","",OFFSET(List1!L$11,tisk!A12,0)) -> Pořízení, technické zhodnocení a oprava požární techniky a nákup věcného vybavení pro JSDH Huzová | E13: =IF(B13="","",OFFSET(List1!O$11,tisk!A12,0)) -> 139837 | F13: =IF(B13="","",OFFSET(List1!P$11,tisk!A12,0)) -> 1/2020 | G13: =IF(B13="","",OFFSET(List1!R$11,tisk!A12,0)) -> 69900 | H13: =IF(B13="","",OFFSET(List1!S$11,tisk!A12,0)) -> 44176 | I13: =IF(B13="","",OFFSET(List1!T$11,tisk!A12,0)) -> 180 | J13: =IF(B13="","",OFFSET(List1!U$11,tisk!A12,0)) -> 160 | K13: =IF(B13="","",OFFSET(List1!V$11,tisk!A12,0)) -> 200 | L13: =IF(B13="","",OFFSET(List1!W$11,tisk!A12,0)) -> 540 | M13: =IF(B13="","",OFFSET(List1!X$11,tisk!A12,0)) -> 65200
C14: =IF(B13="","",CONCATENATE("Okres ",OFFSET(List1!G$11,tisk!A12,0)," ","Právní forma"," ",OFFSET(List1!H$11,tisk!A12,0)," ","IČO ",OFFSET(List1!I$11,tisk!A12,0)," ","B.Ú. ",OFFSET(List1!J$11,tisk!A12,0))) -> Okres Olomouc Právní forma Obec, m. č. hl. m. Prahy IČO 00296040 B.Ú. anonymizováno | D14: =IF(B13="","",OFFSET(List1!M$11,tisk!A12,0)) -> Cílem akce je pořízení nových dýchacích přístrojů
A15: =ROW()/3-1 -> 4 | C15: =IF(B13="","",CONCATENATE("Zástupce"," ",OFFSET(List1!K$11,tisk!A12,0))) -> Zástupce | D15: =IF(B13="","",CONCATENATE("Dotace bude použita na:",OFFSET(List1!N$11,tisk!A12,0))) -> Dotace bude použita na:pořízení dýchacích přístrojů, tlakových lahví ocelových, obalů na lahve a vyváděcích masek | F15: =IF(B13="","",OFFSET(List1!Q$11,tisk!A12,0)) -> 11/2020
B16: =IF(OFFSET(List1!B$11,tisk!A15,0)>0,OFFSET(List1!B$11,tisk!A15,0),"") -> 161 | C16: =IF(B16="","",CONCATENATE(OFFSET(List1!C$11,tisk!A15,0)," ",OFFSET(List1!D$11,tisk!A15,0)," ",OFFSET(List1!E$11,tisk!A15,0)," ",OFFSET(List1!F$11,tisk!A15,0))) -> Městys Nezamyslice Tjabinova 111 Nezamyslice 79826 | D16: =IF(B16="","",OFFSET(List1!L$11,tisk!A15,0)) -> Pořízení, technické zhodnocení a oprava požární techniky a nákup věcného vybavení pro JSDH Nezamyslice | E16: =IF(B16="","",OFFSET(List1!O$11,tisk!A15,0)) -> 79000 | F16: =IF(B16="","",OFFSET(List1!P$11,tisk!A15,0)) -> 1/2020 | G16: =IF(B16="","",OFFSET(List1!R$11,tisk!A15,0)) -> 39000 | H16: =IF(B16="","",OFFSET(List1!S$11,tisk!A15,0)) -> 44176 | I16: =IF(B16="","",OFFSET(List1!T$11,tisk!A15,0)) -> 160 | J16: =IF(B16="","",OFFSET(List1!U$11,tisk!A15,0)) -> 180 | K16: =IF(B16="","",OFFSET(List1!V$11,tisk!A15,0)) -> 200 | L16: =IF(B16="","",OFFSET(List1!W$11,tisk!A15,0)) -> 540 | M16: =IF(B16="","",OFFSET(List1!X$11,tisk!A15,0)) -> 36400
C17: =IF(B16="","",CONCATENATE("Okres ",OFFSET(List1!G$11,tisk!A15,0)," ","Právní forma"," ",OFFSET(List1!H$11,tisk!A15,0)," ","IČO ",OFFSET(List1!I$11,tisk!A15,0)," ","B.Ú. ",OFFSET(List1!J$11,tisk!A15,0))) -> Okres Prostějov Právní forma Obec, m. č. hl. m. Prahy IČO 00288501 B.Ú. anonymizováno | D17: =IF(B16="","",OFFSET(List1!M$11,tisk!A15,0)) -> Projekt je zaměřen na zdokonalení akceschopnosti zásahové jednotky. V roce 2016 pořízená CAS SCANIA bude technicky zhodnocena doplněním sanační lišty, využitelné zejména při odstraňování živelných pohrom jak v Nezamyslicích, tak i v okolních obcích.
A18: =ROW()/3-1 -> 5 | C18: =IF(B16="","",CONCATENATE("Zástupce"," ",OFFSET(List1!K$11,tisk!A15,0))) -> Zástupce | D18: =IF(B16="","",CONCATENATE("Dotace bude použita na:",OFFSET(List1!N$11,tisk!A15,0))) -> Dotace bude použita na:technické zhodnocení cisternové automobilové stříkačky - koupě sanační lišty investiční dotace | F18: =IF(B16="","",OFFSET(List1!Q$11,tisk!A15,0)) -> 11/2020
B19: =IF(OFFSET(List1!B$11,tisk!A18,0)>0,OFFSET(List1!B$11,tisk!A18,0),"") -> 179 | C19: =IF(B19="","",CONCATENATE(OFFSET(List1!C$11,tisk!A18,0)," ",OFFSET(List1!D$11,tisk!A18,0)," ",OFFSET(List1!E$11,tisk!A18,0)," ",OFFSET(List1!F$11,tisk!A18,0))) -> Obec Bohuňovice 6. května 109 Bohuňovice 78314 | D19: =IF(B19="","",OFFSET(List1!L$11,tisk!A18,0)) -> Pořízení, technické zhodnocení a oprava požární techniky a nákup věcného vybavení pro JSDH Bohuňovice | E19: =IF(B19="","",OFFSET(List1!O$11,tisk!A18,0)) -> 159000 | F19: =IF(B19="","",OFFSET(List1!P$11,tisk!A18,0)) -> 1/2020 | G19: =IF(B19="","",OFFSET(List1!R$11,tisk!A18,0)) -> 79500 | H19: =IF(B19="","",OFFSET(List1!S$11,tisk!A18,0)) -> 44176 | I19: =IF(B19="","",OFFSET(List1!T$11,tisk!A18,0)) -> 160 | J19: =IF(B19="","",OFFSET(List1!U$11,tisk!A18,0)) -> 175 | K19: =IF(B19="","",OFFSET(List1!V$11,tisk!A18,0)) -> 200 | L19: =IF(B19="","",OFFSET(List1!W$11,tisk!A18,0)) -> 535 | M19: =IF(B19="","",OFFSET(List1!X$11,tisk!A18,0)) -> 74100
C20: =IF(B19="","",CONCATENATE("Okres ",OFFSET(List1!G$11,tisk!A18,0)," ","Právní forma"," ",OFFSET(List1!H$11,tisk!A18,0)," ","IČO ",OFFSET(List1!I$11,tisk!A18,0)," ","B.Ú. ",OFFSET(List1!J$11,tisk!A18,0))) -> Okres Olomouc Právní forma Obec, m. č. hl. m. Prahy IČO 00298697 B.Ú. anonymizováno | D20: =IF(B19="","",OFFSET(List1!M$11,tisk!A18,0)) -> Pořízení osobních ochranných prostředků
A21: =ROW()/3-1 -> 6 | C21: =IF(B19="","",CONCATENATE("Zástupce"," ",OFFSET(List1!K$11,tisk!A18,0))) -> Zástupce | D21: =IF(B19="","",CONCATENATE("Dotace bude použita na:",OFFSET(List1!N$11,tisk!A18,0))) -> Dotace bude použita na:pořízení obuvi pro hasiče, přileb pro hasiče, rukavic pro hasiče a zásahových oděvů | F21: =IF(B19="","",OFFSET(List1!Q$11,tisk!A18,0)) -> 11/2020
B22: =IF(OFFSET(List1!B$11,tisk!A21,0)>0,OFFSET(List1!B$11,tisk!A21,0),"") -> 105 | C22: =IF(B22="","",CONCATENATE(OFFSET(List1!C$11,tisk!A21,0)," ",OFFSET(List1!D$11,tisk!A21,0)," ",OFFSET(List1!E$11,tisk!A21,0)," ",OFFSET(List1!F$11,tisk!A21,0))) -> Obec Domašov nad Bystřicí Náměstí 35 Domašov nad Bystřicí 78306 | D22: =IF(B22="","",OFFSET(List1!L$11,tisk!A21,0)) -> Pořízení, technické zhodnocení a oprava požární techniky a nákup věcného vybavení pro JSDH Domašov nad Bystřicí | E22: =IF(B22="","",OFFSET(List1!O$11,tisk!A21,0)) -> 102000 | F22: =IF(B22="","",OFFSET(List1!P$11,tisk!A21,0)) -> 1/2020 | G22: =IF(B22="","",OFFSET(List1!R$11,tisk!A21,0)) -> 51000 | H22: =IF(B22="","",OFFSET(List1!S$11,tisk!A21,0)) -> 44176 | I22: =IF(B22="","",OFFSET(List1!T$11,tisk!A21,0)) -> 180 | J22: =IF(B22="","",OFFSET(List1!U$11,tisk!A21,0)) -> 155 | K22: =IF(B22="","",OFFSET(List1!V$11,tisk!A21,0)) -> 200 | L22: =IF(B22="","",OFFSET(List1!W$11,tisk!A21,0)) -> 535 | M22: =IF(B22="","",OFFSET(List1!X$11,tisk!A21,0)) -> 47600
C23: =IF(B22="","",CONCATENATE("Okres ",OFFSET(List1!G$11,tisk!A21,0)," ","Právní forma"," ",OFFSET(List1!H$11,tisk!A21,0)," ","IČO ",OFFSET(List1!I$11,tisk!A21,0)," ","B.Ú. ",OFFSET(List1!J$11,tisk!A21,0))) -> Okres Olomouc Právní forma Obec, m. č. hl. m. Prahy IČO 00298824 B.Ú. anonymizováno | D23: =IF(B22="","",OFFSET(List1!M$11,tisk!A21,0)) -> OP jsou již značně poškozené a neplní ochrannou funkci (seprané, roztrhané, propálené, nevyhovující velikosti).
A24: =ROW()/3-1 -> 7 | C24: =IF(B22="","",CONCATENATE("Zástupce"," ",OFFSET(List1!K$11,tisk!A21,0))) -> Zástupce | D24: =IF(B22="","",CONCATENATE("Dotace bude použita na:",OFFSET(List1!N$11,tisk!A21,0))) -> Dotace bude použita na:pořízení ochranných prostředkůdo pro hasiče | F24: =IF(B22="","",OFFSET(List1!Q$11,tisk!A21,0)) -> 11/2020
B25: =IF(OFFSET(List1!B$11,tisk!A24,0)>0,OFFSET(List1!B$11,tisk!A24,0),"") -> 63 | C25: =IF(B25="","",CONCATENATE(OFFSET(List1!C$11,tisk!A24,0)," ",OFFSET(List1!D$11,tisk!A24,0)," ",OFFSET(List1!E$11,tisk!A24,0)," ",OFFSET(List1!F$11,tisk!A24,0))) -> Obec Hlubočky Olomoucká 17 Hlubočky 78361 | D25: =IF(B25="","",OFFSET(List1!L$11,tisk!A24,0)) -> Pořízení, technické zhodnocení a oprava požární techniky a nákup věcného vybavení pro JSDH Hlubočky | E25: =IF(B25="","",OFFSET(List1!O$11,tisk!A24,0)) -> 126000 | F25: =IF(B25="","",OFFSET(List1!P$11,tisk!A24,0)) -> 1/2020 | G25: =IF(B25="","",OFFSET(List1!R$11,tisk!A24,0)) -> 63000 | H25: =IF(B25="","",OFFSET(List1!S$11,tisk!A24,0)) -> 44176 | I25: =IF(B25="","",OFFSET(List1!T$11,tisk!A24,0)) -> 160 | J25: =IF(B25="","",OFFSET(List1!U$11,tisk!A24,0)) -> 175 | K25: =IF(B25="","",OFFSET(List1!V$11,tisk!A24,0)) -> 200 | L25: =IF(B25="","",OFFSET(List1!W$11,tisk!A24,0)) -> 535 | M25: =IF(B25="","",OFFSET(List1!X$11,tisk!A24,0)) -> 58700
C26: =IF(B25="","",CONCATENATE("Okres ",OFFSET(List1!G$11,tisk!A24,0)," ","Právní forma"," ",OFFSET(List1!H$11,tisk!A24,0)," ","IČO ",OFFSET(List1!I$11,tisk!A24,0)," ","B.Ú. ",OFFSET(List1!J$11,tisk!A24,0))) -> Okres Olomouc Právní forma Obec, m. č. hl. m. Prahy IČO 00298891 B.Ú. anonymizováno | D26: =IF(B25="","",OFFSET(List1!M$11,tisk!A24,0)) -> Záměr: Dovybavit jednotku SDH - JPO II Hlubočky novými zásahovými obleky v počtu 5 kusů. Obměna starých zásahových obleků za nové.
A27: =ROW()/3-1 -> 8 | C27: =IF(B25="","",CONCATENATE("Zástupce"," ",OFFSET(List1!K$11,tisk!A24,0))) -> Zástupce | D27: =IF(B25="","",CONCATENATE("Dotace bude použita na:",OFFSET(List1!N$11,tisk!A24,0))) -> Dotace bude použita na:pořízení ochranných prostředků pro hasiče | F27: =IF(B25="","",OFFSET(List1!Q$11,tisk!A24,0)) -> 11/2020
B28: =IF(OFFSET(List1!B$11,tisk!A27,0)>0,OFFSET(List1!B$11,tisk!A27,0),"") -> 146 | C28: =IF(B28="","",CONCATENATE(OFFSET(List1!C$11,tisk!A27,0)," ",OFFSET(List1!D$11,tisk!A27,0)," ",OFFSET(List1!E$11,tisk!A27,0)," ",OFFSET(List1!F$11,tisk!A27,0))) -> Město Němčice nad Hanou Palackého nám. 3 Němčice nad Hanou 79827 | D28: =IF(B28="","",OFFSET(List1!L$11,tisk!A27,0)) -> Pořízení, technické zhodnocení a oprava požární techniky a nákup věcného vybavení pro JSDH Němčice nad Hanou | E28: =IF(B28="","",OFFSET(List1!O$11,tisk!A27,0)) -> 120000 | F28: =IF(B28="","",OFFSET(List1!P$11,tisk!A27,0)) -> 1/2020 | G28: =IF(B28="","",OFFSET(List1!R$11,tisk!A27,0)) -> 60000 | H28: =IF(B28="","",OFFSET(List1!S$11,tisk!A27,0)) -> 44176 | I28: =IF(B28="","",OFFSET(List1!T$11,tisk!A27,0)) -> 160 | J28: =IF(B28="","",OFFSET(List1!U$11,tisk!A27,0)) -> 175 | K28: =IF(B28="","",OFFSET(List1!V$11,tisk!A27,0)) -> 200 | L28: =IF(B28="","",OFFSET(List1!W$11,tisk!A27,0)) -> 535 | M28: =IF(B28="","",OFFSET(List1!X$11,tisk!A27,0)) -> 56000
C29: =IF(B28="","",CONCATENATE("Okres ",OFFSET(List1!G$11,tisk!A27,0)," ","Právní forma"," ",OFFSET(List1!H$11,tisk!A27,0)," ","IČO ",OFFSET(List1!I$11,tisk!A27,0)," ","B.Ú. ",OFFSET(List1!J$11,tisk!A27,0))) -> Okres Prostějov Právní forma Obec, m. č. hl. m. Prahy IČO 00288497 B.Ú. anonymizováno | D29: =IF(B28="","",OFFSET(List1!M$11,tisk!A27,0)) -> Dotace bude využita na pořízení ochranných prostředků, jako např. boty, oblek, rukavice, pracovní oblek, osobní svítilna a další.
A30: =ROW()/3-1 -> 9 | C30: =IF(B28="","",CONCATENATE("Zástupce"," ",OFFSET(List1!K$11,tisk!A27,0))) -> Zástupce | D30: =IF(B28="","",CONCATENATE("Dotace bude použita na:",OFFSET(List1!N$11,tisk!A27,0))) -> Dotace bude použita na:pořízení ochranných prostředků | F30: =IF(B28="","",OFFSET(List1!Q$11,tisk!A27,0)) -> 11/2020
B31: =IF(OFFSET(List1!B$11,tisk!A30,0)>0,OFFSET(List1!B$11,tisk!A30,0),"") -> 91 | C31: =IF(B31="","",CONCATENATE(OFFSET(List1!C$11,tisk!A30,0)," ",OFFSET(List1!D$11,tisk!A30,0)," ",OFFSET(List1!E$11,tisk!A30,0)," ",OFFSET(List1!F$11,tisk!A30,0))) -> Město Štíty nám. Míru 55 Štíty 78991 | D31: =IF(B31="","",OFFSET(List1!L$11,tisk!A30,0)) -> Pořízení, technické zhodnocení a oprava požární techniky a nákup věcného vybavení pro JSDH Štíty | E31: =IF(B31="","",OFFSET(List1!O$11,tisk!A30,0)) -> 158000 | F31: =IF(B31="","",OFFSET(List1!P$11,tisk!A30,0)) -> 1/2020 | G31: =IF(B31="","",OFFSET(List1!R$11,tisk!A30,0)) -> 79000 | H31: =IF(B31="","",OFFSET(List1!S$11,tisk!A30,0)) -> 44176 | I31: =IF(B31="","",OFFSET(List1!T$11,tisk!A30,0)) -> 160 | J31: =IF(B31="","",OFFSET(List1!U$11,tisk!A30,0)) -> 175 | K31: =IF(B31="","",OFFSET(List1!V$11,tisk!A30,0)) -> 200 | L31: =IF(B31="","",OFFSET(List1!W$11,tisk!A30,0)) -> 535 | M31: =IF(B31="","",OFFSET(List1!X$11,tisk!A30,0)) -> 73700
C32: =IF(B31="","",CONCATENATE("Okres ",OFFSET(List1!G$11,tisk!A30,0)," ","Právní forma"," ",OFFSET(List1!H$11,tisk!A30,0)," ","IČO ",OFFSET(List1!I$11,tisk!A30,0)," ","B.Ú. ",OFFSET(List1!J$11,tisk!A30,0))) -> Okres Šumperk Právní forma Obec, m. č. hl. m. Prahy IČO 00303453 B.Ú. anonymizováno | D32: =IF(B31="","",OFFSET(List1!M$11,tisk!A30,0)) -> Zajištění osobních ochranných prostředků pro členy zásahové jednotky
A33: =ROW()/3-1 -> 10 | C33: =IF(B31="","",CONCATENATE("Zástupce"," ",OFFSET(List1!K$11,tisk!A30,0))) -> Zástupce | D33: =IF(B31="","",CONCATENATE("Dotace bude použita na:",OFFSET(List1!N$11,tisk!A30,0))) -> Dotace bude použita na:pořízení ochranných prostředků pro hasiče | F33: =IF(B31="","",OFFSET(List1!Q$11,tisk!A30,0)) -> 11/2020
B34: =IF(OFFSET(List1!B$11,tisk!A33,0)>0,OFFSET(List1!B$11,tisk!A33,0),"") -> 19 | C34: =IF(B34="","",CONCATENATE(OFFSET(List1!C$11,tisk!A33,0)," ",OFFSET(List1!D$11,tisk!A33,0)," ",OFFSET(List1!E$11,tisk!A33,0)," ",OFFSET(List1!F$11,tisk!A33,0))) -> Obec Velké Losiny Rudé armády 321 Velké Losiny 78815 | D34: =IF(B34="","",OFFSET(List1!L$11,tisk!A33,0)) -> Pořízení, technické zhodnocení a oprava požární techniky a nákup věcného vybavení pro JSDH Velké Losiny | E34: =IF(B34="","",OFFSET(List1!O$11,tisk!A33,0)) -> 430000 | F34: =IF(B34="","",OFFSET(List1!P$11,tisk!A33,0)) -> 1/2020 | G34: =IF(B34="","",OFFSET(List1!R$11,tisk!A33,0)) -> 200000 | H34: =IF(B34="","",OFFSET(List1!S$11,tisk!A33,0)) -> 44176 | I34: =IF(B34="","",OFFSET(List1!T$11,tisk!A33,0)) -> 160 | J34: =IF(B34="","",OFFSET(List1!U$11,tisk!A33,0)) -> 175 | K34: =IF(B34="","",OFFSET(List1!V$11,tisk!A33,0)) -> 200 | L34: =IF(B34="","",OFFSET(List1!W$11,tisk!A33,0)) -> 535 | M34: =IF(B34="","",OFFSET(List1!X$11,tisk!A33,0)) -> 186500
C35: =IF(B34="","",CONCATENATE("Okres ",OFFSET(List1!G$11,tisk!A33,0)," ","Právní forma"," ",OFFSET(List1!H$11,tisk!A33,0)," ","IČO ",OFFSET(List1!I$11,tisk!A33,0)," ","B.Ú. ",OFFSET(List1!J$11,tisk!A33,0))) -> Okres Šumperk Právní forma Obec, m. č. hl. m. Prahy IČO 00303551 B.Ú. anonymizováno | D35: =IF(B34="","",OFFSET(List1!M$11,tisk!A33,0)) -> Zajištění akceschopnosti jednotky pořízením nových ochranných prostředků z důvodu jejich opotřebení a uplynutí jejich stanovené životnosti.
A36: =ROW()/3-1 -> 11 | C36: =IF(B34="","",CONCATENATE("Zástupce"," ",OFFSET(List1!K$11,tisk!A33,0))) -> Zástupce | D36: =IF(B34="","",CONCATENATE("Dotace bude použita na:",OFFSET(List1!N$11,tisk!A33,0))) -> Dotace bude použita na:pořízení ochranných prostředků pro hasiče | F36: =IF(B34="","",OFFSET(List1!Q$11,tisk!A33,0)) -> 11/2020
B37: =IF(OFFSET(List1!B$11,tisk!A36,0)>0,OFFSET(List1!B$11,tisk!A36,0),"") -> 214 | C37: =IF(B37="","",CONCATENATE(OFFSET(List1!C$11,tisk!A36,0)," ",OFFSET(List1!D$11,tisk!A36,0)," ",OFFSET(List1!E$11,tisk!A36,0)," ",OFFSET(List1!F$11,tisk!A36,0))) -> Městys Dub nad Moravou Brodecká 1 Dub nad Moravou 78375 | D37: =IF(B37="","",OFFSET(List1!L$11,tisk!A36,0)) -> Pořízení, technické zhodnocení a oprava požární techniky a nákup věcného vybavení pro JSDH Dub nad Moravou | E37: =IF(B37="","",OFFSET(List1!O$11,tisk!A36,0)) -> 80000 | F37: =IF(B37="","",OFFSET(List1!P$11,tisk!A36,0)) -> 1/2020 | G37: =IF(B37="","",OFFSET(List1!R$11,tisk!A36,0)) -> 40000 | H37: =IF(B37="","",OFFSET(List1!S$11,tisk!A36,0)) -> 44176 | I37: =IF(B37="","",OFFSET(List1!T$11,tisk!A36,0)) -> 160 | J37: =IF(B37="","",OFFSET(List1!U$11,tisk!A36,0)) -> 165 | K37: =IF(B37="","",OFFSET(List1!V$11,tisk!A36,0)) -> 200 | L37: =IF(B37="","",OFFSET(List1!W$11,tisk!A36,0)) -> 525 | M37: =IF(B37="","",OFFSET(List1!X$11,tisk!A36,0)) -> 37300
C38: =IF(B37="","",CONCATENATE("Okres ",OFFSET(List1!G$11,tisk!A36,0)," ","Právní forma"," ",OFFSET(List1!H$11,tisk!A36,0)," ","IČO ",OFFSET(List1!I$11,tisk!A36,0)," ","B.Ú. ",OFFSET(List1!J$11,tisk!A36,0))) -> Okres Olomouc Právní forma Obec, m. č. hl. m. Prahy IČO 00298867 B.Ú. anonymizováno | D38: =IF(B37="","",OFFSET(List1!M$11,tisk!A36,0)) -> Jedná se o nákup hydraulického nástroje (nůžek), které budou sloužit k zásahům při dopravních nehodách, k jejichž likvidaci je naše JPO II předurčena.
A39: =ROW()/3-1 -> 12 | C39: =IF(B37="","",CONCATENATE("Zástupce"," ",OFFSET(List1!K$11,tisk!A36,0))) -> Zástupce | D39: =IF(B37="","",CONCATENATE("Dotace bude použita na:",OFFSET(List1!N$11,tisk!A36,0))) -> Dotace bude použita na:pořízení nůžek k hydraulickému vyprošťovacímu zařízení investiční dotace | F39: =IF(B37="","",OFFSET(List1!Q$11,tisk!A36,0)) -> 11/2020
B40: =IF(OFFSET(List1!B$11,tisk!A39,0)>0,OFFSET(List1!B$11,tisk!A39,0),"") -> 88 | C40: =IF(B40="","",CONCATENATE(OFFSET(List1!C$11,tisk!A39,0)," ",OFFSET(List1!D$11,tisk!A39,0)," ",OFFSET(List1!E$11,tisk!A39,0)," ",OFFSET(List1!F$11,tisk!A39,0))) -> Město Javorník nám. Svobody 134 Javorník 79070 | D40: =IF(B40="","",OFFSET(List1!L$11,tisk!A39,0)) -> Pořízení, technické zhodnocení a oprava požární techniky a nákup věcného vybavení pro JSDH Javorník | E40: =IF(B40="","",OFFSET(List1!O$11,tisk!A39,0)) -> 126000 | F40: =IF(B40="","",OFFSET(List1!P$11,tisk!A39,0)) -> 1/2020 | G40: =IF(B40="","",OFFSET(List1!R$11,tisk!A39,0)) -> 62000 | H40: =IF(B40="","",OFFSET(List1!S$11,tisk!A39,0)) -> 44176 | I40: =IF(B40="","",OFFSET(List1!T$11,tisk!A39,0)) -> 160 | J40: =IF(B40="","",OFFSET(List1!U$11,tisk!A39,0)) -> 165 | K40: =IF(B40="","",OFFSET(List1!V$11,tisk!A39,0)) -> 200 | L40: =IF(B40="","",OFFSET(List1!W$11,tisk!A39,0)) -> 525 | M40: =IF(B40="","",OFFSET(List1!X$11,tisk!A39,0)) -> 57800
C41: =IF(B40="","",CONCATENATE("Okres ",OFFSET(List1!G$11,tisk!A39,0)," ","Právní forma"," ",OFFSET(List1!H$11,tisk!A39,0)," ","IČO ",OFFSET(List1!I$11,tisk!A39,0)," ","B.Ú. ",OFFSET(List1!J$11,tisk!A39,0))) -> Okres Jeseník Právní forma Obec, m. č. hl. m. Prahy IČO 00302708 B.Ú. anonymizováno | D41: =IF(B40="","",OFFSET(List1!M$11,tisk!A39,0)) -> Pořízení termokamery pro hasičské zásahové akce.
A42: =ROW()/3-1 -> 13 | C42: =IF(B40="","",CONCATENATE("Zástupce"," ",OFFSET(List1!K$11,tisk!A39,0))) -> Zástupce | D42: =IF(B40="","",CONCATENATE("Dotace bude použita na:",OFFSET(List1!N$11,tisk!A39,0))) -> Dotace bude použita na:pořízení termokamery pro hasičské zásahové akce investiční dotace | F42: =IF(B40="","",OFFSET(List1!Q$11,tisk!A39,0)) -> 11/2020
B43: =IF(OFFSET(List1!B$11,tisk!A42,0)>0,OFFSET(List1!B$11,tisk!A42,0),"") -> 37 | C43: =IF(B43="","",CONCATENATE(OFFSET(List1!C$11,tisk!A42,0)," ",OFFSET(List1!D$11,tisk!A42,0)," ",OFFSET(List1!E$11,tisk!A42,0)," ",OFFSET(List1!F$11,tisk!A42,0))) -> Městys Náměšť na Hané nám. T. G. Masaryka 100 Náměšť na Hané 78344 | D43: =IF(B43="","",OFFSET(List1!L$11,tisk!A42,0)) -> Pořízení, technické zhodnocení a oprava požární techniky a nákup věcného vybavení pro JSDH Náměšť na Hané | E43: =IF(B43="","",OFFSET(List1!O$11,tisk!A42,0)) -> 158400 | F43: =IF(B43="","",OFFSET(List1!P$11,tisk!A42,0)) -> 1/2020 | G43: =IF(B43="","",OFFSET(List1!R$11,tisk!A42,0)) -> 79200 | H43: =IF(B43="","",OFFSET(List1!S$11,tisk!A42,0)) -> 44176 | I43: =IF(B43="","",OFFSET(List1!T$11,tisk!A42,0)) -> 160 | J43: =IF(B43="","",OFFSET(List1!U$11,tisk!A42,0)) -> 165 | K43: =IF(B43="","",OFFSET(List1!V$11,tisk!A42,0)) -> 200 | L43: =IF(B43="","",OFFSET(List1!W$11,tisk!A42,0)) -> 525 | M43: =IF(B43="","",OFFSET(List1!X$11,tisk!A42,0)) -> 73900
C44: =IF(B43="","",CONCATENATE("Okres ",OFFSET(List1!G$11,tisk!A42,0)," ","Právní forma"," ",OFFSET(List1!H$11,tisk!A42,0)," ","IČO ",OFFSET(List1!I$11,tisk!A42,0)," ","B.Ú. ",OFFSET(List1!J$11,tisk!A42,0))) -> Okres Olomouc Právní forma Obec, m. č. hl. m. Prahy IČO 00299260 B.Ú. anonymizováno | D44: =IF(B43="","",OFFSET(List1!M$11,tisk!A42,0)) -> Při zásazích jednotka potřebuje kvalitní osvětlení, proto městys žádá o dotaci na osvětlovací stativ a náhradní stativ k osvětlovacímu stativu Q-GUAR.
A45: =ROW()/3-1 -> 14 | C45: =IF(B43="","",CONCATENATE("Zástupce"," ",OFFSET(List1!K$11,tisk!A42,0))) -> Zástupce | D45: =IF(B43="","",CONCATENATE("Dotace bude použita na:",OFFSET(List1!N$11,tisk!A42,0))) -> Dotace bude použita na:pořízení osvětlovacího stativu Q-GUAR a náhradního stavivu k osvětlovacímu stativu Q-GUAR investiční dotace | F45: =IF(B43="","",OFFSET(List1!Q$11,tisk!A42,0)) -> 11/2020
B46: =IF(OFFSET(List1!B$11,tisk!A45,0)>0,OFFSET(List1!B$11,tisk!A45,0),"") -> 13 | C46: =IF(B46="","",CONCATENATE(OFFSET(List1!C$11,tisk!A45,0)," ",OFFSET(List1!D$11,tisk!A45,0)," ",OFFSET(List1!E$11,tisk!A45,0)," ",OFFSET(List1!F$11,tisk!A45,0))) -> Městys Dřevohostice Náměstí 74 Dřevohostice 75114 | D46: =IF(B46="","",OFFSET(List1!L$11,tisk!A45,0)) -> Pořízení, technické zhodnocení a oprava požární techniky a nákup věcného vybavení pro JSDH Dřevohostice | E46: =IF(B46="","",OFFSET(List1!O$11,tisk!A45,0)) -> 88723 | F46: =IF(B46="","",OFFSET(List1!P$11,tisk!A45,0)) -> 1/2020 | G46: =IF(B46="","",OFFSET(List1!R$11,tisk!A45,0)) -> 44000 | H46: =IF(B46="","",OFFSET(List1!S$11,tisk!A45,0)) -> 44176 | I46: =IF(B46="","",OFFSET(List1!T$11,tisk!A45,0)) -> 160 | J46: =IF(B46="","",OFFSET(List1!U$11,tisk!A45,0)) -> 160 | K46: =IF(B46="","",OFFSET(List1!V$11,tisk!A45,0)) -> 200 | L46: =IF(B46="","",OFFSET(List1!W$11,tisk!A45,0)) -> 520 | M46: =IF(B46="","",OFFSET(List1!X$11,tisk!A45,0)) -> 41000
C47: =IF(B46="","",CONCATENATE("Okres ",OFFSET(List1!G$11,tisk!A45,0)," ","Právní forma"," ",OFFSET(List1!H$11,tisk!A45,0)," ","IČO ",OFFSET(List1!I$11,tisk!A45,0)," ","B.Ú. ",OFFSET(List1!J$11,tisk!A45,0))) -> Okres Přerov Právní forma Obec, m. č. hl. m. Prahy IČO 00301213 B.Ú. anonymizováno | D47: =IF(B46="","",OFFSET(List1!M$11,tisk!A45,0)) -> Projekt je zaměřen na pořízení dvou nových dýchacích přístrojů s maskou a zásobníkem pro zajištění bezpečnosti zasahujících členů JSDH Dřevohostice.
A48: =ROW()/3-1 -> 15 | C48: =IF(B46="","",CONCATENATE("Zástupce"," ",OFFSET(List1!K$11,tisk!A45,0))) -> Zástupce | D48: =IF(B46="","",CONCATENATE("Dotace bude použita na:",OFFSET(List1!N$11,tisk!A45,0))) -> Dotace bude použita na:pořízení dýchací techniky | F48: =IF(B46="","",OFFSET(List1!Q$11,tisk!A45,0)) -> 11/2020
B49: =IF(OFFSET(List1!B$11,tisk!A48,0)>0,OFFSET(List1!B$11,tisk!A48,0),"") -> 83 | C49: =IF(B49="","",CONCATENATE(OFFSET(List1!C$11,tisk!A48,0)," ",OFFSET(List1!D$11,tisk!A48,0)," ",OFFSET(List1!E$11,tisk!A48,0)," ",OFFSET(List1!F$11,tisk!A48,0))) -> Obec Horní Moštěnice Dr. A. Stojana 120/41 Horní Moštěnice 75117 | D49: =IF(B49="","",OFFSET(List1!L$11,tisk!A48,0)) -> Pořízení, technické zhodnocení a oprava požární techniky a nákup věcného vybavení pro JSDH Horní Moštěnice | E49: =IF(B49="","",OFFSET(List1!O$11,tisk!A48,0)) -> 280000 | F49: =IF(B49="","",OFFSET(List1!P$11,tisk!A48,0)) -> 1/2020 | G49: =IF(B49="","",OFFSET(List1!R$11,tisk!A48,0)) -> 140000 | H49: =IF(B49="","",OFFSET(List1!S$11,tisk!A48,0)) -> 44176 | I49: =IF(B49="","",OFFSET(List1!T$11,tisk!A48,0)) -> 160 | J49: =IF(B49="","",OFFSET(List1!U$11,tisk!A48,0)) -> 160 | K49: =IF(B49="","",OFFSET(List1!V$11,tisk!A48,0)) -> 200 | L49: =IF(B49="","",OFFSET(List1!W$11,tisk!A48,0)) -> 520 | M49: =IF(B49="","",OFFSET(List1!X$11,tisk!A48,0)) -> 130600
C50: =IF(B49="","",CONCATENATE("Okres ",OFFSET(List1!G$11,tisk!A48,0)," ","Právní forma"," ",OFFSET(List1!H$11,tisk!A48,0)," ","IČO ",OFFSET(List1!I$11,tisk!A48,0)," ","B.Ú. ",OFFSET(List1!J$11,tisk!A48,0))) -> Okres Přerov Právní forma Obec, m. č. hl. m. Prahy IČO 00301264 B.Ú. anonymizováno | D50: =IF(B49="","",OFFSET(List1!M$11,tisk!A48,0)) -> Pořízení dýchacích přístrojů
A51: =ROW()/3-1 -> 16 | C51: =IF(B49="","",CONCATENATE("Zástupce"," ",OFFSET(List1!K$11,tisk!A48,0))) -> Zástupce | D51: =IF(B49="","",CONCATENATE("Dotace bude použita na:",OFFSET(List1!N$11,tisk!A48,0))) -> Dotace bude použita na:pořízení dýchacích přístrojů s maskou investiční dotace | F51: =IF(B49="","",OFFSET(List1!Q$11,tisk!A48,0)) -> 11/2020
B52: =IF(OFFSET(List1!B$11,tisk!A51,0)>0,OFFSET(List1!B$11,tisk!A51,0),"") -> 151 | C52: =IF(B52="","",CONCATENATE(OFFSET(List1!C$11,tisk!A51,0)," ",OFFSET(List1!D$11,tisk!A51,0)," ",OFFSET(List1!E$11,tisk!A51,0)," ",OFFSET(List1!F$11,tisk!A51,0))) -> Město Kojetín Masarykovo náměstí 20 Kojetín 75201 | D52: =IF(B52="","",OFFSET(List1!L$11,tisk!A51,0)) -> Pořízení, technické zhodnocení a oprava požární techniky a nákup věcného vybavení pro JSDH Kojetín | E52: =IF(B52="","",OFFSET(List1!O$11,tisk!A51,0)) -> 90000 | F52: =IF(B52="","",OFFSET(List1!P$11,tisk!A51,0)) -> 1/2020 | G52: =IF(B52="","",OFFSET(List1!R$11,tisk!A51,0)) -> 45000 | H52: =IF(B52="","",OFFSET(List1!S$11,tisk!A51,0)) -> 44176 | I52: =IF(B52="","",OFFSET(List1!T$11,tisk!A51,0)) -> 140 | J52: =IF(B52="","",OFFSET(List1!U$11,tisk!A51,0)) -> 180 | K52: =IF(B52="","",OFFSET(List1!V$11,tisk!A51,0)) -> 200 | L52: =IF(B52="","",OFFSET(List1!W$11,tisk!A51,0)) -> 520 | M52: =IF(B52="","",OFFSET(List1!X$11,tisk!A51,0)) -> 42000
C53: =IF(B52="","",CONCATENATE("Okres ",OFFSET(List1!G$11,tisk!A51,0)," ","Právní forma"," ",OFFSET(List1!H$11,tisk!A51,0)," ","IČO ",OFFSET(List1!I$11,tisk!A51,0)," ","B.Ú. ",OFFSET(List1!J$11,tisk!A51,0))) -> Okres Přerov Právní forma Obec, m. č. hl. m. Prahy IČO 00301370 B.Ú. anonymizováno | D53: =IF(B52="","",OFFSET(List1!M$11,tisk!A51,0)) -> JSDH Kojetín je předurčená k zásahům u dopravních nehod, pořízením navijáku se zvýší akceschopnost jednotky a zhodnotí se cisternová automobilová stříkačka. Standardizace vybavení jednotek PO v Olomouckém kraji.
A54: =ROW()/3-1 -> 17 | C54: =IF(B52="","",CONCATENATE("Zástupce"," ",OFFSET(List1!K$11,tisk!A51,0))) -> Zástupce | D54: =IF(B52="","",CONCATENATE("Dotace bude použita na:",OFFSET(List1!N$11,tisk!A51,0))) -> Dotace bude použita na:pořízení navijáku včetně příslušenství na cisternovou automobilovou stříkačku investiční dotace | F54: =IF(B52="","",OFFSET(List1!Q$11,tisk!A51,0)) -> 11/2020
B55: =IF(OFFSET(List1!B$11,tisk!A54,0)>0,OFFSET(List1!B$11,tisk!A54,0),"") -> 206 | C55: =IF(B55="","",CONCATENATE(OFFSET(List1!C$11,tisk!A54,0)," ",OFFSET(List1!D$11,tisk!A54,0)," ",OFFSET(List1!E$11,tisk!A54,0)," ",OFFSET(List1!F$11,tisk!A54,0))) -> Město Loštice Nám. Míru 66/1 Loštice 78983 | D55: =IF(B55="","",OFFSET(List1!L$11,tisk!A54,0)) -> Pořízení, technické zhodnocení a oprava požární techniky a nákup věcného vybavení pro JSDH Loštice | E55: =IF(B55="","",OFFSET(List1!O$11,tisk!A54,0)) -> 160000 | F55: =IF(B55="","",OFFSET(List1!P$11,tisk!A54,0)) -> 1/2020 | G55: =IF(B55="","",OFFSET(List1!R$11,tisk!A54,0)) -> 80000 | H55: =IF(B55="","",OFFSET(List1!S$11,tisk!A54,0)) -> 44176 | I55: =IF(B55="","",OFFSET(List1!T$11,tisk!A54,0)) -> 160 | J55: =IF(B55="","",OFFSET(List1!U$11,tisk!A54,0)) -> 160 | K55: =IF(B55="","",OFFSET(List1!V$11,tisk!A54,0)) -> 200 | L55: =IF(B55="","",OFFSET(List1!W$11,tisk!A54,0)) -> 520 | M55: =IF(B55="","",OFFSET(List1!X$11,tisk!A54,0)) -> 74600
C56: =IF(B55="","",CONCATENATE("Okres ",OFFSET(List1!G$11,tisk!A54,0)," ","Právní forma"," ",OFFSET(List1!H$11,tisk!A54,0)," ","IČO ",OFFSET(List1!I$11,tisk!A54,0)," ","B.Ú. ",OFFSET(List1!J$11,tisk!A54,0))) -> Okres Šumperk Právní forma Obec, m. č. hl. m. Prahy IČO 00302945 B.Ú. anonymizováno | D56: =IF(B55="","",OFFSET(List1!M$11,tisk!A54,0)) -> Prostředky pro práci na vodní hladině – pořízení nafukovacího člunu s motorem a suchých obleků včetně příslušenství pro práci na vodní hladině.
A57: =ROW()/3-1 -> 18 | C57: =IF(B55="","",CONCATENATE("Zástupce"," ",OFFSET(List1!K$11,tisk!A54,0))) -> Zástupce | D57: =IF(B55="","",CONCATENATE("Dotace bude použita na:",OFFSET(List1!N$11,tisk!A54,0))) -> Dotace bude použita na:pořízení prostředkůl pro práci na vodní hladině investiční dotace ve výši 37.300 Kč a neinvestiční dotace ve výši 37.300 tis. Kč. | F57: =IF(B55="","",OFFSET(List1!Q$11,tisk!A54,0)) -> 11/2020
B58: =IF(OFFSET(List1!B$11,tisk!A57,0)>0,OFFSET(List1!B$11,tisk!A57,0),"") -> 186 | C58: =IF(B58="","",CONCATENATE(OFFSET(List1!C$11,tisk!A57,0)," ",OFFSET(List1!D$11,tisk!A57,0)," ",OFFSET(List1!E$11,tisk!A57,0)," ",OFFSET(List1!F$11,tisk!A57,0))) -> Město Mohelnice U Brány 916/2 Mohelnice 78985 | D58: =IF(B58="","",OFFSET(List1!L$11,tisk!A57,0)) -> Pořízení, technické zhodnocení a oprava požární techniky a nákup věcného vybavení pro JSDH Mohelnice | E58: =IF(B58="","",OFFSET(List1!O$11,tisk!A57,0)) -> 191555.1 | F58: =IF(B58="","",OFFSET(List1!P$11,tisk!A57,0)) -> 1/2020 | G58: =IF(B58="","",OFFSET(List1!R$11,tisk!A57,0)) -> 95700 | H58: =IF(B58="","",OFFSET(List1!S$11,tisk!A57,0)) -> 44176 | I58: =IF(B58="","",OFFSET(List1!T$11,tisk!A57,0)) -> 140 | J58: =IF(B58="","",OFFSET(List1!U$11,tisk!A57,0)) -> 180 | K58: =IF(B58="","",OFFSET(List1!V$11,tisk!A57,0)) -> 200 | L58: =IF(B58="","",OFFSET(List1!W$11,tisk!A57,0)) -> 520 | M58: =IF(B58="","",OFFSET(List1!X$11,tisk!A57,0)) -> 89200
C59: =IF(B58="","",CONCATENATE("Okres ",OFFSET(List1!G$11,tisk!A57,0)," ","Právní forma"," ",OFFSET(List1!H$11,tisk!A57,0)," ","IČO ",OFFSET(List1!I$11,tisk!A57,0)," ","B.Ú. ",OFFSET(List1!J$11,tisk!A57,0))) -> Okres Šumperk Právní forma Obec, m. č. hl. m. Prahy IČO 00303038 B.Ú. anonymizováno | D59: =IF(B58="","",OFFSET(List1!M$11,tisk!A57,0)) -> Nákup vzduchových izolačních přístrojů.
A60: =ROW()/3-1 -> 19 | C60: =IF(B58="","",CONCATENATE("Zástupce"," ",OFFSET(List1!K$11,tisk!A57,0))) -> Zástupce | D60: =IF(B58="","",CONCATENATE("Dotace bude použita na:",OFFSET(List1!N$11,tisk!A57,0))) -> Dotace bude použita na:pořízení vzduchových izolačních dýchacích přístrojů. | F60: =IF(B58="","",OFFSET(List1!Q$11,tisk!A57,0)) -> 11/2020
B61: =IF(OFFSET(List1!B$11,tisk!A60,0)>0,OFFSET(List1!B$11,tisk!A60,0),"") -> 112 | C61: =IF(B61="","",CONCATENATE(OFFSET(List1!C$11,tisk!A60,0)," ",OFFSET(List1!D$11,tisk!A60,0)," ",OFFSET(List1!E$11,tisk!A60,0)," ",OFFSET(List1!F$11,tisk!A60,0))) -> Městys Brodek u Prostějova Císařská 39 Brodek u Prostějova 79807 | D61: =IF(B61="","",OFFSET(List1!L$11,tisk!A60,0)) -> Pořízení, technické zhodnocení a oprava požární techniky a nákup věcného vybavení pro JSDH Brodek u Prostějova | E61: =IF(B61="","",OFFSET(List1!O$11,tisk!A60,0)) -> 289000 | F61: =IF(B61="","",OFFSET(List1!P$11,tisk!A60,0)) -> 1/2020 | G61: =IF(B61="","",OFFSET(List1!R$11,tisk!A60,0)) -> 144500 | H61: =IF(B61="","",OFFSET(List1!S$11,tisk!A60,0)) -> 44176 | I61: =IF(B61="","",OFFSET(List1!T$11,tisk!A60,0)) -> 160 | J61: =IF(B61="","",OFFSET(List1!U$11,tisk!A60,0)) -> 155 | K61: =IF(B61="","",OFFSET(List1!V$11,tisk!A60,0)) -> 200 | L61: =IF(B61="","",OFFSET(List1!W$11,tisk!A60,0)) -> 515 | M61: =IF(B61="","",OFFSET(List1!X$11,tisk!A60,0)) -> 134700
C62: =IF(B61="","",CONCATENATE("Okres ",OFFSET(List1!G$11,tisk!A60,0)," ","Právní forma"," ",OFFSET(List1!H$11,tisk!A60,0)," ","IČO ",OFFSET(List1!I$11,tisk!A60,0)," ","B.Ú. ",OFFSET(List1!J$11,tisk!A60,0))) -> Okres Prostějov Právní forma Obec, m. č. hl. m. Prahy IČO 00288063 B.Ú. anonymizováno | D62: =IF(B61="","",OFFSET(List1!M$11,tisk!A60,0)) -> Pořízení přenosné motorové stříkačky. Z důvodu častých zásahů v lesních porostech k vytvoření stabilního čerpacího stanoviště pro doplňování vody, zároveň příprava na zásobování vodou v období sucha
A63: =ROW()/3-1 -> 20 | C63: =IF(B61="","",CONCATENATE("Zástupce"," ",OFFSET(List1!K$11,tisk!A60,0))) -> Zástupce | D63: =IF(B61="","",CONCATENATE("Dotace bude použita na:",OFFSET(List1!N$11,tisk!A60,0))) -> Dotace bude použita na:pořízení přenosné motorové stříkačky investiční dotace | F63: =IF(B61="","",OFFSET(List1!Q$11,tisk!A60,0)) -> 11/2020
B64: =IF(OFFSET(List1!B$11,tisk!A63,0)>0,OFFSET(List1!B$11,tisk!A63,0),"") -> 148 | C64: =IF(B64="","",CONCATENATE(OFFSET(List1!C$11,tisk!A63,0)," ",OFFSET(List1!D$11,tisk!A63,0)," ",OFFSET(List1!E$11,tisk!A63,0)," ",OFFSET(List1!F$11,tisk!A63,0))) -> Obec Lipová-lázně Lipová -lázně 396 Lipová-lázně 79061 | D64: =IF(B64="","",OFFSET(List1!L$11,tisk!A63,0)) -> Pořízení, technické zhodnocení a oprava požární techniky a nákup věcného vybavení pro JSDH Lipová -lázně | E64: =IF(B64="","",OFFSET(List1!O$11,tisk!A63,0)) -> 103500 | F64: =IF(B64="","",OFFSET(List1!P$11,tisk!A63,0)) -> 1/2020 | G64: =IF(B64="","",OFFSET(List1!R$11,tisk!A63,0)) -> 51000 | H64: =IF(B64="","",OFFSET(List1!S$11,tisk!A63,0)) -> 44176 | I64: =IF(B64="","",OFFSET(List1!T$11,tisk!A63,0)) -> 160 | J64: =IF(B64="","",OFFSET(List1!U$11,tisk!A63,0)) -> 155 | K64: =IF(B64="","",OFFSET(List1!V$11,tisk!A63,0)) -> 200 | L64: =IF(B64="","",OFFSET(List1!W$11,tisk!A63,0)) -> 515 | M64: =IF(B64="","",OFFSET(List1!X$11,tisk!A63,0)) -> 47600
C65: =IF(B64="","",CONCATENATE("Okres ",OFFSET(List1!G$11,tisk!A63,0)," ","Právní forma"," ",OFFSET(List1!H$11,tisk!A63,0)," ","IČO ",OFFSET(List1!I$11,tisk!A63,0)," ","B.Ú. ",OFFSET(List1!J$11,tisk!A63,0))) -> Okres Jeseník Právní forma Obec, m. č. hl. m. Prahy IČO 00302929 B.Ú. anonymizováno | D65: =IF(B64="","",OFFSET(List1!M$11,tisk!A63,0)) -> Nákup ochranných prostředků pro hasiče SDH Lipová -lázně zařazené v JPO III
A66: =ROW()/3-1 -> 21 | C66: =IF(B64="","",CONCATENATE("Zástupce"," ",OFFSET(List1!K$11,tisk!A63,0))) -> Zástupce | D66: =IF(B64="","",CONCATENATE("Dotace bude použita na:",OFFSET(List1!N$11,tisk!A63,0))) -> Dotace bude použita na:pořízení ochranných prostředků pro hasiče | F66: =IF(B64="","",OFFSET(List1!Q$11,tisk!A63,0)) -> 11/2020
B67: =IF(OFFSET(List1!B$11,tisk!A66,0)>0,OFFSET(List1!B$11,tisk!A66,0),"") -> 236 | C67: =IF(B67="","",CONCATENATE(OFFSET(List1!C$11,tisk!A66,0)," ",OFFSET(List1!D$11,tisk!A66,0)," ",OFFSET(List1!E$11,tisk!A66,0)," ",OFFSET(List1!F$11,tisk!A66,0))) -> Obec Olšany u Prostějova Olšany u Prostějova 50 Olšany u Prostějova 79814 | D67: =IF(B67="","",OFFSET(List1!L$11,tisk!A66,0)) -> Pořízení, technické zhodnocení a oprava požární techniky a nákup věcného vybavení pro JSDH Olšany u Prostějova | E67: =IF(B67="","",OFFSET(List1!O$11,tisk!A66,0)) -> 280000 | F67: =IF(B67="","",OFFSET(List1!P$11,tisk!A66,0)) -> 1/2020 | G67: =IF(B67="","",OFFSET(List1!R$11,tisk!A66,0)) -> 140000 | H67: =IF(B67="","",OFFSET(List1!S$11,tisk!A66,0)) -> 44176 | I67: =IF(B67="","",OFFSET(List1!T$11,tisk!A66,0)) -> 160 | J67: =IF(B67="","",OFFSET(List1!U$11,tisk!A66,0)) -> 155 | K67: =IF(B67="","",OFFSET(List1!V$11,tisk!A66,0)) -> 200 | L67: =IF(B67="","",OFFSET(List1!W$11,tisk!A66,0)) -> 515 | M67: =IF(B67="","",OFFSET(List1!X$11,tisk!A66,0)) -> 130600
C68: =IF(B67="","",CONCATENATE("Okres ",OFFSET(List1!G$11,tisk!A66,0)," ","Právní forma"," ",OFFSET(List1!H$11,tisk!A66,0)," ","IČO ",OFFSET(List1!I$11,tisk!A66,0)," ","B.Ú. ",OFFSET(List1!J$11,tisk!A66,0))) -> Okres Prostějov Právní forma Obec, m. č. hl. m. Prahy IČO 00288560 B.Ú. anonymizováno | D68: =IF(B67="","",OFFSET(List1!M$11,tisk!A66,0)) -> pořízení ochranných prostředků pro hasiče
A69: =ROW()/3-1 -> 22 | C69: =IF(B67="","",CONCATENATE("Zástupce"," ",OFFSET(List1!K$11,tisk!A66,0))) -> Zástupce | D69: =IF(B67="","",CONCATENATE("Dotace bude použita na:",OFFSET(List1!N$11,tisk!A66,0))) -> Dotace bude použita na:pořízení třívrstvých zásahových oděvů, zásahových helem, zásahových rukavic a pracovních stejnokrojů nomex | F69: =IF(B67="","",OFFSET(List1!Q$11,tisk!A66,0)) -> 11/2020
B70: =IF(OFFSET(List1!B$11,tisk!A69,0)>0,OFFSET(List1!B$11,tisk!A69,0),"") -> 189 | C70: =IF(B70="","",CONCATENATE(OFFSET(List1!C$11,tisk!A69,0)," ",OFFSET(List1!D$11,tisk!A69,0)," ",OFFSET(List1!E$11,tisk!A69,0)," ",OFFSET(List1!F$11,tisk!A69,0))) -> Obec Troubky Dědina 286/29 Troubky 75102 | D70: =IF(B70="","",OFFSET(List1!L$11,tisk!A69,0)) -> Pořízení, technické zhodnocení a oprava požární techniky a nákup věcného vybavení pro JSDH Troubky | E70: =IF(B70="","",OFFSET(List1!O$11,tisk!A69,0)) -> 85506 | F70: =IF(B70="","",OFFSET(List1!P$11,tisk!A69,0)) -> 1/2020 | G70: =IF(B70="","",OFFSET(List1!R$11,tisk!A69,0)) -> 42000 | H70: =IF(B70="","",OFFSET(List1!S$11,tisk!A69,0)) -> 44176 | I70: =IF(B70="","",OFFSET(List1!T$11,tisk!A69,0)) -> 160 | J70: =IF(B70="","",OFFSET(List1!U$11,tisk!A69,0)) -> 155 | K70: =IF(B70="","",OFFSET(List1!V$11,tisk!A69,0)) -> 200 | L70: =IF(B70="","",OFFSET(List1!W$11,tisk!A69,0)) -> 515 | M70: =IF(B70="","",OFFSET(List1!X$11,tisk!A69,0)) -> 39200
C71: =IF(B70="","",CONCATENATE("Okres ",OFFSET(List1!G$11,tisk!A69,0)," ","Právní forma"," ",OFFSET(List1!H$11,tisk!A69,0)," ","IČO ",OFFSET(List1!I$11,tisk!A69,0)," ","B.Ú. ",OFFSET(List1!J$11,tisk!A69,0))) -> Okres Přerov Právní forma Obec, m. č. hl. m. Prahy IČO 00302104 B.Ú. anonymizováno | D71: =IF(B70="","",OFFSET(List1!M$11,tisk!A69,0)) -> V rámci akce budou pořízeny 2 kompletní zásahové obleky, včetně všeho nezbytného vybavení.
A72: =ROW()/3-1 -> 23 | C72: =IF(B70="","",CONCATENATE("Zástupce"," ",OFFSET(List1!K$11,tisk!A69,0))) -> Zástupce | D72: =IF(B70="","",CONCATENATE("Dotace bude použita na:",OFFSET(List1!N$11,tisk!A69,0))) -> Dotace bude použita na:pořízení vybavení pro JSDH obce Troubky - ochranné prostředky pro hasiče | F72: =IF(B70="","",OFFSET(List1!Q$11,tisk!A69,0)) -> 11/2020
B73: =IF(OFFSET(List1!B$11,tisk!A72,0)>0,OFFSET(List1!B$11,tisk!A72,0),"") -> 17 | C73: =IF(B73="","",CONCATENATE(OFFSET(List1!C$11,tisk!A72,0)," ",OFFSET(List1!D$11,tisk!A72,0)," ",OFFSET(List1!E$11,tisk!A72,0)," ",OFFSET(List1!F$11,tisk!A72,0))) -> Město Lipník nad Bečvou náměstí T. G. Masaryka 89/11 Lipník nad Bečvou 75131 | D73: =IF(B73="","",OFFSET(List1!L$11,tisk!A72,0)) -> Pořízení, technické zhodnocení a oprava požární techniky a nákup věcného vybavení pro JSDH Lipník nad Bečvou | E73: =IF(B73="","",OFFSET(List1!O$11,tisk!A72,0)) -> 200000 | F73: =IF(B73="","",OFFSET(List1!P$11,tisk!A72,0)) -> 1/2020 | G73: =IF(B73="","",OFFSET(List1!R$11,tisk!A72,0)) -> 100000 | H73: =IF(B73="","",OFFSET(List1!S$11,tisk!A72,0)) -> 44176 | I73: =IF(B73="","",OFFSET(List1!T$11,tisk!A72,0)) -> 140 | J73: =IF(B73="","",OFFSET(List1!U$11,tisk!A72,0)) -> 170 | K73: =IF(B73="","",OFFSET(List1!V$11,tisk!A72,0)) -> 200 | L73: =IF(B73="","",OFFSET(List1!W$11,tisk!A72,0)) -> 510 | M73: =IF(B73="","",OFFSET(List1!X$11,tisk!A72,0)) -> 93300
C74: =IF(B73="","",CONCATENATE("Okres ",OFFSET(List1!G$11,tisk!A72,0)," ","Právní forma"," ",OFFSET(List1!H$11,tisk!A72,0)," ","IČO ",OFFSET(List1!I$11,tisk!A72,0)," ","B.Ú. ",OFFSET(List1!J$11,tisk!A72,0))) -> Okres Přerov Právní forma Obec, m. č. hl. m. Prahy IČO 00301493 B.Ú. anonymizováno | D74: =IF(B73="","",OFFSET(List1!M$11,tisk!A72,0)) -> pořízení požárního přívěsu pro hašení s příslušenstvím
A75: =ROW()/3-1 -> 24 | C75: =IF(B73="","",CONCATENATE("Zástupce"," ",OFFSET(List1!K$11,tisk!A72,0))) -> Zástupce | D75: =IF(B73="","",CONCATENATE("Dotace bude použita na:",OFFSET(List1!N$11,tisk!A72,0))) -> Dotace bude použita na:pořízení požárního přívěsu pro hašení s příslušenstvím investiční dotace | F75: =IF(B73="","",OFFSET(List1!Q$11,tisk!A72,0)) -> 11/2020
B76: =IF(OFFSET(List1!B$11,tisk!A75,0)>0,OFFSET(List1!B$11,tisk!A75,0),"") -> 82 | C76: =IF(B76="","",CONCATENATE(OFFSET(List1!C$11,tisk!A75,0)," ",OFFSET(List1!D$11,tisk!A75,0)," ",OFFSET(List1!E$11,tisk!A75,0)," ",OFFSET(List1!F$11,tisk!A75,0))) -> Obec Stará Červená Voda Stará Červená Voda 204 Stará Červená Voda 79053 | D76: =IF(B76="","",OFFSET(List1!L$11,tisk!A75,0)) -> Pořízení, technické zhodnocení a oprava požární techniky a nákup věcného vybavení pro JSDH Stará Červená Voda | E76: =IF(B76="","",OFFSET(List1!O$11,tisk!A75,0)) -> 1549000 | F76: =IF(B76="","",OFFSET(List1!P$11,tisk!A75,0)) -> 1/2020 | G76: =IF(B76="","",OFFSET(List1!R$11,tisk!A75,0)) -> 200000 | H76: =IF(B76="","",OFFSET(List1!S$11,tisk!A75,0)) -> 44176 | I76: =IF(B76="","",OFFSET(List1!T$11,tisk!A75,0)) -> 180 | J76: =IF(B76="","",OFFSET(List1!U$11,tisk!A75,0)) -> 180 | K76: =IF(B76="","",OFFSET(List1!V$11,tisk!A75,0)) -> 150 | L76: =IF(B76="","",OFFSET(List1!W$11,tisk!A75,0)) -> 510 | M76: =IF(B76="","",OFFSET(List1!X$11,tisk!A75,0)) -> 186800
C77: =IF(B76="","",CONCATENATE("Okres ",OFFSET(List1!G$11,tisk!A75,0)," ","Právní forma"," ",OFFSET(List1!H$11,tisk!A75,0)," ","IČO ",OFFSET(List1!I$11,tisk!A75,0)," ","B.Ú. ",OFFSET(List1!J$11,tisk!A75,0))) -> Okres Jeseník Právní forma Obec, m. č. hl. m. Prahy IČO 00303356 B.Ú. anonymizováno | D77: =IF(B76="","",OFFSET(List1!M$11,tisk!A75,0)) -> Nákup nové CAS z důvodu nevyhovujícího technického stavu stávajícího vozidla, jehož stáří je vyšší než 50 let.
A78: =ROW()/3-1 -> 25 | C78: =IF(B76="","",CONCATENATE("Zástupce"," ",OFFSET(List1!K$11,tisk!A75,0))) -> Zástupce | D78: =IF(B76="","",CONCATENATE("Dotace bude použita na:",OFFSET(List1!N$11,tisk!A75,0))) -> Dotace bude použita na:pořízení cisternové automobilové stříkačky investiční dotace | F78: =IF(B76="","",OFFSET(List1!Q$11,tisk!A75,0)) -> 11/2020
B79: =IF(OFFSET(List1!B$11,tisk!A78,0)>0,OFFSET(List1!B$11,tisk!A78,0),"") -> 121 | C79: =IF(B79="","",CONCATENATE(OFFSET(List1!C$11,tisk!A78,0)," ",OFFSET(List1!D$11,tisk!A78,0)," ",OFFSET(List1!E$11,tisk!A78,0)," ",OFFSET(List1!F$11,tisk!A78,0))) -> Obec Veselíčko Veselíčko 68 Veselíčko 75125 | D79: =IF(B79="","",OFFSET(List1!L$11,tisk!A78,0)) -> Pořízení, technické zhodnocení a oprava požární techniky a nákup věcného vybavení pro JSDH Veselíčko | E79: =IF(B79="","",OFFSET(List1!O$11,tisk!A78,0)) -> 85000 | F79: =IF(B79="","",OFFSET(List1!P$11,tisk!A78,0)) -> 1/2020 | G79: =IF(B79="","",OFFSET(List1!R$11,tisk!A78,0)) -> 42500 | H79: =IF(B79="","",OFFSET(List1!S$11,tisk!A78,0)) -> 44176 | I79: =IF(B79="","",OFFSET(List1!T$11,tisk!A78,0)) -> 180 | J79: =IF(B79="","",OFFSET(List1!U$11,tisk!A78,0)) -> 180 | K79: =IF(B79="","",OFFSET(List1!V$11,tisk!A78,0)) -> 150 | L79: =IF(B79="","",OFFSET(List1!W$11,tisk!A78,0)) -> 510 | M79: =IF(B79="","",OFFSET(List1!X$11,tisk!A78,0)) -> 39600
C80: =IF(B79="","",CONCATENATE("Okres ",OFFSET(List1!G$11,tisk!A78,0)," ","Právní forma"," ",OFFSET(List1!H$11,tisk!A78,0)," ","IČO ",OFFSET(List1!I$11,tisk!A78,0)," ","B.Ú. ",OFFSET(List1!J$11,tisk!A78,0))) -> Okres Přerov Právní forma Obec, m. č. hl. m. Prahy IČO 00302198 B.Ú. anonymizováno | D80: =IF(B79="","",OFFSET(List1!M$11,tisk!A78,0)) -> Nákup elektrického navijáku s příslušenstvím na zásahové vozidlo
A81: =ROW()/3-1 -> 26 | C81: =IF(B79="","",CONCATENATE("Zástupce"," ",OFFSET(List1!K$11,tisk!A78,0))) -> Zástupce | D81: =IF(B79="","",CONCATENATE("Dotace bude použita na:",OFFSET(List1!N$11,tisk!A78,0))) -> Dotace bude použita na:pořízení elektronického navijáku s příslušenstvím investiční dotace | F81: =IF(B79="","",OFFSET(List1!Q$11,tisk!A78,0)) -> 11/2020
B82: =IF(OFFSET(List1!B$11,tisk!A81,0)>0,OFFSET(List1!B$11,tisk!A81,0),"") -> 71 | C82: =IF(B82="","",CONCATENATE(OFFSET(List1!C$11,tisk!A81,0)," ",OFFSET(List1!D$11,tisk!A81,0)," ",OFFSET(List1!E$11,tisk!A81,0)," ",OFFSET(List1!F$11,tisk!A81,0))) -> Město Hranice Pernštejnské náměstí 1 Hranice 75301 | D82: =IF(B82="","",OFFSET(List1!L$11,tisk!A81,0)) -> Pořízení, technické zhodnocení a oprava požární techniky a nákup věcného vybavení pro JSDH Hranice | E82: =IF(B82="","",OFFSET(List1!O$11,tisk!A81,0)) -> 373500 | F82: =IF(B82="","",OFFSET(List1!P$11,tisk!A81,0)) -> 1/2020 | G82: =IF(B82="","",OFFSET(List1!R$11,tisk!A81,0)) -> 186500 | H82: =IF(B82="","",OFFSET(List1!S$11,tisk!A81,0)) -> 44176 | I82: =IF(B82="","",OFFSET(List1!T$11,tisk!A81,0)) -> 140 | J82: =IF(B82="","",OFFSET(List1!U$11,tisk!A81,0)) -> 165 | K82: =IF(B82="","",OFFSET(List1!V$11,tisk!A81,0)) -> 200 | L82: =IF(B82="","",OFFSET(List1!W$11,tisk!A81,0)) -> 505 | M82: =IF(B82="","",OFFSET(List1!X$11,tisk!A81,0)) -> 173900
C83: =IF(B82="","",CONCATENATE("Okres ",OFFSET(List1!G$11,tisk!A81,0)," ","Právní forma"," ",OFFSET(List1!H$11,tisk!A81,0)," ","IČO ",OFFSET(List1!I$11,tisk!A81,0)," ","B.Ú. ",OFFSET(List1!J$11,tisk!A81,0))) -> Okres Přerov Právní forma Obec, m. č. hl. m. Prahy IČO 00301311 B.Ú. anonymizováno | D83: =IF(B82="","",OFFSET(List1!M$11,tisk!A81,0)) -> Pořízení nového hydraulického vyprošťovacího zařízení pro jednotku předurčenou k zásahům na dopravní nehody.
A84: =ROW()/3-1 -> 27 | C84: =IF(B82="","",CONCATENATE("Zástupce"," ",OFFSET(List1!K$11,tisk!A81,0))) -> Zástupce | D84: =IF(B82="","",CONCATENATE("Dotace bude použita na:",OFFSET(List1!N$11,tisk!A81,0))) -> Dotace bude použita na:pořízení nového hydraulického vyprošťovacího zařízení investiční dotace | F84: =IF(B82="","",OFFSET(List1!Q$11,tisk!A81,0)) -> 11/2020
B85: =IF(OFFSET(List1!B$11,tisk!A84,0)>0,OFFSET(List1!B$11,tisk!A84,0),"") -> 10 | C85: =IF(B85="","",CONCATENATE(OFFSET(List1!C$11,tisk!A84,0)," ",OFFSET(List1!D$11,tisk!A84,0)," ",OFFSET(List1!E$11,tisk!A84,0)," ",OFFSET(List1!F$11,tisk!A84,0))) -> Městys Hustopeče nad Bečvou náměstí Míru 21 Hustopeče nad Bečvou 75366 | D85: =IF(B85="","",OFFSET(List1!L$11,tisk!A84,0)) -> Pořízení, technické zhodnocení a oprava požární techniky a nákup věcného vybavení pro JSDH Hustopeče nad Bečvou | E85: =IF(B85="","",OFFSET(List1!O$11,tisk!A84,0)) -> 374000 | F85: =IF(B85="","",OFFSET(List1!P$11,tisk!A84,0)) -> 1/2020 | G85: =IF(B85="","",OFFSET(List1!R$11,tisk!A84,0)) -> 187000 | H85: =IF(B85="","",OFFSET(List1!S$11,tisk!A84,0)) -> 44176 | I85: =IF(B85="","",OFFSET(List1!T$11,tisk!A84,0)) -> 160 | J85: =IF(B85="","",OFFSET(List1!U$11,tisk!A84,0)) -> 145 | K85: =IF(B85="","",OFFSET(List1!V$11,tisk!A84,0)) -> 200 | L85: =IF(B85="","",OFFSET(List1!W$11,tisk!A84,0)) -> 505 | M85: =IF(B85="","",OFFSET(List1!X$11,tisk!A84,0)) -> 174400
C86: =IF(B85="","",CONCATENATE("Okres ",OFFSET(List1!G$11,tisk!A84,0)," ","Právní forma"," ",OFFSET(List1!H$11,tisk!A84,0)," ","IČO ",OFFSET(List1!I$11,tisk!A84,0)," ","B.Ú. ",OFFSET(List1!J$11,tisk!A84,0))) -> Okres Přerov Právní forma Obec, m. č. hl. m. Prahy IČO 00301329 B.Ú. anonymizováno | D86: =IF(B85="","",OFFSET(List1!M$11,tisk!A84,0)) -> Pořízení prostředků pro vyprošťování JSDH Hustopeče nad Bečvou, JPO III. , jež je předurčenou jednotkou pro systém záchranných prací při dopravních nehodách. Prostředky budou sloužit k dosažení a udržení akceschopnosti JSDH Hustopeče nad Bečvou.
A87: =ROW()/3-1 -> 28 | C87: =IF(B85="","",CONCATENATE("Zástupce"," ",OFFSET(List1!K$11,tisk!A84,0))) -> Zástupce | D87: =IF(B85="","",CONCATENATE("Dotace bude použita na:",OFFSET(List1!N$11,tisk!A84,0))) -> Dotace bude použita na:pořízení prostředků pro vyproštování investiční dotace | F87: =IF(B85="","",OFFSET(List1!Q$11,tisk!A84,0)) -> 11/2020
B88: =IF(OFFSET(List1!B$11,tisk!A87,0)>0,OFFSET(List1!B$11,tisk!A87,0),"") -> 108 | C88: =IF(B88="","",CONCATENATE(OFFSET(List1!C$11,tisk!A87,0)," ",OFFSET(List1!D$11,tisk!A87,0)," ",OFFSET(List1!E$11,tisk!A87,0)," ",OFFSET(List1!F$11,tisk!A87,0))) -> Obec Radslavice Na Návsi 103 Radslavice 75111 | D88: =IF(B88="","",OFFSET(List1!L$11,tisk!A87,0)) -> Pořízení, technické zhodnocení a oprava požární techniky a nákup věcného vybavení pro JSDH Radslavice | E88: =IF(B88="","",OFFSET(List1!O$11,tisk!A87,0)) -> 120000 | F88: =IF(B88="","",OFFSET(List1!P$11,tisk!A87,0)) -> 1/2020 | G88: =IF(B88="","",OFFSET(List1!R$11,tisk!A87,0)) -> 60000 | H88: =IF(B88="","",OFFSET(List1!S$11,tisk!A87,0)) -> 44176 | I88: =IF(B88="","",OFFSET(List1!T$11,tisk!A87,0)) -> 160 | J88: =IF(B88="","",OFFSET(List1!U$11,tisk!A87,0)) -> 145 | K88: =IF(B88="","",OFFSET(List1!V$11,tisk!A87,0)) -> 200 | L88: =IF(B88="","",OFFSET(List1!W$11,tisk!A87,0)) -> 505 | M88: =IF(B88="","",OFFSET(List1!X$11,tisk!A87,0)) -> 56000
C89: =IF(B88="","",CONCATENATE("Okres ",OFFSET(List1!G$11,tisk!A87,0)," ","Právní forma"," ",OFFSET(List1!H$11,tisk!A87,0)," ","IČO ",OFFSET(List1!I$11,tisk!A87,0)," ","B.Ú. ",OFFSET(List1!J$11,tisk!A87,0))) -> Okres Přerov Právní forma Obec, m. č. hl. m. Prahy IČO 00301884 B.Ú. anonymizováno | D89: =IF(B88="","",OFFSET(List1!M$11,tisk!A87,0)) -> Současná osvětlovací technika nesplňuje požadavky pro zásah a stále vykazuje poruchovost. Pořízením nových prostředků pro osvětlení místa zásahu dojde k naplnění požadavků vyhlášky č. 53/2010 Sb. o tech. podmínkách požární techniky.
A90: =ROW()/3-1 -> 29 | C90: =IF(B88="","",CONCATENATE("Zástupce"," ",OFFSET(List1!K$11,tisk!A87,0))) -> Zástupce | D90: =IF(B88="","",CONCATENATE("Dotace bude použita na:",OFFSET(List1!N$11,tisk!A87,0))) -> Dotace bude použita na:pořízení prostředků pro osvětlení místa zásahu investiční dotace | F90: =IF(B88="","",OFFSET(List1!Q$11,tisk!A87,0)) -> 11/2020
B91: =IF(OFFSET(List1!B$11,tisk!A90,0)>0,OFFSET(List1!B$11,tisk!A90,0),"") -> 152 | C91: =IF(B91="","",CONCATENATE(OFFSET(List1!C$11,tisk!A90,0)," ",OFFSET(List1!D$11,tisk!A90,0)," ",OFFSET(List1!E$11,tisk!A90,0)," ",OFFSET(List1!F$11,tisk!A90,0))) -> Obec Senice na Hané Jos. Vodičky 243 Senice na Hané 78345 | D91: =IF(B91="","",OFFSET(List1!L$11,tisk!A90,0)) -> Pořízení, technické zhodnocení a oprava požární techniky a nákup věcného vybavení pro JSDH Senice na Hané | E91: =IF(B91="","",OFFSET(List1!O$11,tisk!A90,0)) -> 560000 | F91: =IF(B91="","",OFFSET(List1!P$11,tisk!A90,0)) -> 1/2020 | G91: =IF(B91="","",OFFSET(List1!R$11,tisk!A90,0)) -> 200000 | H91: =IF(B91="","",OFFSET(List1!S$11,tisk!A90,0)) -> 44176 | I91: =IF(B91="","",OFFSET(List1!T$11,tisk!A90,0)) -> 160 | J91: =IF(B91="","",OFFSET(List1!U$11,tisk!A90,0)) -> 145 | K91: =IF(B91="","",OFFSET(List1!V$11,tisk!A90,0)) -> 200 | L91: =IF(B91="","",OFFSET(List1!W$11,tisk!A90,0)) -> 505 | M91: =IF(B91="","",OFFSET(List1!X$11,tisk!A90,0)) -> 186500
C92: =IF(B91="","",CONCATENATE("Okres ",OFFSET(List1!G$11,tisk!A90,0)," ","Právní forma"," ",OFFSET(List1!H$11,tisk!A90,0)," ","IČO ",OFFSET(List1!I$11,tisk!A90,0)," ","B.Ú. ",OFFSET(List1!J$11,tisk!A90,0))) -> Okres Olomouc Právní forma Obec, m. č. hl. m. Prahy IČO 00299421 B.Ú. anonymizováno | D92: =IF(B91="","",OFFSET(List1!M$11,tisk!A90,0)) -> Nákup hydraulického vyprošťovacího zařízení
A93: =ROW()/3-1 -> 30 | C93: =IF(B91="","",CONCATENATE("Zástupce"," ",OFFSET(List1!K$11,tisk!A90,0))) -> Zástupce | D93: =IF(B91="","",CONCATENATE("Dotace bude použita na:",OFFSET(List1!N$11,tisk!A90,0))) -> Dotace bude použita na:pořízení hydraulického vyprošťovacího zařízení investiční dotace | F93: =IF(B91="","",OFFSET(List1!Q$11,tisk!A90,0)) -> 11/2020
B94: =IF(OFFSET(List1!B$11,tisk!A93,0)>0,OFFSET(List1!B$11,tisk!A93,0),"") -> 47 | C94: =IF(B94="","",CONCATENATE(OFFSET(List1!C$11,tisk!A93,0)," ",OFFSET(List1!D$11,tisk!A93,0)," ",OFFSET(List1!E$11,tisk!A93,0)," ",OFFSET(List1!F$11,tisk!A93,0))) -> Město Jeseník Masarykovo nám. 167/1 Jeseník 79001 | D94: =IF(B94="","",OFFSET(List1!L$11,tisk!A93,0)) -> Pořízení, technické zhodnocení a oprava požární techniky a nákup věcného vybavení pro JSDH Jeseník | E94: =IF(B94="","",OFFSET(List1!O$11,tisk!A93,0)) -> 121000 | F94: =IF(B94="","",OFFSET(List1!P$11,tisk!A93,0)) -> 1/2020 | G94: =IF(B94="","",OFFSET(List1!R$11,tisk!A93,0)) -> 60000 | H94: =IF(B94="","",OFFSET(List1!S$11,tisk!A93,0)) -> 44176 | I94: =IF(B94="","",OFFSET(List1!T$11,tisk!A93,0)) -> 140 | J94: =IF(B94="","",OFFSET(List1!U$11,tisk!A93,0)) -> 160 | K94: =IF(B94="","",OFFSET(List1!V$11,tisk!A93,0)) -> 200 | L94: =IF(B94="","",OFFSET(List1!W$11,tisk!A93,0)) -> 500 | M94: =IF(B94="","",OFFSET(List1!X$11,tisk!A93,0)) -> 56000
C95: =IF(B94="","",CONCATENATE("Okres ",OFFSET(List1!G$11,tisk!A93,0)," ","Právní forma"," ",OFFSET(List1!H$11,tisk!A93,0)," ","IČO ",OFFSET(List1!I$11,tisk!A93,0)," ","B.Ú. ",OFFSET(List1!J$11,tisk!A93,0))) -> Okres Jeseník Právní forma Obec, m. č. hl. m. Prahy IČO 00302724 B.Ú. anonymizováno | D95: =IF(B94="","",OFFSET(List1!M$11,tisk!A93,0)) -> Zajištění zvýšení akceschopnosti jednotky sboru dobrovolných hasičů v Jeseníku obměnou zastaralé dýchací techniky.
A96: =ROW()/3-1 -> 31 | C96: =IF(B94="","",CONCATENATE("Zástupce"," ",OFFSET(List1!K$11,tisk!A93,0))) -> Zástupce | D96: =IF(B94="","",CONCATENATE("Dotace bude použita na:",OFFSET(List1!N$11,tisk!A93,0))) -> Dotace bude použita na:pořízení dýchacích přístrojů skládajících se ze 2 ks nosičů, 2 ks držáků plicní automatiky, 2 ks plicních automatik, 2 ks masek, 4 ks tlakových lahví, včetně příslušenství. | F96: =IF(B94="","",OFFSET(List1!Q$11,tisk!A93,0)) -> 11/2020
B97: =IF(OFFSET(List1!B$11,tisk!A96,0)>0,OFFSET(List1!B$11,tisk!A96,0),"") -> 125 | C97: =IF(B97="","",CONCATENATE(OFFSET(List1!C$11,tisk!A96,0)," ",OFFSET(List1!D$11,tisk!A96,0)," ",OFFSET(List1!E$11,tisk!A96,0)," ",OFFSET(List1!F$11,tisk!A96,0))) -> Statutární město Olomouc Horní náměstí 583 Olomouc 77900 | D97: =IF(B97="","",OFFSET(List1!L$11,tisk!A96,0)) -> Pořízení, technické zhodnocení a oprava požární techniky a nákup věcného vybavení pro JSDH Olomouc | E97: =IF(B97="","",OFFSET(List1!O$11,tisk!A96,0)) -> 226000 | F97: =IF(B97="","",OFFSET(List1!P$11,tisk!A96,0)) -> 1/2020 | G97: =IF(B97="","",OFFSET(List1!R$11,tisk!A96,0)) -> 113000 | H97: =IF(B97="","",OFFSET(List1!S$11,tisk!A96,0)) -> 44176 | I97: =IF(B97="","",OFFSET(List1!T$11,tisk!A96,0)) -> 120 | J97: =IF(B97="","",OFFSET(List1!U$11,tisk!A96,0)) -> 180 | K97: =IF(B97="","",OFFSET(List1!V$11,tisk!A96,0)) -> 200 | L97: =IF(B97="","",OFFSET(List1!W$11,tisk!A96,0)) -> 500 | M97: =IF(B97="","",OFFSET(List1!X$11,tisk!A96,0)) -> 105400
C98: =IF(B97="","",CONCATENATE("Okres ",OFFSET(List1!G$11,tisk!A96,0)," ","Právní forma"," ",OFFSET(List1!H$11,tisk!A96,0)," ","IČO ",OFFSET(List1!I$11,tisk!A96,0)," ","B.Ú. ",OFFSET(List1!J$11,tisk!A96,0))) -> Okres Olomouc Právní forma Obec, m. č. hl. m. Prahy IČO 00299308 B.Ú. anonymizováno | D98: =IF(B97="","",OFFSET(List1!M$11,tisk!A96,0)) -> Pořízení dýchací techniky vč. příslušenství pro zajištění akceschopnosti JSDH Olomouc.
A99: =ROW()/3-1 -> 32 | C99: =IF(B97="","",CONCATENATE("Zástupce"," ",OFFSET(List1!K$11,tisk!A96,0))) -> Zástupce | D99: =IF(B97="","",CONCATENATE("Dotace bude použita na:",OFFSET(List1!N$11,tisk!A96,0))) -> Dotace bude použita na:pořízení dýchací techniky včetně příslušenství | F99: =IF(B97="","",OFFSET(List1!Q$11,tisk!A96,0)) -> 11/2020
B100: =IF(OFFSET(List1!B$11,tisk!A99,0)>0,OFFSET(List1!B$11,tisk!A99,0),"") -> 43 | C100: =IF(B100="","",CONCATENATE(OFFSET(List1!C$11,tisk!A99,0)," ",OFFSET(List1!D$11,tisk!A99,0)," ",OFFSET(List1!E$11,tisk!A99,0)," ",OFFSET(List1!F$11,tisk!A99,0))) -> Obec Osek nad Bečvou Osek nad Bečvou 65 Osek nad Bečvou 75122 | D100: =IF(B100="","",OFFSET(List1!L$11,tisk!A99,0)) -> Pořízení, technické zhodnocení a oprava požární techniky a nákup věcného vybavení pro JSDH Osek nad Bečvou | E100: =IF(B100="","",OFFSET(List1!O$11,tisk!A99,0)) -> 90000 | F100: =IF(B100="","",OFFSET(List1!P$11,tisk!A99,0)) -> 1/2020 | G100: =IF(B100="","",OFFSET(List1!R$11,tisk!A99,0)) -> 45000 | H100: =IF(B100="","",OFFSET(List1!S$11,tisk!A99,0)) -> 44176 | I100: =IF(B100="","",OFFSET(List1!T$11,tisk!A99,0)) -> 160 | J100: =IF(B100="","",OFFSET(List1!U$11,tisk!A99,0)) -> 140 | K100: =IF(B100="","",OFFSET(List1!V$11,tisk!A99,0)) -> 200 | L100: =IF(B100="","",OFFSET(List1!W$11,tisk!A99,0)) -> 500 | M100: =IF(B100="","",OFFSET(List1!X$11,tisk!A99,0)) -> 42000
...
