Workbook

Sheet Rekap 
A1: 2. Plnění rozpočtu příjmů Olomouckého kraje k 31.12.2011
A3: Rekapitulace celkových příjmů Olomouckého kraje, které zahrnují příjmy běžné (daňové, nedaňové, kapitálové) přijaté účelové dotace ze státního rozpočtu, zapojení úvěrů (úvěr z EIB, KB, půjčka ze SFDI), zapojení zůstatku bankovních účtů.
A6: a) dle oblastí příjmů
E7: v tis. Kč
A8: Příjmy | B8: schválený rozp. | C8: upravený rozp. | D8: skutečnost | E8: %
A9: 1 | B9: 2 | C9: 3 | D9: 4 | E9: 5=4/3
A10: • Běžné příjmy Olomouckého kraje | B10: =SUM(Příjmy!F396) -> 3597772 | C10: =SUM(Příjmy!G396) -> 9008375 | D10: =SUM(Příjmy!H396) -> 9003741 | E10: =(D10/C10)*100 -> 99.948559
A11: • Evropské programy | B11: =SUM(Příjmy!F397) -> 0 | C11: =SUM(Příjmy!G397) -> 481023 | D11: =SUM(Příjmy!H397) -> 476014 | E11: =(D11/C11)*100 -> 98.958678
A12: • Fond sociálních potřeb | B12: =SUM(Příjmy!F394) -> 6369 | C12: =SUM(Příjmy!G394) -> 6381 | D12: =SUM(Příjmy!H394) -> 6404 | E12: =(D12/C12)*100 -> 100.36045
A13: • Fond na podporu výstavby a obnovy vodohospodářské infrastruktury na území Olomouckého kraje | B13: =SUM(Příjmy!F395) -> 40000 | C13: =SUM(Příjmy!G395) -> 40996 | D13: =SUM(Příjmy!H395) -> 63005 | E13: =(D13/C13)*100 -> 153.68573
A14: Příjmy Olomouckého kraje | B14: =SUM(B10:B13) -> 3644141 | C14: =SUM(C10:C13) -> 9536775 | D14: =SUM(D10:D13) -> 9549164 | E14: =(D14/C14)*100 -> 100.12991
A15: Konsolidace * | B15: =SUM(Příjmy!F384) -> 6359 | C15: =SUM(Příjmy!G384) -> 6371 | D15: =SUM(Příjmy!H384) -> 47061 | E15: =(D15/C15)*100 -> 738.67525
A16: Příjmy Olomouckého kraje (po konsolidaci) | B16: =B14-B15 -> 3637782 | C16: =C14-C15 -> 9530404 | D16: =D14-D15 -> 9502103 | E16: =(D16/C16)*100 -> 99.703045
A20: b) dle druhu příjmů
D21: =SUM(D20:D20) -> 0 | E21: v tis. Kč | J21: v Kč
A22: Příjmy | B22: schválený rozp. | C22: upravený rozp. | D22: skutečnost | E22: % | H22: schválený rozp. | I22: upravený rozp. | J22: skutečnost
A23: 1 | B23: 2 | C23: 3 | D23: 4 | E23: 5=4/3 | H23: 2 | I23: 3 | J23: 4 | L23: 1.4223969e+10 | M23: 4xxx
A24: • Daňové příjmy | B24: =SUM(Příjmy!F400) -> 3287410 | C24: =SUM(Příjmy!G400) -> 3196029 | D24: =SUM(Příjmy!H400) -> 3152595 | E24: =(D24/C24)*100 -> 98.641001 | H24: 3191410000 | I24: 3203005400 | J24: 3.1333186e+09 | L24: -7.8800907e+09 | M24: 4134
A25: • Nedaňové příjmy | B25: =SUM(Příjmy!F401) -> 253946 | C25: =SUM(Příjmy!G401) -> 350733 | D25: =SUM(Příjmy!H401) -> 379289 | E25: =(D25/C25)*100 -> 108.14181 | H25: 266819000 | I25: 5.2565744e+08 | J25: 5.1755323e+08 | L25: =SUM(L23:L24) -> 6.3438788e+09 | M25: celkem dotace
A26: • Kapitálové příjmy | B26: =SUM(Příjmy!F402) -> 20200 | C26: =SUM(Příjmy!G402) -> 20295 | D26: =SUM(Příjmy!H402) -> 12063 | E26: =(D26/C26)*100 -> 59.438285 | H26: 30400000 | I26: 30400000 | J26: 3335316 | L26: 5594000 | M26: 4134 SF
A27: • Přijaté dotace | B27: =SUM(Příjmy!F403) -> 82585 | C27: =SUM(Příjmy!G403) -> 5969718 | D27: =SUM(Příjmy!H403) -> 6005217 | E27: =(D27/C27)*100 -> 100.59465 | H27: 89615000 | I27: 6.3538079e+09 | J27: 6.6611089e+09 | L27: =SUM(L25:L26) -> 6.3494728e+09
A28: Příjmy celkem | B28: =SUM(B24:B27) -> 3644141 | C28: =SUM(C24:C27) -> 9536775 | D28: =SUM(D24:D27) -> 9549164 | E28: =(D28/C28)*100 -> 100.12991 | H28: =SUM(H24:H27) -> 3578244000 | I28: =SUM(I24:I27) -> 1.0112871e+10 | J28: =SUM(J24:J27) -> 1.0315316e+10
A29: Konsolidace * | B29: =Příjmy!F384 -> 6359 | C29: =Příjmy!G384 -> 6371 | D29: =Příjmy!H384 -> 47061 | E29: =(D29/C29)*100 -> 738.67525 | H29: 6131000 | I29: 6131000 | J29: 3.1723014e+08
A30: Příjmy Olomouckého kraje (po konsolidaci) | B30: =B28-B29 -> 3637782 | C30: =C28-C29 -> 9530404 | D30: =D28-D29 -> 9502103 | E30: =(D30/C30)*100 -> 99.703045 | H30: =H28-H29 -> 3572113000 | I30: =I28-I29 -> 1.010674e+10 | J30: =J28-J29 -> 9.9980859e+09 | K30: 9.9980859e+09 | L30: =J30-K30 -> 0
A34: * Konsolidace je očištění údajů o rozpočtu a skutečnosti o interní přesuny peněžních prostředků uvnitř organizace mezi jednotlivými účty.

Sheet Příjmy
A1: 2. Plnění rozpočtu příjmů Olomouckého kraje k 31.12.2011
A3: a) Příjmy Olomouckého kraje
I4: v tis. Kč
A5: ORJ | B5: § | C5: pol. | D5: UZ | E5: název položky | F5: schválený rozp. | G5: upravený rozp. | H5: skutečnost | I5: %
A6: 1 | B6: 2 | C6: 3 | D6: 4 | E6: 5 | F6: 6 | G6: 7 | H6: 8 | I6: 9=8/7
A7: 01 | B7: 6113 | C7: 2324 | E7: Přijaté nekapitálové příspěvky a náhrady | H7: 3 | I7: 0
A8: 01 | E8: Mezisoučet | F8: =F2+F3 -> 0 | G8: 0 | H8: =H7 -> 3 | I8: 0 | K8: 0 | L8: 0 | M8: 3405
A9: 02 | C9: 2420 | E9: Splátky půjč.prostř.od obecně prospěš.společností | F9: 10125 | G9: 10125 | H9: 10125 | I9: =(H9/G9)*100 -> 100
A10: 02 | C10: 2441 | E10: Splátky půjčených prostř.od obcí | F10: 6940 | G10: 6940 | H10: 6400 | I10: =(H10/G10)*100 -> 92.21902
A11: 02 | B11: 3349 | C11: 2111 | E11: Příjmy z poskytování služeb a výrobků | F11: 144 | G11: 144 | H11: 144 | I11: =(H11/G11)*100 -> 100
A12: 02 | B12: 6402 | C12: 2223 | E12: Příjmy z fin.vypoř.minulých let mezi krajem a obcemi | G12: 173 | H12: 173 | I12: =(H12/G12)*100 -> 100
A13: 02 | B13: 6402 | C13: 2229 | E13: Ostatní přijaté vratky transferů. | G13: 4 | H13: 4 | I13: =(H13/G13)*100 -> 100
A14: 02 | E14: Mezisoučet | F14: =F9+F10+F11 -> 17209 | G14: =G9+G10+G11+G12+G13 -> 17386 | H14: =H9+H10+H11+H12+H13 -> 16846 | I14: =(H14/G14)*100 -> 96.894053 | K14: 17209000 | L14: 17386219 | M14: 16846519
A15: 03 | C15: 1361 | E15: Správní poplatky | H15: 5 | I15: 0
A16: 03 | B16: 6172 | C16: 2131 | E16: Příjmy z pronájmu pozemků | F16: 43 | G16: 43 | H16: 65 | I16: =(H16/G16)*100 -> 151.16279
A17: 03 | B17: 6172 | C17: 2132 | E17: Příjmy z pronájmu ostatních nemovitostí a jejich částí | F17: 147 | G17: 147 | H17: 139 | I17: =(H17/G17)*100 -> 94.557823
A18: 03 | B18: 6172 | C18: 2133 | E18: Příjmy z pronájmu movitých věcí | F18: 22 | G18: 22 | H18: 98 | I18: =(H18/G18)*100 -> 445.45455
A19: 03 | B19: 6172 | C19: 2211 | E19: Sankční platby přijaté od státu, obcí a krajů | H19: 13 | I19: 0
A20: 03 | B20: 6172 | C20: 2229 | E20: Ostatní přijaté vratky transferů | H20: 1 | I20: 0
A21: 03 | B21: 6172 | C21: 2324 | E21: Přijaté nekapitálové příspěvky a náhrady | G21: 524 | H21: 534 | I21: =(H21/G21)*100 -> 101.9084
A22: 03 | B22: 6172 | C22: 3113 | E22: Příjmy z prodeje ost.hmotného dlouhodob.majetku | G22: 95 | H22: 95 | I22: =(H22/G22)*100 -> 100
A23: 03 | E23: Mezisoučet | F23: =F16+F17+F18 -> 212 | G23: =G16+G17+G18+G21+G22 -> 831 | H23: =H15+H16+H17+H18+H19+H20+H21+H22 -> 950 | I23: =(H23/G23)*100 -> 114.3201 | K23: 212000 | L23: 830756.4 | M23: 949707.02
A24: 04 | B24: 6172 | C24: 2119 | E24: Ostatní příjmy z vlastní činnosti | H24: 380 | I24: 0
A25: 04 | B25: 6172 | C25: 2131 | E25: Příjmy z pronájmu pozemků | H25: 1 | I25: 0
A26: 04 | B26: 6172 | C26: 2212 | E26: Sankční platby přijaté od jiných subjektů | H26: 100 | I26: 0
A27: 04 | B27: 6172 | C27: 2324 | E27: Přijaté nekapitálové příspěvky a náhrady | H27: 116 | I27: 0
A28: 04 | B28: 6172 | C28: 3111 | E28: Příjmy z prodeje pozemků | F28: 200 | G28: 200 | H28: 1074 | I28: =(H28/G28)*100 -> 537
A29: 04 | B29: 6172 | C29: 3112 | E29: Příjmy z prodeje ost.nemovit.a jejich částí | F29: 20000 | G29: 20000 | H29: 10894 | I29: =(H29/G29)*100 -> 54.47
A30: 04 | E30: Mezisoučet | F30: =F28+F29 -> 20200 | G30: =G28+G29 -> 20200 | H30: =H24+H25+H26+H27+H28+H29 -> 12565 | I30: =(H30/G30)*100 -> 62.20297 | K30: 20200000 | L30: 20200000 | M30: 12565474
A31: 05 | C31: 1361 | E31: Správní poplatky | F31: 630 | G31: 630 | H31: 1148 | I31: =(H31/G31)*100 -> 182.22222
A32: 05 | B32: 6172 | C32: 2324 | E32: Přijaté nekapitálové příspěvky a náhrady | H32: 1 | I32: 0
A33: 05 | E33: Mezisoučet | F33: =SUM(F31) -> 630 | G33: =SUM(G31) -> 630 | H33: =H31+H32 -> 1149 | I33: =(H33/G33)*100 -> 182.38095 | K33: 630000 | L33: 630000 | M33: 1149160
A34: 06 | B34: 6172 | C34: 2324 | E34: Přijaté nekapitálové příspěvky a náhrady | H34: 1 | I34: 0
A35: 06 | E35: Mezisoučet | F35: 0 | G35: 0 | H35: 1 | I35: 0 | K35: 0 | L35: 0 | M35: 1046
A36: 07 | C36: 1111 | E36: Daň z příjmů fyzických osob ze závislé činnosti a funkčních požitků | F36: 725000 | G36: 725000 | H36: 699587 | I36: =(H36/G36)*100 -> 96.494759
A37: 07 | C37: 1112 | E37: Daň z příjmů fyzických osob ze samostatné výdělečné činnosti | F37: 36000 | G37: 26000 | H37: 20519 | I37: =(H37/G37)*100 -> 78.919231
A38: 07 | C38: 1113 | E38: Daň z příjmů fyzických osob z kapitálových výnosů | F38: 100000 | G38: 100000 | H38: 66745 | I38: =(H38/G38)*100 -> 66.745
A39: 07 | C39: 1121 | E39: Daň z příjmů právnických osob | F39: 725000 | G39: 635000 | H39: 697855 | I39: =(H39/G39)*100 -> 109.89843
A40: 07 | C40: 1123 | E40: Daň z příjmu právnických osob za kraje | G40: 8619 | H40: 8619 | I40: =(H40/G40)*100 -> 100
A41: 07 | C41: 1211 | E41: Daň z přidané hodnoty | F41: 1700000 | G41: 1700000 | H41: 1657172 | I41: =(H41/G41)*100 -> 97.480706
A42: 07 | C42: 1361 | E42: Správní poplatky | H42: 17 | I42: 0
A43: 07 | C43: 4111 | E43: Neinvestiční přijaté transfery z VPS | G43: =G44+G45+G46+G47+G48+G49 -> 8981 | H43: =H44+H45+H46+H47+H48+H49 -> 9044 | I43: =(H43/G43)*100 -> 100.70148
A44: 07 | D44: 00098005 | E44: MF - Sčítání lidu, domů a bytů v roce 2011 | G44: 181 | H44: 244 | I44: =(H44/G44)*100 -> 134.80663
A45: 07 | D45: 00098035 | E45: MF - Systémové dotace na protiradonová opatření | G45: 107 | H45: 107 | I45: =(H45/G45)*100 -> 100
A46: 07 | D46: 00098074 | E46: MF - Volby do zastupitelstev v obcích | G46: 120 | H46: 120 | I46: =(H46/G46)*100 -> 100
A47: 07 | D47: 00098278 | E47: MF - Náhrady škod způsob.vybranými zvl.chráněnými živočichy | G47: 6355 | H47: 6355 | I47: =(H47/G47)*100 -> 100
A48: 07 | D48: 00098297 | E48: MF - Účelová dotace krajům na likvidaci léčiv | G48: 340 | H48: 340 | I48: =(H48/G48)*100 -> 100
A49: 07 | D49: 00098335 | E49: MF - Účelové dotace krajům - TBC | G49: 1878 | H49: 1878 | I49: =(H49/G49)*100 -> 100
A50: 07 | C50: 4112 | E50: Neinvestiční přijaté transfery ze SR v rámci SFV | F50: 76226 | G50: 76226 | H50: 76226 | I50: =(H50/G50)*100 -> 100
A51: 07 | C51: 4116 | E51: Ostatní neinvestiční přijaté dotace ze SR | G51: =G52+G53+G54+G55+G57+G58+G59+G61+G63+G68+G69+G70+G73+G71+G72 -> 245933 | H51: =H52+H53+H54+H55+H57+H58+H59+H61+H63+H68+H69+H70+H73+H71+H72 -> 245933 | I51: =(H51/G51)*100 -> 100
A52: 07 | D52: 00004001 | E52: MF - Podpora koordinátorů romských poradců | G52: 450 | H52: 450 | I52: =(H52/G52)*100 -> 100
A53: 07 | D53: 00006001 | E53: MZV - Projekty krajů v rozvojových zemích | G53: 895 | H53: 895 | I53: =(H53/G53)*100 -> 100
A54: 07 | D54: 00013233 | E54: MPSV - Operační program Lidské zdroje a zaměstnanost | G54: 232 | H54: 232 | I54: =(H54/G54)*100 -> 100
A55: 07 | D55: 00013307 | E55: MPSV - na výplatu st.přísp.pro zřiz.zařízení pro děti vyž.okamžitou pomoc | G55: 7900 | H55: 7900 | I55: =(H55/G55)*100 -> 100
A57: 07 | D57: 00014004 | E57: MV-neinv.transfery krajům | G57: 5331 | H57: 5331 | I57: =(H57/G57)*100 -> 100
A58: 07 | D58: 00014005 | E58: MV - neinv.dot.obcím a krajům na projekty prevence kriminality | G58: 388 | H58: 388 | I58: =(H58/G58)*100 -> 100
A59: 07 | D59: 00017466 | E59: MMR - Povodně 2006-Obnova obec.a kraj.majetku postiž.živelní nebo jinou pohromouc - NIV | G59: 18269 | H59: 18269 | I59: =(H59/G59)*100 -> 100
A61: 07 | D61: 00027355 | E61: MFČR - Příspěvek na ztrátu dopravce z provozu veřejné osobní drážní dopravy | G61: 208570 | H61: 208570 | I61: =(H61/G61)*100 -> 100
A63: 07 | D63: 00029009 | E63: MZeČR - Meliorace a hrazení bystřin v lesích podle § 35 odst. 1 a 3 lesního zákona | G63: 148 | H63: 148 | I63: =(H63/G63)*100 -> 100
I65: v tis. Kč
A66: ORJ | B66: § | C66: pol. | D66: UZ | E66: název položky | F66: schválený rozp. | G66: upravený rozp. | H66: skutečnost | I66: %
A67: 1 | B67: 2 | C67: 3 | D67: 4 | E67: 5 | F67: 6 | G67: 7 | H67: 8 | I67: 9=8/7
A68: 07 | D68: 00034053 | E68: MK - Veřejné informační služby knihoven - neinvestice | G68: 998 | H68: 998 | I68: =(H68/G68)*100 -> 100
A69: 07 | D69: 00034070 | E69: MKČR - Kulturní aktivity | G69: 181 | H69: 181 | I69: =(H69/G69)*100 -> 100
A70: 07 | D70: 00035015 | E70: MZ - Specializační vzdělávání zdravotnických pracovníků | G70: 859 | H70: 859 | I70: =(H70/G70)*100 -> 100
D71: 33113233 | E71: MPSV - OP lidské zdroje a zaměstnanost-CZ | G71: 254 | H71: 254 | I71: =(H71/G71)*100 -> 100
D72: 33513233 | E72: MPSV - OP lidské zdroje a zaměstnanost-EU | G72: 1439 | H72: 1439 | I72: =(H72/G72)*100 -> 100
A73: 07 | D73: 41117007 | E73: MMR - Přeshraniční spolupráce-SR | G73: 19 | H73: 19 | I73: =(H73/G73)*100 -> 100 | L73: =H36+H37+H38+H39+H40+H41+H42+H43+H50+H51 -> 3481717
A74: 07 | C74: 4118 | E74: Neinvestiční převody z NF | G74: =G75+G76+G77+G78+G80+G81+G83+G84+G85+G86 -> 9457 | H74: =H75+H76+H77+H78+H80+H81+H83+H84+H85+H86 -> 9457 | I74: =(H74/G74)*100 -> 100 | J74: =H36+H37+H38+H39+H40+H41+H42+H43+H50+H51+H74 -> 3491174
D75: 41595113 | E75: SF - Operační program Přeshraniční spolupráce ČR – Polsko | G75: 322 | H75: 322 | I75: =(H75/G75)*100 -> 100
A76: 07 | D76: 49595002 | E76: FS-A1.čištění, opr., obnova a rek.poškoz.infrastr.a veř.maj.-NIV | G76: 6813 | H76: 6813 | I76: =(H76/G76)*100 -> 100
D77: 49595006 | E77: FS-B1. dočasné ubytování (obyvatel, vojáků, apod.) – NIV | G77: 2 | H77: 2 | I77: =(H77/G77)*100 -> 100
D78: 49595008 | E78: FS-B3. kompenzace (odpisové hodnoty) zničeného nebo poškozeného vybavení | G78: 163 | H78: 163 | I78: =(H78/G78)*100 -> 100
D80: 49595009 | E80: FS-B4. dezinsekce, zejména kalamitního výskytu komárů – NIV | G80: 433 | H80: 433 | I80: =(H80/G80)*100 -> 100
D81: 49595010 | E81: FS-B5. záchranné služby a služby sdružení dobrovolných hasičů-NIV | G81: 177 | H81: 177 | I81: =(H81/G81)*100 -> 100
D83: 49595012 | E83: FS-C2. opravy a posílení/zpevnění staticky narušených nebo poškozených staveb-NIV | G83: 3 | H83: 3 | I83: =(H83/G83)*100 -> 100
D84: 49595013 | E84: FS-C3. výdaje spojené s geologickými a diagnostickými průzkumy-NIV | G84: 376 | H84: 376 | I84: =(H84/G84)*100 -> 100
D85: 49595014 | E85: FS-D1. výdaje spojené s čištěním veřejných prostranství a infrastruktury-NIV | G85: 441 | H85: 441 | I85: =(H85/G85)*100 -> 100
D86: 60995206 | E86: FM EHP/Norska-Finanční mechanismus EHP/Norska - NIV | G86: 727 | H86: 727 | I86: =(H86/G86)*100 -> 100
A87: 07 | C87: 4131 | E87: Převody z vlastních fondů HČ | H87: 16 | I87: 0
A88: 07 | C88: 4132 | E88: Převody z ostatních vlastních fondů | G88: 1635 | H88: 1635 | I88: =(H88/G88)*100 -> 100
A89: 07 | C89: 4134 | E89: Převody z rozpočtových účtů | H89: =33+939+3480+2+33124+959+233+258+243+2145 -> 41416 | I89: 0 | M89: 41415769
A90: 07 | C90: 4153 | E90: Neinvestiční transfery přijaté od EU | G90: 403 | H90: 403 | I90: =(H90/G90)*100 -> 100
A91: 07 | C91: 4211 | E91: Inv.přijaté transfery z VPS SR | G91: =G92 -> 571 | H91: =H92 -> 571 | I91: =(H91/G91)*100 -> 100
D92: 00098861 | E92: MF - Výkupy pozemků pod krajskými komunikacemi | G92: 571 | H92: 571 | I92: =(H92/G92)*100 -> 100
A93: 07 | C93: 4216 | E93: Ostatní investiční přijaté transfery ze SR | G93: =G94 -> 5263 | H93: =H94 -> 5263 | I93: =(H93/G93)*100 -> 100
A94: 07 | D94: 00029517 | E94: MZ - Meliorace a hrazení bystřin v lesích podle lesního zákona | G94: 5263 | H94: 5263 | I94: =(H94/G94)*100 -> 100
A95: 07 | C95: 4218 | E95: Investiční převody z Národních fondů | G95: =G96 -> 4957 | H95: =H96 -> 4957 | I95: =(H95/G95)*100 -> 100
A96: 07 | D96: 0 | E96: FM EHP/Norsko-fin.mechanismus EHP/Norsko-IV | G96: 4957 | H96: 4957 | I96: =(H96/G96)*100 -> 100
A97: 07 | C97: 4223 | E97: Investiční přijaté transfery od regionálních rad | G97: =G98+G99 -> 50492 | H97: =H98+H99 -> 50492 | I97: =(H97/G97)*100 -> 100 | L97: =H74+H87+H88+H90+H91+H93+H95+H97+H89 -> 114210
A98: 07 | D98: 38187501 | E98: RSSM - ROP RS Střední Morava - IV - SR | G98: 2805 | H98: 2805 | I98: =(H98/G98)*100 -> 100
A99: 07 | D99: 38587505 | E99: RSSM - ROP RS Střední Morava - IV - EU | G99: 47687 | H99: 47687 | I99: =(H99/G99)*100 -> 100
A100: 07 | B100: 3769 | C100: 2212 | E100: Sankční platby přijaté od jiných subjektů | H100: 3 | I100: 0
A101: 07 | B101: 4171 | C101: 2229 | E101: Ostatní přijaté vratky transferů | H101: 18 | I101: 0
A102: 07 | B102: 4172 | C102: 2229 | E102: Ostatní přijaté vratky transferů | H102: 3 | I102: 0
A103: 07 | B103: 4179 | C103: 2229 | E103: Ostatní přijaté vratky transferů | H103: 70 | I103: 0
A104: 07 | B104: 4183 | C104: 2229 | E104: Ostatní přijaté vratky transferů | H104: 25 | I104: 0
A105: 07 | B105: 4184 | C105: 2229 | E105: Ostatní přijaté vratky transferů | H105: 49 | I105: 0
A106: 07 | B106: 4185 | C106: 2229 | E106: Ostatní přijaté vratky transferů | H106: 5 | I106: 0
A107: 07 | B107: 4195 | C107: 2229 | E107: Ostatní přijaté vratky transferů | H107: 4 | I107: 0
...

Sheet List1
