Workbook

Sheet Rekapitulace
A1: 3. Plnění rozpočtu výdajů Olomouckého kraje k 31.12.2011
A3: Rekapitulace celkových výdajů Olomouckého kraje, které zahrnují výdaje jednotlivých odborů včetně příspěvků zřízeným příspěvkovým organizacím, výdaje na finacování evropských programů a výdaje fondů.
A6: a) dle oblastí výdajů
F7: v tis. Kč
A8: Výdaje | C8: schválený rozpočet | D8: upravený rozpočet | E8: skutečnost | F8: %
A9: 1 | C9: 2 | D9: 3 | E9: 4 | F9: 5 = 4 / 3
A10: • | B10: Odbory (kanceláře) Krajského úřadu Olomouckého kraje | C10: =SUM('Odbor celkem'!C338) -> 2648061 | D10: =SUM('Odbor celkem'!D338) -> 6024390 | E10: =SUM('Odbor celkem'!E338) -> 5497480 | F10: =E10/D10*100 -> 91.25372
A11: • | B11: Příspěvkové organizace | C11: =SUM('Odbor celkem'!C339) -> 1609257 | D11: =SUM('Odbor celkem'!D339) -> 3956781 | E11: =SUM('Odbor celkem'!E339) -> 3948051 | F11: =E11/D11*100 -> 99.779366
A12: • | B12: Evropské programy | C12: =SUM('Odbor celkem'!C340) -> 79076 | D12: =SUM('Odbor celkem'!D340) -> 897663 | E12: =SUM('Odbor celkem'!E340) -> 580690 | F12: =E12/D12*100 -> 64.689087
A13: • | B13: Fond sociálních potřeb | C13: =SUM('Odbor celkem'!C341) -> 6369 | D13: =SUM('Odbor celkem'!D341) -> 6892 | E13: =SUM('Odbor celkem'!E341) -> 6144 | F13: =E13/D13*100 -> 89.146837
A14: • | B14: Fond na podporu výstavby a obnovy vodohospodářské infrastruktury na území Olomouckého kraje | C14: =SUM('Odbor celkem'!C342) -> 40000 | D14: =SUM('Odbor celkem'!D342) -> 64235 | E14: =SUM('Odbor celkem'!E342) -> 61048 | F14: =E14/D14*100 -> 95.03853
A15: Výdaje Olomouckého kraje celkem | C15: =SUM(C10:C14) -> 4382763 | D15: =SUM(D10:D14) -> 10949961 | E15: =SUM(E10:E14) -> 10093413 | F15: =E15/D15*100 -> 92.177616
A16: Konsolidace * | C16: =SUM('Odbor celkem'!C344) -> 6359 | D16: =SUM('Odbor celkem'!D344) -> 6371 | E16: =SUM('Odbor celkem'!E344) -> 47061 | F16: =(E16/D16)*100 -> 738.67525
A17: Výdaje Olomouckého kraje (po konsolidaci) | C17: =C15-C16 -> 4376404 | D17: =D15-D16 -> 10943590 | E17: =E15-E16 -> 10046352 | F17: =(E17/D17)*100 -> 91.801246
A22: b) dle druhu výdajů
F23: v tis. Kč
A24: Výdaje | C24: schválený rozpočet | D24: upravený rozpočet | E24: skutečnost | F24: %
A25: 1 | C25: 2 | D25: 3 | E25: 4 | F25: 5 = 4 / 3
A26: • Běžné výdaje | C26: =SUM('Odbor celkem'!C347) -> 3180181 | D26: =SUM('Odbor celkem'!D347) -> 9360578 | E26: =SUM('Odbor celkem'!E347) -> 8708265 | F26: =E26/D26*100 -> 93.031274
A27: • Kapitálové výdaje | C27: =SUM('Odbor celkem'!C348) -> 1202582 | D27: =SUM('Odbor celkem'!D348) -> 1589383 | E27: =SUM('Odbor celkem'!E348) -> 1385148 | F27: =E27/D27*100 -> 87.150045
A28: Výdaje celkem | C28: =SUM(C26:C27) -> 4382763 | D28: =SUM(D26:D27) -> 10949961 | E28: =SUM(E26:E27) -> 10093413 | F28: =E28/D28*100 -> 92.177616
A29: Konsolidace * | C29: =SUM('Odbor celkem'!C350) -> 6359 | D29: =SUM('Odbor celkem'!D350) -> 6371 | E29: =SUM('Odbor celkem'!E350) -> 47061 | F29: =(E29/D29)*100 -> 738.67525
A30: Výdaje Olomouckého kraje (po konsolidaci) | C30: =C28-C29 -> 4376404 | D30: =D28-D29 -> 10943590 | E30: =E28-E29 -> 10046352 | F30: =(E30/D30)*100 -> 91.801246
A32: * Konsolidace je očištění údajů o rozpočtu a skutečnosti o interní přesuny peněžních prostředků uvnitř organizace mezi jednotlivými účty.

Sheet Odbor celkem
A1: 3. Plnění rozpočtu výdajů Olomouckého kraje k 31.12.2011
A3: Rekapitulace
F4: v tis. Kč
A5: Odbor (kancelář) | B5: ORJ | C5: schválený rozpočet | D5: upravený rozpočet | E5: skutečnost | F5: %
A6: 1 | B6: 2 | C6: 3 | D6: 4 | E6: 5 | F6: 6=5/4
A7: Zastupitelé | B7: 1 | C7: =SUM(C8:C12) -> 39088 | D7: =SUM(D8:D12) -> 38618 | E7: =SUM(E8:E12) -> 31857 | F7: =E7/D7*100 -> 82.49262 | G7: =SUM(G8:G12) -> 39088000 | H7: =SUM(H8:H12) -> 38618000 | I7: =SUM(I8:I12) -> 31857157
A8: - provozní výdaje | C8: 38815 | D8: =SUM('01 '!F81) -> 38135 | E8: =SUM('01 '!G81) -> 31494 | F8: =E8/D8*100 -> 82.585551 | G8: 38815000 | H8: 38135000 | I8: =31492408.03+1384 -> 31493792
A9: - investiční výdaje | C9: ='01 '!E82 -> 0 | D9: ='01 '!F82 -> 200 | E9: ='01 '!G82 -> 120 | F9: =E9/D9*100 -> 60 | G9: 0 | H9: 200000 | I9: 120489
A10: - účelové neinvestiční dotace | C10: ='01 '!E83 -> 0 | D10: ='01 '!F83 -> 10 | E10: ='01 '!G83 -> 5 | F10: =E10/D10*100 -> 50 | G10: 0 | H10: 10000 | I10: 5275.62
A11: - účelové investiční dotace | C11: ='01 '!E84 -> 0 | D11: ='01 '!F84 -> 0 | E11: ='01 '!G84 -> 0 | F11: 0 | G11: 0 | H11: 0 | I11: 0
A12: - konsolidace | C12: =SUM('01 '!E85) -> 273 | D12: =SUM('01 '!F85) -> 273 | E12: =SUM('01 '!G85) -> 238 | F12: =E12/D12*100 -> 87.179487 | G12: 273000 | H12: 273000 | I12: 237600
A13: Kancelář hejtmana | B13: 2 | C13: =SUM(C14:C17) -> 75041 | D13: =SUM(D14:D17) -> 97377 | E13: =SUM(E14:E17) -> 80360 | F13: =E13/D13*100 -> 82.524621 | G13: =SUM(G14:G17) -> 75041000 | H13: =SUM(H14:H17) -> 97376846 | I13: =SUM(I14:I17) -> 80359846
A14: - provozní výdaje | C14: ='02'!E182 -> 68841 | D14: ='02'!F182 -> 67566 | E14: ='02'!G182 -> 58807 | F14: =E14/D14*100 -> 87.036379 | G14: 68841000 | H14: 67566717 | I14: 58806341
A15: - investiční výdaje | C15: ='02'!E183 -> 6200 | D15: ='02'!F183 -> 16451 | E15: ='02'!G183 -> 16227 | F15: =E15/D15*100 -> 98.638381 | G15: 6200000 | H15: 16450703 | I15: 16227120
A16: - účelové neinvestiční dotace | C16: ='02'!E184 -> 0 | D16: ='02'!F184 -> 13360 | E16: ='02'!G184 -> 5326 | F16: =E16/D16*100 -> 39.865269 | G16: 0 | H16: 13359426 | I16: 5326385
A17: - účelové investiční dotace | C17: ='02'!E185 -> 0 | D17: ='02'!F185 -> 0 | E17: ='02'!G185 -> 0 | F17: 0 | G17: 0 | H17: 0 | I17: 0
A18: Kancelář ředitele | B18: 3 | C18: =SUM(C19:C23) -> 307350 | D18: =SUM(D19:D23) -> 305594 | E18: =SUM(E19:E23) -> 294029 | F18: =E18/D18*100 -> 96.215567 | G18: =SUM(G19:G23) -> 307350000 | H18: =SUM(H19:H23) -> 3.0559441e+08 | I18: =SUM(I19:I23) -> 2.9402892e+08
A19: - provozní výdaje | C19: =SUM('03'!E118) -> 297164 | D19: =SUM('03'!F118) -> 293337 | E19: =SUM('03'!G118) -> 283973 | F19: =E19/D19*100 -> 96.807767 | G19: 297164000 | H19: 2.9333726e+08 | I19: =283772841.43+200953 -> 2.8397379e+08
A20: - investiční výdaje | C20: ='03'!E119 -> 4100 | D20: ='03'!F119 -> 5236 | E20: ='03'!G119 -> 4094 | F20: =E20/D20*100 -> 78.189458 | G20: 4100000 | H20: 5236450 | I20: 4093425.3
A21: - účelové neinvestiční dotace | C21: ='03'!E120 -> 0 | D21: ='03'!F120 -> 923 | E21: ='03'!G120 -> 555 | F21: =E21/D21*100 -> 60.130011 | G21: 0 | H21: 922654 | I21: 554599.15
A22: - účelové investiční dotace | C22: ='03'!E121 -> 0 | D22: 0 | E22: 0 | F22: 0 | G22: 0 | H22: 0 | I22: 0
A23: - konsolidace | C23: =SUM('03'!E122) -> 6086 | D23: =SUM('03'!F122) -> 6098 | E23: =SUM('03'!G122) -> 5407 | F23: =E23/D23*100 -> 88.668416 | G23: 6086000 | H23: 6098050 | I23: 5407100
A24: Odbor majetkový a právní | B24: 4 | C24: =SUM(C25:C28) -> 34765 | D24: =SUM(D25:D28) -> 25483 | E24: =SUM(E25:E28) -> 24552 | F24: =E24/D24*100 -> 96.346584 | G24: =SUM(G25:G28) -> 34765000 | H24: =SUM(H25:H28) -> 25483265 | I24: =SUM(I25:I28) -> 24552141
A25: - provozní výdaje | C25: ='04'!E42 -> 22807 | D25: ='04'!F42 -> 21444 | E25: ='04'!G42 -> 20876 | F25: =E25/D25*100 -> 97.35124 | G25: 22807000 | H25: 21444046 | I25: 20876081
A26: - investiční výdaje | C26: ='04'!E43 -> 11958 | D26: ='04'!F43 -> 3610 | E26: ='04'!G43 -> 3247 | F26: =E26/D26*100 -> 89.944598 | G26: 11958000 | H26: 3610604 | I26: 3247445.1
A27: - účelové neinvestiční dotace | C27: ='04'!E44 -> 0 | D27: ='04'!F44 -> 0 | E27: ='04'!G44 -> 0 | F27: 0 | G27: 0 | H27: 0 | I27: 0
A28: - účelové investiční dotace | C28: ='04'!E45 -> 0 | D28: ='04'!F45 -> 429 | E28: ='04'!G45 -> 429 | F28: 0 | G28: 0 | H28: 428614.9 | I28: 428614.9
A29: Odbor správní a legislativní | B29: 5 | C29: =SUM(C30:C33) -> 50 | D29: =SUM(D30:D33) -> 50 | E29: =SUM(E30:E33) -> 12 | F29: 0 | G29: =SUM(G30:G33) -> 50000 | H29: =SUM(H30:H33) -> 50000 | I29: =SUM(I30:I33) -> 12000
A30: - provozní výdaje | C30: ='05'!E16 -> 50 | D30: ='05'!F16 -> 50 | E30: ='05'!G16 -> 12 | F30: 0 | G30: 50000 | H30: 50000 | I30: 12000
A31: - investiční výdaje | C31: ='05'!E17 -> 0 | D31: ='05'!F17 -> 0 | E31: ='05'!G17 -> 0 | F31: 0 | G31: 0 | H31: 0 | I31: 0
A32: - účelové neinvestiční dotace | C32: ='05'!E18 -> 0 | D32: ='05'!F18 -> 0 | E32: ='05'!G18 -> 0 | F32: 0 | G32: 0 | H32: 0 | I32: 0
A33: - účelové investiční dotace | C33: ='05'!E19 -> 0 | D33: ='05'!F19 -> 0 | E33: ='05'!G19 -> 0 | F33: 0 | G33: 0 | H33: 0 | I33: 0
A34: Odbor informatiky | B34: 6 | C34: =SUM(C35:C38) -> 26969 | D34: =SUM(D35:D38) -> 26069 | E34: =SUM(E35:E38) -> 23164 | F34: =E34/D34*100 -> 88.856496 | G34: =SUM(G35:G38) -> 26969000 | H34: =SUM(H35:H38) -> 26069000 | I34: =SUM(I35:I38) -> 23164203
A35: - provozní výdaje | C35: ='06'!E37 -> 23969 | D35: ='06'!F37 -> 23069 | E35: ='06'!G37 -> 21138 | F35: =E35/D35*100 -> 91.629459 | G35: 23969000 | H35: 23069000 | I35: 21138555
A36: - investiční výdaje | C36: ='06'!E38 -> 3000 | D36: ='06'!F38 -> 3000 | E36: ='06'!G38 -> 2026 | F36: =E36/D36*100 -> 67.533333 | G36: 3000000 | H36: 3000000 | I36: 2025648
A37: - účelové neinvestiční dotace | C37: ='06'!E39 -> 0 | D37: ='06'!F39 -> 0 | E37: ='06'!G39 -> 0 | F37: 0 | G37: 0 | H37: 0 | I37: 0
A38: - účelové investiční dotace | C38: ='06'!E40 -> 0 | D38: ='06'!F40 -> 0 | E38: ='06'!G40 -> 0 | F38: 0 | G38: 0 | H38: 0 | I38: 0
A39: Odbor ekonomický | B39: 7 | C39: =SUM(C40:C44) -> 155978 | D39: =SUM(D40:D44) -> 433425 | E39: =SUM(E40:E44) -> 55549 | F39: =E39/D39*100 -> 12.816289 | G39: =SUM(G40:G44) -> 155978000 | H39: =SUM(H40:H44) -> 4.3342532e+08 | I39: =SUM(I40:I44) -> 55548662
A40: - provozní výdaje | C40: ='07'!E52 -> 155978 | D40: ='07'!F52 -> 432144 | E40: ='07'!G52 -> 55549 | F40: =E40/D40*100 -> 12.85428 | G40: 155978000 | H40: 4.3214451e+08 | I40: 55548662
A41: - investiční výdaje | C41: ='07'!E53 -> 0 | D41: ='07'!F53 -> 0 | E41: ='07'!G53 -> 0 | F41: 0 | G41: 0 | H41: 0 | I41: 0
A42: - účelové neinvestiční dotace | C42: ='07'!E54 -> 0 | D42: ='07'!F54 -> 1281 | E42: ='07'!G54 -> 0 | F42: =E42/D42*100 -> 0 | G42: 0 | H42: 1280803 | I42: 0
A43: - účelové investiční dotace | C43: ='07'!E55 -> 0 | D43: ='07'!F55 -> 0 | E43: ='07'!G55 -> 0 | F43: 0 | G43: 0 | H43: 0 | I43: 0
A44: - konsolidace | C44: 0 | D44: 0 | E44: 0 | F44: 0 | G44: 0 | H44: 0 | I44: 0
A45: Odbor strategického rozvoje kraje | B45: 8 | C45: =SUM(C46:C49) -> 79494 | D45: =SUM(D46:D49) -> 87142 | E45: =SUM(E46:E49) -> 80643 | F45: =E45/D45*100 -> 92.542058 | G45: =SUM(G46:G49) -> 79494000 | H45: =SUM(H46:H49) -> 87142159 | I45: =SUM(I46:I49) -> 80642964
A46: - provozní výdaje | C46: ='08'!E140 -> 65867 | D46: ='08'!F140 -> 39227 | E46: ='08'!G140 -> 33755 | F46: =E46/D46*100 -> 86.050424 | G46: 65867000 | H46: =39334659-107459 -> 39227200 | I46: 33753809
A47: - investiční výdaje | C47: ='08'!E141 -> 13627 | D47: ='08'!F141 -> 47076 | E47: ='08'!G141 -> 46107 | F47: =E47/D47*100 -> 97.941626 | G47: 13627000 | H47: 47076000 | I47: 46107372
A48: - účelové neinvestiční dotace | C48: ='08'!E142 -> 0 | D48: ='08'!F142 -> 839 | E48: ='08'!G142 -> 781 | F48: 0 | G48: 0 | H48: =731500+107459 -> 838959 | I48: 781783.06
A49: - účelové investiční dotace | C49: ='08'!E143 -> 0 | D49: ='08'!F143 -> 0 | E49: ='08'!G143 -> 0 | F49: 0 | G49: 0 | H49: 0 | I49: 0
A50: Odbor životního prostředí a zemědělství | B50: 9 | C50: =SUM(C51:C54) -> 25202 | D50: =SUM(D51:D54) -> 48485 | E50: =SUM(E51:E54) -> 47824 | F50: =E50/D50*100 -> 98.636692 | G50: =SUM(G51:G54) -> 25202000 | H50: =SUM(H51:H54) -> 48484752 | I50: =SUM(I51:I54) -> 47823640
A51: - provozní výdaje | C51: ='09'!E123 -> 25202 | D51: ='09'!F123 -> 27023 | E51: ='09'!G123 -> 26362 | F51: =E51/D51*100 -> 97.553936 | G51: 25202000 | H51: 27022000 | I51: 26360888 | K51: =SUM(G8,G14,G19,G25,G30,G35,G40,G46,G51) -> 698693000 | L51: =SUM(H8,H14,H19,H25,H30,H35,H40,H46,H51) -> 9.4199574e+08 | M51: =SUM(I8,I14,I19,I25,I30,I35,I40,I46,I51) -> 5.3196392e+08 | N51: provoz
A52: - investiční výdaje | C52: ='09'!E124 -> 0 | D52: ='09'!F124 -> 9696 | E52: ='09'!G124 -> 9696 | F52: =E52/D52*100 -> 100 | G52: 0 | H52: 9696000 | I52: 9696000 | K52: =SUM(G9,G15,G20,G26,G31,G36,G41,G47,G52) -> 38885000 | L52: =SUM(H9,H15,H20,H26,H31,H36,H41,H47,H52) -> 85269757 | M52: =SUM(I9,I15,I20,I26,I31,I36,I41,I47,I52) -> 81517499 | N52: investice
A53: - účelové neinvestiční dotace | C53: ='09'!E125 -> 0 | D53: ='09'!F125 -> 6503 | E53: ='09'!G125 -> 6503 | F53: =E53/D53*100 -> 100 | G53: 0 | H53: 6503599 | I53: 6503599 | K53: =SUM(G10,G16,G21,G27,G32,G37,G42,G48,G53) -> 0 | L53: =SUM(H10,H16,H21,H27,H32,H37,H42,H48,H53) -> 22915441 | M53: =SUM(I10,I16,I21,I27,I32,I37,I42,I48,I53) -> 13171642 | N53: neinv.dot.
A54: - účelové investiční dotace | C54: ='09'!E126 -> 0 | D54: ='09'!F126 -> 5263 | E54: ='09'!G126 -> 5263 | F54: =E54/D54*100 -> 100 | G54: 0 | H54: 5263152.9 | I54: 5263152.9 | K54: =SUM(G11,G17,G22,G28,G33,G38,G43,G49,G54) -> 0 | L54: =SUM(H11,H17,H22,H28,H33,H38,H43,H49,H54) -> 5691767.8 | M54: =SUM(I11,I17,I22,I28,I33,I38,I43,I49,I54) -> 5691767.8 | N54: inv.dot.
C55: =SUM(C51,C46,C40,C35,C30,C25,C19,C14,C8) -> 698693 | D55: =SUM(D51,D46,D40,D35,D30,D25,D19,D14,D8) -> 941995 | E55: =SUM(E51,E46,E40,E35,E30,E25,E19,E14,E8) -> 531966 | F55: provoz | K55: =SUM(G12,G18,G23,G29,G34,G39,G44,G50,G55) -> 521908000
C56: =SUM(C52,C47,C41,C36,C31,C26,C20,C15,C9) -> 38885 | D56: =SUM(D52,D47,D41,D36,D31,D26,D20,D15,D9) -> 85269 | E56: =SUM(E52,E47,E41,E36,E31,E26,E20,E15,E9) -> 81517 | F56: inv. | K56: =SUM(G13,G19,G24,G30,G35,G40,G45,G51,G56) -> 691663000
C57: =SUM(C53,C48,C42,C37,C32,C27,C21,C16,C10) -> 0 | D57: =SUM(D53,D48,D42,D37,D32,D27,D21,D16,D10) -> 22916 | E57: =SUM(E53,E48,E42,E37,E32,E27,E21,E16,E10) -> 13170 | F57: neinv.dot. | K57: =SUM(G14,G20,G25,G31,G36,G41,G46,G52,G57) -> 164615000
C58: =SUM(C54,C49,C43,C38,C33,C28,C22,C17,C11) -> 0 | D58: =SUM(D54,D49,D43,D38,D33,D28,D22,D17,D11) -> 5692 | E58: =SUM(E54,E49,E43,E38,E33,E28,E22,E17,E11) -> 5692 | F58: inv.dot | K58: =SUM(G15,G21,G26,G32,G37,G42,G47,G53,G58) -> 31785000
C59: =SUM(C12,C23,C44) -> 6359 | D59: =SUM(D12,D23,D44) -> 6371 | E59: =SUM(E12,E23,E44) -> 5645 | F59: konsolidace | K59: =SUM(G16,G22,G27,G33,G38,G43,G48,G54,G59) -> 0
C60: =SUM(C55:C59) -> 743937 | D60: =SUM(D55:D59) -> 1062243 | E60: =SUM(E55:E59) -> 637990 | F60: celkem | K60: =SUM(G17,G23,G28,G34,G39,G44,G49,G55,G60) -> 189033000
K61: =SUM(G18,G24,G29,G35,G40,G45,G50,G56,G61) -> 626808000
C62: =C7+C13+C18+C24+C29+C34+C39+C45+C50 -> 743937 | D62: =D7+D13+D18+D24+D29+D34+D39+D45+D50 -> 1062243 | E62: =E7+E13+E18+E24+E29+E34+E39+E45+E50 -> 637990 | F62: kontr.součet | K62: =SUM(G19,G25,G30,G36,G41,G46,G51,G57,G62) -> 414090000
C63: =SUM(C7,C13,C18,C24,C29,C34,C39,C45,C50) -> 743937 | D63: =SUM(D7,D13,D18,D24,D29,D34,D39,D45,D50) -> 1062243 | E63: =SUM(E7,E13,E18,E24,E29,E34,E39,E45,E50) -> 637990 | G63: =SUM(G50,G45,G39,G34,G29,G24,G18,G13,G7) -> 743937000 | H63: =SUM(H50,H45,H39,H34,H29,H24,H18,H13,H7) -> 1.0622438e+09 | I63: =SUM(I50,I45,I39,I34,I29,I24,I18,I13,I7) -> 6.3798953e+08 | K63: =SUM(G12,G23,G44) -> 6359000 | L63: =SUM(H12,H23,H44) -> 6371050 | M63: =SUM(I12,I23,I44) -> 5644700 | N63: konsolidace
A64: provozní | C64: =SUM(C8,C10,C12,C14,C16,C19,C21,C23,C25,C27,C30,C32,C35,C37,C40,C42,C46,C48,C51,C53) -> 705052 | D64: =SUM(D8,D10,D12,D14,D16,D19,D21,D23,D25,D27,D30,D32,D35,D37,D40,D42,D46,D48,D51,D53) -> 971282 | E64: =SUM(E8,E10,E12,E14,E16,E19,E21,E23,E25,E27,E30,E32,E35,E37,E40,E42,E46,E48,E51,E53) -> 550781 | F64: =SUM(F8,F10,F12,F14,F16,F19,F21,F23,F25,F27,F30,F32,F35,F37,F40,F42,F46,F48,F51,F53) -> 1077.7122 | G64: =SUM(G8,G10,G12,G14,G16,G19,G21,G23,G25,G27,G30,G32,G35,G37,G40,G42,G46,G48,G51,G53) -> 705052000 | H64: =SUM(H8,H10,H12,H14,H16,H19,H21,H23,H25,H27,H30,H32,H35,H37,H40,H42,H46,H48,H51,H53) -> 9.7128223e+08 | I64: =SUM(I8,I10,I12,I14,I16,I19,I21,I23,I25,I27,I30,I32,I35,I37,I40,I42,I46,I48,I51,I53) -> 5.5078026e+08 | K64: =K51+K52+K53+K54+K63 -> 743937000 | L64: =L51+L52+L53+L54+L63 -> 1.0622438e+09 | M64: =M51+M52+M53+M54+M63 -> 6.3798953e+08 | N64: celkem
A65: kapitálové | C65: =SUM(C54,C52,C49,C47,C43,C41,C38,C36,C33,C31,C28,C26,C22,C20,C17,C15,C11,C9) -> 38885 | D65: =SUM(D54,D52,D49,D47,D43,D41,D38,D36,D33,D31,D28,D26,D22,D20,D17,D15,D11,D9) -> 90961 | E65: =SUM(E54,E52,E49,E47,E43,E41,E38,E36,E33,E31,E28,E26,E22,E20,E17,E15,E11,E9) -> 87209 | F65: =SUM(F54,F52,F49,F47,F43,F41,F38,F36,F33,F31,F28,F26,F22,F20,F17,F15,F11,F9) -> 692.2474 | G65: =SUM(G54,G52,G49,G47,G43,G41,G38,G36,G33,G31,G28,G26,G22,G20,G17,G15,G11,G9) -> 38885000 | H65: =SUM(H54,H52,H49,H47,H43,H41,H38,H36,H33,H31,H28,H26,H22,H20,H17,H15,H11,H9) -> 90961525 | I65: =SUM(I54,I52,I49,I47,I43,I41,I38,I36,I33,I31,I28,I26,I22,I20,I17,I15,I11,I9) -> 87209267
C66: =SUM(C64:C65) -> 743937 | D66: =SUM(D64:D65) -> 1062243 | E66: =SUM(E64:E65) -> 637990 | F66: =SUM(F64:F65) -> 1769.9596 | G66: =SUM(G64:G65) -> 743937000 | H66: =SUM(H64:H65) -> 1.0622438e+09 | I66: =SUM(I64:I65) -> 6.3798953e+08
F67: v tis. Kč
A68: Odbor (kancelář) | B68: ORJ | C68: schválený rozpočet | D68: upravený rozpočet | E68: skutečnost | F68: %
A69: 1 | B69: 2 | C69: 3 | D69: 4 | E69: 5 | F69: 6=5/4
A70: Odbor školství, mládeže a tělovýchovy | B70: 10 | C70: =SUM(C71,C76,C81,C86) -> 486556 | D70: =SUM(D71,D76,D81,D86) -> 5648298 | E70: =SUM(E71,E76,E81,E86) -> 5647673 | F70: =E70/D70*100 -> 99.988935 | G70: =SUM(G71,G76,G81,G86) -> 486556000 | H70: =SUM(H71,H76,H81,H86) -> 5.6482984e+09 | I70: =SUM(I71,I76,I81,I86) -> 5.6476731e+09
A71: odbor | C71: =SUM(C72:C75) -> 70986 | D71: =SUM(D72:D75) -> 114169 | E71: =SUM(E72:E75) -> 113587 | F71: =E71/D71*100 -> 99.490229 | G71: =SUM(G72:G75) -> 70986000 | H71: =SUM(H72:H75) -> 1.141697e+08 | I71: =SUM(I72:I75) -> 1.1358623e+08
A72: - provozní výdaje | C72: ='10'!E296 -> 57486 | D72: ='10'!F296 -> 92989 | E72: ='10'!G296 -> 92407 | F72: =E72/D72*100 -> 99.37412 | G72: 57486000 | H72: 92989704 | I72: 92406227
A73: - investiční výdaje | C73: ='10'!E297 -> 13500 | D73: ='10'!F297 -> 21180 | E73: ='10'!G297 -> 21180 | F73: =E73/D73*100 -> 100 | G73: 13500000 | H73: 21180000 | I73: 21180000
A74: - účelové neinvestiční dotace | C74: ='10'!E298 -> 0 | D74: ='10'!F298 -> 0 | E74: ='10'!G298 -> 0 | F74: 0
A75: - účelové investiční dotace | C75: ='10'!E299 -> 0 | D75: ='10'!F299 -> 0 | E75: ='10'!G299 -> 0 | F75: 0
A76: příspěvkové organizace | C76: =SUM(C77:C80) -> 415570 | D76: =SUM(D77:D80) -> 2514009 | E76: =SUM(E77:E80) -> 2513987 | F76: =E76/D76*100 -> 99.999125 | G76: =SUM(G77:G80) -> 415570000 | H76: =SUM(H77:H80) -> 2.5140089e+09 | I76: =SUM(I77:I80) -> 2.5139875e+09
A77: - provozní výdaje | C77: ='10'!E302 -> 415570 | D77: ='10'!F302 -> 419570 | E77: ='10'!G302 -> 419560 | F77: =E77/D77*100 -> 99.997617 | G77: 415570000 | H77: 4.1956958e+08 | I77: 4.1955979e+08
A78: - investiční výdaje | C78: ='10'!E303 -> 0 | D78: ='10'!F303 -> 38729 | E78: ='10'!G303 -> 38729 | F78: =E78/D78*100 -> 100 | G78: 0 | H78: 38729441 | I78: 38729441
A79: - účelové neinvestiční dotace | C79: ='10'!E304 -> 0 | D79: ='10'!F304 -> 2055185 | E79: ='10'!G304 -> 2055173 | F79: =E79/D79*100 -> 99.999416 | G79: 0 | H79: 2.0551849e+09 | I79: 2.0551733e+09
A80: - účelové investiční dotace | C80: ='10'!E305 -> 0 | D80: ='10'!F305 -> 525 | E80: ='10'!G305 -> 525 | F80: =E80/D80*100 -> 100 | G80: 0 | H80: 525000 | I80: 525000
A81: soukromé školy | C81: =SUM(C82:C85) -> 0 | D81: =SUM(D82:D85) -> 235184 | E81: =SUM(E82:E85) -> 235178 | F81: =E81/D81*100 -> 99.997449 | G81: =SUM(G82:G85) -> 0 | H81: =SUM(H82:H85) -> 2.3518404e+08 | I81: =SUM(I82:I85) -> 2.3517802e+08
A82: - provozní výdaje | C82: ='10'!E308 -> 0 | D82: ='10'!F308 -> 246 | E82: ='10'!G308 -> 240 | F82: =E82/D82*100 -> 97.560976 | G82: 0 | H82: 246200 | I82: 240178
A83: - investiční výdaje | C83: ='10'!E309 -> 0 | D83: ='10'!F309 -> 0 | E83: ='10'!G309 -> 0 | F83: 0 | G83: 0 | H83: 0 | I83: 0
A84: - účelové neinvestiční dotace | C84: ='10'!E310 -> 0 | D84: ='10'!F310 -> 234938 | E84: ='10'!G310 -> 234938 | F84: =E84/D84*100 -> 100 | G84: 0 | H84: 2.3493784e+08 | I84: 2.3493784e+08
A85: - účelové investiční dotace | C85: ='10'!E311 -> 0 | D85: ='10'!F311 -> 0 | E85: ='10'!G311 -> 0 | F85: 0 | G85: 0 | H85: 0 | I85: 0
A86: obecní školy | C86: =SUM(C87:C90) -> 0 | D86: =SUM(D87:D90) -> 2784936 | E86: =SUM(E87:E90) -> 2784921 | F86: =E86/D86*100 -> 99.999461 | G86: =SUM(G87:G90) -> 0 | H86: =SUM(H87:H90) -> 2784935715 | I86: =SUM(I87:I90) -> 2.7849213e+09
A87: - provozní výdaje | C87: ='10'!E314 -> 0 | D87: ='10'!F314 -> 0 | E87: ='10'!G314 -> 0 | F87: 0 | G87: 0 | H87: 0 | I87: 0
A88: - investiční výdaje | C88: ='10'!E315 -> 0 | D88: ='10'!F315 -> 0 | E88: ='10'!G315 -> 0 | F88: 0 | G88: 0 | H88: 0 | I88: 0
A89: - účelové neinvestiční dotace | C89: ='10'!E316 -> 0 | D89: ='10'!F316 -> 2784936 | E89: ='10'!G316 -> 2784921 | F89: =E89/D89*100 -> 99.999461 | G89: 0 | H89: 2784935715 | I89: 2.7849213e+09
A90: - účelové investiční dotace | C90: ='10'!E317 -> 0 | D90: ='10'!F317 -> 0 | E90: ='10'!G317 -> 0 | F90: 0 | G90: 0 | H90: 0 | I90: 0
A91: Odbor sociálních věcí | B91: 11 | C91: =C92+C97 -> 210442 | D91: =D92+D97 -> 253972 | E91: =E92+E97 -> 251367 | F91: =E91/D91*100 -> 98.974296 | G91: =SUM(G92,G97) -> 210442000 | H91: =SUM(H92,H97) -> 2.5397233e+08 | I91: =SUM(I92,I97) -> 2.5136752e+08
A92: odbor | C92: =SUM(C93:C96) -> 9968 | D92: =SUM(D93:D96) -> 17740 | E92: =SUM(E93:E96) -> 15166 | F92: =E92/D92*100 -> 85.490417 | G92: =SUM(G93:G96) -> 9968000 | H92: =SUM(H93:H96) -> 17740618 | I92: =SUM(I93:I96) -> 15166314
A93: - provozní výdaje | C93: ='11'!E619 -> 9968 | D93: ='11'!F619 -> 17382 | E93: ='11'!G619 -> 14808 | F93: =E93/D93*100 -> 85.191577 | G93: 9968000 | H93: 17382618 | I93: 14808314
A94: - investiční výdaje | C94: ='11'!E620 -> 0 | D94: ='11'!F620 -> 0 | E94: ='11'!G620 -> 0 | F94: 0 | G94: 0 | H94: 0 | I94: 0
A95: - účelové neinvestiční dotace | C95: ='11'!E621 -> 0 | D95: ='11'!F621 -> 358 | E95: ='11'!G621 -> 358 | F95: =E95/D95*100 -> 100 | G95: 0 | H95: 358000 | I95: 358000
A96: - účelové investiční dotace | C96: ='11'!E622 -> 0 | D96: ='11'!F622 -> 0 | E96: ='11'!G622 -> 0 | F96: 0 | G96: 0 | H96: 0 | I96: 0
A97: příspěvkové organizace | C97: =SUM(C98:C101) -> 200474 | D97: =SUM(D98:D101) -> 236232 | E97: =SUM(E98:E101) -> 236201 | F97: =E97/D97*100 -> 99.986877 | G97: =SUM(G98:G101) -> 200474000 | H97: =SUM(H98:H101) -> 2.3623171e+08 | I97: =SUM(I98:I101) -> 2.362012e+08
A98: - provozní výdaje | C98: ='11'!E625 -> 181500 | D98: ='11'!F625 -> 214826 | E98: ='11'!G625 -> 214825 | F98: =E98/D98*100 -> 99.999535 | G98: 181500000 | H98: 214825360 | I98: 214825360
A99: - investiční výdaje | C99: ='11'!E626 -> 18974 | D99: ='11'!F626 -> 18528 | E99: ='11'!G626 -> 18498 | F99: =E99/D99*100 -> 99.838083 | G99: 18974000 | H99: 18527975 | I99: 18497467
A100: - účelové neinvestiční dotace | C100: ='11'!E627 -> 0 | D100: ='11'!F627 -> 2878 | E100: ='11'!G627 -> 2878 | F100: =E100/D100*100 -> 100 | G100: 0 | H100: 2878375.9 | I100: 2878375.9
A101: - účelové investiční dotace | C101: ='11'!E628 -> 0 | D101: ='11'!F628 -> 0 | E101: ='11'!G628 -> 0 | F101: 0 | G101: 0 | H101: 0 | I101: 0
...

Sheet 01 
A1: 1) Zastupitelé | E1: ORJ - 01
A3: Správce: | C3: vedoucí kanceláře hejtmana
C4: Ing. Luděk Niče
A6: Provozní výdaje
H7: v tis. Kč
A8: § | B8: pol. | C8: UZ | D8: název položky | E8: schválený rozp. | F8: upravený rozp. | G8: skutečnost | H8: %
A9: 1 | B9: 2 | C9: 3 | D9: 4 | E9: 5 | F9: 6 | G9: 7 | H9: 8 = 7/ 6
A10: 6113 | B10: 5019 | D10: Ostatní platy | E10: 200 | F10: 175 | G10: 68 | H10: =(G10/F10)*100 -> 38.857143
A11: 6113 | B11: 5021 | D11: Ostatní osobní výdaje | E11: 4400 | F11: 4200 | G11: 3682 | H11: =(G11/F11)*100 -> 87.666667
A12: 6113 | B12: 5023 | D12: Odměny členů zastupitelstev obcí a krajů | E12: 11800 | F12: 11800 | G12: 11484 | H12: =(G12/F12)*100 -> 97.322034
A13: 6113 | B13: 5031 | D13: Pov.pojistné na sociální zabezpečení | E13: 1950 | F13: 1950 | G13: 1900 | H13: =(G13/F13)*100 -> 97.435897
A14: 6113 | B14: 5032 | D14: Pov.pojistné na veřejné zdrav.pojištění | E14: 1500 | F14: 1500 | G14: 1382 | H14: =(G14/F14)*100 -> 92.133333
A15: 6113 | B15: 5039 | D15: Ost. povinné pojistné placené zaměstn. | E15: 50 | F15: 50 | G15: 23 | H15: =(G15/F15)*100 -> 46
A16: 6113 | B16: 5136 | D16: Knihy, účební pomůcky a tisk | E16: 50 | F16: 50 | G16: 0 | H16: =(G16/F16)*100 -> 0
A17: 6113 | B17: 5137 | D17: Drobný hmotný inv. a neinv. majetek | E17: 1160 | F17: 680 | G17: 386 | H17: =(G17/F17)*100 -> 56.764706
A18: 6113 | B18: 5139 | D18: Nákup materiálu j. n. | E18: 1050 | F18: 1150 | G18: 1071 | H18: =(G18/F18)*100 -> 93.130435
A19: 6113 | B19: 5142 | D19: Realizované kurzové ztráty | E19: 20 | F19: 20 | G19: 0 | H19: =(G19/F19)*100 -> 0
A20: 6113 | B20: 5151 | D20: Studená voda | E20: 30 | F20: 35 | G20: 33 | H20: =(G20/F20)*100 -> 94.285714
A21: 6113 | B21: 5152 | D21: Teplo | E21: 170 | F21: 300 | G21: 227 | H21: =(G21/F21)*100 -> 75.666667
... A33: 6113 | B33: 5173 | D33: Cestovné | E33: 1600 | F33: 1845 | G33: 1558 | H33: =(G33/F33)*100 -> 84.444444
C34: 00000000 | D34: Provoz | E34: 1600 | F34: 1835 | G34: 1553 | H34: =(G34/F34)*100 -> 84.632153
C35: 00006001 | D35: MZV - Projekty krajů v rozvojových zemích | F35: 10 | G35: 5 | H35: =(G35/F35)*100 -> 50
A36: 6113 | B36: 5175 | D36: Pohoštění | E36: 1500 | F36: 2000 | G36: 1595 | H36: =(G36/F36)*100 -> 79.75
A37: 6113 | B37: 5176 | D37: Účastnické poplatky na konference | E37: 50 | F37: 65 | G37: 49 | H37: =(G37/F37)*100 -> 75.384615
A38: 6113 | B38: 5182 | D38: Poskytované zálohy vlastní pokladně | E38: 20 | F38: 20 | G38: 0 | H38: =(G38/F38)*100 -> 0
A39: 6113 | B39: 5189 | D39: Ostatní poskytované zálohy a jistiny | E39: 70 | F39: 70 | G39: 0 | H39: =(G39/F39)*100 -> 0
A40: 6113 | B40: 5194 | D40: Věcné dary | E40: 100 | F40: 0 | G40: 0 | H40: 0
A41: 6113 | B41: 5229 | D41: Ost.neinv.transfery neziskovým a pod. org. | E41: 1000 | F41: 1000 | G41: 700 | H41: =(G41/F41)*100 -> 70
A42: 6113 | B42: 5361 | D42: Nákup kolků | E42: 5 | F42: 5 | G42: 0 | H42: 0
A43: 6113 | B43: 5362 | D43: Platby daní a poplatků SR | E43: 5 | F43: 5 | G43: 0 | H43: 0
A44: 6113 | B44: 5424 | D44: Náhrady mezd v době nemoci | E44: 100 | F44: 100 | G44: 0 | H44: 0
A45: 6113 | B45: 5492 | D45: Dary obyvatelstvu | E45: 15 | F45: 15 | G45: 15 | H45: =(G45/F45)*100 -> 100
A46: 6113 | B46: 5499 | D46: Ostatní neinvestiční transfery ob. | G46: 1
A47: 6330 | B47: 5342 | D47: Převody FKSP a SF obcí a krajů | E47: 273 | F47: 273 | G47: 238 | H47: =(G47/F47)*100 -> 87.179487
A48: Provozní výdaje celkem | E48: =SUM(E36:E47,E10:E33) -> 39088 | F48: =SUM(F36:F47,F10:F33) -> 38418 | G48: =SUM(G36:G47,G10:G33) -> 31737 | H48: =(G48/F48)*100 -> 82.609714
A67: Investiční výdaje
H68: v tis. Kč
A69: § | B69: pol. | C69: UZ | D69: název položky | E69: schválený rozp. | F69: upravený rozp. | G69: skutečnost | H69: %
A70: 1 | B70: 2 | C70: 3 | D70: 4 | E70: 5 | F70: 6 | G70: 7 | H70: 8 = 7/ 6
A71: 6113 | B71: 6122 | D71: Stroje, přístroje a zařízení | F71: 50 | G71: 45 | H71: =(G71/F71)*100 -> 90
A72: 6113 | B72: 6127 | D72: Umělecká díla a předměty | F72: 150 | G72: 75 | H72: =(G72/F72)*100 -> 50
D73: posíleno:
D74: RZ 387/05 - přesun z ORJ 01, § 6113, pol.5321 | F74: 20000
A75: Investiční výdaje celkem | E75: 0 | F75: =F71+F72 -> 200 | G75: =G71+G72 -> 120 | H75: =(G75/F75)*100 -> 60
A80: Výdaje Zastupitelů | E80: =E81+E82+E83+E84+E85 -> 39088 | F80: =F81+F82+F83+F84+F85 -> 38618 | G80: =G81+G82+G83+G84+G85 -> 31857 | H80: =(G80/F80)*100 -> 82.49262
A81: -provozní výdaje | E81: =E48-E35-E47 -> 38815 | F81: =F48-F35-F47 -> 38135 | G81: =G48-G35-G47 -> 31494 | H81: =(G81/F81)*100 -> 82.585551
A82: -investiční výdaje | E82: =E75 -> 0 | F82: =F75 -> 200 | G82: =G75 -> 120 | H82: =(G82/F82)*100 -> 60
A83: -účelové neinvestiční dotace | E83: =E35 -> 0 | F83: =F35 -> 10 | G83: =G35 -> 5 | H83: =(G83/F83)*100 -> 50
A84: -účelové investiční dotace | E84: =E75 -> 0 | F84: 0 | G84: 0 | H84: 0
A85: -konsolidace | E85: =SUM(E47) -> 273 | F85: =SUM(F47) -> 273 | G85: =SUM(G47) -> 238 | H85: =(G85/F85)*100 -> 87.179487
A88: Zastupitelé celkem | E88: =SUM(E75,E48) -> 39088 | F88: =SUM(F75,F48) -> 38618 | G88: =SUM(G75,G48) -> 31857 | H88: =(G88/F88)*100 -> 82.49262

Sheet 02
A1: 2) Kancelář hejtmana | F1: ORJ - 02
A3: Správce: | C3: vedoucí kanceláře hejtmana
C4: Ing. Luděk Niče
A6: Provozní výdaje
H7: v tis. Kč
A8: § | B8: pol. | C8: UZ | D8: název položky | E8: schválený rozp. | F8: upravený rozp. | G8: skutečnost | H8: %
A9: 1 | B9: 2 | C9: 3 | D9: 4 | E9: 5 | F9: 6 | G9: 7 | H9: 8=7/6
A10: 2143 | B10: 5139 | D10: Nákup materiálu j.n. | E10: 300 | F10: 300 | G10: 300 | H10: =(G10/F10)*100 -> 100
C11: 00000500 | D11: Cestovní ruch | E11: 300 | F11: 300 | G11: 300 | H11: =(G11/F11)*100 -> 100
A12: 2143 | B12: 5166 | D12: Konzultační, poradenské a právní služby | F12: 560 | G12: 465 | H12: =(G12/F12)*100 -> 83.035714
C13: 00000000 | D13: Provoz | F13: 60 | G13: 60 | H13: =(G13/F13)*100 -> 100
C14: 00000500 | D14: Cestovní ruch | F14: 500 | G14: 405 | H14: =(G14/F14)*100 -> 81
A15: 2143 | B15: 5169 | D15: Nákup ostatních služeb | E15: 14470 | F15: =F16+F17+F18 -> 9408 | G15: =G16+G17+G18 -> 4599 | H15: =(G15/F15)*100 -> 48.883929
C16: 00000000 | D16: Provoz | E16: 7800 | F16: 4800 | G16: 644 | H16: =(G16/F16)*100 -> 13.416667
C17: 00000024 | D17: Přebytek hospodaření OK | F17: 315 | G17: 315 | H17: =(G17/F17)*100 -> 100
C18: 00000500 | D18: Cestovní ruch | E18: 6670 | F18: 4293 | G18: 3640 | H18: =(G18/F18)*100 -> 84.789192
A19: 2143 | B19: 5175 | D19: Pohoštění | E19: 15 | F19: 15 | G19: 15 | H19: =(G19/F19)*100 -> 100
C20: 00000500 | D20: Cestovní ruch | E20: 15 | F20: 15 | G20: 15 | H20: =(G20/F20)*100 -> 100
A21: 2143 | B21: 5212 | D21: Neinv.transfery nefin.podnik.subj.-FO | E21: 311 | F21: 541 | G21: 541 | H21: =(G21/F21)*100 -> 100
C22: 00000500 | D22: Cestovní ruch | F22: 230 | G22: 230 | H22: =(G22/F22)*100 -> 100
C23: 00000505 | D23: Úhrada za plnění firmě RNDr.Ivan Marek | E23: 311 | F23: 311 | G23: 311 | H23: =(G23/F23)*100 -> 100
A24: 2143 | B24: 5213 | D24: Neinv.transfery nefin.podn.subj.-PO | F24: 220 | G24: 220 | H24: =(G24/F24)*100 -> 100
C25: 00000500 | D25: Cestovní ruch | F25: 220 | G25: 220 | H25: =(G25/F25)*100 -> 100
A26: 2143 | B26: 5221 | D26: Neinv.transf.obecně prospěšným spol. | F26: 35 | G26: 35 | H26: =(G26/F26)*100 -> 100
C27: 00000500 | D27: Cestovní ruch | F27: 35 | G27: 35 | H27: =(G27/F27)*100 -> 100
A28: 2143 | B28: 5222 | D28: Neinvestiční transfery občanským sdružením | E28: 600 | F28: =F30+F31+F29 -> 1130 | G28: =G30+G31+G29 -> 1130 | H28: =(G28/F28)*100 -> 100
C29: 00000002 | D29: Příspěvky do 25 tis. Kč | F29: 50 | G29: 50 | H29: =(G29/F29)*100 -> 100
C30: 00000500 | D30: Cestovní ruch | F30: 680 | G30: 680 | H30: =(G30/F30)*100 -> 100
C31: 00000503 | D31: Fin.příspěvky Klubu českých turistů | E31: 600 | F31: 400 | G31: 400 | H31: =(G31/F31)*100 -> 100
A32: 2143 | B32: 5229 | D32: Ostatní neinv.transfery nezisk.a pod.org. | E32: =E33+E34+E35+E36+E37 -> 5963 | F32: =F33+F34+F35+F36+F37 -> 6453 | G32: =G33+G34+G35+G36+G37 -> 6377 | H32: =(G32/F32)*100 -> 98.822253
C33: 00000001 | D33: Významné projekty | F33: 490 | G33: 490 | H33: =(G33/F33)*100 -> 100
C34: 00000016 | D34: Ostatní příspěvky | E34: 2388 | F34: 0 | G34: 0 | H34: 0
C35: 00000500 | D35: Cestovní ruch | E35: 75 | F35: 75 | G35: 0 | H35: 0
C36: 00000504 | D36: Finanční příspěvek sdružení Jeseníky-Sdružení CR | E36: 2000 | F36: 3439 | G36: 3438 | H36: =(G36/F36)*100 -> 99.970922
C37: 00000504 | D37: Finanční příspěvek sdružení Střední Morava-Sdružení CR | E37: 1500 | F37: 2449 | G37: 2449 | H37: =(G37/F37)*100 -> 100
A39: 2143 | B39: 5321 | D39: Neinvestiční transfery obcím | E39: 600 | F39: 869 | G39: 867 | H39: =(G39/F39)*100 -> 99.76985
C40: 00000500 | D40: Cestovní ruch | E40: 600 | F40: 869 | G40: 867 | H40: =(G40/F40)*100 -> 99.76985
A41: 2143 | B41: 5323 | D41: Neinvestiční transfery krajům | E41: 300 | F41: 300 | G41: 300 | H41: =(G41/F41)*100 -> 100
C42: 00000500 | D42: Cestovní ruch | E42: 300 | F42: 300 | G42: 300 | H42: =(G42/F42)*100 -> 100
A43: 2143 | B43: 5329 | D43: Ost.neinv.transfery veř.rozpočtům úz.úrovně | F43: 50 | G43: 50 | H43: =(G43/F43)*100 -> 100
C44: 00000500 | D44: Cestovní ruch | F44: 50 | G44: 50 | H44: =(G44/F44)*100 -> 100
A45: 2143 | B45: 5331 | D45: Neinvestiční příspěvky zřízeným PO | F45: 150 | G45: 150 | H45: =(G45/F45)*100 -> 100
C46: 00000500 | D46: Cestovní ruch | F46: 150 | G46: 150 | H46: =(G46/F46)*100 -> 100
A47: 2143 | B47: 5339 | D47: Neinvestiční transfery cizím PO | F47: 25 | G47: 25 | H47: =(G47/F47)*100 -> 100
C48: 00000002 | D48: Příspěvky do 25 tis. Kč | F48: 25 | G48: 25 | H48: =(G48/F48)*100 -> 100
A49: 2143 | B49: 5629 | D49: Ost.neinv.půjčené prostř.neziskovým apod.org. | E49: 8925 | F49: =F52+F53 -> 8925 | G49: =G52+G53 -> 8925 | H49: =(G49/F49)*100 -> 100
C51: 00000000 | D51: Provoz | E51: 8925 | F51: 0 | G51: 0 | H51: 0
C52: 00000504 | D52: Finanční příspěvek sdružení Jeseníky-Sdružení CR | F52: 5131 | G52: 5131 | H52: =(G52/F52)*100 -> 100
C53: 00000504 | D53: Finanční příspěvek sdružení Střední Morava-Sdružení CR | F53: 3794 | G53: 3794 | H53: =(G53/F53)*100 -> 100
A55: 2144 | B55: 5169 | D55: Nákup ostatních služeb | E55: 1400 | F55: 802 | G55: 713 | H55: =(G55/F55)*100 -> 88.902743
A56: 2144 | B56: 5221 | D56: Neinv.transf.obecně prospěšným spol. | F56: 30 | G56: 30 | H56: =(G56/F56)*100 -> 100
C57: 00000016 | D57: Ostatní příspěvky | F57: 30 | G57: 30 | H57: =(G57/F57)*100 -> 100
A58: 2144 | B58: 5222 | D58: Neinvestiční transfery občanským sdružením | F58: 176 | G58: 147 | H58: =(G58/F58)*100 -> 83.522727
C59: 00000016 | D59: Ostatní příspěvky | F59: 176 | G59: 147 | H59: =(G59/F59)*100 -> 83.522727
A60: 2144 | B60: 5321 | D60: Neinvestiční transfery obcím | E60: 350 | F60: 477 | G60: 477 | H60: =(G60/F60)*100 -> 100
C61: 00000016 | D61: Ostatní příspěvky | F61: 127 | G61: 127 | H61: =(G61/F61)*100 -> 100
C62: 00000501 | D62: EUROPE DIRECT | E62: 350 | F62: 350 | G62: 350 | H62: =(G62/F62)*100 -> 100
A63: 2144 | B63: 5329 | D63: Ost.neinv.transfery veř.rozpočtům úz.úrovně | F63: 30 | G63: 30 | H63: =(G63/F63)*100 -> 100
C64: 00000016 | D64: Ostatní příspěvky | F64: 30 | G64: 30 | H64: =(G64/F64)*100 -> 100
A65: 2144 | B65: 5331 | D65: Neinvestiční příspěvky zřízeným PO | F65: 124 | G65: 117 | H65: =(G65/F65)*100 -> 94.354839
C66: 00000016 | D66: Ostatní příspěvky | F66: 124 | G66: 117 | H66: =(G66/F66)*100 -> 94.354839
A67: 2144 | B67: 5499 | D67: Ostatní neinv.transfery obyvatelstvu | E67: 50 | F67: 50 | G67: 23 | H67: =(G67/F67)*100 -> 46
A68: 2144 | B68: 5532 | D68: Ostatní neinv.transfery do zahraničí | F68: 60 | G68: 60 | H68: =(G68/F68)*100 -> 100
C69: 00000016 | D69: Ostatní příspěvky | F69: 60 | G69: 60 | H69: =(G69/F69)*100 -> 100 | J69: =E10+E15+E19+E21+E28+E32+E39+E41+E49+E55+E60+E67 -> 33284 | K69: =F10+F12+F15+F19+F21+F24+F26+F28+F32+F39+F41+F43+F45+F47+F49+F55+F56+F58+F60+F63+F65+F67+F68 -> 30730 | L69: =G10+G12+G15+G19+G21+G24+G26+G28+G32+G39+G41+G43+G45+G47+G49+G55+G56+G58+G60+G63+G65+G67+G68 -> 25596
H70: v tis. Kč
A71: § | B71: pol. | C71: UZ | D71: název položky | E71: schválený rozp. | F71: upravený rozp. | G71: skutečnost | H71: %
A72: 1 | B72: 2 | C72: 3 | D72: 4 | E72: 5 | F72: 6 | G72: 7 | H72: 8=7/6
A73: 2212 | B73: 5331 | D73: Neinvestiční příspěvky zřízeným PO | F73: 1231 | G73: 0 | H73: =(G73/F73)*100 -> 0
C74: 49595002 | D74: FS-A1.čištění, opr., obnova a rek.poškoz.infrastr.a veř.maj.-NIV | F74: 1231 | G74: 0 | H74: =(G74/F74)*100 -> 0
A76: 3341 | B76: 5169 | D76: Nákup ostatních služeb | E76: 3900 | F76: 3900 | G76: 3845 | H76: =(G76/F76)*100 -> 98.589744
C77: 00000510 | D77: Komunikační,publik.a propagační činnost | E77: 3900 | F77: 3900 | G77: 3845 | H77: =(G77/F77)*100 -> 98.589744
A78: 3349 | B78: 5169 | D78: Nákup ostatních služeb | F78: 6900 | G78: 6899 | H78: =(G78/F78)*100 -> 99.985507
C79: 00000510 | D79: Komunikační,publik.a propagační činnost | F79: 6900 | G79: 6899 | H79: =(G79/F79)*100 -> 99.985507
A80: 3349 | B80: 5341 | D80: Převody vlastním fondům hospodářské činnosti | E80: 6900 | F80: 0 | G80: 0 | H80: 0
C82: 00000510 | D82: Komunikační,publik.a propagační činnost | E82: 6900 | F82: 0 | G82: 0 | H82: 0
A83: 3429 | B83: 5222 | D83: Neinvestiční transfery občanským sdružením | F83: 600 | G83: 600 | H83: =(G83/F83)*100 -> 100
C84: 00000001 | D84: Významné projekty | F84: 600 | G84: 600 | H84: =(G84/F84)*100 -> 100
A85: 4349 | B85: 5222 | D85: Neinvestiční transfery občanským sdružením | F85: 20 | G85: 20 | H85: =(G85/F85)*100 -> 100
C86: 00000002 | D86: Příspěvky do 25 tis. Kč | F86: 20 | G86: 20 | H86: =(G86/F86)*100 -> 100
A87: 5272 | B87: 5168 | D87: Služby zpracování dat | E87: 200 | F87: 200 | G87: 200 | H87: =(G87/F87)*100 -> 100
A88: 5273 | B88: 5134 | D88: Prádlo, oděv a obuv | E88: 5 | F88: 38 | G88: 38 | H88: =(G88/F88)*100 -> 100
C89: 00000000 | D89: Provoz | E89: 5 | F89: 5 | G89: 5 | H89: =(G89/F89)*100 -> 100
C90: 00000024 | D90: Přebytek hospodaření OK | F90: 33 | G90: 33 | H90: =(G90/F90)*100 -> 100
A91: 5273 | B91: 5136 | D91: Knihy, učební pomůcky a tisk | E91: 2 | F91: 2 | G91: 1 | H91: =(G91/F91)*100 -> 50
A92: 5273 | B92: 5137 | D92: Drobný hmotný dlouhodobý majetek | E92: 5 | F92: 42 | G92: 42 | H92: =(G92/F92)*100 -> 100
C93: 00000000 | D93: Provoz | E93: 5 | F93: 5 | G93: 5 | H93: =(G93/F93)*100 -> 100
C94: 00000024 | D94: Přebytek hospodaření OK | F94: 38 | G94: 37 | H94: =(G94/F94)*100 -> 97.368421
A95: 5273 | B95: 5139 | D95: Nákup materiálu j. n. | E95: 310 | F95: 310 | G95: 301 | H95: =(G95/F95)*100 -> 97.096774
A96: 5273 | B96: 5164 | D96: Nájemné | E96: 75 | F96: 20 | G96: 20 | H96: =(G96/F96)*100 -> 100
A97: 5273 | B97: 5169 | D97: Nákup ostatních služeb | E97: 350 | F97: =F98+F99 -> 430 | G97: =G98+G99 -> 426 | H97: =(G97/F97)*100 -> 99.069767
C98: 00000000 | D98: Provoz | E98: 350 | F98: 350 | G98: 346 | H98: =(G98/F98)*100 -> 98.857143
C99: 00000009 | D99: Rezerva hejtmana pro krizové řízení | F99: 80 | G99: 80 | H99: =(G99/F99)*100 -> 100
A100: 5273 | B100: 5175 | D100: Pohoštění | E100: 175 | F100: 205 | G100: 199 | H100: =(G100/F100)*100 -> 97.073171
A101: 5273 | B101: 5192 | D101: Poskytnuté neinv.příspěvky a náhrady | F101: 25 | G101: 25 | H101: =(G101/F101)*100 -> 100
A102: 5273 | B102: 5222 | D102: Neinvestiční transfery občanským sdružením | E102: 200 | F102: 200 | G102: 200 | H102: =(G102/F102)*100 -> 100
C103: 00000016 | D103: Ostatní příspěvky | E103: 200 | F103: 200 | G103: 200 | H103: =(G103/F103)*100 -> 100
A104: 5273 | B104: 5901 | D104: Nespecifikované rezervy | E104: 7500 | F104: 3266 | G104: 0 | H104: 0
C105: 00000009 | D105: Rezerva hejtmana pro krizové řízení | E105: 7500 | F105: 0 | G105: 0 | H105: 0
C106: 00000024 | D106: Přebytek hospodaření OK | F106: 3266 | G106: 0 | H106: 0
A107: 5311 | B107: 5137 | D107: Drobný hmotný dlouhodobý majetek | F107: 731 | G107: 730 | H107: =(G107/F107)*100 -> 99.863201
...

Sheet 03
A1: 3) Kancelář ředitele | F1: ORJ - 03
A3: Správce: | C3: vedoucí kanceláře ředitele
C4: Mgr. Lenka Doleželová
A6: Provozní výdaje
H7: v tis. Kč
A8: § | B8: pol. | C8: UZ | D8: název položky | E8: schválený rozp. | F8: upravený rozp. | G8: skutečnost | H8: %
A9: 1 | B9: 2 | C9: 3 | D9: 4 | E9: 5 | F9: 6 | G9: 7 | H9: 8=7/6
A10: 6149 | B10: 5169 | D10: Nákup ostatních služeb | F10: 181 | G10: 0 | H10: 0
C11: 00098005 | D11: MF - Sčítání lidu, domů a bytů v roce 2011 | F11: 181 | G11: 0 | H11: 0
A12: 6172 | B12: 5011 | D12: Platy zaměstnanců v pracovním poměru | E12: 173887 | F12: 171695 | G12: 169703 | H12: =(G12/F12)*100 -> 98.839803
C13: 00000000 | D13: Provoz | E13: 173887 | F13: 170949 | G13: 169111 | H13: =(G13/F13)*100 -> 98.924826
C14: 00000508 | D14: Zastupování zájmů OK v Bruselu | F14: 430 | G14: 276 | H14: =(G14/F14)*100 -> 64.186047
C15: 00004001 | D15: MF - Podpora koordinátorů romských poradců | F15: 307 | G15: 307 | H15: =(G15/F15)*100 -> 100
C16: 00098074 | D16: MF - volby do zastupitelstev v obcích | F16: 9 | G16: 9 | H16: =(G16/F16)*100 -> 100
A17: 6172 | B17: 5021 | D17: Ostatní osobní výdaje | E17: 1500 | F17: =F18+F19+F21+F22+F23 -> 1855 | G17: =G18+G19+G21+G22+G23 -> 1414 | H17: =(G17/F17)*100 -> 76.226415
C18: 00000000 | D18: Provoz | E18: 1500 | F18: 1797 | G18: 1357 | H18: =(G18/F18)*100 -> 75.514747
C19: 00000413 | D19: Dobrovolnické možnosti podpory seniorů a sociálně vyloučených občanů v EU | F19: 3 | G19: 3 | H19: =(G19/F19)*100 -> 100
C21: 00006001 | D21: MZV - Projekty krajů v rozvojových zemích | F21: 22 | G21: 21 | H21: =(G21/F21)*100 -> 95.454545
C22: 00014005 | D22: MV - neinv.dot.obcím a krajům na projekty prevence kriminality | F22: 30 | G22: 30 | H22: =(G22/F22)*100 -> 100
C23: 00098074 | D23: MF - volby do zastupitelstev v obcích | F23: 3 | G23: 3 | H23: =(G23/F23)*100 -> 100
A24: 6172 | B24: 5024 | D24: Odstupné | E24: 300 | F24: 300 | G24: 0 | H24: =(G24/F24)*100 -> 0
A25: 6172 | B25: 5029 | D25: Ostatní platby za provedenou práci j.n. | E25: 100 | F25: 100 | G25: 0 | H25: =(G25/F25)*100 -> 0
A26: 6172 | B26: 5031 | D26: Pov.pojistné na sociální zabezpečení | E26: =E28 -> 43472 | F26: =F28+F29+F30+F31 -> 43789 | G26: =G28+G29+G30+G31 -> 42578 | H26: =(G26/F26)*100 -> 97.234465
D27: a příspěvek na st.pol.zam.
C28: 00000000 | D28: Provoz | E28: 43472 | F28: 43585 | G28: 42430 | H28: =(G28/F28)*100 -> 97.350006
C29: 00000508 | D29: Zastupování zájmů OK v Bruselu | F29: 125 | G29: 69 | H29: =(G29/F29)*100 -> 55.2
C30: 00004001 | D30: MF - Podpora koordinátorů romských poradců | F30: 77 | G30: 77 | H30: =(G30/F30)*100 -> 100
C31: 00098074 | D31: MF - volby do zastupitelstev v obcích | F31: 2 | G31: 2 | H31: =(G31/F31)*100 -> 100
A32: 6172 | B32: 5032 | D32: Povinné poj.na veřejné zdrav.pojištění | E32: =E33 -> 15650 | F32: =F33+F34+F35+F36 -> 15778 | G32: =G33+G34+G35+G36 -> 15327 | H32: =(G32/F32)*100 -> 97.14159
C33: 00000000 | D33: Provoz | E33: 15650 | F33: 15704 | G33: 15273 | H33: =(G33/F33)*100 -> 97.255476
C34: 00000508 | D34: Zastupování zájmů OK v Bruselu | F34: 45 | G34: 25 | H34: =(G34/F34)*100 -> 55.555556
C35: 00004001 | D35: MF - Podpora koordinátorů romských poradců | F35: 28 | G35: 28 | H35: =(G35/F35)*100 -> 100
C36: 00098074 | D36: MF - volby do zastupitelstev v obcích | F36: 1 | G36: 1 | H36: =(G36/F36)*100 -> 100
A37: 6172 | B37: 5038 | D37: Ost.povinné poj.hrazené zaměstn. | E37: 730 | F37: =F38+F39 -> 752 | G37: =G38+G39 -> 742 | H37: =(G37/F37)*100 -> 98.670213
C38: 00000000 | D38: Provoz | E38: 730 | F38: 750 | G38: 742 | H38: =(G38/F38)*100 -> 98.933333
C39: 00004001 | D39: MF - Podpora koordinátorů romských poradců | F39: 2 | G39: 0 | H39: =(G39/F39)*100 -> 0
A40: 6172 | B40: 5039 | D40: Ost.povinné pojistné placené zaměstn. | E40: 50 | F40: 50 | G40: 0 | H40: =(G40/F40)*100 -> 0
A41: 6172 | B41: 5134 | D41: Prádlo, oděv a obuv | E41: 50 | F41: 55 | G41: 51 | H41: =(G41/F41)*100 -> 92.727273
A42: 6172 | B42: 5136 | D42: Knihy, účební pomůcky a tisk | E42: 300 | F42: 690 | G42: 645 | H42: =(G42/F42)*100 -> 93.478261
A43: 6172 | B43: 5137 | D43: Drobný hmotný dlouhodobý majetek | E43: 600 | F43: 825 | G43: 716 | H43: =(G43/F43)*100 -> 86.787879
C44: 00000000 | D44: Provoz | E44: 600 | F44: 820 | G44: 715 | H44: =(G44/F44)*100 -> 87.195122
C45: 00000508 | D45: Zastupování zájmů OK v Bruselu | F45: 5 | G45: 1 | H45: =(G45/F45)*100 -> 20
A46: 6172 | B46: 5139 | D46: Nákup materiálu j. n. | E46: 2500 | F46: =F47+F48+F49 -> 3146 | G46: =G47+G48+G49 -> 2691 | H46: =(G46/F46)*100 -> 85.53719
C47: 00000000 | D47: Provoz | E47: 2500 | F47: 3130 | G47: 2690 | H47: =(G47/F47)*100 -> 85.942492
C48: 00000508 | D48: Zastupování zájmů OK v Bruselu | F48: 15 | G48: 0 | H48: =(G48/F48)*100 -> 0
C49: 00098074 | D49: MF - volby do zastupitelstev v obcích | F49: 1 | G49: 1 | H49: =(G49/F49)*100 -> 100
A50: 6172 | B50: 5151 | D50: Studená voda | E50: 390 | F50: 435 | G50: 399 | H50: =(G50/F50)*100 -> 91.724138
A51: 6172 | B51: 5152 | D51: Teplo | E51: 2900 | F51: 2900 | G51: 2382 | H51: =(G51/F51)*100 -> 82.137931
A52: 6172 | B52: 5153 | D52: Plyn | E52: 400 | F52: 274 | G52: 217 | H52: =(G52/F52)*100 -> 79.19708
A53: 6172 | B53: 5154 | D53: Elektrická energie | E53: 4200 | F53: 3503 | G53: 3100 | H53: =(G53/F53)*100 -> 88.495575
A54: 6172 | B54: 5156 | D54: Pohonné hmoty a maziva | E54: =E55 -> 1250 | F54: =F55+F56+F57+F58 -> 1503 | G54: =G55+G56+G57+G58 -> 1244 | H54: =(G54/F54)*100 -> 82.767798
C55: 00000000 | D55: Provoz | E55: 1250 | F55: 1450 | G55: 1223 | H55: =(G55/F55)*100 -> 84.344828
C56: 00000508 | D56: Zastupování zájmů OK v Bruselu | F56: 25 | G56: 11 | H56: =(G56/F56)*100 -> 44
C57: 00006001 | D57: MZV - Projekty krajů v rozvojových zemích | F57: 25 | G57: 7 | H57: =(G57/F57)*100 -> 28
C58: 00098074 | D58: MF - volby do zastupitelstev v obcích | F58: 3 | G58: 3 | H58: =(G58/F58)*100 -> 100
A59: 6172 | B59: 5157 | D59: Teplá voda | E59: 100 | F59: 120 | G59: 118 | H59: =(G59/F59)*100 -> 98.333333
A60: 6172 | B60: 5159 | D60: Nákup ostatních paliv a energie | E60: 20 | F60: 5 | G60: 1 | H60: =(G60/F60)*100 -> 20
A61: 6172 | B61: 5161 | D61: Služby pošt | E61: 2000 | F61: 1600 | G61: 1587 | H61: =(G61/F61)*100 -> 99.1875
A62: 6172 | B62: 5162 | D62: Služby telekomunikací a radiokomunikací | E62: 2780 | F62: =F63+F64+F65 -> 1995 | G62: =G63+G64+G65 -> 1894 | H62: =(G62/F62)*100 -> 94.937343
C63: 00000000 | D63: Provoz | E63: 2780 | F63: 1930 | G63: 1864 | H63: =(G63/F63)*100 -> 96.580311
C64: 00000508 | D64: Zastupování zájmů OK v Bruselu | F64: 50 | G64: 18 | H64: =(G64/F64)*100 -> 36
C65: 00004001 | D65: MF - Podpora koordinátorů romských poradců | F65: 15 | G65: 12 | H65: =(G65/F65)*100 -> 80
A66: 6172 | B66: 5163 | D66: Služby peněžních ústavů | E66: 400 | F66: 360 | G66: 269 | H66: =(G66/F66)*100 -> 74.722222 | J66: =E12+E17+E24+E25+E26+E32+E37+E40+E41+E42+E43+E46+E50+E51+E52+E53+E54+E59+E60+E61+E62+E66 -> 253579 | K66: =F10+F12+F17+F24+F25+F26+F32+F37+F40+F41+F42+F43+F46+F50+F51+F52+F53+F54+F59+F60+F61+F62+F66 -> 251911 | L66: =G10+G12+G17+G24+G25+G26+G32+G37+G40+G41+G42+G43+G46+G50+G51+G52+G53+G54+G59+G60+G61+G62+G66 -> 245078
H69: v tis. Kč
A70: § | B70: pol. | C70: UZ | D70: název položky | E70: schválený rozp. | F70: upravený rozp. | G70: skutečnost | H70: %
A71: 1 | B71: 2 | C71: 3 | D71: 4 | E71: 5 | F71: 6 | G71: 7 | H71: 8=7/6
A72: 6172 | B72: 5164 | D72: Nájemné | E72: 17500 | F72: =F73+F74 -> 17317 | G72: =G73+G74 -> 17135 | H72: =(G72/F72)*100 -> 98.94901
C73: 00000000 | D73: Provoz | E73: 17500 | F73: 17017 | G73: 16850 | H73: =(G73/F73)*100 -> 99.018628
C74: 00000508 | D74: Zastupování zájmů OK v Bruselu | F74: 300 | G74: 285 | H74: =(G74/F74)*100 -> 95
A75: 6172 | B75: 5166 | D75: Konzultační, poradenské a právní služby | E75: 200 | F75: 300 | G75: 271 | H75: =(G75/F75)*100 -> 90.333333
A76: 6172 | B76: 5167 | D76: Služby školení a vzdělávání | E76: 3000 | F76: 2900 | G76: 2433 | H76: =(G76/F76)*100 -> 83.896552
A77: 6172 | B77: 5169 | D77: Nákup ostatních služeb | E77: 13460 | F77: =F78+F79 -> 13021 | G77: =G78+G79 -> 12374 | H77: =(G77/F77)*100 -> 95.031104
C78: 00000000 | D78: Provoz | E78: 13460 | F78: 12920 | G78: 12374 | H78: =(G78/F78)*100 -> 95.773994
C79: 00098074 | D79: MF - volby do zastupitelstev v obcích | F79: 101 | G79: 0 | H79: =(G79/F79)*100 -> 0
A80: 6172 | B80: 5171 | D80: Opravy a udržování | E80: 4000 | F80: 3170 | G80: 2751 | H80: =(G80/F80)*100 -> 86.782334
A81: 6172 | B81: 5173 | D81: Cestovné (tuzemské i zahraniční) | E81: 3500 | F81: =F82+F83+F84+F85 -> 3616 | G81: =G82+G83+G84+G85 -> 2288 | H81: =(G81/F81)*100 -> 63.274336
C82: 00000000 | D82: Provoz | E82: 3500 | F82: 3376 | G82: 2110 | H82: =(G82/F82)*100 -> 62.5
C83: 00000508 | D83: Zastupování zájmů OK v Bruselu | F83: 124 | G83: 124 | H83: =(G83/F83)*100 -> 100
C84: 00004001 | D84: MF - Podpora koordinátorů romských poradců | F84: 10 | G84: 10 | H84: =(G84/F84)*100 -> 100
C85: 00006001 | D85: MZV - Projekty krajů v rozvojových zemích | F85: 106 | G85: 44 | H85: =(G85/F85)*100 -> 41.509434
A86: 6172 | B86: 5175 | D86: Pohoštění | E86: 500 | F86: 520 | G86: 494 | H86: =(G86/F86)*100 -> 95
C87: 00000000 | D87: Provoz | E87: 500 | F87: 500 | G87: 493 | H87: =(G87/F87)*100 -> 98.6
C88: 00000508 | D88: Zastupování zájmů OK v Bruselu | F88: 20 | G88: 1 | H88: =(G88/F88)*100 -> 5
A89: 6172 | B89: 5176 | D89: Účastnické poplatky na konference | E89: 150 | F89: 250 | G89: 247 | H89: =(G89/F89)*100 -> 98.8
A90: 6172 | B90: 5189 | D90: Ostatní poskytnuté zálohy a jistiny | E90: 20 | F90: 0 | G90: 0 | H90: 0
A91: 6172 | B91: 5192 | D91: Poskytnuté neinv. příspěvky a náhrady | E91: 20 | F91: 50 | G91: 49 | H91: =(G91/F91)*100 -> 98
A92: 6172 | B92: 5194 | D92: Věcné dary | E92: 20 | F92: 0 | G92: 0 | H92: 0
A93: 6172 | B93: 5323 | D93: Neinvestiční transfery krajům | E93: 65 | F93: 40 | G93: 39 | H93: =(G93/F93)*100 -> 97.5
A94: 6172 | B94: 5361 | D94: Nákup kolků | E94: 100 | F94: 100 | G94: 82 | H94: =(G94/F94)*100 -> 82
A95: 6172 | B95: 5362 | D95: Platby daní a poplatků | E95: 50 | F95: 65 | G95: 57 | H95: =(G95/F95)*100 -> 87.692308
A96: 6172 | B96: 5424 | D96: Náhrady mezd v době nemoci | E96: 1000 | F96: 1000 | G96: 1029 | H96: =(G96/F96)*100 -> 102.9
A97: 6172 | B97: 5499 | D97: Ostatní neinvestiční transfery ob. | G97: 201
A98: 6330 | B98: 5342 | D98: Převody FKSP a SF obcí a krajů | E98: 6086 | F98: 6098 | G98: 5407 | H98: =(G98/F98)*100 -> 88.668416 | J98: =E72+E75+E76+E77+E80+E81+E86+E89+E90+E91+E92+E93+E94+E95+E96+E98 -> 49671 | K98: =F72+F75+F76+F77+F80+F81+F86+F89+F90+F91+F92+F93+F94+F95+F96+F98 -> 48447 | L98: =G72+G75+G76+G77+G80+G81+G86+G89+G90+G91+G92+G93+G94+G95+G96+G98+G97 -> 44857
A99: Provozní výdaje celkem | E99: =J66+J98 -> 303250 | F99: =K66+K98 -> 300358 | G99: =L66+L98 -> 289935 | H99: =(G99/F99)*100 -> 96.529808
A106: Investiční výdaje
H107: v tis. Kč
A108: § | B108: pol. | C108: UZ | D108: název položky | E108: schválený rozp. | F108: upravený rozp. | G108: skutečnost | H108: %
A109: 1 | B109: 2 | C109: 3 | D109: 4 | E109: 5 | F109: 6 | G109: 7 | H109: 8=7/6
A110: 6172 | B110: 6121 | D110: Budovy, haly a stavby | E110: 1000 | F110: 2334 | G110: 1244 | H110: =(G110/F110)*100 -> 53.299057
A111: 6172 | B111: 6122 | D111: Stroje, přístroje a zařízení | E111: 100 | F111: 1792 | G111: 1754 | H111: =(G111/F111)*100 -> 97.879464
...

Sheet 04
A1: 4) Odbor majetkový a právní | F1: ORJ - 04
A3: Správce: | C3: vedoucí odboru majetkového a právního
C4: Mgr. Hana Kamasová
A6: Provozní výdaje
H7: v tis. Kč
A8: § | B8: pol. | C8: UZ | D8: název položky | E8: schválený rozp. | F8: upravený rozp. | G8: skutečnost | H8: %
A9: 1 | B9: 2 | C9: 3 | D9: 4 | E9: 5 | F9: 6 | G9: 7 | H9: 8=7/6
A10: 6172 | B10: 5163 | D10: Služby peněžních ústavů | E10: 20908 | F10: 19545 | G10: 19545 | H10: =(G10/F10)*100 -> 100
A11: 6172 | B11: 5164 | D11: Nájemné | E11: 70 | F11: 72 | G11: 70 | H11: =(G11/F11)*100 -> 97.222222
A12: 6172 | B12: 5166 | D12: Konzultační, poradenské a právní služby | E12: 1800 | F12: =F13+F14 -> 1718 | G12: =G13+G14 -> 1218 | H12: =(G12/F12)*100 -> 70.896391
C13: 00000000 | D13: Provoz | E13: 1800 | F13: 1668 | G13: 1204 | H13: =(G13/F13)*100 -> 72.182254
C14: 00000012 | D14: Investiční a neinvestiční akce v obl.dopravy | F14: 50 | G14: 14 | H14: =(G14/F14)*100 -> 28
A15: 6172 | B15: 5169 | D15: Nákup ostatních služeb | E15: 24 | F15: =F16+F17 -> 94 | G15: =G16+G17 -> 41 | H15: =(G15/F15)*100 -> 43.617021
C16: 00000000 | D16: Provoz | E16: 24 | F16: 44 | G16: 16 | H16: =(G16/F16)*100 -> 36.363636
C17: 00000012 | D17: Investiční a neinvestiční akce v obl.dopravy | F17: 50 | G17: 25 | H17: =(G17/F17)*100 -> 50
A18: 6172 | B18: 5192 | D18: Poskytnuté neinv.příspěvky a náhrady | E18: 1 | F18: 1 | G18: 0 | H18: 0
A19: 6172 | B19: 5362 | D19: Platby daní a poplatků stát.rozpočtu | E19: 2 | F19: 12 | G19: 2 | H19: 0
A20: 6172 | B20: 5499 | D20: Ostatní neinvestiční transfery ob. | E20: 2 | F20: 2 | G20: 0 | H20: =(G20/F20)*100 -> 0
A21: Provozní výdaje celkem | E21: =E10+E11+E12+E15+E19+E20+E18 -> 22807 | F21: =F10+F11+F12+F15+F19+F20+F18 -> 21444 | G21: =G10+G11+G12+G15+G19+G20+G18 -> 20876 | H21: =(G21/F21)*100 -> 97.35124
A27: Investiční výdaje
H28: v tis.Kč
A29: § | B29: pol. | C29: UZ | D29: název položky | E29: schválený rozp. | F29: upravený rozp. | G29: skutečnost | H29: %
A30: 1 | B30: 2 | C30: 3 | D30: 4 | E30: 5 | F30: 6 | G30: 7 | H30: 8=7/6
A31: 6172 | B31: 6121 | D31: Budovy, haly a stavby | F31: =F32+F33 -> 1685 | G31: =G32+G33 -> 1675 | H31: =(G31/F31)*100 -> 99.406528
C32: 00000000 | D32: Budovy, haly a stavby | F32: 20 | G32: 10 | H32: =(G32/F32)*100 -> 50
C33: 00000010 | D33: Investiční a neinvestiční akce v obl.školství | F33: 1665 | G33: 1665 | H33: =(G33/F33)*100 -> 100
A34: 6172 | B34: 6130 | D34: Pozemky | E34: 11958 | F34: =F35+F36+F37+F38 -> 2354 | G34: =G35+G36+G37+G38 -> 2001 | H34: =(G34/F34)*100 -> 85.004248
C35: 00000000 | D35: odkup pozemku | E35: 11958 | F35: 947 | G35: 928 | H35: =(G35/F35)*100 -> 97.993664
C36: 00000010 | D36: Investiční a neinvestiční akce v obl.školství | F36: 248 | G36: 248 | H36: =(G36/F36)*100 -> 100
C37: 00000012 | D37: Investiční a neinvestiční akce v obl.dopravy | F37: 730 | G37: 396 | H37: =(G37/F37)*100 -> 54.246575
C38: 00098861 | D38: MF - Výkupy pozemků pod krajskými komunikacemi | F38: 429 | G38: 429 | H38: =(G38/F38)*100 -> 100
A39: Investiční výdaje celkem | E39: =E34 -> 11958 | F39: =F31+F34 -> 4039 | G39: =G31+G34 -> 3676 | H39: =(G39/F39)*100 -> 91.012627
A41: Výdaje odboru majetkového a právního | E41: =E42+E43+E44+E45 -> 34765 | F41: =F42+F43+F44+F45 -> 25483 | G41: =G42+G43+G44+G45 -> 24552 | H41: =(G41/F41)*100 -> 96.346584
A42: -provozní výdaje | E42: =E21 -> 22807 | F42: =F21-F44 -> 21444 | G42: =G21-G44 -> 20876 | H42: =(G42/F42)*100 -> 97.35124
A43: -investiční výdaje | E43: =E39 -> 11958 | F43: =F39-F45 -> 3610 | G43: =G39-G45 -> 3247 | H43: =(G43/F43)*100 -> 89.944598
A44: -účelové neinvestiční dotace | E44: 0 | F44: 0 | G44: 0 | H44: 0
A45: -účelové investiční dotace | E45: 0 | F45: =F38 -> 429 | G45: =G38 -> 429 | H45: =(G45/F45)*100 -> 100
A48: Odbor majetkový a právní celkem | E48: =SUM(E21,E39) -> 34765 | F48: =SUM(F21,F39) -> 25483 | G48: =SUM(G21,G39) -> 24552 | H48: =(G48/F48)*100 -> 96.346584

Sheet 05
A1: 5) Odbor správní a legislativní | F1: ORJ - 05
A3: Správce: | C3: vedoucí odboru správního a legislativního
C4: Mgr. Marie Mazánková
A6: Provozní výdaje
H7: v tis. Kč
A8: § | B8: pol. | C8: UZ | D8: název položky | E8: schválený rozp. | F8: upravený rozp. | G8: skutečnost | H8: %
A9: 1 | B9: 2 | C9: 3 | D9: 4 | E9: 5 | F9: 6 | G9: 7 | H9: 8=7/6
A10: 6172 | B10: 5166 | D10: Konzultační, poradenské a právní služby | E10: 10 | F10: 10 | G10: 0 | H10: =(G10/F10)*100 -> 0
A11: 6172 | B11: 5192 | D11: Poskytnuté neinv.příspěvky a náhrady | E11: 40 | F11: 40 | G11: 12 | H11: =(G11/F11)*100 -> 30
A12: Provozní výdaje celkem | E12: =SUM(E11,E10) -> 50 | F12: =SUM(F11,F10) -> 50 | G12: =SUM(G11,G10) -> 12 | H12: =(G12/F12)*100 -> 24
A15: Výdaje odboru správního a legislativního | E15: =E16+E17+E18+E19 -> 50 | F15: =F16+F17+F18+F19 -> 50 | G15: =G16+G17+G18+G19 -> 12 | H15: =(G15/F15)*100 -> 24
A16: -provozní výdaje | E16: =E12 -> 50 | F16: =F12 -> 50 | G16: =G12 -> 12 | H16: =(G16/F16)*100 -> 24
A17: -investiční výdaje | E17: =E13 -> 0 | F17: =F13 -> 0 | G17: =G13 -> 0 | H17: 0
A18: -účelové neinvestiční dotace | E18: 0 | F18: 0 | G18: 0 | H18: 0
A19: -účelové investiční dotace | E19: 0 | F19: 0 | G19: 0 | H19: 0
A23: Odbor správní a legislativní celkem | E23: =SUM(E12) -> 50 | F23: =SUM(F12) -> 50 | G23: =SUM(G12) -> 12 | H23: =(G23/F23)*100 -> 24

Sheet 06
A1: 6) Odbor informačních technologií | F1: ORJ - 06
A3: Správce: | C3: vedoucí odboru informačních technologií
C4: Mgr. Jiří Šafránek
A6: Provozní výdaje
H7: v tis. Kč
A8: § | B8: pol. | C8: UZ | D8: název položky | E8: schválený rozp. | F8: upravený rozp. | G8: skutečnost | H8: %
A9: 1 | B9: 2 | C9: 3 | D9: 4 | E9: 5 | F9: 6 | G9: 7 | H9: 8=7/6
A10: 6172 | B10: 5137 | D10: Drobný hmotný dlouhodobý majetek | E10: 2000 | F10: 1860 | G10: 1782 | H10: =(G10/F10)*100 -> 95.806452
A11: 6172 | B11: 5139 | D11: Nákup materiálu | E11: 400 | F11: 400 | G11: 80 | H11: =(G11/F11)*100 -> 20
A12: 6172 | B12: 5164 | D12: Nájemné | E12: =E13+E14 -> 2269 | F12: =F13+F14 -> 2544 | G12: =G13+G14 -> 2538 | H12: =(G12/F12)*100 -> 99.764151
C13: 00000000 | D13: Provoz | E13: 1700 | F13: 1975 | G13: 1969 | H13: =(G13/F13)*100 -> 99.696203
C14: 00000009 | D14: Rezerva hejtmana pro krizové řízení | E14: 569 | F14: 569 | G14: 569 | H14: =(G14/F14)*100 -> 100
A15: 6172 | B15: 5166 | D15: Konzultační, poradenské a právní služby | E15: 100 | F15: 100 | G15: 40 | H15: 0
A16: 6172 | B16: 5168 | D16: Služby zpracování dat | E16: 2100 | F16: 200 | G16: 0 | H16: =(G16/F16)*100 -> 0
A17: 6172 | B17: 5169 | D17: Nákup ostatních služeb | E17: 15700 | F17: 16565 | G17: 15526 | H17: =(G17/F17)*100 -> 93.727739
A18: 6172 | B18: 5171 | D18: Opravy a udržování | E18: 1200 | F18: 1200 | G18: 976 | H18: =(G18/F18)*100 -> 81.333333
A19: 6172 | B19: 5172 | D19: Programové vybavení | E19: 200 | F19: 200 | G19: 196 | H19: =(G19/F19)*100 -> 98
A20: Provozní výdaje celkem | E20: =E10+E11+E12+E15+E16+E17+E18+E19 -> 23969 | F20: =F10+F11+F12+F16+F17+F18+F19+F15 -> 23069 | G20: =G10+G11+G12+G16+G17+G18+G19+G15 -> 21138 | H20: =(G20/F20)*100 -> 91.629459
A27: Investiční výdaje
H28: v tis. Kč
A29: § | B29: pol. | C29: UZ | D29: název položky | E29: schválený rozp. | F29: upravený rozp. | G29: skutečnost | H29: %
A30: 1 | B30: 2 | C30: 3 | D30: 4 | E30: 5 | F30: 6 | G30: 7 | H30: 8=7/6
A31: 6172 | B31: 6111 | D31: Programové vybavení | E31: 1000 | F31: 1500 | G31: 1066 | H31: =(G31/F31)*100 -> 71.066667
A32: 6172 | B32: 6125 | D32: Výpočetní technika | E32: 2000 | F32: 1500 | G32: 960 | H32: =(G32/F32)*100 -> 64
A33: Investiční výdaje celkem | E33: =E31+E32 -> 3000 | F33: =SUM(F31,F32) -> 3000 | G33: =SUM(G31,G32) -> 2026 | H33: =(G33/F33)*100 -> 67.533333
A36: Výdaje odboru informačních technologií | E36: =E37+E38+E39+E40 -> 26969 | F36: =F37+F38+F39+F40 -> 26069 | G36: =G37+G38+G39+G40 -> 23164 | H36: =(G36/F36)*100 -> 88.856496
A37: -provozní výdaje | E37: =E20 -> 23969 | F37: =F20 -> 23069 | G37: =G20 -> 21138 | H37: =(G37/F37)*100 -> 91.629459
A38: -investiční výdaje | E38: =E33 -> 3000 | F38: =F33 -> 3000 | G38: =G33 -> 2026 | H38: =(G38/F38)*100 -> 67.533333
A39: -účelové neinvestiční dotace | E39: 0 | F39: 0 | G39: 0 | H39: 0
A40: -účelové investiční dotace | E40: 0 | F40: 0 | G40: 0 | H40: 0
A43: Odbor informačních technologií celkem | E43: =SUM(E33,E20) -> 26969 | F43: =SUM(F33,F20) -> 26069 | G43: =SUM(G33,G20) -> 23164 | H43: =(G43/F43)*100 -> 88.856496

Sheet 07
A1: 7) Odbor ekonomický | F1: ORJ - 07
A3: Správce: | C3: vedoucí odboru ekonomického
C4: Ing. Jiří Juřena
A7: Provozní výdaje
H9: v tis. Kč
A10: § | B10: pol. | C10: UZ | D10: název položky | E10: schválený rozp. | F10: upravený rozp. | G10: skutečnost | H10: %
A11: 1 | B11: 2 | C11: 3 | D11: 4 | E11: 5 | F11: 6 | G11: 7 | H11: 8=7/6
A12: 2212 | B12: 5641 | D12: Neinvestiční půjčené prostředky obcím | F12: 2000 | G12: 2000 | H12: =(G12/F12)*100 -> 100
A13: 3636 | B13: 5325 | D13: Neinv.transfery regionálním radám | E13: 500 | F13: 500 | G13: 500 | H13: =(G13/F13)*100 -> 100
A14: 4372 | B14: 5901 | D14: Nespecifikované rezervy | F14: 1281 | G14: 0 | H14: 0
C15: 00013307 | D15: MPSV - na výplatu st.přísp.pro zřiz.zařízení pro děti vyž.okamžitou pomoc | F15: 1281 | G15: 0 | H15: 0
A17: 6172 | B17: 5141 | D17: Úroky vlastní | E17: =E18+E19+E20 -> 78556 | F17: =F18+F19+F20+F21 -> 73949 | G17: =G18+G19+G20+G21 -> 36611 | H17: =(G17/F17)*100 -> 49.508445
C18: 00000000 | D18: Dodatky ke smlouvě o ÚR s ČS | E18: 9556 | F18: 56 | G18: 21 | H18: =(G18/F18)*100 -> 37.5
C19: 00000804 | D19: Půjčka z EIB-projekt modernizace silniční sítě | E19: 26000 | F19: 26000 | G19: 11525 | H19: =(G19/F19)*100 -> 44.326923
C20: 00000813 | D20: Půjčka z EIB - ROP | E20: 43000 | F20: 38735 | G20: 19097 | H20: =(G20/F20)*100 -> 49.301665
C21: 00000887 | D21: Úvěr KB - čerpání a splátky | F21: 9158 | G21: 5968 | H21: =(G21/F21)*100 -> 65.167067
A22: 6172 | B22: 5142 | D22: Realizované kurzové ztráty | E22: 3000 | F22: 3000 | G22: 26 | H22: =(G22/F22)*100 -> 0.86666667
A23: 6172 | B23: 5163 | D23: Služby peněžních ústavů | E23: 600 | F23: 600 | G23: 453 | H23: =(G23/F23)*100 -> 75.5
A24: 6172 | B24: 5164 | D24: Nájemné | E24: 2 | F24: 5 | G24: 5 | H24: =(G24/F24)*100 -> 100
A25: 6172 | B25: 5166 | D25: Konzultační, poradenské a právní služby | E25: 2000 | F25: 2000 | G25: 1374 | H25: =(G25/F25)*100 -> 68.7
A26: 6172 | B26: 5169 | D26: Nákup ostatních služeb | E26: 400 | F26: 440 | G26: 40 | H26: =(G26/F26)*100 -> 9.0909091
A27: 6172 | B27: 5362 | D27: Platby daní a poplatků | E27: 4000 | F27: 12619 | G27: 9082 | H27: =(G27/F27)*100 -> 71.970838
A28: 6172 | B28: 5901 | D28: Nespecifikované rezervy | E28: 120 | F28: =F29+F30 -> 70252 | G28: =G29+G30 -> 0 | H28: =(G28/F28)*100 -> 0
C29: 00000000 | D29: Rezerva | E29: 120 | F29: 46908 | G29: 0 | H29: 0
C30: 00000050 | D30: Rezerva OK-podíl OK na půjčce EIB | F30: 23344 | G30: 0 | H30: 0
A31: 6172 | B31: 5909 | D31: Ost.neinv.výdaje j.n. | G31: 3213 | H31: 0
A32: 6221 | B32: 5531 | D32: Peněžní dary do zahraničí | F32: 200 | G32: 200 | H32: =(G32/F32)*100 -> 100
C33: 00000016 | D33: Ostatní příspěvky | F33: 200 | G33: 200 | H33: =(G33/F33)*100 -> 100
A34: 6402 | B34: 5364 | D34: Vratky veř.rozpočtům ústř.úr.tr.poskyt.v min.rozp.obd. | F34: 2042 | G34: 2042 | H34: =(G34/F34)*100 -> 100
C35: 00000019 | D35: Zapojení prostředků z FV | F35: 2042 | G35: 2042 | H35: =(G35/F35)*100 -> 100
A36: 6409 | B36: 5229 | D36: Ostatní nein.transfery neziskovým | E36: =E38+E39 -> 36800 | F36: =F38+F39 -> 86 | G36: =G38+G39 -> 0 | H36: 0
D37: a podobným organizacím
C38: 00000001 | D38: Významné projekty | E38: 26000 | F38: 0 | G38: 0 | H38: 0
C39: 00000002 | D39: Příspěvky do 20 tis. Kč | E39: 10800 | F39: 86 | G39: 0 | H39: 0
A40: 6409 | B40: 5901 | D40: Nespecifikované rezervy | E40: =E41 -> 30000 | F40: =F41+F42+F43 -> 264451 | G40: 0 | H40: 0
C41: 00000000 | D41: Provoz | E41: 30000 | F41: 19252 | G41: 0 | H41: 0
C42: 00000813 | D42: Půjčka z EIB-projekt evropské fondy | F42: 204057 | G42: 0 | H42: 0
C43: 00000887 | D43: Úvěr KB - čerpání a splátky | F43: 41142 | G43: 0 | H43: 0 | J43: KB | M43: =F21+F43 -> 50300 | N43: =G21+G43 -> 5968
A44: 6409 | B44: 5909 | D44: Ost.neinv.výdaje j.n. | G44: 3 | H44: 0 | J44: EIB | M44: =F42+F19+F20 -> 268792 | N44: =G42 -> 0
A45: Provozní výdaje celkem | E45: =E13+E17+E22+E23+E25+E26+E27+E28+E36+E40+E24 -> 155978 | F45: =F13+F14+F17+F22+F23+F24+F25+F26+F27+F28+F34+F40+F12+F32+F36 -> 433425 | G45: =G13+G14+G17+G22+G23+G24+G25+G26+G27+G28+G34+G40+G44+G31+G12+G32+G36 -> 55549 | H45: =G45/F45*100 -> 12.816289
A51: Výdaje odboru ekonomického | E51: =E52+E53+E54+E55 -> 155978 | F51: =F52+F53+F54+F55 -> 433425 | G51: =G52+G53+G54+G55 -> 55549 | H51: =G51/F51*100 -> 12.816289
A52: -provozní výdaje | E52: =E45 -> 155978 | F52: =F45-F54 -> 432144 | G52: =G45-G54 -> 55549 | H52: =G52/F52*100 -> 12.85428
A53: -investiční výdaje | E53: 0 | F53: 0 | G53: 0 | H53: 0
A54: -účelové neinvestiční dotace | E54: 0 | F54: =F15 -> 1281 | G54: =G15 -> 0 | H54: =G54/F54*100 -> 0
A55: -účelové investiční dotace | E55: 0 | F55: 0 | G55: 0 | H55: 0
A57: Odbor ekonomický celkem | E57: =SUM(E45) -> 155978 | F57: =SUM(F45) -> 433425 | G57: =SUM(G45) -> 55549 | H57: =(G57/F57)*100 -> 12.816289

Sheet 08
A1: 8) Odbor strategického rozvoje kraje | F1: ORJ - 08
A3: Správce: | C3: vedoucí odboru strategického rozvoje kraje
C4: Ing. Michaela Pruknerová
A6: Provozní výdaje
H7: v tis. Kč
A8: § | B8: pol. | C8: UZ | D8: název položky | E8: schválený rozp. | F8: upravený rozp. | G8: skutečnost | H8: %
A9: 1 | B9: 2 | C9: 3 | D9: 4 | E9: 5 | F9: 6 | G9: 7 | H9: 8=7/6
A10: 2115 | B10: 5321 | D10: Neinvestiční transfery obcím | F10: 229 | G10: 229 | H10: =(G10/F10)*100 -> 100
C11: 00000017 | D11: Program obnovy venkova | F11: 229 | G11: 229 | H11: =(G11/F11)*100 -> 100
A12: 2141 | B12: 5221 | D12: Neinv.transfery obecně prospěš.spol. | F12: 100 | G12: 100 | H12: =(G12/F12)*100 -> 100
C13: 00000001 | D13: Významné projekty | F13: 100 | G13: 100 | H13: =(G13/F13)*100 -> 100
A14: 2141 | B14: 5222 | D14: Neinv.transfery občanským sdružením | F14: 100 | G14: 100 | H14: =(G14/F14)*100 -> 100
C15: 00000001 | D15: Významné projekty | F15: 100 | G15: 100 | H15: =(G15/F15)*100 -> 100
A16: 2212 | B16: 5321 | D16: Neinvestiční transfery obcím | F16: 3072 | G16: 3071 | H16: =(G16/F16)*100 -> 99.967448
C17: 00000017 | D17: Program obnovy venkova | F17: 3072 | G17: 3071 | H17: =(G17/F17)*100 -> 99.967448
A18: 2219 | B18: 5321 | D18: Neinvestiční transfery obcím | F18: 2804 | G18: 2804 | H18: =(G18/F18)*100 -> 100
C19: 00000017 | D19: Program obnovy venkova | F19: 2804 | G19: 2804 | H19: =(G19/F19)*100 -> 100
A20: 2251 | B20: 5213 | D20: Neinv.transfery nefin.podn.subj.-PO | E20: 3000 | F20: 3000 | G20: 3000 | H20: =(G20/F20)*100 -> 100
C21: 00000016 | D21: Ostatní příspěvky | E21: 3000 | F21: 3000 | G21: 3000 | H21: =(G21/F21)*100 -> 100
A22: 3299 | B22: 5213 | D22: Neinv.transfery nefin.podn.subj.-PO | E22: 2000 | F22: 2000 | G22: 2000 | H22: =(G22/F22)*100 -> 100
C23: 00000016 | D23: Ostatní příspěvky | E23: 2000 | F23: 2000 | G23: 2000 | H23: =(G23/F23)*100 -> 100
A24: 3322 | B24: 5321 | D24: Neinvestiční transfery obcím | F24: 54 | G24: 54 | H24: =(G24/F24)*100 -> 100
C25: 00000017 | D25: Program obnovy venkova | F25: 54 | G25: 54 | H25: =(G25/F25)*100 -> 100
A26: 3349 | B26: 5213 | D26: Neinv.transfery nefin.podn.subj.-PO | E26: 300 | F26: 300 | G26: 300 | H26: =(G26/F26)*100 -> 100
C27: 00000016 | D27: Ostatní příspěvky | E27: 300 | F27: 300 | G27: 300 | H27: =(G27/F27)*100 -> 100
A28: 3399 | B28: 5212 | D28: Neinv.transfery nefin.podn.subj.-FO | F28: 25 | G28: 25 | H28: =(G28/F28)*100 -> 100
C29: 00000002 | D29: Příspěvky do 25 tis. Kč | F29: 25 | G29: 25 | H29: =(G29/F29)*100 -> 100
A30: 3399 | B30: 5213 | D30: Neinv.transfery nefin.podn.subj.-PO | F30: 25 | G30: 25 | H30: =(G30/F30)*100 -> 100
C31: 00000002 | D31: Příspěvky do 25 tis. Kč | F31: 25 | G31: 25 | H31: =(G31/F31)*100 -> 100
A32: 3631 | B32: 5321 | D32: Neinvestiční transfery obcím | F32: 1925 | G32: 1814 | H32: =(G32/F32)*100 -> 94.233766
C33: 00000017 | D33: Program obnovy venkova | F33: 1925 | G33: 1814 | H33: =(G33/F33)*100 -> 94.233766
A34: 3635 | B34: 5166 | D34: Konzultační, poradenské a právní služby | E34: 3100 | F34: 2500 | G34: 1887 | H34: =(G34/F34)*100 -> 75.48
A35: 3635 | B35: 5169 | D35: Nákup ostatních služeb | E35: 300 | F35: 300 | G35: 292 | H35: =(G35/F35)*100 -> 97.333333
A36: 3635 | B36: 5192 | D36: Poskytnuté neinv.příspěvky a náhrady | E36: 250 | F36: 250 | G36: 49 | H36: =(G36/F36)*100 -> 19.6
A37: 3636 | B37: 5175 | D37: Pohoštění | E37: 140 | F37: 80 | G37: 67 | H37: =(G37/F37)*100 -> 83.75
A38: 3636 | B38: 5229 | D38: Ostatní neinv.transfery nezisk.a pod.org. | E38: 350 | F38: 420 | G38: 420 | H38: =(G38/F38)*100 -> 100
C39: 00000016 | D39: Ostatní příspěvky | E39: 350 | F39: 420 | G39: 420 | H39: =(G39/F39)*100 -> 100
A40: 3636 | B40: 5321 | D40: Neinvestiční transfery obcím | F40: 10795 | G40: 10793 | H40: =(G40/F40)*100 -> 99.981473
C41: 00000017 | D41: Program obnovy venkova | F41: 10795 | G41: 10793 | H41: =(G41/F41)*100 -> 99.981473
A42: 3639 | B42: 5164 | D42: Nájemné | F42: 50 | G42: 25 | H42: =(G42/F42)*100 -> 50
A43: 3639 | B43: 5166 | D43: Konzultační, poradenské a právní služby | E43: 7800 | F43: 3246 | G43: 1721 | H43: =(G43/F43)*100 -> 53.0191
A44: 3639 | B44: 5169 | D44: Nákup ostatních služeb | E44: 3230 | F44: 2270 | G44: 1861 | H44: =(G44/F44)*100 -> 81.982379
A45: 3639 | B45: 5212 | D45: Neinv.transfery nefin.podn.subj.-FO | E45: 100 | F45: 100 | G45: 100 | H45: =(G45/F45)*100 -> 100
A46: 3639 | B46: 5213 | D46: Neinv.transfery nefin.podn.subj.-PO | E46: 300 | F46: 190 | G46: 100 | H46: =(G46/F46)*100 -> 52.631579
C47: 00000016 | D47: Ostatní příspěvky | E47: 300 | F47: 190 | G47: 100 | H47: =(G47/F47)*100 -> 52.631579
A48: 3639 | B48: 5221 | D48: Neinv.transfery obecně prospěš.spol. | F48: 50 | G48: 50 | H48: =(G48/F48)*100 -> 100
C49: 00000016 | D49: Ostatní příspěvky | F49: 50 | G49: 50 | H49: =(G49/F49)*100 -> 100
A50: 3639 | B50: 5222 | D50: Neinv.transfery občanským sdružením | E50: 50 | F50: 50 | G50: 50 | H50: =(G50/F50)*100 -> 100
C51: 00000016 | D51: Ostatní příspěvky | E51: 50 | F51: 50 | G51: 50 | H51: =(G51/F51)*100 -> 100
A52: 3639 | B52: 5229 | D52: Ostatní neinv.transfery nezisk.a pod.org. | E52: 3700 | F52: 3680 | G52: 1350 | H52: =(G52/F52)*100 -> 36.684783
C53: 00000016 | D53: Ostatní příspěvky | F53: 60 | G53: 60 | H53: =(G53/F53)*100 -> 100
C54: 00000508 | D54: Zastupování zájmů OK v Bruselu | E54: 3700 | F54: 3620 | G54: 1290 | H54: =(G54/F54)*100 -> 35.635359
A55: 3639 | B55: 5321 | D55: Neinvestiční transfery obcím | E55: 41000 | F55: 635 | G55: 500 | H55: =(G55/F55)*100 -> 78.740157
C56: 00000016 | D56: Ostatní příspěvky | E56: 500 | F56: 500 | G56: 500 | H56: =(G56/F56)*100 -> 100
C57: 00000017 | D57: Program obnovy venkova | E57: 40500 | F57: 135 | G57: 0 | H57: 0
A58: 3699 | B58: 5169 | D58: Nákup ostatních služeb | F58: 112 | G58: 112 | H58: =(G58/F58)*100 -> 100
C59: 00000029 | D59: Plán OK na zmírnění dopadů hosp.krize-zateplení | F59: 112 | G59: 112 | H59: =(G59/F59)*100 -> 100
A60: 3713 | B60: 5169 | D60: Nákup ostatních služeb | E60: 247 | F60: 247 | G60: 245 | H60: =(G60/F60)*100 -> 99.190283
A61: 3771 | B61: 5499 | D61: Ostatní neinvest.transfery obyvatelstvu | F61: 107 | G61: 107 | H61: =(G61/F61)*100 -> 100
C62: 00098035 | D62: MF - Systémové dotace na protiradonová opatření | F62: 107 | G62: 107 | H62: =(G62/F62)*100 -> 100
A63: 5519 | B63: 5321 | D63: Neinvestiční transfery obcím | F63: 425 | G63: 425 | H63: =(G63/F63)*100 -> 100
C64: 00000017 | D64: Program obnovy venkova | F64: 425 | G64: 425 | H64: =(G64/F64)*100 -> 100
A65: 6222 | B65: 5137 | D65: Drobný hmotný dlouhodobý majetek | F65: 3 | G65: 2 | H65: =(G65/F65)*100 -> 66.666667
C66: 00006001 | D66: MZV - Projekty krajů v rozvojových zemích | F66: 3 | G66: 2 | H66: =(G66/F66)*100 -> 66.666667
A67: 6222 | B67: 5139 | D67: Nákup materiálu jinde nezařazený | F67: 45 | G67: 19 | H67: =(G67/F67)*100 -> 42.222222
C68: 00006001 | D68: MZV - Projekty krajů v rozvojových zemích | F68: 45 | G68: 19 | H68: =(G68/F68)*100 -> 42.222222
A69: 6222 | B69: 5166 | D69: Konzultační, poradenské a právní služby | F69: 600 | G69: 600 | H69: =(G69/F69)*100 -> 100
C70: 00006001 | D70: MZV - Projekty krajů v rozvojových zemích | F70: 600 | G70: 600 | H70: =(G70/F70)*100 -> 100 | J70: =E20+E22+E26+E34+E35+E36+E37+E38+E43+E44+E45+E46+E50+E52+E55+E60 -> 65867 | K70: =F10+F12+F14+F16+F18+F20+F22+F24+F26+F28+F30+F32+F34+F35+F36+F37+F38+F40+F42+F43+F44+F45+F46+F48+F50+F52+F55+F58+F60+F61+F63+F65+F69+F67 -> 39789 | L70: =G10+G12+G14+G16+G18+G20+G22+G24+G26+G28+G30+G32+G34+G35+G36+G37+G38+G40+G42+G43+G44+G45+G46+G48+G50+G52+G55+G58+G60+G61+G63+G65+G69+G67 -> 34297
H72: v tis. Kč
A73: § | B73: pol. | C73: UZ | D73: název položky | E73: schválený rozp. | F73: upravený rozp. | G73: skutečnost | H73: %
A74: 1 | B74: 2 | C74: 3 | D74: 4 | E74: 5 | F74: 6 | G74: 7 | H74: 8=7/6
A75: 6222 | B75: 5169 | D75: Nákup ostatních služeb | F75: 132 | G75: 111 | H75: =(G75/F75)*100 -> 84.090909
C76: 00000000 | D76: Provoz | F76: 118 | G76: 111 | H76: =(G76/F76)*100 -> 94.067797
C77: 00006001 | D77: MZV - Projekty krajů v rozvojových zemích | F77: 14 | G77: 0 | H77: =(G77/F77)*100 -> 0
A78: 6222 | B78: 5173 | D78: Cestovné | F78: 60 | G78: 53 | H78: =(G78/F78)*100 -> 88.333333
C79: 00006001 | D79: MZV - Projekty krajů v rozvojových zemích | F79: 60 | G79: 53 | H79: =(G79/F79)*100 -> 88.333333
A80: 6222 | B80: 5175 | D80: Pohoštění | F80: 10 | G80: 0 | H80: =(G80/F80)*100 -> 0
C81: 00006001 | D81: MZV - Projekty krajů v rozvojových zemích | F81: 10 | G81: 0 | H81: =(G81/F81)*100 -> 0
A82: 6223 | B82: 5169 | D82: Nákup ostatních služeb | F82: 75 | G82: 75 | H82: =(G82/F82)*100 -> 100
C83: 00000508 | D83: Zastupování zájmů OK v Bruselu | F83: 75 | G83: 75 | H83: =(G83/F83)*100 -> 100 | K83: =F75+F78+F80+F82 -> 277 | L83: =G75+G78+G80+G82 -> 239
A84: Provozní výdaje celkem | E84: =J70 -> 65867 | F84: =K70+K83 -> 40066 | G84: =L70+L83 -> 34536 | H84: =(G84/F84)*100 -> 86.197774
A91: Investiční výdaje
H92: v tis. Kč
A93: § | B93: pol. | C93: UZ | D93: název položky | E93: schválený rozp. | F93: upravený rozp. | G93: skutečnost | H93: %
A94: 1 | B94: 2 | C94: 3 | D94: 4 | E94: 5 | F94: 6 | G94: 7 | H94: 8=7/6
A95: 2115 | B95: 6341 | D95: Investiční transfery obcím | F95: 70 | G95: 70 | H95: =(G95/F95)*100 -> 100
C96: 00000017 | D96: Program obnovy venkova | F96: 70 | G96: 70 | H96: =(G96/F96)*100 -> 100
A97: 2212 | B97: 6341 | D97: Investiční transfery obcím | F97: 4370 | G97: 4369 | H97: =(G97/F97)*100 -> 99.977117
C98: 00000017 | D98: Program obnovy venkova | F98: 4370 | G98: 4369 | H98: =(G98/F98)*100 -> 99.977117
A99: 2219 | B99: 6341 | D99: Investiční transfery obcím | F99: 1771 | G99: 1770 | H99: =(G99/F99)*100 -> 99.943535
C100: 00000017 | D100: Program obnovy venkova | F100: 1771 | G100: 1770 | H100: =(G100/F100)*100 -> 99.943535
A101: 2251 | B101: 6313 | D101: Inv.transfery nefin.podn.subj.-PO | E101: 10000 | F101: 10000 | G101: 10000 | H101: =(G101/F101)*100 -> 100
C102: 00000016 | D102: Ostatní příspěvky | E102: 10000 | F102: 10000 | G102: 10000 | H102: =(G102/F102)*100 -> 100
A103: 3299 | B103: 6322 | D103: Investiční transfery občanským sdružením | F103: 325 | G103: 325 | H103: =(G103/F103)*100 -> 100
C104: 00000017 | D104: Program obnovy venkova | F104: 325 | G104: 325 | H104: =(G104/F104)*100 -> 100
A105: 3399 | B105: 6349 | D105: Ost.inv.transfery veř.rozp.úz.úrovně | F105: 1358 | G105: 1337 | H105: =(G105/F105)*100 -> 98.453608
C106: 00000017 | D106: Program obnovy venkova | F106: 1358 | G106: 1337 | H106: =(G106/F106)*100 -> 98.453608
A107: 3419 | B107: 6349 | D107: Ost.inv.transfery veř.rozp.úz.úrovně | F107: 551 | G107: 551 | H107: =(G107/F107)*100 -> 100
C108: 00000017 | D108: Program obnovy venkova | F108: 551 | G108: 551 | H108: =(G108/F108)*100 -> 100
A109: 3429 | B109: 6321 | D109: Inv.transfery obecně prospěš.společnostem | F109: 252 | G109: 252 | H109: =(G109/F109)*100 -> 100
...

Sheet OPOK
A1: 8a) Operační program Olomouckého kraje | G1: ORJ - 88XX
A3: Správce: | C3: vedoucí odboru strategického rozvoje kraje | D3: vedoucí odboru strategického rozvoje kraje
C4: Ing. Michaela Pruknerová | D4: Ing. Michaela Pruknerová
A8: ORJ 8803-Příprava projektů podnikatelů na čerpání prostř.ze SF EU | I8: v tis. Kč
A9: § | B9: pol. | C9: UZ | D9: UZ | E9: název položky | F9: schválený rozp. | G9: upravený rozp. | H9: skutečnost | I9: %
A10: 1 | B10: 2 | C10: 3 | D10: 4 | E10: 5 | F10: 6 | G10: 7 | H10: 8 | I10: 9=8/7
A11: 3636 | B11: 5212 | C11: 5213 | E11: Neinvestičbní transfery nefin.podnik.subj.-FO | F11: 186 | G11: 2 | H11: 2 | I11: =(H11/G11)*100 -> 100
A12: 3636 | B12: 5213 | E12: Neinvestičbní transfery nefin.podnik.subj.-PO | F12: 153 | G12: 13 | H12: 13 | I12: 0
A13: Provozní výdaje celkem | F13: =F11+F12 -> 339 | G13: =G11+G12 -> 15 | H13: =H11+H12 -> 15 | I13: =(H13/G13)*100 -> 100
A14: 3636 | B14: 6312 | E14: Investiční transfery nefin.podnik.subj.-FO | F14: 423 | G14: 96 | H14: 96 | I14: =(H14/G14)*100 -> 100
A15: 3636 | B15: 6313 | E15: Investiční transfery nefin.podnik.subj.-PO | F15: 271 | G15: 387 | H15: 387 | I15: =(H15/G15)*100 -> 100
A16: Investiční výdaje celkem | F16: =F14+F15 -> 694 | G16: =G14+G15 -> 483 | H16: =H14+H15 -> 483 | I16: 0
A17: ORJ 8803 celkem | F17: =F13+F16 -> 1033 | G17: =G13+G16 -> 498 | H17: =H13+H16 -> 498 | I17: =(H17/G17)*100 -> 100
A20: ORJ 8832-Podpora sportovních volnočasových aktivit | I20: v tis. Kč
A21: § | B21: pol. | C21: UZ | D21: UZ | E21: název položky | F21: schválený rozp. | G21: upravený rozp. | H21: skutečnost | I21: %
A22: 1 | B22: 2 | C22: 3 | D22: 4 | E22: 5 | F22: 6 | G22: 7 | H22: 8 | I22: 9=8/7
A23: 3419 | B23: 6322 | E23: Inv.transfery obč.sdružením | F23: 690 | G23: 0 | H23: 0 | I23: 0
A24: Investiční výdaje celkem | F24: =F23 -> 690 | G24: =G23 -> 0 | H24: =H23 -> 0 | I24: =I23 -> 0
A25: ORJ 8832 celkem | F25: =F24 -> 690 | G25: =G24 -> 0 | H25: =H24 -> 0 | I25: =I24 -> 0
A28: ORJ 8835 - Příprava projektů NNO na čerpání prostř.ze SF EU | I28: v tis. Kč
A29: § | B29: pol. | C29: UZ | D29: UZ | E29: název položky | F29: schválený rozp. | G29: upravený rozp. | H29: skutečnost | I29: %
A30: 1 | B30: 2 | C30: 3 | D30: 4 | E30: 5 | F30: 6 | G30: 7 | H30: 8 | I30: 9=8/7
A31: 3636 | B31: 5222 | E31: Neinvestiční transfery občanským sdružením | F31: 277 | G31: 277 | H31: 277 | I31: =(H31/G31)*100 -> 100
A32: Provozní výdaje celkem | F32: =F31 -> 277 | G32: =G31 -> 277 | H32: =H31 -> 277 | I32: =(H32/G32)*100 -> 100
A33: ORJ 8835 celkem | F33: =F32 -> 277 | G33: =G32 -> 277 | H33: =H32 -> 277 | I33: =(H33/G33)*100 -> 100
A36: Výdaje odboru strategického rozvoje kraje - operační program Olomouckého kraje
F37: =SUM(F38:F41) -> 2000 | G37: =SUM(G38:G41) -> 775 | H37: =SUM(H38:H41) -> 775 | I37: =H37/G37*100 -> 100
A38: -provozní výdaje | F38: =F32+F13 -> 616 | G38: =G32+G13 -> 292 | H38: =H32+H13 -> 292 | I38: =H38/G38*100 -> 100
A39: -investiční výdaje | F39: =F24+F16 -> 1384 | G39: =G24+G16 -> 483 | H39: =H24+H16 -> 483 | I39: =H39/G39*100 -> 100
A40: -účelové neinvestiční dotace | F40: 0 | G40: 0 | H40: 0 | I40: 0
A41: -účelové investiční dotace | F41: 0 | G41: 0 | H41: 0 | I41: 0
A44: Operační program Olomouckého kraje celkem | F44: =F38+F39 -> 2000 | G44: =G38+G39 -> 775 | H44: =H38+H39 -> 775 | I44: =(H44/G44)*100 -> 100

Sheet SROP
A1: 8b) SROP - individuální projekty | F1: ORJ - 30
A3: Správce: | C3: vedoucí odboru strategického rozvoje kraje
C4: Ing. Stanislav Losert
A6: Provozní výdaje
H7: v tis. Kč
A8: § | B8: pol. | C8: UZ | D8: název položky | E8: schválený rozp. | F8: upravený rozp. | G8: skutečnost | H8: %
A9: 6172 | B9: 5163 | D9: Služby peněžních ústavů | F9: 4 | G9: 3 | H9: =(G9/F9)*100 -> 75
D10: posíleno:
D11: RZ 691/04 - přesun z ORJ 07, § 6172, pol. 5163 | F11: 4
A12: Provozní výdaje celkem | E12: 0 | F12: 4 | G12: 3 | H12: =(G12/F12)*100 -> 75
A15: Individuální projekty
A17: ORG 3001000003 - Internetizace knihoven v Olomouckém kraji | H17: v tis. Kč
A18: § | B18: pol. | C18: UZ | D18: název položky | E18: schválený rozp. | F18: upravený rozp. | G18: skutečnost | H18: %
A19: 3314 | B19: 6119 | D19: Ostatní nákup dlouhodob.nehm.maj. | F19: 346 | G19: 346 | H19: =(G19/F19)*100 -> 100
D20: posíleno:
D21: RZ 731/04 - přesun z ORJ 30, § 3314, pol. 6125 | F21: 346
A22: Investiční výdaje celkem | E22: 0 | F22: 346 | G22: 346 | H22: =(G22/F22)*100 -> 100
A25: ORG 3006000002 - Společný nadregionální projekt pro podporu domác.cestovního ruchu | H25: v tis. Kč
A26: § | B26: pol. | C26: UZ | D26: název položky | E26: schválený rozp. | F26: upravený rozp. | G26: skutečnost | H26: %
A27: 2140 | B27: 5169 | D27: Nákup ostatních služeb | F27: 251 | G27: 251 | H27: =(G27/F27)*100 -> 100
D28: posíleno:
C29: 4 | D29: RZ 659/04 - přesun z ORJ 08, § 2140, pol. 5169 | F29: 251 | G29: 251 | H29: =(G29/F29)*100 -> 100
A30: Provozní výdaje celkem | E30: 0 | F30: 251 | G30: 251 | H30: =(G30/F30)*100 -> 100
A33: ORG 3009000001 - Silnice II. Třídy č. 446 Nová Seninka | H33: v tis. Kč
A34: § | B34: pol. | C34: UZ | D34: název položky | E34: schválený rozp. | F34: upravený rozp. | G34: skutečnost | H34: %
A35: 2212 | B35: 6121 | D35: Budovy, haly a stavby | F35: 123 | G35: 123 | H35: =(G35/F35)*100 -> 100
D36: posíleno:
D37: RZ 660/04 - přesun z ORJ 08, § 3639, pol. 5166 | F37: 123
A38: Investiční výdaje celkem | E38: 0 | F38: 123 | G38: 123 | H38: =(G38/F38)*100 -> 100
A40: Provozní výdaje odboru celkem | F40: =SUM(F12) -> 4 | G40: =SUM(G12) -> 3 | H40: =G40/F40*100 -> 75
A41: Provozní výdaje individuálních projektů celkem | F41: =SUM(F30) -> 251 | G41: =SUM(G30) -> 251 | H41: =G41/F41*100 -> 100
A42: Investiční výdaje individuálních projektů celkem | F42: =SUM(F22,F38) -> 469 | G42: =SUM(G22,G38) -> 469 | H42: =G42/F42*100 -> 100
A47: SROP - individuální projekty | E47: 0 | F47: =SUM(F40,F41,F42) -> 724 | G47: =SUM(G40,G41,G42) -> 723 | H47: =(G47/F47)*100 -> 99.861878

Sheet List1

Sheet 09
A1: 9) Odbor životního prostředí a zemědělství | F1: ORJ - 09
A3: Správce: | C3: vedoucí odboru
C4: Ing. Josef Veselský
A6: Provozní výdaje
H7: v tis. Kč
A8: § | B8: pol. | C8: UZ | D8: název položky | E8: schválený rozp. | F8: upravený rozp. | G8: skutečnost | H8: %
A9: 1 | B9: 2 | C9: 3 | D9: 4 | E9: 5 | F9: 6 | G9: 7 | H9: 8=7/6
A10: 1019 | B10: 5169 | D10: Nákup ostatních služeb | F10: 32 | G10: 32 | H10: =(G10/F10)*100 -> 100
A11: 1019 | B11: 5212 | D11: Neinvest.transfery nefin.podnik.subj.-FO | F11: 10 | G11: 10 | H11: =(G11/F11)*100 -> 100
C12: 00000002 | D12: Příspěvky do 25 tis. Kč | F12: 10 | G12: 10 | H12: =(G12/F12)*100 -> 100
A13: 1019 | B13: 5213 | D13: Neinvest.transfery nefin.podnik.subj.-PO | F13: 300 | G13: 300 | H13: =(G13/F13)*100 -> 100
C14: 00000001 | D14: Významné projekty | F14: 300 | G14: 300 | H14: =(G14/F14)*100 -> 100
A15: 1019 | B15: 5222 | D15: Neinv.transfery občans.sdruž. | F15: =F16+F17 -> 200 | G15: =G16+G17 -> 200 | H15: =(G15/F15)*100 -> 100
C16: 00000001 | D16: Významné projekty | F16: 50 | G16: 50 | H16: =(G16/F16)*100 -> 100
C17: 00000002 | D17: Příspěvky do 25 tis. Kč | F17: 150 | G17: 150 | H17: =(G17/F17)*100 -> 100
A18: 1032 | B18: 5165 | D18: Nájemné za půdu | E18: 2 | F18: 2 | G18: 1 | H18: =(G18/F18)*100 -> 50
A19: 1036 | B19: 5134 | D19: Prádlo, oděv a obuv | E19: 60 | F19: 53 | G19: 53 | H19: =(G19/F19)*100 -> 100
A20: 1036 | B20: 5169 | D20: Nákup ostatních služeb | E20: 40 | F20: 30 | G20: 30 | H20: =(G20/F20)*100 -> 100
A21: 1037 | B21: 5166 | D21: Konzultační, poradenské a právní služby | F21: 50 | G21: 19 | H21: =(G21/F21)*100 -> 38
A22: 1037 | B22: 5212 | D22: Neinvest.transfery nefin.podnik.subj.-FO | F22: 315 | G22: 315 | H22: =(G22/F22)*100 -> 100
C23: 00000550 | D23: Přísp.na hosp.v lesích na území OK | F23: 315 | G23: 315 | H23: =(G23/F23)*100 -> 100
A24: 1037 | B24: 5213 | D24: Neinvest.transfery nefin.podnik.subj.-PO | E24: 13500 | F24: =F25+F26 -> 8475 | G24: =G25+G26 -> 8475 | H24: =(G24/F24)*100 -> 100
C25: 00000550 | D25: Přísp.na hosp.v lesích na území OK | E25: 13500 | F25: 8327 | G25: 8327 | H25: =(G25/F25)*100 -> 100
C26: 00029009 | D26: MZeČR - Meliorace a hrazení bystřin v lesích podle § 35 odst. 1 a 3 lesního zákona | F26: 148 | G26: 148 | H26: =(G26/F26)*100 -> 100
A27: 1037 | B27: 5223 | D27: Neinv.transf. církvím a náboženským spol. | F27: 302 | G27: 302 | H27: =(G27/F27)*100 -> 100
C28: 00000550 | D28: Přísp.na hosp.v lesích na území OK | F28: 302 | G28: 302 | H28: =(G28/F28)*100 -> 100
A29: 1037 | B29: 5321 | D29: Neinvestiční transfery obcím | F29: 3188 | G29: 3188 | H29: =(G29/F29)*100 -> 100
C30: 00000550 | D30: Přísp.na hosp.v lesích na území OK | F30: 3188 | G30: 3188 | H30: =(G30/F30)*100 -> 100
A31: 1037 | B31: 5331 | D31: Neinvestiční příspěvky zřízeným PO | F31: 841 | G31: 841 | H31: =(G31/F31)*100 -> 100
C32: 00000550 | D32: Přísp.na hosp.v lesích na území OK | F32: 841 | G32: 841 | H32: =(G32/F32)*100 -> 100
A33: 1037 | B33: 5493 | D33: Účel.neinvest.transfery nepodnik. FO | F33: 527 | G33: 527 | H33: =(G33/F33)*100 -> 100
C34: 00000550 | D34: Přísp.na hosp.v lesích na území OK | F34: 527 | G34: 527 | H34: =(G34/F34)*100 -> 100
A35: 1039 | B35: 5169 | D35: Nákup ostatních služeb | F35: 51 | G35: 51 | H35: =(G35/F35)*100 -> 100
A36: 1039 | B36: 5222 | D36: Neinv.transfery občans.sdruž. | F36: 50 | G36: 50 | H36: =(G36/F36)*100 -> 100
C37: 00000002 | D37: Příspěvky do 25 tis. Kč | F37: 50 | G37: 50 | H37: =(G37/F37)*100 -> 100
A38: 1099 | B38: 5192 | D38: Poskytnuté neinv.příspěvky a náhrady | E38: 50 | F38: 50 | G38: 0 | H38: =(G38/F38)*100 -> 0
A39: 1099 | B39: 5222 | D39: Neinv.transfery občans.sdruž. | F39: 15 | G39: 15 | H39: =(G39/F39)*100 -> 100
C40: 00000002 | D40: Příspěvky do 25 tis. Kč | F40: 15 | G40: 15 | H40: =(G40/F40)*100 -> 100
A41: 1099 | B41: 5493 | D41: Účel.neinvest.transfery nepodnik. FO | F41: 400 | G41: 395 | H41: =(G41/F41)*100 -> 98.75
C42: 00000553 | D42: Program na podporu začínajících včelařů na území OK | F42: 400 | G42: 395 | H42: =(G42/F42)*100 -> 98.75
A43: 2143 | B43: 5222 | D43: Neinv.transfery občans.sdruž. | F43: 800 | G43: 800 | H43: =(G43/F43)*100 -> 100
C44: 00000001 | D44: Významné projekty | F44: 800 | G44: 800 | H44: =(G44/F44)*100 -> 100
A45: 2310 | B45: 5321 | D45: Neinvestiční transfery obcím | E45: 6300 | F45: 1383 | G45: 1383 | H45: =(G45/F45)*100 -> 100
C46: 00000552 | D46: Přísp.obcím OK na řešení mimoř.událostí | E46: 6300 | F46: 1383 | G46: 1383 | H46: =(G46/F46)*100 -> 100
A47: 2321 | B47: 5321 | D47: Neinvestiční transfery obcím | F47: 3067 | G47: 3067 | H47: =(G47/F47)*100 -> 100
C48: 00000552 | D48: Přísp.obcím OK na řešení mimoř.událostí | F48: 3067 | G48: 3067 | H48: =(G48/F48)*100 -> 100
A49: 2369 | B49: 5166 | D49: Konzultační, poradenské a právní služby | E49: 50 | F49: 25 | G49: 25 | H49: =(G49/F49)*100 -> 100
A50: 3429 | B50: 5212 | D50: Neinvest.transfery nefin.podnik.subj.-FO | F50: 75 | G50: 75 | H50: =(G50/F50)*100 -> 100
C51: 00000002 | D51: Příspěvky do 25 tis. Kč | F51: 75 | G51: 75 | H51: =(G51/F51)*100 -> 100
A52: 3429 | B52: 5222 | D52: Neinv.transfery občans.sdruž. | F52: 565 | G52: 554 | H52: =(G52/F52)*100 -> 98.053097
C53: 00000002 | D53: Příspěvky do 25 tis. Kč | F53: 565 | G53: 554 | H53: =(G53/F53)*100 -> 98.053097
A54: 3429 | B54: 5229 | D54: Ost.neinvest.transfery nezisk.a pod.org. | F54: 25 | G54: 25 | H54: =(G54/F54)*100 -> 100
C55: 00000002 | D55: Příspěvky do 25 tis. Kč | F55: 25 | G55: 25 | H55: =(G55/F55)*100 -> 100
A56: 3429 | B56: 5493 | D56: Účel.neinvest.transfery nepodnik. FO | F56: 35 | G56: 35 | H56: =(G56/F56)*100 -> 100
C57: 00000002 | D57: Příspěvky do 25 tis. Kč | F57: 35 | G57: 35 | H57: =(G57/F57)*100 -> 100
A58: 3713 | B58: 5222 | D58: Neinv.transfery občans.sdruž. | F58: 600 | G58: 600 | H58: =(G58/F58)*100 -> 100
C59: 00000001 | D59: Významné projekty | F59: 600 | G59: 600 | H59: =(G59/F59)*100 -> 100
A60: 3719 | B60: 5166 | D60: Konzultační, poradenské a právní služby | E60: 50 | F60: 34 | G60: 0 | H60: =(G60/F60)*100 -> 0
A61: 3719 | B61: 5168 | D61: Služby zpracování dat | E61: 100 | F61: 97 | G61: 97 | H61: =(G61/F61)*100 -> 100
A62: 3725 | B62: 5169 | D62: Nákup ostatních služeb | E62: 900 | F62: 950 | G62: 950 | H62: =(G62/F62)*100 -> 100
A63: 3729 | B63: 5166 | D63: Konzultační, poradenské a právní služby | E63: 300 | F63: 250 | G63: 0 | H63: =(G63/F63)*100 -> 0
A64: 3741 | B64: 5164 | D64: Nájemné | F64: 3 | G64: 3 | H64: =(G64/F64)*100 -> 100 | J64: =E18+E19+E20+E24+E38+E45+E60+E61+E62+E63+E49 -> 21352 | K64: =F10+F11+F13+F15+F18+F19+F20+F21+F22+F24+F27+F29+F31+F33+F35+F38+F39+F41+F43+F45+F47+F49+F50+F52+F54+F56+F58+F60+F61+F62+F63+F64+F36 -> 22800 | L64: =G10+G11+G13+G15+G18+G19+G20+G21+G22+G24+G27+G29+G31+G33+G35+G38+G39+G41+G43+G45+G47+G49+G50+G52+G54+G56+G58+G60+G61+G62+G63+G64+G36 -> 22418
H69: v tis. Kč
A70: § | B70: pol. | C70: UZ | D70: název položky | E70: schválený rozp. | F70: upravený rozp. | G70: skutečnost | H70: %
A71: 1 | B71: 2 | C71: 3 | D71: 4 | E71: 5 | F71: 6 | G71: 7 | H71: 8=7/6
A72: 3741 | B72: 5169 | D72: Nákup ostatních služeb | E72: 250 | F72: 250 | G72: 250 | H72: =(G72/F72)*100 -> 100
A73: 3741 | B73: 5173 | D73: Cestovné | F73: 3 | G73: 3 | H73: =(G73/F73)*100 -> 100
A74: 3741 | B74: 5222 | D74: Neinv.transfery občans.sdruž. | F74: 45 | G74: 45 | H74: =(G74/F74)*100 -> 100
C75: 00000002 | D75: Příspěvky do 25 tis. Kč | F75: 45 | G75: 45 | H75: =(G75/F75)*100 -> 100
A76: 3742 | B76: 5166 | D76: Konzultační, poradenské a právní služby | E76: 200 | F76: 199 | G76: 189 | H76: =(G76/F76)*100 -> 94.974874
A77: 3742 | B77: 5169 | D77: Nákup ostatních služeb | E77: 3000 | F77: 2966 | G77: 2948 | H77: =(G77/F77)*100 -> 99.393122
A78: 3742 | B78: 5222 | D78: Neinv.transfery občans.sdruž. | F78: 20 | G78: 20 | H78: =(G78/F78)*100 -> 100
C79: 00000002 | D79: Příspěvky do 25 tis. Kč | F79: 20 | G79: 20 | H79: =(G79/F79)*100 -> 100
A80: 3745 | B80: 5222 | D80: Neinv.transfery občans.sdruž. | F80: 50 | G80: 50 | H80: =(G80/F80)*100 -> 100
C81: 00000001 | D81: Významné projekty | F81: 50 | G81: 50 | H81: =(G81/F81)*100 -> 100
A82: 3745 | B82: 5321 | D82: Neinvestiční transfery obcím | F82: 400 | G82: 400 | H82: =(G82/F82)*100 -> 100
C83: 00000001 | D83: Významné projekty | F83: 400 | G83: 400 | H83: =(G83/F83)*100 -> 100
A84: 3745 | B84: 5493 | D84: Účel.neinvest.transfery nepodnik. FO | F84: 25 | G84: 25 | H84: =(G84/F84)*100 -> 100
C85: 00000002 | D85: Příspěvky do 25 tis. Kč | F85: 25 | G85: 25 | H85: =(G85/F85)*100 -> 100
A86: 3769 | B86: 5166 | D86: Konzultační, poradenské a právní služby | E86: 380 | F86: 298 | G86: 53 | H86: =(G86/F86)*100 -> 17.785235
A87: 3769 | B87: 5169 | D87: Nákup ostatních služeb | E87: 20 | F87: 10 | G87: 4 | H87: =(G87/F87)*100 -> 40
A88: 3769 | B88: 5192 | D88: Poskytnuté neinv.příspěvky a náhrady | F88: 6355 | G88: 6355 | H88: =(G88/F88)*100 -> 100
C89: 00098278 | D89: MFČR - úhrada škod způs.kormoránem velkým | F89: 6355 | G89: 6355 | H89: =(G89/F89)*100 -> 100
A90: 3791 | B90: 5222 | D90: Neinv.transfery občans.sdruž. | F90: 80 | G90: 80 | H90: =(G90/F90)*100 -> 100
C91: 00000001 | D91: Významné projekty | F91: 80 | G91: 80 | H91: =(G91/F91)*100 -> 100
A92: 3792 | B92: 5221 | D92: Neinv.transfery obecně prospěš.společ. | F92: 25 | G92: 25 | H92: =(G92/F92)*100 -> 100
C93: 00000002 | D93: Příspěvky do 25 tis. Kč | F93: 25 | G93: 25 | H93: =(G93/F93)*100 -> 100
A94: Provozní výdaje celkem | E94: =J94+J64 -> 25202 | F94: =K94+K64 -> 33526 | G94: =L94+L64 -> 32865 | H94: =(G94/F94)*100 -> 98.028396 | J94: =E72+E76+E77+E86+E87 -> 3850 | K94: =F72+F73+F74+F76+F77+F78+F80+F82+F84+F86+F87+F88+F90+F92 -> 10726 | L94: =G72+G73+G74+G76+G77+G78+G80+G82+G84+G86+G87+G88+G90+G92 -> 10447
A98: Investiční výdaje
H99: v tis. Kč
A100: § | B100: pol. | C100: UZ | D100: název položky | E100: schválený rozp. | F100: upravený rozp. | G100: skutečnost | H100: %
A101: 1 | B101: 2 | C101: 3 | D101: 4 | E101: 5 | F101: 6 | G101: 7 | H101: 8=7/6
A102: 1037 | B102: 6313 | D102: Invest.transf.nefin.podn.subj.-PO | F102: 5263 | G102: 5263 | H102: =(G102/F102)*100 -> 100
C103: 00029517 | D103: MZeČR - Meliorace a hrazení bystřin v lesích podle § 35 odst. 1 a 3 lesního zákona (investice) | F103: 5263 | G103: 5263 | H103: =(G103/F103)*100 -> 100
A105: 1070 | B105: 6322 | D105: Investiční transfery občanským sdružením | F105: 200 | G105: 200 | H105: =(G105/F105)*100 -> 100
C106: 00000001 | D106: Významné projekty | F106: 200 | G106: 200 | H106: =(G106/F106)*100 -> 100
A107: 2321 | B107: 6313 | D107: Invest.transf.nefin.podn.subj.-PO | F107: 5766 | G107: 5766 | H107: =(G107/F107)*100 -> 100
C108: 00000024 | D108: Přebytek hospodaření OK | F108: 5766 | G108: 5766 | H108: =(G108/F108)*100 -> 100
A109: 2321 | B109: 6341 | D109: Investiční transfery obcím | F109: 350 | G109: 350 | H109: =(G109/F109)*100 -> 100
C110: 00000552 | D110: Přísp.obcím OK na řešení mimoř.událostí | F110: 350 | G110: 350 | H110: =(G110/F110)*100 -> 100
...

Sheet 10
A1: 10) Odbor školství, mládeže a tělovýchovy | F1: ORJ - 10
A3: Správce: | C3: vedoucí odboru školství, mládeže a tělovýchovy
C4: Mgr. Miroslav Gajdůšek, MBA
A6: Provozní výdaje
H7: v tis. Kč
A8: § | B8: pol. | C8: UZ | D8: název položky | E8: schválený rozp. | F8: upravený rozp. | G8: skutečnost | H8: %
A9: 1 | B9: 2 | C9: 3 | D9: 4 | E9: 5 | F9: 6 | G9: 7 | H9: 8=7/6
A10: 3121 | B10: 5651 | D10: Neinv.půjčené prostř.zřízeným PO | F10: 400 | G10: 400 | H10: 0
A11: 3269 | B11: 5019 | D11: Ostatní platy | E11: 8 | F11: 8 | G11: 0 | H11: 0
A12: 3269 | B12: 5039 | D12: Ostatní povinné poj.placené zaměstnavat. | E12: 2 | F12: 2 | G12: 0 | H12: 0
A13: 3269 | B13: 5139 | D13: Nákup materiálu j.n. | E13: 35 | F13: =F14+F15 -> 219 | G13: =G14+G15 -> 211 | H13: =(G13/F13)*100 -> 96.347032
C14: 00000000 | D14: Provoz | E14: 35 | F14: 193 | G14: 185 | H14: =(G14/F14)*100 -> 95.854922
C15: 00000114 | D15: Talent Olomouckého kraje | F15: 26 | G15: 26 | H15: =(G15/F15)*100 -> 100
A16: 3269 | B16: 5162 | D16: Služby tel. a radiokomunikací | E16: 5 | F16: 5 | G16: 3 | H16: 0
A17: 3269 | B17: 5164 | D17: Nájemné | E17: 64 | F17: 77 | G17: 70 | H17: =(G17/F17)*100 -> 90.909091
C18: 00000000 | D18: Provoz | E18: 64 | F18: 62 | G18: 55 | H18: =(G18/F18)*100 -> 88.709677
C19: 00000114 | D19: Talent Olomouckého kraje | F19: 15 | G19: 15 | H19: =(G19/F19)*100 -> 100
A20: 3269 | B20: 5166 | D20: Konzultační, poradenské a právní služby | E20: 11945 | F20: 0 | G20: 0 | H20: 0
A21: 3269 | B21: 5169 | D21: Nákup ostatních služeb | E21: 2550 | F21: =F22+F23 -> 21978 | G21: =G22+G23 -> 21681 | H21: =(G21/F21)*100 -> 98.648649
C22: 00000000 | D22: Provoz | E22: 2550 | F22: 21913 | G22: 21616 | H22: =(G22/F22)*100 -> 98.64464
C23: 00000114 | D23: Talent Olomouckého kraje | F23: 65 | G23: 65 | H23: =(G23/F23)*100 -> 100
A24: 3269 | B24: 5175 | D24: Pohoštění | E24: 85 | F24: 166 | G24: 160 | H24: =(G24/F24)*100 -> 96.385542
C25: 00000000 | D25: Provoz | E25: 85 | F25: 116 | G25: 112 | H25: =(G25/F25)*100 -> 96.551724
C26: 00000114 | D26: Talent Olomouckého kraje | F26: 50 | G26: 48 | H26: =(G26/F26)*100 -> 96
A27: 3269 | B27: 5194 | D27: Věcné dary | E27: 1130 | F27: 1269 | G27: 1241 | H27: =(G27/F27)*100 -> 97.793538
A28: 3269 | B28: 5493 | D28: Účel.neinvest.transfery nepodnik. FO | E28: 400 | F28: 14 | G28: 0 | H28: 0
C29: 00000114 | D29: Talent Olomouckého kraje | E29: 400 | F29: 14 | G29: 0 | H29: 0
A30: 3269 | B30: 5494 | D30: Neinv.transf.obyv.nemající charakter daru | F30: 153 | G30: 153 | H30: =(G30/F30)*100 -> 100
C31: 00000114 | D31: Talent Olomouckého kraje | F31: 153 | G31: 153 | H31: =(G31/F31)*100 -> 100
A32: 3269 | B32: 5499 | D32: Ostatní neinv.transfery ob. | E32: 35 | F32: 35 | G32: 29 | H32: =(G32/F32)*100 -> 82.857143
A33: 3299 | B33: 5213 | D33: Neinv.transfery nefin.podnik.subj.-PO | F33: 50 | G33: 50 | H33: =(G33/F33)*100 -> 100
C34: 00000016 | D34: Ostatní příspěvky | F34: 50 | G34: 50 | H34: =(G34/F34)*100 -> 100
A35: 3299 | B35: 5221 | D35: Neinv.transfery obecně prospěšným společnostem
F36: =F37+F38 -> 4420 | G36: =G37+G38 -> 4420 | H36: =(G36/F36)*100 -> 100
C37: 00000001 | D37: Významné projekty | F37: 900 | G37: 900 | H37: =(G37/F37)*100 -> 100
C38: 00000116 | D38: Příspěvky vysokým školám | F38: 3520 | G38: 3520 | H38: =(G38/F38)*100 -> 100
A39: 3299 | B39: 5323 | D39: Neinvestiční transfery krajům | F39: 150 | G39: 150 | H39: =(G39/F39)*100 -> 100
C40: 00000016 | D40: Ostatní příspěvky | F40: 150 | G40: 150 | H40: =(G40/F40)*100 -> 100
A41: 3299 | B41: 5339 | D41: Neinvest.příspěvky ostatním PO | F41: 2000 | G41: 2000 | H41: =(G41/F41)*100 -> 100
C42: 00000116 | D42: Příspěvky vysokým školám | F42: 2000 | G42: 2000 | H42: =(G42/F42)*100 -> 100
A43: 3299 | B43: 5493 | D43: Účelové neinv.transf.nepodnik.FO | E43: 1800 | F43: 1740 | G43: 1602 | H43: =(G43/F43)*100 -> 92.068966
C44: 00000110 | D44: Stipendijní řád Olomouckého kraje | E44: 1800 | F44: 1740 | G44: 1602 | H44: =(G44/F44)*100 -> 92.068966
A45: 3319 | B45: 5222 | D45: Neinv.transfery občans.sdruž. | F45: 36 | G45: 36 | H45: =(G45/F45)*100 -> 100
C46: 00000002 | D46: Příspěvky do 25 tis. Kč | F46: 36 | G46: 36 | H46: =(G46/F46)*100 -> 100
A47: 3419 | B47: 5212 | D47: Neinv.transfery nefin.pod.subj.-FO | F47: =F48+F49 -> 325 | G47: =G48+G49 -> 325 | H47: =(G47/F47)*100 -> 100
C48: 00000001 | D48: Významné projekty | F48: 250 | G48: 250 | H48: =(G48/F48)*100 -> 100
C49: 00000002 | D49: Příspěvky do 25 tis. Kč | F49: 75 | G49: 75 | H49: =(G49/F49)*100 -> 100
A50: 3419 | B50: 5213 | D50: Neinv.transfery nefin.podnik.subj.-PO | E50: 2000 | F50: =F51+F52+F53+F54 -> 4010 | G50: =G51+G52+G53+G54 -> 4010 | H50: =(G50/F50)*100 -> 100
C51: 00000001 | D51: Významné projekty | F51: 790 | G51: 790 | H51: =(G51/F51)*100 -> 100
C52: 00000002 | D52: Příspěvky do 25 tis. Kč | F52: 300 | G52: 300 | H52: =(G52/F52)*100 -> 100
C53: 00000016 | D53: Ostatní příspěvky | E53: 2000 | F53: 0 | G53: 0 | H53: 0
C54: 00000105 | D54: fin.příspěvek v obl.sportu | F54: 2920 | G54: 2920 | H54: =(G54/F54)*100 -> 100
A55: 3419 | B55: 5221 | D55: Neinv.transfery obecně prospěšným společnostem | F55: 25 | G55: 25 | H55: =(G55/F55)*100 -> 100
C57: 00000002 | D57: Příspěvky do 25 tis. Kč | F57: 25 | G57: 25 | H57: =(G57/F57)*100 -> 100
A58: 3419 | B58: 5222 | D58: Neinv.transfery občans.sdruž. | E58: =E62 -> 37067 | F58: =F59+F60+F61+F62 -> 47753 | G58: =G59+G60+G61+G62 -> 47728 | H58: =(G58/F58)*100 -> 99.947647
C59: 00000001 | D59: Významné projekty | F59: 9460 | G59: 9460 | H59: =(G59/F59)*100 -> 100
C60: 00000002 | D60: Příspěvky do 25 tis. Kč | F60: 4046 | G60: 4021 | H60: =(G60/F60)*100 -> 99.382106
C61: 00000016 | D61: Ostatní příspěvky | F61: 100 | G61: 100 | H61: =(G61/F61)*100 -> 100
C62: 00000105 | D62: fin.příspěvek v obl.sportu | E62: 37067 | F62: 34147 | G62: 34147 | H62: =(G62/F62)*100 -> 100
A63: 3419 | B63: 5229 | D63: Ostatní neinv.transfery nezisk.a pod.org. | E63: 150 | F63: 150 | G63: 150 | H63: =(G63/F63)*100 -> 100
C64: 00000016 | D64: Ostatní příspěvky | E64: 150 | F64: 150 | G64: 150 | H64: =(G64/F64)*100 -> 100
A65: 3419 | B65: 5493 | D65: Účel.neinvest.transfery nepodnik. FO | F65: =F66+F67 -> 1580 | G65: 1580 | H65: =(G65/F65)*100 -> 100
C66: 00000001 | D66: Významné projekty | F66: 200 | G66: 200 | H66: =(G66/F66)*100 -> 100
C67: 00000002 | D67: Příspěvky do 25 tis. Kč | F67: 1380 | G67: 1380 | H67: =(G67/F67)*100 -> 100
A68: 3429 | B68: 5212 | D68: Neinv.transfery nefin.pod.subj.-FO | F68: 75 | G68: 75 | H68: =(G68/F68)*100 -> 100
C69: 00000002 | D69: Příspěvky do 25 tis. Kč | F69: 75 | G69: 75 | H69: =(G69/F69)*100 -> 100 | J69: =F10+F11+F12+F13+F16+F17+F20+F21+F24+F27+F28+F30+F32+F33+F36+F39+F41+F43+F45+F47+F50+F55+F58+F63+F65+F68 -> 86640 | K69: =G10+G11+G12+G13+G16+G17+G20+G21+G24+G27+G28+G30+G32+G33+G36+G39+G41+G43+G45+G47+G50+G55+G58+G63+G65+G68 -> 86099
H71: v tis. Kč
A72: § | B72: pol. | C72: UZ | D72: název položky | E72: schválený rozp. | F72: upravený rozp. | G72: skutečnost | H72: %
A73: 1 | B73: 2 | C73: 3 | D73: 4 | E73: 5 | F73: 6 | G73: 7 | H73: 8=7/6
A74: 3429 | B74: 5213 | D74: Neinv.transfery nefin.podnik.subj.-PO | F74: 125 | G74: 125 | H74: =(G74/F74)*100 -> 100
C75: 00000002 | D75: Příspěvky do 25 tis. Kč | F75: 125 | G75: 125 | H75: =(G75/F75)*100 -> 100
A76: 3429 | B76: 5221 | D76: Neinv.transfery obecně prospěšným společnostem
F77: 100 | G77: 100 | H77: =(G77/F77)*100 -> 100
C78: 00000001 | D78: Významné projekty | F78: 100 | G78: 100 | H78: =(G78/F78)*100 -> 100
A79: 3429 | B79: 5222 | D79: Neinv.transfery občans.sdruž. | F79: =F80+F81+F82 -> 3182 | G79: =G80+G81+G82 -> 3177 | H79: =(G79/F79)*100 -> 99.842866
C80: 00000001 | D80: Významné projekty | F80: 650 | G80: 650 | H80: =(G80/F80)*100 -> 100
C81: 00000002 | D81: Příspěvky do 25 tis. Kč | F81: 1532 | G81: 1527 | H81: =(G81/F81)*100 -> 99.673629
C82: 00000016 | D82: Ostatní příspěvky | F82: 1000 | G82: 1000 | H82: =(G82/F82)*100 -> 100
A83: 3429 | B83: 5229 | D83: Ostatní neinv.transfery nezisk.a pod.org. | F83: 50 | G83: 50 | H83: =(G83/F83)*100 -> 100
C84: 00000002 | D84: Příspěvky do 25 tis. Kč | F84: 50 | G84: 50 | H84: =(G84/F84)*100 -> 100
A85: 3429 | B85: 5321 | D85: Neinvestiční transfery obcím | F85: 150 | G85: 150 | H85: =(G85/F85)*100 -> 100
C86: 00000001 | D86: Významné projekty | F86: 100 | G86: 100 | H86: =(G86/F86)*100 -> 100
C87: 00000002 | D87: Příspěvky do 25 tis. Kč | F87: 50 | G87: 50 | H87: =(G87/F87)*100 -> 100
A88: 3429 | B88: 5329 | D88: Ost.neinv.transfery veř.rozpočtům úz.úrovně | F88: 50 | G88: 50 | H88: =(G88/F88)*100 -> 100
C89: 00000002 | D89: Příspěvky do 25 tis. Kč | F89: 50 | G89: 50 | H89: =(G89/F89)*100 -> 100
A90: 3429 | B90: 5339 | D90: Neinv.transfery cizím PO | F90: 25 | G90: 25 | H90: =(G90/F90)*100 -> 100
C91: 00000002 | D91: Příspěvky do 25 tis. Kč | F91: 25 | G91: 25 | H91: =(G91/F91)*100 -> 100
A92: 3429 | B92: 5493 | D92: Účel.neinvest.transfery nepodnik. FO | F92: 300 | G92: 300 | H92: =(G92/F92)*100 -> 100
C93: 00000002 | D93: Příspěvky do 25 tis. Kč | F93: 300 | G93: 300 | H93: =(G93/F93)*100 -> 100
A94: 3792 | B94: 5139 | D94: Nákup materiálu j.n. | E94: 50 | F94: 0 | G94: 0 | H94: 0
C95: 00000112 | D95: Enviromentální vzdělávání, výchova a osvěta | E95: 50 | F95: 0 | G95: 0 | H95: 0
A96: 3792 | B96: 5164 | D96: Nájemné | E96: 20 | F96: 20 | G96: 20 | H96: =(G96/F96)*100 -> 100
C97: 00000112 | D97: Enviromentální vzdělávání, výchova a osvěta | E97: 20 | F97: 20 | G97: 20 | H97: =(G97/F97)*100 -> 100
A98: 3792 | B98: 5169 | D98: Nákup ostatních služeb | E98: 120 | F98: 142 | G98: 106 | H98: =(G98/F98)*100 -> 74.647887
C99: 00000112 | D99: Enviromentální vzdělávání, výchova a osvěta | E99: 120 | F99: 142 | G99: 106 | H99: =(G99/F99)*100 -> 74.647887
A100: 3792 | B100: 5175 | D100: Pohoštění | E100: 20 | F100: 32 | G100: 32 | H100: =(G100/F100)*100 -> 100
C101: 00000112 | D101: Enviromentální vzdělávání, výchova a osvěta | E101: 20 | F101: 32 | G101: 32 | H101: =(G101/F101)*100 -> 100
A102: 3792 | B102: 5221 | D102: Neinv.transfery obecně prospěšným společnostem
F103: 25 | G103: 25 | H103: =(G103/F103)*100 -> 100
C104: 00000112 | D104: Enviromentální vzdělávání, výchova a osvěta | F104: 25 | G104: 25 | H104: =(G104/F104)*100 -> 100
...

Sheet 10 - PO
A1: 10) Odbor školství, mládeže a tělovýchovy | G1: ORJ - 10
A3: Správce: | C3: vedoucí odboru školství, mládeže a tělovýchovy
C4: Mgr. Miroslav Gajdůšek, MBA
A7: Příspěvkové organizace
A11: ZŠ a MŠ, Náměstí 150, Město Libavá | I11: v tis.Kč
A12: ORG | B12: § | C12: pol. | D12: UZ | E12: název položky | F12: schválený rozp. | G12: upravený rozp. | H12: skutečnost | I12: %
A13: 1 | B13: 2 | C13: 3 | D13: 4 | E13: 5 | F13: 6 | G13: 7 | H13: 8 | I13: 9=8/7
A14: 1000 | B14: 3111 | C14: 5331 | E14: Neinvestiční příspěvky zřízeným PO | F14: 0 | G14: =SUM(G15:G16) -> 1231 | H14: =SUM(H15:H16) -> 1231 | I14: =(H14/G14)*100 -> 100
D15: 00007131 | E15: neinv.transfery na provoz škol | G15: 400 | H15: 400 | I15: =(H15/G15)*100 -> 100
D16: 00033353 | E16: přímé nákl.na vzdělání | G16: 831 | H16: 831 | I16: =(H16/G16)*100 -> 100
A17: 1000 | B17: 3113 | C17: 5331 | E17: Neinvestiční příspěvky zřízeným PO | F17: 0 | G17: =SUM(G18:G21) -> 5971 | H17: =SUM(H18:H21) -> 5971 | I17: =(H17/G17)*100 -> 100
D18: 00007131 | E18: neinv.transfery na provoz škol | G18: 1650 | H18: 1650 | I18: =(H18/G18)*100 -> 100
D19: 00033017 | E19: progr."Školní vybavení pro žáky 1.ročníku ZV" | G19: 8 | H19: 8 | I19: =(H19/G19)*100 -> 100
D20: 00033027 | E20: posílení plat.úr.pedagog.prac.s VŠ vzděláním | G20: 185 | H20: 185 | I20: =(H20/G20)*100 -> 100
D21: 00033353 | E21: přímé nákl.na vzdělání | G21: 4128 | H21: 4128 | I21: =(H21/G21)*100 -> 100
A22: 1000 | B22: 3113 | C22: 5336 | E22: Neinvestiční dotace zřízeným PO | F22: 0 | G22: =G23+G24 -> 331 | H22: =H23+H24 -> 331 | I22: =(H22/G22)*100 -> 100
D23: 32133123 | E23: OP VK- obl.podpory 1.4. EU peníze školám-EU,CZ | G23: 50 | H23: 50 | I23: =(H23/G23)*100 -> 100
D24: 32533123 | E24: OP VK-obl.podpory 1.4. EU peníze školám-EU,EU | G24: 281 | H24: 281 | I24: =(H24/G24)*100 -> 100
A25: 1000 | B25: 3141 | C25: 5331 | E25: Neinvestiční příspěvky zřízeným PO | F25: 0 | G25: =SUM(G26:G27) -> 894 | H25: =SUM(H26:H27) -> 894 | I25: =(H25/G25)*100 -> 100
D26: 00007131 | E26: neinv.transfery na provoz škol-ZŠ Libavá | G26: 450 | H26: 450 | I26: =(H26/G26)*100 -> 100
D27: 00033353 | E27: přímé nákl.na vzdělání | G27: 444 | H27: 444 | I27: =(H27/G27)*100 -> 100
A28: 1000 | B28: 3143 | C28: 5331 | E28: Neinvestiční příspěvky zřízeným PO | F28: 0 | G28: =SUM(G29:G29) -> 461 | H28: =SUM(H29:H29) -> 461 | I28: =(H28/G28)*100 -> 100
D29: 00033353 | E29: přímé nákl.na vzdělání | G29: 461 | H29: 461 | I29: =(H29/G29)*100 -> 100
A30: Neinvestiční příspěvky celkem | F30: 0 | G30: =G14+G17+G25+G28+G22 -> 8888 | H30: =H14+H17+H25+H28+H22 -> 8888 | I30: =(H30/G30)*100 -> 100 | R30: =F30 -> 0 | S30: =G30 -> 8888 | T30: =H30 -> 8888
A34: Mateřská škola, Blanická 16, Olomouc | I34: v tis. Kč
A35: ORG | B35: § | C35: pol. | D35: UZ | E35: název položky | F35: schválený rozp. | G35: upravený rozp. | H35: skutečnost | I35: %
A36: 1 | B36: 2 | C36: 3 | D36: 4 | E36: 5 | F36: 6 | G36: 7 | H36: 8 | I36: 9=8/7
A37: 1001 | B37: 3112 | C37: 5331 | E37: Neinvestiční příspěvky zřízeným PO | F37: =SUM(F38:F42) -> 415 | G37: =SUM(G38:G42) -> 2929 | H37: =SUM(H38:H42) -> 2929 | I37: =(H37/G37)*100 -> 100
D38: 00000006 | E38: příspěvek na odpisy | F38: 45 | G38: 45 | H38: 45 | I38: =(H38/G38)*100 -> 100
D39: 00000020 | E39: provozní příspěvky zřízeným PO | F39: 370 | G39: 370 | H39: 370 | I39: =(H39/G39)*100 -> 100
D40: 00033015 | E40: hustota a specifika | G40: 454 | H40: 454 | I40: =(H40/G40)*100 -> 100
D41: 00033027 | E41: posílení plat.úr.pedagog.prac.s VŠ vzděláním | G41: 190 | H41: 190 | I41: =(H41/G41)*100 -> 100
D42: 00033353 | E42: přímé nákl.na vzdělání | G42: 1870 | H42: 1870 | I42: =(H42/G42)*100 -> 100
A43: 1001 | B43: 3141 | C43: 5331 | E43: Neinvestiční příspěvky zřízeným PO | F43: 0 | G43: =SUM(G44) -> 47 | H43: =SUM(H44) -> 47 | I43: =(H43/G43)*100 -> 100
D44: 00033353 | E44: přímé nákl.na vzdělání | G44: 47 | H44: 47 | I44: =(H44/G44)*100 -> 100
A45: Neinvestiční příspěvky celkem | F45: =SUM(F37) -> 415 | G45: =G37+G43 -> 2976 | H45: =H37+H43 -> 2976 | I45: =(H45/G45)*100 -> 100 | R45: =F45 -> 415 | S45: =G45 -> 2976 | T45: =H45 -> 2976
A50: MŠ a ZŠ při FN Olomouc, I.P.Pavlova 6, Olomouc | I50: v tis. Kč
A51: ORG | B51: § | C51: pol. | D51: UZ | E51: název položky | F51: schválený rozp. | G51: upravený rozp. | H51: skutečnost | I51: %
A52: 1 | B52: 2 | C52: 3 | D52: 4 | E52: 5 | F52: 6 | G52: 7 | H52: 8 | I52: 9=8/7
A53: 1010 | B53: 3112 | C53: 5331 | E53: Neinvestiční příspěvky zřízeným PO | F53: =SUM(F54:F58) -> 433 | G53: =SUM(G54:G58) -> 3314 | H53: =SUM(H54:H58) -> 3314 | I53: =(H53/G53)*100 -> 100
D54: 00000006 | E54: příspěvek na odpisy | F54: 5 | G54: 5 | H54: 5 | I54: =(H54/G54)*100 -> 100
D55: 00000020 | E55: provozní příspěvky zřízeným PO | F55: 428 | G55: 428 | H55: 428 | I55: =(H55/G55)*100 -> 100
D56: 00033015 | E56: hustota a specifika | G56: 197 | H56: 197 | I56: =(H56/G56)*100 -> 100
D57: 00033027 | E57: posílení plat.úr.pedagog.prac.s VŠ vzděláním | G57: 470 | H57: 470 | I57: =(H57/G57)*100 -> 100
D58: 00033353 | E58: přímé nákl.na vzdělání | G58: 2214 | H58: 2214 | I58: =(H58/G58)*100 -> 100
A59: 1010 | B59: 3114 | C59: 5331 | E59: Neinvestiční příspěvky zřízeným PO | F59: =SUM(F60:F61) -> 150 | G59: =SUM(G60:G61) -> 3170 | H59: =SUM(H60:H61) -> 3170 | I59: =(H59/G59)*100 -> 100
D60: 00000020 | E60: provozní příspěvky zřízeným PO | F60: 150 | G60: 146 | H60: 146 | I60: =(H60/G60)*100 -> 100
D61: 00033353 | E61: přímé nákl.na vzdělání | G61: 3024 | H61: 3024 | I61: =(H61/G61)*100 -> 100
A62: 1010 | B62: 3114 | C62: 5336 | E62: Neinvestiční dotace zřízeným PO | F62: 0 | G62: =G63+G64 -> 299 | H62: =H63+H64 -> 299 | I62: =(H62/G62)*100 -> 100
D63: 32133123 | E63: OP VK- obl.podpory 1.4. EU peníze školám-EU,CZ | G63: 45 | H63: 45 | I63: =(H63/G63)*100 -> 100
D64: 32533123 | E64: OP VK-obl.podpory 1.4. EU peníze školám-EU,EU | G64: 254 | H64: 254 | I64: =(H64/G64)*100 -> 100
A65: Neinvestiční příspěvky celkem | F65: =F53+F59+F62 -> 583 | G65: =G53+G59+G62 -> 6783 | H65: =H53+H59+H62 -> 6783 | I65: =(H65/G65)*100 -> 100 | R65: =F65 -> 583 | S65: =G65 -> 6783 | T65: =H65 -> 6783
A69: ZŠ a MŠ logopedická, Tř. Svornosti 37/900, Olomouc | I69: v tis. Kč
A70: ORG | B70: § | C70: pol. | D70: UZ | E70: název položky | F70: schválený rozp. | G70: upravený rozp. | H70: skutečnost | I70: %
A71: 1 | B71: 2 | C71: 3 | D71: 4 | E71: 5 | F71: 6 | G71: 7 | H71: 8 | I71: 9=8/7
A72: 1012 | B72: 3112 | C72: 5331 | E72: Neinvestiční příspěvky zřízeným PO | F72: =SUM(F73:F74) -> 100 | G72: =SUM(G73:G74) -> 1790 | H72: =SUM(H73:H74) -> 1790 | I72: =(H72/G72)*100 -> 100
D73: 00000020 | E73: provozní příspěvky zřízeným PO | F73: 100 | G73: 100 | H73: 100 | I73: =(H73/G73)*100 -> 100
D74: 00033353 | E74: přímé nákl.na vzdělání | G74: 1690 | H74: 1690 | I74: =(H74/G74)*100 -> 100
A75: 1012 | B75: 3114 | C75: 5331 | E75: Neinvestiční příspěvky zřízeným PO | F75: =SUM(F76:F77) -> 3208 | G75: =SUM(G76:G81) -> 15665 | H75: =SUM(H76:H81) -> 15665 | I75: =(H75/G75)*100 -> 100
D76: 00000006 | E76: příspěvek na odpisy | F76: 1059 | G76: 1059 | H76: 1059 | I76: =(H76/G76)*100 -> 100
D77: 00000020 | E77: provozní příspěvky zřízeným PO | F77: 2149 | G77: 2125 | H77: 2125 | I77: =(H77/G77)*100 -> 100
D78: 00033015 | E78: hustota a specifika | G78: 54 | H78: 54 | I78: =(H78/G78)*100 -> 100
D79: 00033017 | E79: progr."Školní vybavení pro žáky 1.ročníku ZV" | G79: 6 | H79: 6 | I79: =(H79/G79)*100 -> 100
D80: 00033027 | E80: posílení plat.úr.pedagog.prac.s VŠ vzděláním | G80: 999 | H80: 999 | I80: =(H80/G80)*100 -> 100
D81: 00033353 | E81: přímé nákl.na vzdělání | G81: 11422 | H81: 11422 | I81: =(H81/G81)*100 -> 100
A82: 1012 | B82: 3114 | C82: 5336 | E82: Neinvestiční dotace zřízeným PO | F82: 0 | G82: =G83+G84 -> 520 | H82: =H83+H84 -> 520 | I82: =(H82/G82)*100 -> 100
D83: 32133123 | E83: OP VK- obl.podpory 1.4. EU peníze školám-EU,CZ | G83: 78 | H83: 78 | I83: =(H83/G83)*100 -> 100
D84: 32533123 | E84: OP VK-obl.podpory 1.4. EU peníze školám-EU,EU | G84: 442 | H84: 442 | I84: =(H84/G84)*100 -> 100
A85: 1012 | B85: 3141 | C85: 5331 | E85: Neinvestiční příspěvky zřízeným PO | F85: 0 | G85: =G86 -> 619 | H85: =H86 -> 619 | I85: =(H85/G85)*100 -> 100
D86: 00033353 | E86: přímé nákl.na vzdělání | G86: 619 | H86: 619 | I86: =(H86/G86)*100 -> 100
A87: 1012 | B87: 3142 | C87: 5331 | E87: Neinvestiční příspěvky zřízeným PO | F87: =SUM(F88:F89) -> 350 | G87: =SUM(G88:G89) -> 762 | H87: =SUM(H88:H89) -> 762 | I87: =(H87/G87)*100 -> 100
D88: 00000020 | E88: provozní příspěvky zřízeným PO | F88: 350 | G88: 350 | H88: 350 | I88: =(H88/G88)*100 -> 100
D89: 00033353 | E89: přímé nákl.na vzdělání | G89: 412 | H89: 412 | I89: =(H89/G89)*100 -> 100
A90: 1012 | B90: 3143 | C90: 5331 | E90: Neinvestiční příspěvky zřízeným PO | F90: 0 | G90: =SUM(G91:G91) -> 568 | H90: =SUM(H91:H91) -> 568 | I90: =(H90/G90)*100 -> 100
D91: 00033353 | E91: přímé nákl.na vzdělání | G91: 568 | H91: 568 | I91: =(H91/G91)*100 -> 100
A92: 1012 | B92: 3145 | C92: 5331 | E92: Neinvestiční příspěvky zřízeným PO | F92: =F93 -> 400 | G92: =SUM(G93:G94) -> 3029 | H92: =SUM(H93:H94) -> 3029 | I92: =(H92/G92)*100 -> 100
D93: 00000020 | E93: provozní příspěvky zřízeným PO | F93: 400 | G93: 400 | H93: 400 | I93: =(H93/G93)*100 -> 100
D94: 00033353 | E94: přímé nákl.na vzdělání | G94: 2629 | H94: 2629 | I94: =(H94/G94)*100 -> 100
A95: 1012 | B95: 3146 | C95: 5331 | E95: Neinvestiční příspěvky zřízeným PO | F95: =F96 -> 290 | G95: =SUM(G96:G97) -> 4651 | H95: =SUM(H96:H97) -> 4651 | I95: =(H95/G95)*100 -> 100
D96: 00000020 | E96: provozní příspěvky zřízeným PO | F96: 290 | G96: 290 | H96: 290 | I96: =(H96/G96)*100 -> 100
D97: 00033353 | E97: přímé nákl.na vzdělání | G97: 4361 | H97: 4361 | I97: =(H97/G97)*100 -> 100
A98: Neinvestiční příspěvky celkem | F98: =F75+F87+F90+F92+F95+F72 -> 4348 | G98: =G75+G87+G90+G92+G95+G72+G85+G82 -> 27604 | H98: =H75+H87+H90+H92+H95+H72+H85+H82 -> 27604 | I98: =(H98/G98)*100 -> 100 | R98: =F98 -> 4348 | S98: =G98 -> 27604 | T98: =H98 -> 27604
A104: ZŠ prof.Vejdovského, nám.P.Otakara 777, Litovel | I104: v tis. Kč
A105: ORG | B105: § | C105: pol. | D105: UZ | E105: název položky | F105: schválený rozp. | G105: upravený rozp. | H105: skutečnost | I105: %
A106: 1 | B106: 2 | C106: 3 | D106: 4 | E106: 5 | F106: 6 | G106: 7 | H106: 8 | I106: 9=8/7
A107: 1013 | B107: 3114 | C107: 5331 | E107: Neinvestiční příspěvky zřízeným PO | F107: =SUM(F108:F114) -> 1649 | G107: =SUM(G108:G114) -> 10554 | H107: =SUM(H108:H114) -> 10554 | I107: =(H107/G107)*100 -> 100
D108: 00000006 | E108: příspěvek na odpisy | F108: 265 | G108: 265 | H108: 265 | I108: =(H108/G108)*100 -> 100
D109: 00000020 | E109: provozní příspěvky zřízeným PO | F109: 1384 | G109: 1382 | H109: 1382 | I109: =(H109/G109)*100 -> 100
D110: 00033015 | E110: hustota a specifika | G110: 113 | H110: 113 | I110: =(H110/G110)*100 -> 100
D111: 00033017 | E111: progr."Školní vybavení pro žáky 1.ročníku ZV" | G111: 4 | H111: 4 | I111: =(H111/G111)*100 -> 100
D112: 00033025 | E112: vybav.škol pomůckami kompenzač.a rehab.char. | G112: 12 | H112: 12 | I112: =(H112/G112)*100 -> 100
D113: 00033027 | E113: posílení plat.úr.pedagog.prac.s VŠ vzděláním | G113: 192 | H113: 192 | I113: =(H113/G113)*100 -> 100
D114: 00033353 | E114: přímé nákl.na vzdělání | G114: 8586 | H114: 8586 | I114: =(H114/G114)*100 -> 100
A115: 1013 | B115: 3114 | C115: 5336 | E115: Neinvestiční dotace zřízeným PO | F115: 0 | G115: =G116+G117 -> 402 | H115: =H116+H117 -> 402 | I115: =(H115/G115)*100 -> 100
D116: 32133123 | E116: OP VK- obl.podpory 1.4. EU peníze školám-EU,CZ | G116: 60 | H116: 60 | I116: =(H116/G116)*100 -> 100
D117: 32533123 | E117: OP VK-obl.podpory 1.4. EU peníze školám-EU,EU | G117: 342 | H117: 342 | I117: =(H117/G117)*100 -> 100
A118: 1013 | B118: 3141 | C118: 5331 | E118: Neinvestiční příspěvky zřízeným PO | F118: 0 | G118: 215 | H118: 215 | I118: =(H118/G118)*100 -> 100
D119: 00033353 | E119: přímé nákl.na vzdělání | G119: 215 | H119: 215 | I119: =(H119/G119)*100 -> 100
A120: 1013 | B120: 3142 | C120: 5331 | E120: Neinvestiční příspěvky zřízeným PO | F120: =F121 -> 180 | G120: =G121+G122 -> 313 | H120: =H121+H122 -> 313 | I120: =(H120/G120)*100 -> 100
D121: 00000020 | E121: provozní příspěvky zřízeným PO | F121: 180 | G121: 180 | H121: 180 | I121: =(H121/G121)*100 -> 100
...

Sheet 10 - soukr.šk.
A1: 10) Odbor školství, mládeže a tělovýchovy | G1: ORJ - 10
A3: Správce: | C3: vedoucí odboru školství, mládeže a tělovýchovy
C4: Mgr. Miroslav Gajdůšek, MBA
A6: Soukromé školy
A7: MŠ A a T, s.r.o., U Bečvy 2, Přerov | I7: v tis. Kč
A8: ORG | B8: § | C8: pol. | D8: UZ | E8: název položky | F8: schválený rozp. | G8: upravený rozp. | H8: skutečnost | I8: %
A9: 1 | B9: 2 | C9: 3 | D9: 4 | E9: 5 | F9: 6 | G9: 7 | H9: 8 | I9: 9=8/7
A10: 1500 | B10: 3111 | C10: 5213 | E10: Neinvest.transfery nefin.podnik.subjektům-PO | G10: =SUM(G11:G11) -> 1218 | H10: =SUM(H11:H11) -> 1218 | I10: =(H10/G10)*100 -> 100
D11: 00033155 | E11: Dotace na SŠ a škol.zařízení | G11: 1218 | H11: 1218 | I11: =(H11/G11)*100 -> 100
A12: Neinvestiční příspěvky celkem | F12: =SUM(F10) -> 0 | G12: =SUM(G10) -> 1218 | H12: =SUM(H10) -> 1218 | I12: =(H12/G12)*100 -> 100
A15: Prima MŠ s.r.o., Komenského 45, Hranice | I15: v tis. Kč
A16: ORG | B16: § | C16: pol. | D16: UZ | E16: název položky | F16: schválený rozp. | G16: upravený rozp. | H16: skutečnost | I16: %
A17: 1 | B17: 2 | C17: 3 | D17: 4 | E17: 5 | F17: 6 | G17: 7 | H17: 8 | I17: 9=8/7
A18: 1502 | B18: 3111 | C18: 5213 | E18: Neinvest.transfery nefin.podnik.subjektům-PO | G18: =SUM(G19:G19) -> 1621 | H18: =SUM(H19:H19) -> 1621 | I18: =(H18/G18)*100 -> 100
D19: 00033155 | E19: Dotace na SŠ a škol.zařízení | G19: 1621 | H19: 1621 | I19: =(H19/G19)*100 -> 100
A20: 1502 | B20: 3141 | C20: 5213 | E20: Neinvest.transfery nefin.podnik.subjektům-PO | G20: =G21 -> 249 | H20: =H21 -> 249 | I20: =(H20/G20)*100 -> 100
D21: 00033155 | E21: Dotace na SŠ a škol.zařízení | G21: 249 | H21: 249 | I21: =(H21/G21)*100 -> 100
A22: Neinvestiční příspěvky celkem | F22: =SUM(F18,F20) -> 0 | G22: =SUM(G18,G20) -> 1870 | H22: =SUM(H18,H20) -> 1870 | I22: =(H22/G22)*100 -> 100
A25: Speciální MŠ A a J, s.r.o., U Bečvy 2, Přerov | I25: v tis. Kč
A26: ORG | B26: § | C26: pol. | D26: UZ | E26: název položky | F26: schválený rozp. | G26: upravený rozp. | H26: skutečnost | I26: %
A27: 1 | B27: 2 | C27: 3 | D27: 4 | E27: 5 | F27: 6 | G27: 7 | H27: 8 | I27: 9=8/7
A28: 1503 | B28: 3112 | C28: 5213 | E28: Neinvest.transfery nefin.podnik.subjektům-PO | G28: =SUM(G29:G29) -> 3314 | H28: =SUM(H29:H29) -> 3314 | I28: =(H28/G28)*100 -> 100
D29: 00033155 | E29: Dotace na SŠ a škol.zařízení | G29: 3314 | H29: 3314 | I29: =(H29/G29)*100 -> 100
A30: 1503 | B30: 3141 | C30: 5213 | E30: Neinvest.transfery nefin.podnik.subjektům-PO | G30: =SUM(G31:G31) -> 112 | H30: =SUM(H31:H31) -> 112 | I30: =(H30/G30)*100 -> 100
D31: 00033155 | E31: Dotace na SŠ a škol.zařízení | G31: 112 | H31: 112 | I31: =(H31/G31)*100 -> 100
A32: Neinvestiční příspěvky celkem | F32: 0 | G32: =SUM(G28,G30) -> 3426 | H32: =SUM(H28,H30) -> 3426 | I32: =(H32/G32)*100 -> 100
A35: Mateřská škola Sluníčko Olomouc, o.p.s., Blahoslavova 2, Olomouc | I35: v tis. Kč
A36: ORG | B36: § | C36: pol. | D36: UZ | E36: název položky | F36: schválený rozp. | G36: upravený rozp. | H36: skutečnost | I36: %
A37: 1 | B37: 2 | C37: 3 | D37: 4 | E37: 5 | F37: 6 | G37: 7 | H37: 8 | I37: 9=8/7
A38: 1504 | B38: 3111 | C38: 5221 | E38: Neinv.transfery obecně prospěš.společnostem | G38: =G39+G40 -> 907 | H38: =H39+H40 -> 907 | I38: =(H38/G38)*100 -> 100
D39: 00033155 | E39: Dotace na SŠ a škol.zařízení | G39: 836 | H39: 836 | I39: =(H39/G39)*100 -> 100
D40: 00033215 | E40: Asistenti pedagogů v SŠ a církevních spec.šk. | G40: 71 | H40: 71 | I40: =(H40/G40)*100 -> 100
A41: 1504 | B41: 3141 | C41: 5221 | E41: Neinv.transfery obecně prospěš.společnostem | G41: =G42 -> 41 | H41: =H42 -> 41 | I41: =(H41/G41)*100 -> 100
D42: 00033155 | E42: Dotace na SŠ a škol.zařízení | G42: 41 | H42: 41 | I42: =(H42/G42)*100 -> 100
A43: Neinvestiční příspěvky celkem | F43: =SUM(F38,F41) -> 0 | G43: =G38+G41 -> 948 | H43: =H38+H41 -> 948 | I43: =(H43/G43)*100 -> 100
A47: Česko Britská Mezinárodní škola a MŠ s.r.o., Rooseveltova 101, Olomouc | I47: v tis. Kč
A48: ORG | B48: § | C48: pol. | D48: UZ | E48: název položky | F48: schválený rozp. | G48: upravený rozp. | H48: skutečnost | I48: %
A49: 1 | B49: 2 | C49: 3 | D49: 4 | E49: 5 | F49: 6 | G49: 7 | H49: 8 | I49: 9=8/7
A50: 1506 | B50: 3111 | C50: 5213 | E50: Neinv.transfery obecně prospěš.společnostem | G50: =SUM(G51:G51) -> 359 | H50: =SUM(H51:H51) -> 359 | I50: =(H50/G50)*100 -> 100
D51: 00033155 | E51: Dotace na SŠ a škol.zařízení | G51: 359 | H51: 359 | I51: =(H51/G51)*100 -> 100
A52: Neinvestiční příspěvky celkem | F52: 0 | G52: =G50 -> 359 | H52: =H50 -> 359 | I52: =(H52/G52)*100 -> 100
A56: MŠ 1.olomoucká sportovní, s.r.o., Karafiátova 895/3a, Olomouc-Neředín | I56: v tis. Kč
A57: ORG | B57: § | C57: pol. | D57: UZ | E57: název položky | F57: schválený rozp. | G57: upravený rozp. | H57: skutečnost | I57: %
A58: 1 | B58: 2 | C58: 3 | D58: 4 | E58: 5 | F58: 6 | G58: 7 | H58: 8 | I58: 9=8/7
A59: 1507 | B59: 3111 | C59: 5213 | E59: Neinv.transfery obecně prospěš.společnostem | G59: =G60 -> 366 | H59: =H60 -> 366 | I59: =(H59/G59)*100 -> 100
D60: 00033155 | E60: Dotace na SŠ a škol.zařízení | G60: 366 | H60: 366 | I60: =(H60/G60)*100 -> 100
A61: 1507 | B61: 3141 | C61: 5213 | E61: Neinv.transfery obecně prospěš.společnostem | G61: 18 | H61: 18 | I61: =(H61/G61)*100 -> 100
D62: 00033155 | E62: Dotace na SŠ a škol.zařízení | G62: 18 | H62: 18 | I62: =(H62/G62)*100 -> 100
A63: Neinvestiční příspěvky celkem | F63: =SUM(F59,F61) -> 0 | G63: =SUM(G59,G61,) -> 384 | H63: =SUM(H59,H61,) -> 384 | I63: =(H63/G63)*100 -> 100
A68: MŠ jazyková a umělecká, s.r.o., Na výsluní, Hlubočky 1, 783 61 | I68: v tis. Kč
A69: ORG | B69: § | C69: pol. | D69: UZ | E69: název položky | F69: schválený rozp. | G69: upravený rozp. | H69: skutečnost | I69: %
A70: 1 | B70: 2 | C70: 3 | D70: 4 | E70: 5 | F70: 6 | G70: 7 | H70: 8 | I70: 9=8/7
A71: 1508 | B71: 3111 | C71: 5213 | E71: Neinv.transfery obecně prospěš.společnostem | G71: =G72 -> 91 | H71: =H72 -> 91 | I71: =(H71/G71)*100 -> 100
D72: 00033155 | E72: Dotace na SŠ a škol.zařízení | G72: 91 | H72: 91 | I72: =(H72/G72)*100 -> 100
A73: 1508 | B73: 3141 | C73: 5213 | E73: Neinv.transfery obecně prospěš.společnostem | G73: 4 | H73: 4 | I73: =(H73/G73)*100 -> 100
D74: 00033155 | E74: Dotace na SŠ a škol.zařízení | G74: 4 | H74: 4 | I74: =(H74/G74)*100 -> 100
A75: Neinvestiční příspěvky celkem | F75: =SUM(F71,F73) -> 0 | G75: =SUM(G71,G73,) -> 95 | H75: =SUM(H71,H73,) -> 95 | I75: =(H75/G75)*100 -> 100
A79: Střední škola, ZŠ a MŠ DC-90, s.r.o., Nedbalova 36, Olomouc-Topolany | I79: v tis. Kč
A80: ORG | B80: § | C80: pol. | D80: UZ | E80: název položky | F80: schválený rozp. | G80: upravený rozp. | H80: skutečnost | I80: %
A81: 1 | B81: 2 | C81: 3 | D81: 4 | E81: 5 | F81: 6 | G81: 7 | H81: 8 | I81: 9=8/7
A82: 1510 | B82: 3114 | C82: 5213 | E82: Neinvest.transfery nefin.podnik.subjektům-PO | G82: =SUM(G83:G85) -> 6966 | H82: =SUM(H83:H85) -> 6966 | I82: =(H82/G82)*100 -> 100
D83: 00033017 | E83: Program "Školní vybavení pro žáky 1.ročníku ZV" | G83: 3 | H83: 3 | I83: =(H83/G83)*100 -> 100
D84: 00033155 | E84: Dotace na SŠ a škol.zařízení | G84: 6258 | H84: 6258 | I84: =(H84/G84)*100 -> 100
D85: 00033215 | E85: Asistenti pedagogů v SŠ a církevních spec.šk. | G85: 705 | H85: 705 | I85: =(H85/G85)*100 -> 100
A86: 1510 | B86: 3124 | C86: 5213 | E86: Neinvest.transfery nefin.podnik.subjektům-PO | G86: =SUM(G87:G88) -> 6468 | H86: =SUM(H87:H88) -> 6468 | I86: =(H86/G86)*100 -> 100
D87: 00033155 | E87: Dotace na SŠ a škol.zařízení | G87: 6367 | H87: 6367 | I87: =(H87/G87)*100 -> 100
D88: 00033215 | E88: Asistenti pedagogů v SŠ a církevních spec.šk. | G88: 101 | H88: 101 | I88: =(H88/G88)*100 -> 100
A89: 1510 | B89: 3142 | C89: 5213 | E89: Neinvest.transfery nefin.podnik.subjektům-PO | G89: =SUM(G90:G90) -> 69 | H89: =SUM(H90:H90) -> 69 | I89: =(H89/G89)*100 -> 100
D90: 00033155 | E90: Dotace na SŠ a škol.zařízení | G90: 69 | H90: 69 | I90: =(H90/G90)*100 -> 100
A91: 1510 | B91: 3143 | C91: 5213 | E91: Neinvest.transfery nefin.podnik.subjektům-PO | G91: =SUM(G92:G92) -> 201 | H91: =SUM(H92:H92) -> 201 | I91: =(H91/G91)*100 -> 100
D92: 00033155 | E92: Dotace na SŠ a škol.zařízení | G92: 201 | H92: 201 | I92: =(H92/G92)*100 -> 100
A93: 1510 | B93: 3145 | C93: 5213 | E93: Neinvest.transfery nefin.podnik.subjektům-PO | G93: =SUM(G94:G94) -> 811 | H93: =SUM(H94:H94) -> 811 | I93: =(H93/G93)*100 -> 100
D94: 00033155 | E94: Dotace na SŠ a škol.zařízení | G94: 811 | H94: 811 | I94: =(H94/G94)*100 -> 100
A95: 1510 | B95: 3429 | C95: 5213 | E95: Neinvest.transfery nefin.podnik.subjektům-PO | G95: 25 | H95: 25 | I95: =(H95/G95)*100 -> 100
D96: 00000002 | E96: Příspěvky do 25 tis. Kč | G96: 25 | H96: 25 | I96: =(H96/G96)*100 -> 100
A97: Neinvestiční příspěvky celkem | F97: 0 | G97: =SUM(G82,G86,G89,G91,G93,G95) -> 14540 | H97: =SUM(H82,H86,H89,H91,H93,H95) -> 14540 | I97: =(H97/G97)*100 -> 100
A100: Základní škola speciální Jasněnka, o.p.s., Jiráskova 772, Uničov | I100: v tis. Kč
A101: ORG | B101: § | C101: pol. | D101: UZ | E101: název položky | F101: schválený rozp. | G101: upravený rozp. | H101: skutečnost | I101: %
A102: 1 | B102: 2 | C102: 3 | D102: 4 | E102: 5 | F102: 6 | G102: 7 | H102: 8 | I102: 9=8/7
A103: 1511 | B103: 3114 | C103: 5221 | E103: Neinv.transfery obecně prospěš.společnostem | G103: =G104+G105+G106 -> 3125 | H103: =H104+H105+H106 -> 3125 | I103: =(H103/G103)*100 -> 100
D104: 00033017 | E104: Program "Školní vybavení pro žáky 1.ročníku ZV" | G104: 1 | H104: 1 | I104: =(H104/G104)*100 -> 100
D105: 00033155 | E105: Dotace na SŠ a škol.zařízení | G105: 2721 | H105: 2721 | I105: =(H105/G105)*100 -> 100
D106: 00033215 | E106: Asistenti pedagogů v SŠ a církevních spec.šk. | G106: 403 | H106: 403 | I106: =(H106/G106)*100 -> 100
A107: 1511 | B107: 3141 | C107: 5221 | E107: Neinv.transfery obecně prospěš.společnostem | G107: 12 | H107: 12 | I107: =(H107/G107)*100 -> 100
D108: 00033155 | E108: Dotace na SŠ a škol.zařízení | G108: 12 | H108: 12 | I108: =(H108/G108)*100 -> 100
A109: Neinvestiční příspěvky celkem | F109: =SUM(F103,F107) -> 0 | G109: =SUM(G103,G107,) -> 3137 | H109: =SUM(H103,H107,) -> 3137 | I109: =(H109/G109)*100 -> 100
A112: MŠ, ZŠ a SŠ CREDO o.p.s., Mozartova 43, Olomouc | I112: v tis. Kč
A113: ORG | B113: § | C113: pol. | D113: UZ | E113: název položky | F113: schválený rozp. | G113: upravený rozp. | H113: skutečnost | I113: %
A114: 1 | B114: 2 | C114: 3 | D114: 4 | E114: 5 | F114: 6 | G114: 7 | H114: 8 | I114: 9=8/7
A115: 1512 | B115: 3114 | C115: 5221 | E115: Neinv.transfery obecně prospěš.společnostem | G115: =SUM(G116:G119) -> 4726 | H115: =SUM(H116:H119) -> 4726 | I115: =(H115/G115)*100 -> 100
D116: 00033017 | E116: Program "Školní vybavení pro žáky 1.ročníku ZV" | G116: 2 | H116: 2 | I116: =(H116/G116)*100 -> 100
D117: 00033025 | E117: Vyb.škol pomůckami kompenzač.a rehab.char. | G117: 10 | H117: 10 | I117: =(H117/G117)*100 -> 100
D118: 00033155 | E118: Dotace na SŠ a škol.zařízení | G118: 4210 | H118: 4210 | I118: =(H118/G118)*100 -> 100
D119: 00033215 | E119: Asistenti pedagogů v SŠ a církevních spec.šk. | G119: 504 | H119: 504 | I119: =(H119/G119)*100 -> 100
A120: 1512 | B120: 3124 | C120: 5221 | E120: Neinv.transfery obecně prospěš.společnostem | G120: 817 | H120: 817 | I120: =(H120/G120)*100 -> 100
D121: 00033155 | E121: Dotace na SŠ a škol.zařízení | G121: 817 | H121: 817 | I121: =(H121/G121)*100 -> 100
A122: Neinvestiční příspěvky celkem | F122: =SUM(F115) -> 0 | G122: =SUM(G115,G120) -> 5543 | H122: =SUM(H115,H120) -> 5543 | I122: =(H122/G122)*100 -> 100
A135: SŠ, ZŠ a MŠ JISTOTA, o.p.s., Tetín 1, Prostějov | I135: v tis. Kč
A136: ORG | B136: § | C136: pol. | D136: UZ | E136: název položky | F136: schválený rozp. | G136: upravený rozp. | H136: skutečnost | I136: %
A137: 1 | B137: 2 | C137: 3 | D137: 4 | E137: 5 | F137: 6 | G137: 7 | H137: 8 | I137: 9=8/7
...

Sheet 11
A1: 11) Odbor sociálních věcí | F1: ORJ - 11
A3: Správce: | C3: vedoucí odboru sociálních věcí
C4: PhDr. Markéta Čožíková
A7: Provozní výdaje
H9: v tis. Kč
A10: § | B10: pol. | C10: UZ | D10: název položky | E10: schválený rozp. | F10: upravený rozp. | G10: skutečnost | H10: %
A11: 1 | B11: 2 | C11: 3 | D11: 4 | E11: 5 | F11: 6 | G11: 7 | H11: 8=7/6
A12: 4339 | B12: 5169 | D12: Nákup ostatních služeb | E12: 1500 | F12: 1491 | G12: 1491 | H12: =(G12/F12)*100 -> 100
A13: 4349 | B13: 5169 | D13: Nákup ostatních služeb | E13: =E14+E15+E16 -> 450 | F13: =F14+F15+F16 -> 708 | G13: =G14+G15+G16 -> 639 | H13: =(G13/F13)*100 -> 90.254237
C14: 00000000 | D14: Provoz | E14: 450 | F14: 450 | G14: 381 | H14: =(G14/F14)*100 -> 84.666667
C15: 00000410 | D15: Akční plán realizace prev.kriminality na území OK | F15: 100 | G15: 100 | H15: =(G15/F15)*100 -> 100
C16: 00014005 | D16: MV - neinv.dot.obcím a krajům na projekty prevence kriminality | F16: 158 | G16: 158 | H16: =(G16/F16)*100 -> 100
A17: 4349 | B17: 5221 | D17: Neinv.transfery obecně prospěšným společnostem | F17: =F19+F20 -> 246 | G17: =G19+G20 -> 246 | H17: =(G17/F17)*100 -> 100
C19: 00000407 | D19: Dotační program prevence kriminality | F19: 146 | G19: 146 | H19: =(G19/F19)*100 -> 100
C20: 00000409 | D20: Podpory aktivit pro seniory a osoby se zdr.postiž. | F20: 100 | G20: 100 | H20: =(G20/F20)*100 -> 100
A21: 4349 | B21: 5222 | D21: Neinv.transfery občans.sdruž. | F21: =F22+F23+F24 -> 2121 | G21: =G22+G23+G24 -> 2121 | H21: =(G21/F21)*100 -> 100
C22: 00000407 | D22: Dotační program prevence kriminality | F22: 593 | G22: 593 | H22: =(G22/F22)*100 -> 100
C23: 00000408 | D23: Strategie integrace příslušníků romských komunit | F23: 643 | G23: 643 | H23: =(G23/F23)*100 -> 100
C24: 00000409 | D24: Podpory aktivit pro seniory a osoby se zdr.postiž. | F24: 885 | G24: 885 | H24: =(G24/F24)*100 -> 100
A25: 4349 | B25: 5223 | D25: Neinv.transfery církvím a nábož.společn. | F25: =F26+F27+F28 -> 821 | G25: =G26+G27+G28 -> 821 | H25: =(G25/F25)*100 -> 100
C26: 00000407 | D26: Dotační program prevence kriminality | F26: 261 | G26: 261 | H26: =(G26/F26)*100 -> 100
C27: 00000408 | D27: Strategie integrace příslušníků romských komunit | F27: 295 | G27: 295 | H27: =(G27/F27)*100 -> 100
C28: 00000409 | D28: Podpory aktivit pro seniory a osoby se zdr.postiž. | F28: 265 | G28: 265 | H28: =(G28/F28)*100 -> 100
A29: 4349 | B29: 5229 | D29: Ostat.neinv.transfery nezisk.a pod.org. | E29: =E30+E31+E32 -> 3250 | F29: =F30+F31+F32 -> 0 | G29: 0 | H29: 0
C30: 00000407 | D30: Dotační program prevence kriminality | E30: 1000 | F30: 0 | G30: 0 | H30: 0
C31: 00000408 | D31: Strategie integrace příslušníků romských komunit | E31: 1000 | F31: 0 | G31: 0 | H31: 0
C32: 00000409 | D32: Podpory aktivit pro seniory a osoby se zdr.postiž. | E32: 1250 | F32: 0 | G32: 0 | H32: 0
A33: 4349 | B33: 5321 | D33: Neinvestiční transfery obcím | F33: =F34+F35 -> 262 | G33: =G34+G35 -> 257 | H33: =(G33/F33)*100 -> 98.091603
C34: 00000408 | D34: Strategie integrace příslušníků romských komunit | F34: 62 | G34: 57 | H34: =(G34/F34)*100 -> 91.935484
C35: 00014005 | D35: MV - neinv.dot.obcím a krajům na projekty prevence kriminality | F35: 200 | G35: 200 | H35: =(G35/F35)*100 -> 100
A36: 4399 | B36: 5139 | D36: Nákup materiálu jinde nezařaz. | F36: 46 | G36: 34 | H36: =(G36/F36)*100 -> 73.913043
C37: 00000413 | D37: Dobrovolnické možnosti podpory seniorů a sociálně vyloučených občanů v EU | F37: 46 | G37: 34 | H37: =(G37/F37)*100 -> 73.913043
A38: 4399 | B38: 5142 | D38: Realizované kurzové ztráty | F38: 10 | G38: 0 | H38: 0
C39: 00000413 | D39: Dobrovolnické možnosti podpory seniorů a sociálně vyloučených občanů v EU | F39: 10 | G39: 0 | H39: 0
A40: 4399 | B40: 5164 | D40: Nájemné | F40: 11 | G40: 11 | H40: =(G40/F40)*100 -> 100
C41: 00000000 | D41: Provoz | F41: 8 | G41: 8 | H41: =(G41/F41)*100 -> 100
C42: 00000413 | D42: Dobrovolnické možnosti podpory seniorů a sociálně vyloučených občanů v EU | F42: 3 | G42: 3 | H42: =(G42/F42)*100 -> 100
A43: 4399 | B43: 5166 | D43: Konzultační, poradenské a právní služby | F43: 2268 | G43: 0 | H43: =(G43/F43)*100 -> 0
A44: 4399 | B44: 5169 | D44: Nákup ostatních služeb | E44: =E45+E46+E47+E48 -> 4353 | F44: =F45+F46+F47+F48+F49 -> 4339 | G44: =G45+G46+G47+G48+G49 -> 4177 | H44: =(G44/F44)*100 -> 96.266421
C45: 00000000 | D45: Provoz | E45: 3953 | F45: 3883 | G45: 3847 | H45: =(G45/F45)*100 -> 99.072882
C46: 00000410 | D46: Akční plán realizace prev.kriminality na území OK | E46: 125 | F46: 0 | G46: 0 | H46: 0
C47: 00000411 | D47: Strategie integrace přísluš.romských komunit OK | E47: 25 | F47: 0 | G47: 0 | H47: 0
C48: 00000412 | D48: Střednědobý plán rozvoje soc.služeb OK | E48: 250 | F48: 150 | G48: 133 | H48: =(G48/F48)*100 -> 88.666667
C49: 00000413 | D49: Dobrovolnické možnosti podpory seniorů a sociálně vyloučených občanů v EU | F49: 306 | G49: 197 | H49: =(G49/F49)*100 -> 64.379085
A51: 4399 | B51: 5175 | D51: Pohoštění | E51: 160 | F51: =F52+F53+F54 -> 123 | G51: =G52+G53+G54 -> 114 | H51: =(G51/F51)*100 -> 92.682927
C52: 00000000 | D52: Provoz | F52: 43 | G52: 43 | H52: =(G52/F52)*100 -> 100
C53: 00000412 | D53: Střednědobý plán rozvoje soc.služeb OK | E53: 160 | F53: 3 | G53: 1 | H53: =(G53/F53)*100 -> 33.333333
C54: 00000413 | D54: Dobrovolnické možnosti podpory seniorů a sociálně vyloučených občanů v EU | F54: 77 | G54: 70 | H54: =(G54/F54)*100 -> 90.909091
A56: 4399 | B56: 5212 | D56: Neinv.transfery nefin.pod.subj.-FO | F56: 25 | G56: 25 | H56: =(G56/F56)*100 -> 100
C57: 00000002 | D57: Příspěvky do 25 tis. Kč | F57: 25 | G57: 25 | H57: =(G57/F57)*100 -> 100
A58: 4399 | B58: 5213 | D58: Neinv.transfery nefin.podnik.subj.-PO | F58: 25 | G58: 25 | H58: =(G58/F58)*100 -> 100
C59: 00000002 | D59: Příspěvky do 25 tis. Kč | F59: 25 | G59: 25 | H59: =(G59/F59)*100 -> 100
A60: 4399 | B60: 5221 | D60: Neinv.transfery obecně prospěšným společnostem | F60: 1680 | G60: 1680 | H60: =(G60/F60)*100 -> 100
C62: 00000001 | D62: Významné projekty | F62: 1580 | G62: 1580 | H62: =(G62/F62)*100 -> 100
C63: 00000002 | D63: Příspěvky do 25 tis. Kč | F63: 100 | G63: 100 | H63: =(G63/F63)*100 -> 100
H67: v tis. Kč
A68: § | B68: pol. | C68: UZ | D68: název položky | E68: schválený rozp. | F68: upravený rozp. | G68: skutečnost | H68: %
A69: 1 | B69: 2 | C69: 3 | D69: 4 | E69: 5 | F69: 6 | G69: 7 | H69: 8=7/6
A70: 4399 | B70: 5222 | D70: Neinv.transfery občans.sdruž. | F70: 2831 | G70: 2831 | H70: =(G70/F70)*100 -> 100
C71: 00000001 | D71: Významné projekty | F71: 1580 | G71: 1580 | H71: =(G71/F71)*100 -> 100
C72: 00000002 | D72: Příspěvky do 25 tis. Kč | F72: 1251 | G72: 1251 | H72: =(G72/F72)*100 -> 100
A73: 4399 | B73: 5223 | D73: Neinv.transf.církvím a nábož.společnostem | F73: 90 | G73: 85 | H73: =(G73/F73)*100 -> 94.444444
C74: 00000002 | D74: Příspěvky do 25 tis. Kč | F74: 90 | G74: 85 | H74: =(G74/F74)*100 -> 94.444444
A75: 4399 | B75: 5229 | D75: Ostat.neinv.transfery nezisk.a pod.org. | F75: 130 | G75: 130 | H75: =(G75/F75)*100 -> 100
C76: 00000001 | D76: Významné projekty | F76: 80 | G76: 80 | H76: =(G76/F76)*100 -> 100
C77: 00000002 | D77: Příspěvky do 25 tis. Kč | F77: 50 | G77: 50 | H77: 0
A78: 4399 | B78: 5339 | D78: Neinvestiční transfery cizím PO | F78: 25 | G78: 25 | H78: =(G78/F78)*100 -> 100
C79: 00000002 | D79: Příspěvky do 25 tis. Kč | F79: 25 | G79: 25 | H79: =(G79/F79)*100 -> 100
A80: 4399 | B80: 5493 | D80: Účel.neinvest.transfery nepodnik. FO | F80: 135 | G80: 135 | H80: =(G80/F80)*100 -> 100
C81: 00000001 | D81: Významné projekty | F81: 100 | G81: 100 | H81: =(G81/F81)*100 -> 100
C82: 00000002 | D82: Příspěvky do 25 tis. Kč | F82: 35 | G82: 35 | H82: =(G82/F82)*100 -> 100
A83: 4399 | B83: 5532 | D83: Ostat.neinv.transfery do zahraničí | F83: 216 | G83: 216 | H83: =(G83/F83)*100 -> 100
C84: 00000413 | D84: Dobrovolnické možnosti podpory seniorů a sociálně vyloučených občanů v EU | F84: 216 | G84: 216 | H84: =(G84/F84)*100 -> 100
A86: 4399 | B86: 5901 | D86: Nespecifikované rezervy | F86: 1 | G86: 0 | H86: 0
C87: 00000413 | D87: Dobrovolnické možnosti podpory seniorů a sociálně vyloučených občanů v EU | F87: 1 | G87: 0 | H87: 0
A89: 6172 | B89: 5161 | D89: Služby pošt | E89: 5 | F89: 5 | G89: 2 | H89: =(G89/F89)*100 -> 40
A90: 6172 | B90: 5164 | D90: Nájemné | F90: 11 | G90: 11 | H90: =(G90/F90)*100 -> 100
A91: 6172 | B91: 5169 | D91: Nákup ostatních služeb | E91: 200 | F91: 109 | G91: 89 | H91: =(G91/F91)*100 -> 81.651376
C92: 00000000 | D92: Provoz | E92: 150 | F92: 59 | G92: 39 | H92: =(G92/F92)*100 -> 66.101695
C93: 00000410 | D93: Akční plán realizace prev.kriminality na území OK | E93: 50 | F93: 50 | G93: 50 | H93: =(G93/F93)*100 -> 100
A94: 6172 | B94: 5192 | D94: Poskytnuté neinv.příspěvky a náhrady | E94: 50 | F94: 11 | G94: 1 | H94: =(G94/F94)*100 -> 9.0909091
A95: Provozní výdaje celkem | E95: =E12+E13+E29+E44+E51+E89+E91+E94 -> 9968 | F95: =F12+F13+F17+F21+F25+F33++F36+F38+F40+F43+F44+F51+F56+F58+F60+F70+F73+F75+F80+F83+F86+F89+F90+F91+F94+F78 -> 17740 | G95: =G12+G13+G17+G21+G25+G33++G36+G38+G40+G43+G44+G51+G56+G58+G60+G70+G73+G75+G80+G83+G86+G89+G90+G91+G94+G78 -> 15166 | H95: =(G95/F95)*100 -> 85.490417
A100: Příspěvkové organizace
A102: Domov pro seniory Javorník | E102: ORG - 1631
H103: v tis. Kč
A104: § | B104: pol. | C104: UZ | D104: název položky | E104: schválený rozp. | F104: upravený rozp. | G104: skutečnost | H104: %
A105: 1 | B105: 2 | C105: 3 | D105: 4 | E105: 5 | F105: 6 | G105: 7 | H105: 8=7/6
A106: 4357 | B106: 5331 | D106: Neinvestiční příspěvek zřízeným PO | E106: =E107+E108 -> 1975 | F106: =F107+F108 -> 2982 | G106: =G107+G108 -> 2982 | H106: =G106/F106*100 -> 100
C107: 00000006 | D107: Příspěvek na odpisy | E107: 264 | F107: 335 | G107: 335 | H107: =(G107/F107)*100 -> 100
C108: 00000020 | D108: Provozní příspěvky zřízeným PO | E108: 1711 | F108: 2647 | G108: 2647 | H108: =(G108/F108)*100 -> 100
A109: Neinvestiční příspěvky celkem | E109: =SUM(E106) -> 1975 | F109: =F106 -> 2982 | G109: =G106 -> 2982 | H109: =G109/F109*100 -> 100
A110: 4357 | B110: 6351 | D110: Investiční transfery zřízeným PO | E110: 550 | F110: 526 | G110: 526 | H110: =G110/F110*100 -> 100
C111: 00000011 | D111: Investiční a neinvestiční akce v obl.sociální | E111: 550 | F111: 526 | G111: 526 | H111: =(G111/F111)*100 -> 100
A112: Investiční příspěvky celkem | E112: =E110 -> 550 | F112: =SUM(F110) -> 526 | G112: =SUM(G110) -> 526 | H112: =SUM(H110) -> 100
A114: Domov pro seniory Javorník celkem | E114: =SUM(E109,E112) -> 2525 | F114: =SUM(F109,F112) -> 3508 | G114: =SUM(G109,G112) -> 3508 | H114: =(G114/F114)*100 -> 100
A118: Domov důchodců Kobylá nad Vidnavkou | E118: ORG - 1632
H119: v tis. Kč
A120: § | B120: pol. | C120: UZ | D120: název položky | E120: schválený rozp. | F120: upravený rozp. | G120: skutečnost | H120: %
A121: 1 | B121: 2 | C121: 3 | D121: 4 | E121: 5 | F121: 6 | G121: 7 | H121: 8=7/6
A122: 4357 | B122: 5331 | D122: Neinvestiční příspěvek zřízeným PO | E122: =E123+E124 -> 3620 | F122: =F123+F124 -> 5499 | G122: =G123+G124 -> 5499 | H122: =G122/F122*100 -> 100
...

Sheet 12
A1: 12) Odbor dopravy a silničního hospodářství | F1: ORJ - 12
A3: Správce: | C3: vedoucí odboru dopravy a silničního hospodářství
C4: Ing. Zdeněk Kocourek
H6: v tis. Kč
A7: § | B7: pol. | C7: UZ | D7: název položky | E7: schválený rozp. | F7: upravený rozp. | G7: skutečnost | H7: %
A8: 1 | B8: 2 | C8: 3 | D8: 4 | E8: 5 | F8: 6 | G8: 7 | H8: 8=7/6
A9: 2212 | B9: 5321 | D9: Neinvestiční transfery obcím | F9: 2000 | G9: 2000 | H9: =G9/F9*100 -> 100
C10: 00000016 | D10: Ostatní příspěvky | F10: 2000 | G10: 2000 | H10: =G10/F10*100 -> 100
A11: 2219 | B11: 5221 | D11: Neinv.transfery obecně prospěš.společ. | F11: 400 | G11: 400 | H11: =G11/F11*100 -> 100
C12: 00000001 | D12: Významné projekty | F12: 400 | G12: 400 | H12: =G12/F12*100 -> 100
A13: 2221 | B13: 5193 | D13: Výdaje na dopravní územní obslužnnost | E13: =E14+E15+E16 -> 345141 | F13: =F14+F15+F16 -> 357313 | G13: =G14+G15+G16 -> 354887 | H13: =G13/F13*100 -> 99.321043
C14: 00000601 | D14: Přísp.na úhr.prok.ztr.dopr.-veř.link.doprava | E14: 342691 | F14: 354863 | G14: 353546 | H14: =G14/F14*100 -> 99.628871
C15: 00000602 | D15: Přísp.na úhr.prok.ztr.z poskyt.zlev.ŽJ-veř.link.dop. | E15: 2000 | F15: 2000 | G15: 1341 | H15: =G15/F15*100 -> 67.05
C16: 00000606 | D16: Přísp.na úhr.prokaz.ztr.začl.do IDSOK okr.Prostějov a Olomouc | E16: 450 | F16: 450 | G16: 0 | H16: =G16/F16*100 -> 0
A18: 2223 | B18: 5166 | D18: Konzultační, poradenské a právní služby | E18: 50 | F18: 30 | G18: 0 | H18: 0
A19: 2223 | B19: 5192 | D19: Poskytnuté neinv.příspěvky a náhrady | E19: 100 | F19: 180 | G19: 142 | H19: =G19/F19*100 -> 78.888889
A20: 2223 | B20: 5339 | D20: Neinv.transfery cizím PO | E20: 750 | F20: 750 | G20: 750 | H20: =G20/F20*100 -> 100
A21: 2242 | B21: 5193 | D21: Výdaje na dopravní územní obslužnost | E21: =E22+E23+E24 -> 391619 | F21: =F22+F23+F24 -> 597189 | G21: =G22+G23+G24 -> 597189 | H21: =G21/F21*100 -> 100
C22: 00000000 | D22: Provoz | E22: 3000 | F22: 0 | G22: 0 | H22: 0
C23: 00000604 | D23: přísp.na úhr.prokaz.ztr.dopr.-drážní dopr. | E23: 388619 | F23: 388619 | G23: 388619 | H23: =G23/F23*100 -> 100
C24: 00027355 | D24: MDČR - Příspěvek na ztrátu dopravce z provozu veřejné osobní drážní dopravy | F24: 208570 | G24: 208570 | H24: =G24/F24*100 -> 100
A26: 2242 | B26: 5222 | D26: Neinv.transfery občans.sdruž. | F26: 25 | G26: 25 | H26: =G26/F26*100 -> 100
C27: 00000002 | D27: Příspěvky do 25 tis. Kč | F27: 25 | G27: 25 | H27: =G27/F27*100 -> 100
A28: 2299 | B28: 5166 | D28: Konzultační, poradenské a právní služby | E28: 4010 | F28: 1730 | G28: 804 | H28: =G28/F28*100 -> 46.473988
A29: 2299 | B29: 5169 | D29: Nákup ostatních služeb | E29: 160 | F29: 160 | G29: 30 | H29: =G29/F29*100 -> 18.75
A30: 2299 | B30: 5229 | D30: Ostat.neinv.transfery nezisk.a pod.org. | E30: 5 | F30: 5 | G30: 0 | H30: =G30/F30*100 -> 0
D31: posíleno:
D32: RZ 179/05 - přesun z ORJ 12, § 2269, pol. 5169 | F32: 417
D33: sníženo:
D34: RZ 634/05 - přesun na ORJ 07, § 6409, pol. 5901 | F34: -388
A35: 2299 | B35: 5331 | D35: Neinvestiční příspěvky zřízeným PO | E35: 4283 | F35: 0 | G35: 0 | H35: 0
A36: 6172 | B36: 5164 | D36: Nájemné | F36: 20 | G36: 19 | H36: =G36/F36*100 -> 95
A37: 6172 | B37: 5169 | D37: Nákup ostatních služeb | F37: 35 | G37: 31 | H37: =G37/F37*100 -> 88.571429
A38: 6172 | B38: 5175 | D38: Pohoštění | F38: 64 | G38: 64 | H38: =G38/F38*100 -> 100
A39: 6172 | B39: 5901 | D39: Nespecifikované rezervy | E39: 1229 | F39: 1110 | G39: 0 | H39: 0
A40: Provozní výdaje celkem | E40: =E13+E18++E30+E39+E19+E21+E28+E29+E20+E35 -> 747347 | F40: =F9+F11+F13+F18+F19+F20+F21+F26+F28+F29+F30+F36+F37+F38+F39 -> 961011 | G40: =G9+G11+G13+G18+G19+G20+G21+G26+G28+G29+G30+G36+G37+G38+G39 -> 956341 | H40: =(G40/F40)*100 -> 99.514053
A44: Investiční výdaje
H45: v tis. Kč
A46: § | B46: pol. | C46: UZ | D46: název položky | E46: schválený rozp. | F46: upravený rozp. | G46: skutečnost | H46: %
A47: 1 | B47: 2 | C47: 3 | D47: 4 | E47: 5 | F47: 6 | G47: 7 | H47: 8=7/6
A48: 2212 | B48: 6315 | D48: Inv.transf.vybraným podnikatel.subj.ve vlast.státu
E49: 20000 | F49: 20450 | G49: 20450 | H49: =G49/F49*100 -> 100
C50: 00000000 | D50: Provoz | E50: 20000 | F50: 20000 | G50: 20000 | H50: =G50/F50*100 -> 100
C51: 00000608 | D51: Přísp. Na bezpeč.prvky na silnicích | F51: 450 | G51: 450 | H51: =G51/F51*100 -> 100
A52: 2212 | B52: 6341 | D52: Investiční transfery obcím | E52: 7000 | F52: 5045 | G52: 4380 | H52: =G52/F52*100 -> 86.818632
C53: 00000016 | D53: Ostatní příspěvky | F53: 898 | G53: 503 | H53: =G53/F53*100 -> 56.013363
C54: 00000608 | D54: Přísp. Na bezpeč.prvky na silnicích | E54: 7000 | F54: 4147 | G54: 3878 | H54: =G54/F54*100 -> 93.513383
A55: 2219 | B55: 6341 | D55: Investiční transfery obcím | E55: =E56+E57 -> 4000 | F55: =F56+F57 -> 9703 | G55: =G56+G57 -> 8703 | H55: =G55/F55*100 -> 89.693909
C56: 00000001 | D56: Významné projekty | F56: 3300 | G56: 3300 | H56: =G56/F56*100 -> 100
C57: 00000605 | D57: Přísp.obcím na podporu výstavby cyklostezek | E57: 4000 | F57: 6403 | G57: 5403 | H57: =G57/F57*100 -> 84.382321
A58: 2299 | B58: 6351 | D58: Investiční transfery zřízeným PO | E58: 2813 | F58: 77 | G58: 0 | H58: 0
A59: Investiční výdaje celkem | E59: =E52+E49+E55+E58 -> 33813 | F59: =F52+F49+F55+F58 -> 35275 | G59: =G52+G49+G55 -> 33533 | H59: =(G59/F59)*100 -> 95.061658
A71: Příspěvková organizace
A73: Správa silnic Olomouckého kraje | E73: ORG - 1600
H74: v tis.Kč
A75: § | B75: pol. | C75: UZ | D75: název položky | E75: schválený rozp. | F75: upravený rozp. | G75: skutečnost | H75: %
A76: 1 | B76: 2 | C76: 3 | D76: 4 | E76: 5 | F76: 6 | G76: 7 | H76: 8=7/6
B77: 5331 | D77: Neinvestiční příspěvky zřízeným PO | E77: =E78+E79+E80+E81 -> 490553 | F77: =F78+F79+F80+F81 -> 506829 | G77: =G78+G79+G80+G81 -> 506829 | H77: =(G77/F77)*100 -> 100
C78: 00000006 | D78: Odpisy | E78: 111000 | F78: 117000 | G78: 117000 | H78: =G78/F78*100 -> 100
C79: 00000020 | D79: Provozní příspěvky zřízeným PO včetně rezervy | E79: 379553 | F79: 379687 | G79: 379687 | H79: =G79/F79*100 -> 100
C80: 00000024 | D80: Přebytek hospodaření OK | F80: 10000 | G80: 10000 | H80: =G80/F80*100 -> 100
C81: 60995206 | D81: FM EHP/Norska-Finanční mechan.EHP/Norska - NIV | F81: 142 | G81: 142 | H81: =G81/F81*100 -> 100
A82: Neinvestiční příspěvky celkem | E82: =E77 -> 490553 | F82: =F77 -> 506829 | G82: =G77 -> 506829 | H82: =(G82/F82)*100 -> 100
B83: 6351 | D83: Investiční transfery zřízeným PO | E83: =E84+E85+E86+E87+E88+E89 -> 131500 | F83: =F84+F85+F86+F87+F88+F89 -> 313352 | G83: =G84+G85+G86+G87+G88+G89 -> 304840 | H83: =G83/F83*100 -> 97.283566
C84: 00000012 | D84: Investiční a neinvestiční akce v obl.dopravy | E84: 42917 | F84: 40275 | G84: 40275 | H84: =G84/F84*100 -> 100
C85: 00000870 | D85: Povinný podíl kraje (půjčka EIB) | E85: 88583 | F85: 190127 | G85: 190127 | H85: =G85/F85*100 -> 100
C86: 00000888 | D86: Úvěr KB (investice kraje-výdaje) | F86: 27500 | G86: 27500 | H86: =G86/F86*100 -> 100
C87: 38187501 | D87: ROP RS Střední Morava - IV - SR | F87: 2805 | G87: 2332 | H87: =G87/F87*100 -> 83.137255
C88: 38587505 | D88: ROP RS Střední Morava - IV - EU | F88: 47687 | G88: 39649 | H88: =G88/F88*100 -> 83.144253
C89: 60995816 | D89: Finanční mechanismus EHP/Norska | F89: 4958 | G89: 4957 | H89: =G89/F89*100 -> 99.979831
A90: Investiční příspěvky celkem | E90: =E83 -> 131500 | F90: =F83 -> 313352 | G90: =G83 -> 304840 | H90: =(G90/F90)*100 -> 97.283566
A92: Správa silnic Olomouckého kraje celkem | E92: =E82+E90 -> 622053 | F92: =F82+F90 -> 820181 | G92: =G82+G90 -> 811669 | H92: =(G92/F92)*100 -> 98.96218
A103: Výdaje odboru dopravy a silničního hosp. | E103: =E104+E105+E106+E107 -> 781160 | F103: =F104+F105+F106+F107 -> 996286 | G103: =G104+G105+G106+G107 -> 989874 | H103: =(G103/F103)*100 -> 99.35641
A104: -provozní výdaje | E104: =E40 -> 747347 | F104: =F40-F106 -> 752441 | G104: =G40-G106 -> 747771 | H104: =(G104/F104)*100 -> 99.379353
A105: -investiční výdaje | E105: =E59 -> 33813 | F105: =F59 -> 35275 | G105: =G59 -> 33533 | H105: =(G105/F105)*100 -> 95.061658
A106: -účelové neinvestiční dotace | E106: =E24 -> 0 | F106: =F24 -> 208570 | G106: =G24 -> 208570 | H106: =(G106/F106)*100 -> 100
A107: -účelové investiční dotace | E107: 0 | F107: 0 | G107: 0 | H107: 0
A109: Příspěvky příspěvkovým organizacím | E109: =E110+E111+E112+E113 -> 622053 | F109: =F110+F111+F112+F113 -> 820181 | G109: =G110+G111+G112+G113 -> 811669 | H109: =(G109/F109)*100 -> 98.96218
A110: -provozní příspěvek | E110: =E82-E112 -> 490553 | F110: =F82-F112 -> 506687 | G110: =G82-G112 -> 506687 | H110: =(G110/F110)*100 -> 100
A111: -investiční příspěvek | E111: =E90-E113 -> 131500 | F111: =F90-F113 -> 257902 | G111: =G90-G113 -> 257902 | H111: =(G111/F111)*100 -> 100
A112: -účelové neinvestiční dotace | E112: =E81 -> 0 | F112: =F81 -> 142 | G112: =G81 -> 142 | H112: =(G112/F112)*100 -> 100
A113: -účelové investiční dotace | E113: =E87+E88+E89 -> 0 | F113: =F87+F88+F89 -> 55450 | G113: =G87+G88+G89 -> 46938 | H113: =(G113/F113)*100 -> 84.649234
A116: Odbor dopravy a silničního hospodářství celkem | E116: =SUM(E103,E109) -> 1403213 | F116: =SUM(F103,F109) -> 1816467 | G116: =SUM(G103,G109) -> 1801543 | H116: =(G116/F116)*100 -> 99.178405

Sheet 13 
A1: 13) Odbor kultury a památkové péče | F1: ORJ - 13
A3: Správce: | C3: vedoucí odboru kultury a památkové péče
C4: PhDr. Jindřich Garčic
A6: Provozní výdaje
H7: v tis. Kč
A8: § | B8: pol. | C8: UZ | D8: název položky | E8: schválený rozp. | F8: upravený rozp. | G8: skutečnost | H8: %
A9: 1 | B9: 2 | C9: 3 | D9: 4 | E9: 5 | F9: 6 | G9: 7 | H9: 8=7/6
A10: 3311 | B10: 5212 | D10: Neinv.transfery nefin.pod.subj.-FO | F10: 410 | G10: 410 | H10: =(G10/F10)*100 -> 100
C11: 00000001 | D11: Významné projekty | F11: 350 | G11: 350 | H11: =(G11/F11)*100 -> 100
C12: 00000212 | D12: Podpora kulturních aktivit v Olomouckém kraji | F12: 60 | G12: 60 | H12: =(G12/F12)*100 -> 100
A13: 3311 | B13: 5213 | D13: Neinv.transfery nefin.podnik.subj. - PO | E13: 304 | F13: 384 | G13: 384 | H13: =(G13/F13)*100 -> 100
C14: 00000200 | D14: Příspěvky divadlům a filharmoniím | E14: 304 | F14: 304 | G14: 304 | H14: =(G14/F14)*100 -> 100
C15: 00000212 | D15: Podpora kulturních aktivit v Olomouckém kraji | F15: 80 | G15: 80 | H15: =(G15/F15)*100 -> 100
A16: 3311 | B16: 5222 | D16: Neinvest.transfery občan.sdruž. | F16: =F17+F18+F19 -> 1875 | G16: =G17+G18+G19 -> 1875 | H16: =(G16/F16)*100 -> 100
C17: 00000002 | D17: Příspěvky do 25 tis. Kč | F17: 180 | G17: 180 | H17: =(G17/F17)*100 -> 100
C18: 00000212 | D18: Podpora kulturních aktivit v Olomouckém kraji | F18: 695 | G18: 695 | H18: =(G18/F18)*100 -> 100
C19: 00000213 | D19: Přímá podpora významných kulturních akcí | F19: 1000 | G19: 1000 | H19: =(G19/F19)*100 -> 100
A20: 3311 | B20: 5223 | D20: Neinv.transfery církvím a nábož.společnost. | F20: 25 | G20: 25 | H20: =(G20/F20)*100 -> 100
C21: 00000002 | D21: Příspěvky do 25 tis. Kč | F21: 25 | G21: 25 | H21: =(G21/F21)*100 -> 100
A22: 3311 | B22: 5321 | D22: Neinvestiční transfery obcím | E22: 1392 | F22: 1562 | G22: 1562 | H22: =(G22/F22)*100 -> 100
C23: 00000200 | D23: Příspěvky divadlům a filharmoniím | E23: 1392 | F23: 1392 | G23: 1392 | H23: =(G23/F23)*100 -> 100
C24: 00000212 | D24: Podpora kulturních aktivit v Olomouckém kraji | F24: 170 | G24: 170 | H24: =(G24/F24)*100 -> 100
A25: 3311 | B25: 5339 | D25: Neinv.transfery cizím PO | F25: 25 | G25: 25 | H25: =(G25/F25)*100 -> 100
C26: 00000002 | D26: Příspěvky do 25 tis. Kč | F26: 25 | G26: 25 | H26: =(G26/F26)*100 -> 100
A27: 3311 | B27: 5493 | D27: Účel.neinvest.transfery nepodnik. FO | F27: 50 | G27: 50 | H27: =(G27/F27)*100 -> 100
C28: 00000002 | D28: Příspěvky do 25 tis. Kč | F28: 50 | G28: 50 | H28: =(G28/F28)*100 -> 100
A29: 3312 | B29: 5212 | D29: Neinv.transfery nefin.pod.subj.-FO | F29: =F30+F31+F32 -> 675 | G29: =G30+G31+G32 -> 675 | H29: =(G29/F29)*100 -> 100
C30: 00000001 | D30: Významné projekty | F30: 180 | G30: 180 | H30: =(G30/F30)*100 -> 100
C31: 00000002 | D31: Příspěvky do 25 tis. Kč | F31: 250 | G31: 250 | H31: =(G31/F31)*100 -> 100
C32: 00000212 | D32: Podpora kulturních aktivit v Olomouckém kraji | F32: 245 | G32: 245 | H32: =(G32/F32)*100 -> 100
A33: 3312 | B33: 5213 | D33: Neinv.transfery nefin.podnik.subj. - PO | F33: =F34+F35+F36+F37 -> 1520 | G33: =G34+G35+G36+G37 -> 1520 | H33: =(G33/F33)*100 -> 100
C34: 00000001 | D34: Významné projekty | F34: 100 | G34: 100 | H34: =(G34/F34)*100 -> 100
C35: 00000002 | D35: Příspěvky do 25 tis. Kč | F35: 50 | G35: 50 | H35: =(G35/F35)*100 -> 100
C36: 00000212 | D36: Podpora kulturních aktivit v Olomouckém kraji | F36: 670 | G36: 670 | H36: =(G36/F36)*100 -> 100
C37: 00000213 | D37: Přímá podpora významných kulturních akcí | F37: 700 | G37: 700 | H37: =(G37/F37)*100 -> 100
A38: 3312 | B38: 5221 | D38: Neinv.transfery obecně prospěšným spol. | F38: 100 | G38: 100 | H38: =(G38/F38)*100 -> 100
C39: 00000212 | D39: Podpora kulturních aktivit v Olomouckém kraji | F39: 100 | G39: 100 | H39: =(G39/F39)*100 -> 100
A40: 3312 | B40: 5222 | D40: Neinvest.transfery občan.sdruž. | F40: =F41+F42+F43 -> 3271 | G40: =G41+G42+G43 -> 3269 | H40: =(G40/F40)*100 -> 99.938857
C41: 00000002 | D41: Příspěvky do 25 tis. Kč | F41: 876 | G41: 874 | H41: =(G41/F41)*100 -> 99.771689
C42: 00000212 | D42: Podpora kulturních aktivit v Olomouckém kraji | F42: 1345 | G42: 1345 | H42: =(G42/F42)*100 -> 100
C43: 00000213 | D43: Přímá podpora významných kulturních akcí | F43: 1050 | G43: 1050 | H43: =(G43/F43)*100 -> 100
A44: 3312 | B44: 5223 | D44: Neinv.transfery církvím a nábož.společnost. | F44: =F45+F46 -> 115 | G44: =G45+G46 -> 115 | H44: =(G44/F44)*100 -> 100
C45: 00000002 | D45: Příspěvky do 25 tis. Kč | F45: 65 | G45: 65 | H45: =(G45/F45)*100 -> 100
C46: 00000212 | D46: Podpora kulturních aktivit v Olomouckém kraji | F46: 50 | G46: 50 | H46: =(G46/F46)*100 -> 100
A47: 3312 | B47: 5229 | D47: Ost.neinv.transfery nezisk.a podob.org. | F47: 500 | G47: 500 | H47: =(G47/F47)*100 -> 100
C48: 00000213 | D48: Přímá podpora významných kulturních akcí | F48: 500 | G48: 500 | H48: =(G48/F48)*100 -> 100
A49: 3312 | B49: 5321 | D49: Neinvestiční transfery obcím | E49: 304 | F49: 2794 | G49: 2794 | H49: =(G49/F49)*100 -> 100
C50: 00000002 | D50: Příspěvky do 25 tis. Kč | F50: 25 | G50: 25 | H50: =(G50/F50)*100 -> 100
C51: 00000200 | D51: Příspěvky divadlům a filharmoniím | E51: 304 | F51: 304 | G51: 304 | H51: =(G51/F51)*100 -> 100
C52: 00000212 | D52: Podpora kulturních aktivit v Olomouckém kraji | F52: 515 | G52: 515 | H52: =(G52/F52)*100 -> 100
C53: 00000213 | D53: Přímá podpora významných kulturních akcí | F53: 1950 | G53: 1950 | H53: =(G53/F53)*100 -> 100
A54: 3312 | B54: 5331 | D54: Neinv.příspěvky zřízeným PO | F54: 65 | G54: 65 | H54: =(G54/F54)*100 -> 100
C55: 00000002 | D55: Příspěvky do 25 tis. Kč | F55: 25 | G55: 25 | H55: =(G55/F55)*100 -> 100
C56: 00000212 | D56: Podpora kulturních aktivit v Olomouckém kraji | F56: 40 | G56: 40 | H56: =(G56/F56)*100 -> 100
A57: 3312 | B57: 5339 | D57: Neinv.transfery cizím PO | F57: 25 | G57: 25 | H57: =(G57/F57)*100 -> 100
C58: 00000002 | D58: Příspěvky do 25 tis. Kč | F58: 25 | G58: 25 | H58: =(G58/F58)*100 -> 100
A59: 3312 | B59: 5493 | D59: Účel.neinvest.transfery nepodnik. FO | F59: 165 | G59: 165 | H59: =(G59/F59)*100 -> 100
C60: 00000002 | D60: Příspěvky do 25 tis. Kč | F60: 135 | G60: 135 | H60: =(G60/F60)*100 -> 100
C61: 00000212 | D61: Podpora kulturních aktivit v Olomouckém kraji | F61: 30 | G61: 30 | H61: =(G61/F61)*100 -> 100
A62: 3314 | B62: 5321 | D62: Neinvestiční transfery obcím | E62: 9300 | F62: 8400 | G62: 8400 | H62: =(G62/F62)*100 -> 100
C63: 00000204 | D63: Neinvestiční dotace pro knihovny | E63: 9300 | F63: 8400 | G63: 8400 | H63: =(G63/F63)*100 -> 100
A64: 3315 | B64: 5222 | D64: Neinvest.transfery občan.sdruž. | F64: 200 | G64: 200 | H64: =(G64/F64)*100 -> 100
C65: 00000001 | D65: Významné projekty | F65: 100 | G65: 100 | H65: =(G65/F65)*100 -> 100
C66: 00000002 | D66: Příspěvky do 25 tis. Kč | F66: 75 | G66: 75 | H66: =(G66/F66)*100 -> 100
C67: 00000212 | D67: Podpora kulturních aktivit v Olomouckém kraji | F67: 25 | G67: 25 | H67: =(G67/F67)*100 -> 100
A68: 3315 | B68: 5339 | D68: Neinvest.příspěvky ostatním PO | E68: 26000 | F68: 26150 | G68: 26150 | H68: =(G68/F68)*100 -> 100
C69: 00000016 | D69: Ostatní příspěvky | E69: 26000 | F69: 26000 | G69: 26000 | H69: =(G69/F69)*100 -> 100
C70: 00000212 | D70: Podpora kulturních aktivit v Olomouckém kraji | F70: 150 | G70: 150 | H70: =(G70/F70)*100 -> 100 | J70: =F10+F13+F16+F20+F22+F25+F27+F29+F33+F38+F40+F44+F47+F49+F54+F57+F59+F62+F64+F68 -> 48311 | K70: =G10+G13+G16+G20+G22+G25+G27+G29+G33+G38+G40+G44+G47+G49+G54+G57+G59+G62+G64+G68 -> 48309
H72: v tis. Kč
A73: § | B73: pol. | C73: UZ | D73: název položky | E73: schválený rozp. | F73: upravený rozp. | G73: skutečnost | H73: %
A74: 1 | B74: 2 | C74: 3 | D74: 4 | E74: 5 | F74: 6 | G74: 7 | H74: 8=7/6
A75: 3319 | B75: 5166 | D75: Konzultační, poradenské a právní služby | E75: 25 | F75: 3 | G75: 0 | H75: 0
A76: 3319 | B76: 5169 | D76: Nákup ostatních služeb | E76: 635 | F76: 560 | G76: 560 | H76: =(G76/F76)*100 -> 100
A77: 3319 | B77: 5194 | D77: Věcné dary | E77: 140 | F77: 140 | G77: 140 | H77: =(G77/F77)*100 -> 100
A78: 3319 | B78: 5212 | D78: Neinv.transfery nefin.pod.subj.-FO | F78: 935 | G78: 935 | H78: =(G78/F78)*100 -> 100
C79: 00000001 | D79: Významné projekty | F79: 100 | G79: 100 | H79: =(G79/F79)*100 -> 100
C80: 00000002 | D80: Příspěvky do 25 tis. Kč | F80: 500 | G80: 500 | H80: =(G80/F80)*100 -> 100
C81: 00000212 | D81: Podpora kulturních aktivit v Olomouckém kraji | F81: 335 | G81: 335 | H81: =(G81/F81)*100 -> 100
A82: 3319 | B82: 5213 | D82: Neinv.transfery nefin.podnik.subj. - PO | F82: 1585 | G82: 1585 | H82: =(G82/F82)*100 -> 100
C83: 00000001 | D83: Významné projekty | F83: 440 | G83: 440 | H83: =(G83/F83)*100 -> 100
C84: 00000002 | D84: Příspěvky do 25 tis. Kč | F84: 225 | G84: 225 | H84: =(G84/F84)*100 -> 100
C85: 00000212 | D85: Podpora kulturních aktivit v Olomouckém kraji | F85: 920 | G85: 920 | H85: =(G85/F85)*100 -> 100
A86: 3319 | B86: 5221 | D86: Neinv.transfery obecně prospěšným spol. | F86: 125 | G86: 125 | H86: =(G86/F86)*100 -> 100
C87: 00000002 | D87: Příspěvky do 25 tis. Kč | F87: 75 | G87: 75 | H87: =(G87/F87)*100 -> 100
C88: 00000212 | D88: Podpora kulturních aktivit v Olomouckém kraji | F88: 50 | G88: 50 | H88: =(G88/F88)*100 -> 100
A89: 3319 | B89: 5222 | D89: Neinvest.transfery občan.sdruž. | F89: 6014 | G89: 5943 | H89: =(G89/F89)*100 -> 98.819421
C90: 00000001 | D90: Významné projekty | F90: 1350 | G90: 1350 | H90: =(G90/F90)*100 -> 100
C91: 00000002 | D91: Příspěvky do 25 tis. Kč | F91: 1984 | G91: 1963 | H91: =(G91/F91)*100 -> 98.941532
C92: 00000212 | D92: Podpora kulturních aktivit v Olomouckém kraji | F92: 2410 | G92: 2630 | H92: =(G92/F92)*100 -> 109.12863
C93: 00000213 | D93: Přímá podpora významných kulturních akcí | F93: 270 | G93: 270 | H93: =(G93/F93)*100 -> 100
A94: 3319 | B94: 5223 | D94: Neinv.transfery církvím a nábož.společnost. | F94: 855 | G94: 855 | H94: =(G94/F94)*100 -> 100
C95: 00000001 | D95: Významné projekty | F95: 580 | G95: 580 | H95: =(G95/F95)*100 -> 100
C96: 00000002 | D96: Příspěvky do 25 tis. Kč | F96: 75 | G96: 75 | H96: =(G96/F96)*100 -> 100
C97: 00000212 | D97: Podpora kulturních aktivit v Olomouckém kraji | F97: 70 | G97: 70 | H97: =(G97/F97)*100 -> 100
C98: 00000213 | D98: Přímá podpora významných kulturních akcí | F98: 130 | G98: 130 | H98: =(G98/F98)*100 -> 100
A99: 3319 | B99: 5321 | D99: Neinvestiční transfery obcím | F99: 3191 | G99: 3191 | H99: =(G99/F99)*100 -> 100
C100: 00000001 | D100: Významné projekty | F100: 780 | G100: 780 | H100: =(G100/F100)*100 -> 100
C101: 00000002 | D101: Příspěvky do 25 tis. Kč | F101: 259 | G101: 259 | H101: =(G101/F101)*100 -> 100
C102: 00000212 | D102: Podpora kulturních aktivit v Olomouckém kraji | F102: 2002 | G102: 2002 | H102: =(G102/F102)*100 -> 100
C103: 00000213 | D103: Přímá podpora významných kulturních akcí | F103: 150 | G103: 150 | H103: =(G103/F103)*100 -> 100
...

Sheet 14
A1: 14) Odbor zdravotnictví | F1: ORJ - 14
A3: Správce: | C3: vedoucí odboru zdravotnictví
C4: MUDr. Eva Štefková
A6: Provozní výdaje
H7: v tis. Kč
A8: § | B8: pol. | C8: UZ | D8: název položky | E8: schválený rozp. | F8: upravený rozp. | G8: skutečnost | H8: %
A9: 1 | B9: 2 | C9: 3 | D9: 4 | E9: 5 | F9: 6 | G9: 7 | H9: 8=7/6
A10: 3513 | B10: 5169 | D10: Nákup ostatních služeb | E10: =E11+E12 -> 9944 | F10: =F11+F12 -> 9944 | G10: =G11+G12 -> 9726 | H10: =G10/F10*100 -> 97.807723
C11: 00000252 | D11: Lékařská služba první pomoci | E11: 9604 | F11: 9604 | G11: 9395 | H11: =(G11/F11)*100 -> 97.823823
C12: 00000256 | D12: Lékařská služba první pomoci-zubní LSPP | E12: 340 | F12: 340 | G12: 331 | H12: =(G12/F12)*100 -> 97.352941
A13: 3522 | B13: 5169 | D13: Nákup ostatních služeb | E13: 6099 | F13: =F14+F15 -> 6145 | G13: =G14+G15 -> 6145 | H13: =(G13/F13)*100 -> 100
C14: 00000000 | D14: Provoz | F14: 46 | G14: 46 | H14: =(G14/F14)*100 -> 100
C15: 00000253 | D15: Provoz záchytné stanice | E15: 6099 | F15: 6099 | G15: 6099 | H15: =(G15/F15)*100 -> 100
A16: 3522 | B16: 5171 | D16: Opravy a udržování | F16: 33 | G16: 33 | H16: =(G16/F16)*100 -> 100
C17: 00000021 | D17: Pojistné plnění KÚ | F17: 33 | G17: 33 | H17: =(G17/F17)*100 -> 100
A18: 3522 | B18: 5213 | D18: Neinv.transfery nefin.podnikatelským subjektům-PO | F18: 250 | G18: 250 | H18: =(G18/F18)*100 -> 100
A20: 3532 | B20: 5169 | D20: Nákup ostatních služeb | E20: 30 | F20: 30 | G20: 10 | H20: =(G20/F20)*100 -> 33.333333
A21: 3541 | B21: 5221 | D21: Neinv.transfery obecně prospěšným spol. | E21: 270 | F21: 250 | G21: 250 | H21: =(G21/F21)*100 -> 100
C22: 00000254 | D22: Financování protidrogové prevence | E22: 270 | F22: 250 | G22: 250 | H22: =(G22/F22)*100 -> 100
A23: 3541 | B23: 5222 | D23: Neinv.transfery občanským sdružením | E23: 1980 | F23: 2250 | G23: 2250 | H23: =(G23/F23)*100 -> 100
C24: 00000254 | D24: Financování protidrogové prevence | E24: 1980 | F24: 2250 | G24: 2250 | H24: =(G24/F24)*100 -> 100
A25: 3541 | B25: 5339 | D25: Neinvestiční příspěvky ostatním PO | F25: 25 | G25: 25 | H25: =(G25/F25)*100 -> 100
C26: 00000002 | D26: Příspěvky do 25 tis. Kč | F26: 25 | G26: 25 | H26: =(G26/F26)*100 -> 100
A27: 3543 | B27: 5222 | D27: Neinv.transfery občanským sdružením | F27: 50 | G27: 50 | H27: =(G27/F27)*100 -> 100
C28: 00000002 | D28: Příspěvky do 25 tis. Kč | F28: 50 | G28: 50 | H28: =(G28/F28)*100 -> 100
A29: 3543 | B29: 5229 | D29: Ost.neinv.transfery nezisk.a podob.org. | F29: 15 | G29: 15 | H29: =(G29/F29)*100 -> 100
C30: 00000002 | D30: Příspěvky do 25 tis. Kč | F30: 15 | G30: 15 | H30: =(G30/F30)*100 -> 100
A31: 3544 | B31: 5169 | D31: Nákup ostatních služeb | F31: 100 | G31: 100 | H31: =(G31/F31)*100 -> 100
C32: 00000255 | D32: Program Zdraví 21 | F32: 100 | G32: 100 | H32: =(G32/F32)*100 -> 100
A33: 3544 | B33: 5339 | D33: Neinvestiční příspěvky ostatním PO | E33: 100 | F33: 0 | G33: 0 | H33: 0
C34: 00000255 | D34: Program Zdraví 21 | E34: 100 | F34: 0 | G34: 0 | H34: 0
A35: 3592 | B35: 5212 | D35: Neinv.transfery nefin.pod.subj.-FO | E35: 1300 | F35: 1025 | G35: 620 | H35: =(G35/F35)*100 -> 60.487805
C36: 00000000 | D36: Provoz | E36: 1300 | F36: 0 | G36: 0 | H36: 0
C37: 00000002 | D37: Příspěvky do 25 tis. Kč | F37: 25 | G37: 25 | H37: =(G37/F37)*100 -> 100
C38: 00000258 | D38: Vzdělávání lékařů | F38: 1000 | G38: 595 | H38: =(G38/F38)*100 -> 59.5
A39: 3592 | B39: 5213 | D39: Neinv.transfery nefin.podnikatelským subjektům-PO
E40: 2300 | F40: 1440 | G40: 1173 | H40: =(G40/F40)*100 -> 81.458333
C41: 00000000 | D41: Provoz | E41: 2300 | F41: 0 | G41: 0 | H41: 0
C42: 00000258 | D42: Vzdělávání lékařů | F42: 1440 | G42: 1173 | H42: =(G42/F42)*100 -> 81.458333
A43: 3599 | B43: 5166 | D43: Konzultační, poradenské a právní služby | E43: 50 | F43: 20 | G43: 9 | H43: =(G43/F43)*100 -> 45
A44: 3599 | B44: 5169 | D44: Nákup ostatních služeb | E44: =E45+E46 -> 600 | F44: =F45+F46 -> 2163 | G44: =G45+G46 -> 2163 | H44: =(G44/F44)*100 -> 100
C45: 00098297 | D45: MFČR - likvidace nepouž.léčiv | E45: 100 | F45: 340 | G45: 340 | H45: =(G45/F45)*100 -> 100
C46: 00098335 | D46: MFČR - Účelová dotace krajům - TBC | E46: 500 | F46: 1823 | G46: 1823 | H46: =(G46/F46)*100 -> 100
A47: 3599 | B47: 5213 | D47: Neinv.transfery nefin.podnikatelským subjektům-PO | F47: 25 | G47: 25 | H47: =(G47/F47)*100 -> 100
C49: 00000002 | D49: Příspěvky do 25 tis. Kč | F49: 25 | G49: 25 | H49: =(G49/F49)*100 -> 100
A50: 3599 | B50: 5221 | D50: Neinv.transfery obecně prospěšným spol. | F50: 200 | G50: 200 | H50: =(G50/F50)*100 -> 100
C51: 00000001 | D51: Významné projekty | F51: 200 | G51: 200 | H51: =(G51/F51)*100 -> 100
A52: 3599 | B52: 5222 | D52: Neinv.transfery občanským sdružením | F52: 50 | G52: 50 | H52: =(G52/F52)*100 -> 100
C53: 00000002 | D53: Příspěvky do 25 tis. Kč | F53: 50 | G53: 50 | H53: =(G53/F53)*100 -> 100
A54: 3599 | B54: 5229 | D54: Ost.neinv.transfery nezisk.a podob.org. | F54: 150 | G54: 50 | H54: =(G54/F54)*100 -> 33.333333
C55: 00000001 | D55: Významné projekty | F55: 100 | G55: 0 | H55: =(G55/F55)*100 -> 0
C56: 00000002 | D56: Příspěvky do 25 tis. Kč | F56: 50 | G56: 50 | H56: =(G56/F56)*100 -> 100
A57: 3599 | B57: 5492 | D57: Dary obyvatelstvu | E57: 15 | F57: 20 | G57: 19 | H57: =(G57/F57)*100 -> 95
C58: 00000257 | D58: Regulační poplatky ve zdravotnických zařízeních | E58: 15 | F58: 20 | G58: 19 | H58: =(G58/F58)*100 -> 95
A59: 6172 | B59: 5161 | D59: Služby pošt | E59: 10 | F59: 10 | G59: 0 | H59: 0
A60: 6172 | B60: 5169 | D60: Nákup ostatních služeb | E60: 50 | F60: 20 | G60: 0 | H60: =(G60/F60)*100 -> 0
A61: Provozní výdaje celkem | E61: =E10+E13+E20+E21+E23+E33+E40+E43+E44+E57+E59+E60+E35 -> 22748 | F61: =F10+F13+F16+F18+F20+F21+F23+F25+F27+F29+F31+F33+F35+F40+F43+F44+F47+F50+F52+F54+F57+F59+F60 -> 24215 | G61: =G10+G13+G16+G18+G20+G21+G23+G25+G27+G29+G31+G33+G35+G40+G43+G44+G47+G50+G52+G54+G57+G59+G60 -> 23163 | H61: =(G61/F61)*100 -> 95.655585
A67: Investiční výdaje
H68: v tis. Kč
A69: § | B69: pol. | C69: UZ | D69: název položky | E69: schválený rozp. | F69: upravený rozp. | G69: skutečnost | H69: %
A70: 1 | B70: 2 | C70: 3 | D70: 4 | E70: 5 | F70: 6 | G70: 7 | H70: 8=7/6
A71: 3522 | B71: 6202 | D71: Nákup majetkových podílů | E71: 7000 | F71: 7000 | G71: 7000 | H71: =(G71/F71)*100 -> 100
A72: 3539 | B72: 6322 | D72: Investiční transfery občanským sdružením | F72: 150 | G72: 150 | H72: =(G72/F72)*100 -> 100
C73: 00000001 | D73: Významné projekty | F73: 150 | G73: 150 | H73: =(G73/F73)*100 -> 100
A74: 3543 | B74: 6329 | D74: Ost.inv.transf.neziskovým a podobným org. | F74: 25 | G74: 0 | H74: 0
C75: 00000002 | D75: Příspěvky do 25 tis. Kč | F75: 25 | G75: 0 | H75: 0
A76: Investiční výdaje celkem | E76: =E71 -> 7000 | F76: =F71+F72+F74 -> 7175 | G76: =G71+G72+G74 -> 7150 | H76: =(G76/F76)*100 -> 99.651568 | J76: =E61+E76 -> 29748 | K76: =F61+F76 -> 31390 | L76: =G61+G76 -> 30313
A79: Příspěvkové organizace
A81: Odborný léčebný ústav Paseka | E81: ORG - 1700
H82: v tis. Kč
A83: § | B83: pol. | C83: UZ | D83: název položky | E83: schválený rozp. | F83: upravený rozp. | G83: skutečnost | H83: %
A84: 1 | B84: 2 | C84: 3 | D84: 4 | E84: 5 | F84: 6 | G84: 7 | H84: 8=7/6
A85: 3523 | B85: 5331 | D85: Neinvestiční příspěvek zřízeným PO | E85: =E86 -> 17850 | F85: =F86+F87 -> 17884 | G85: =G86+G87 -> 17884 | H85: =G85/F85*100 -> 100
C86: 00000020 | D86: Provozní příspěvky zřízeným PO | E86: 17850 | F86: 17829 | G86: 17829 | H86: =G86/F86*100 -> 100
C87: 00098335 | D87: MFČR - Účelová dotace krajům - TBC | E87: 0 | F87: 55 | G87: 55 | H87: =G87/F87*100 -> 100
A88: Neinvestiční příspěvky celkem | E88: =SUM(E85) -> 17850 | F88: =SUM(F85) -> 17884 | G88: =SUM(G85) -> 17884 | H88: =G88/F88*100 -> 100
A89: 3523 | B89: 6351 | D89: Investiční transfery zřízeným PO | E89: 4200 | F89: =F90+F91+F92 -> 6046 | G89: =G90+G91+G92 -> 6046 | H89: =G89/F89*100 -> 100
C90: 00000014 | D90: Investiční a neinvestiční akce v obl.zdravotnictví | E90: 200 | F90: 1213 | G90: 1213 | H90: =G90/F90*100 -> 100
C91: 00000023 | D91: Nájemné PO | E91: 4000 | F91: 4000 | G91: 4000 | H91: =G91/F91*100 -> 100
C92: 00000870 | D92: Povinný podíl kraje (půjčka EIB) | F92: 833 | G92: 833 | H92: =G92/F92*100 -> 100
A93: Investiční příspěvky celkem | E93: =E89 -> 4200 | F93: =SUM(F89) -> 6046 | G93: =SUM(G89) -> 6046 | H93: =G93/F93*100 -> 100
A95: Odborný léčebný ústav Paseka celkem | E95: =E88+E93 -> 22050 | F95: =F88+F93 -> 23930 | G95: =G88+G93 -> 23930 | H95: =(G95/F95)*100 -> 100
A98: Odborný léčebný ústav neurologicko-geriatrický v Moravském Berouně
E99: ORG - 1701
H100: v tis. Kč
A101: § | B101: pol. | C101: UZ | D101: název položky | E101: schválený rozp. | F101: upravený rozp. | G101: skutečnost | H101: %
A102: 1 | B102: 2 | C102: 3 | D102: 4 | E102: 5 | F102: 6 | G102: 7 | H102: 8=7/6
A103: 3523 | B103: 5331 | D103: Neinvestiční příspěvek zřízeným PO | E103: =E104 -> 9600 | F103: =F104 -> 9568 | G103: =G104 -> 9568 | H103: =G103/F103*100 -> 100
C104: 00000020 | D104: Provozní příspěvky zřízeným PO | E104: 9600 | F104: 9568 | G104: 9568 | H104: =G104/F104*100 -> 100
A105: Neinvestiční příspěvky celkem | E105: =SUM(E103) -> 9600 | F105: =SUM(F103) -> 9568 | G105: =SUM(G103) -> 9568 | H105: =G105/F105*100 -> 100
A106: 3523 | B106: 6351 | D106: Investiční transfery zřízeným PO | E106: =E108+E107 -> 1570 | F106: =F108+F107 -> 1690 | G106: =G108+G107 -> 1690 | H106: =G106/F106*100 -> 100
C107: 00000014 | D107: Investiční a neinvestiční akce v obl.zdravotnictví | E107: 250 | F107: 370 | G107: 370 | H107: =G107/F107*100 -> 100
C108: 00000023 | D108: Nájemné PO | E108: 1320 | F108: 1320 | G108: 1320 | H108: =G108/F108*100 -> 100
A109: Investiční příspěvky celkem | E109: =E106 -> 1570 | F109: =SUM(F106) -> 1690 | G109: =SUM(G106) -> 1690 | H109: =G109/F109*100 -> 100
A111: Odborný léčebný ústav neurologicko-geriatrický v Moravský Beroun celkem
E112: =E105+E109 -> 11170 | F112: =F105+F109 -> 11258 | G112: =G105+G109 -> 11258 | H112: =(G112/F112)*100 -> 100
A115: Sdružená zařízení pro péči o dítě Olomouc | E115: ORG - 1702
H116: v tis. Kč
A117: § | B117: pol. | C117: UZ | D117: název položky | E117: schválený rozp. | F117: upravený rozp. | G117: skutečnost | H117: %
A118: 1 | B118: 2 | C118: 3 | D118: 4 | E118: 5 | F118: 6 | G118: 7 | H118: 8=7/6
...

Sheet 15
A1: 15) Odbor Krajský živnostenský úřad | F1: ORJ - 15
A3: Správce: | C3: vedoucí odboru Krajský živnostenský úřad
C4: Bc. Ing. František Pivoda
A6: Provozní výdaje
H7: v tis. Kč
A8: § | B8: pol. | C8: UZ | D8: název položky | E8: schválený rozp. | F8: upravený rozp. | G8: skutečnost | H8: %
A9: 1 | B9: 2 | C9: 3 | D9: 4 | E9: 5 | F9: 6 | G9: 7 | H9: 8=7/6
A10: 6172 | B10: 5166 | D10: Konzultační, poradenské a právní služby | E10: 20 | F10: 0 | G10: 0 | H10: 0
A11: 6172 | B11: 5192 | D11: Poskytnuté neinvestiční přísp.a náhrady | E11: 20 | F11: 20 | G11: 0 | H11: =(G11/F11)*100 -> 0
A12: Provozní výdaje celkem | E12: =E10+E11 -> 40 | F12: =F10+F11 -> 20 | G12: 0 | H12: =(G12/F12)*100 -> 0
A16: Odbor Krajský živnostenský úřad | E16: =SUM(E12) -> 40 | F16: =SUM(F12) -> 20 | G16: =SUM(G12) -> 0 | H16: =(G16/F16)*100 -> 0

Sheet 16
A1: 16) Útvar interního auditu | F1: ORJ - 16
A3: Správce: | C3: pověřená vedením útvaru interního auditu
C4: Ing. Věra Štembírková
A6: Provozní výdaje
H7: v tis. Kč
A8: § | B8: pol. | C8: UZ | D8: název položky | E8: schválený rozp. | F8: upravený rozp. | G8: skutečnost | H8: %
A9: 1 | B9: 2 | C9: 3 | D9: 4 | E9: 5 | F9: 6 | G9: 7 | H9: 8=7/6
A10: 6172 | B10: 5166 | D10: Konzultační, poradenské a právní služby | E10: 20 | F10: 0 | G10: 0 | H10: 0
A11: Provozní výdaje celkem | E11: =SUM(E10) -> 20 | F11: =SUM(F10) -> 0 | G11: =SUM(G10) -> 0 | H11: 0
A15: Útvar interního auditu celkem | E15: =SUM(E11) -> 20 | F15: =SUM(F11) -> 0 | G15: =SUM(G11) -> 0 | H15: 0

Sheet 17
A1: 17) Odbor investic a evropských programů | G1: ORJ - 17
A4: Správce: | C4: vedoucí odboru investic a evropských programů
C5: Ing. Miroslav Kubín
A8: Provozní výdaje
H9: v tis. Kč
A10: § | B10: pol. | C10: UZ | D10: název položky | E10: schválený rozp. | F10: upravený rozp. | G10: skutečnost | H10: %
A11: 1 | B11: 2 | C11: 3 | D11: 4 | E11: 5 | F11: 6 | G11: 7 | H11: 8=7/6
A12: 2212 | B12: 5171 | D12: Opravy a udržování | F12: =F13+F14+F15 -> 8055 | G12: =G13+G14+G15 -> 5082 | H12: =(G12/F12)*100 -> 63.091248
C13: 00000018 | D13: Odstraňování povodňových škod | F13: 3983 | G13: 2926 | H13: =(G13/F13)*100 -> 73.462214
C14: 00000024 | D14: Přebytek hospodaření OK | F14: 2155 | G14: 239 | H14: =(G14/F14)*100 -> 11.090487
C15: 00017466 | D15: MMR - Povodně 2006-oprava obecního a krajského majetku postiž.živel.pohr.-limitky | F15: 1917 | G15: 1917 | H15: =(G15/F15)*100 -> 100
A16: 3114 | B16: 5137 | D16: Drobný hmotný dlouhodobý majetek | F16: 64 | G16: 64 | H16: =(G16/F16)*100 -> 100
C17: 00000888 | D17: Úvěr KB (investice kraje-výdaje) | F17: 64 | G17: 64 | H17: =(G17/F17)*100 -> 100
A18: 3114 | B18: 5171 | D18: Opravy a udržování | E18: 600 | F18: 3823 | G18: 2688 | H18: =(G18/F18)*100 -> 70.311274
C19: 00000010 | D19: Investiční a neinvestiční akce v obl.školství | E19: 600 | F19: 3823 | G19: 2688 | H19: =(G19/F19)*100 -> 70.311274
A20: 3121 | B20: 5137 | D20: Drobný hmotný dlouhodobý majetek | F20: 497 | G20: 497 | H20: =(G20/F20)*100 -> 100
C21: 00000888 | D21: Úvěr KB (investice kraje-výdaje) | F21: 497 | G21: 497 | H21: =(G21/F21)*100 -> 100
A22: 3121 | B22: 5171 | D22: Opravy a udržování | E22: 900 | F22: 1346 | G22: 1346 | H22: =(G22/F22)*100 -> 100
C23: 00000010 | D23: Investiční a neinvestiční akce v obl.školství | E23: 900 | F23: 0 | G23: 0 | H23: 0
C24: 00000888 | D24: Úvěr KB (investice kraje-výdaje) | F24: 1346 | G24: 1346 | H24: =(G24/F24)*100 -> 100
A25: 3122 | B25: 5137 | D25: Drobný hmotný dlouhodobý majetek | F25: 830 | G25: 830 | H25: =(G25/F25)*100 -> 100
C26: 00000888 | D26: Úvěr KB (investice kraje-výdaje) | F26: 830 | G26: 830 | H26: =(G26/F26)*100 -> 100
A27: 3122 | B27: 5169 | D27: Nákup ostatních služeb | F27: 1 | G27: 1 | H27: =(G27/F27)*100 -> 100
C28: 00000888 | D28: Úvěr KB (investice kraje-výdaje) | F28: 1 | G28: 1 | H28: =(G28/F28)*100 -> 100
A29: 3122 | B29: 5171 | D29: Opravy a udržování | E29: 12975 | F29: =F30+F31 -> 11089 | G29: =G30+G31 -> 10615 | H29: =(G29/F29)*100 -> 95.725494
C30: 00000010 | D30: Investiční a neinvestiční akce v obl.školství | E30: 12975 | F30: 8083 | G30: 7609 | H30: =(G30/F30)*100 -> 94.135841
C31: 00000888 | D31: Úvěr KB (investice kraje-výdaje) | F31: 3006 | G31: 3006 | H31: =(G31/F31)*100 -> 100
A32: 3123 | B32: 5171 | D32: Opravy a udržování | E32: 2212 | F32: 2235 | G32: 2235 | H32: =(G32/F32)*100 -> 100
C33: 00000010 | D33: Investiční a neinvestiční akce v obl.školství | E33: 2212 | F33: 0 | G33: 0 | H33: 0
C34: 00000888 | D34: Úvěr KB (investice kraje-výdaje) | F34: 2235 | G34: 2235 | H34: =(G34/F34)*100 -> 100
A35: 3231 | B35: 5171 | D35: Opravy a udržování | E35: 580 | F35: =F36+F37 -> 1830 | G35: =G36+G37 -> 1964 | H35: =(G35/F35)*100 -> 107.3224
C36: 00000010 | D36: Investiční a neinvestiční akce v obl.školství | E36: 580 | F36: 372 | G36: 372 | H36: =(G36/F36)*100 -> 100
C37: 00000888 | D37: Úvěr KB (investice kraje-výdaje) | F37: 1458 | G37: 1592 | H37: =(G37/F37)*100 -> 109.19067
A38: 3314 | B38: 5137 | D38: Drobný hmotný dlouhodobý majetek | F38: 2807 | G38: 2807 | H38: =(G38/F38)*100 -> 100
C39: 00000888 | D39: Úvěr KB (investice kraje-výdaje) | F39: 2807 | G39: 2807 | H39: =(G39/F39)*100 -> 100
A40: 3315 | B40: 5137 | D40: Drobný hmotný dlouhodobý majetek | F40: =F41+F42 -> 2082 | G40: =G41+G42 -> 1248 | H40: =(G40/F40)*100 -> 59.942363
C41: 00000013 | D41: Investiční a neinvestiční akce v obl.kultury | F41: 78 | G41: 78 | H41: =(G41/F41)*100 -> 100
C42: 00000888 | D42: Úvěr KB (investice kraje-výdaje) | F42: 2004 | G42: 1170 | H42: =(G42/F42)*100 -> 58.383234
A43: 3315 | B43: 5169 | D43: Nákup ostatních služeb | F43: 363 | G43: 363 | H43: =(G43/F43)*100 -> 100
C44: 00000888 | D44: Úvěr KB (investice kraje-výdaje) | F44: 363 | G44: 363 | H44: =(G44/F44)*100 -> 100
A45: 3315 | B45: 5171 | D45: Opravy a udržování | E45: 226 | F45: =F46+F47 -> 4417 | G45: 4237 | H45: =(G45/F45)*100 -> 95.924836
C46: 00000013 | D46: Investiční a neinvestiční akce v obl.kultury | E46: 226 | F46: 4237 | G46: 4237 | H46: =(G46/F46)*100 -> 100
C47: 00000888 | D47: Úvěr KB (investice kraje-výdaje) | F47: 180 | G47: 0 | H47: =(G47/F47)*100 -> 0
A48: 3315 | B48: 5172 | D48: Programové vybavení | F48: 471 | G48: 261 | H48: =(G48/F48)*100 -> 55.414013
C49: 00000888 | D49: Úvěr KB (investice kraje-výdaje) | F49: 471 | G49: 261 | H49: =(G49/F49)*100 -> 55.414013
A50: 3315 | B50: 5901 | D50: Nespecifikované rezervy | E50: 650 | F50: =F51+F52 -> 1850 | G50: 0 | H50: =(G50/F50)*100 -> 0
C51: 00000000 | D51: Provoz | E51: 650 | F51: 650 | G51: 0 | H51: 0
C52: 00000024 | D52: Přebytek hospodaření OK | F52: 1200 | G52: 0 | H52: 0
A53: 3523 | B53: 5137 | D53: Drobný hmotný dlouhodobý majetek | F53: 252 | G53: 252 | H53: =(G53/F53)*100 -> 100
C54: 00000888 | D54: Úvěr KB (investice kraje-výdaje) | F54: 252 | G54: 252 | H54: =(G54/F54)*100 -> 100
A55: 4322 | B55: 5137 | D55: Drobný hmotný dlouhodobý majetek | F55: 305 | G55: 305 | H55: =(G55/F55)*100 -> 100
C56: 00000888 | D56: Úvěr KB (investice kraje-výdaje) | F56: 305 | G56: 305 | H56: =(G56/F56)*100 -> 100
A57: 4322 | B57: 5171 | D57: Opravy a udržování | F57: 1140 | G57: 1140 | H57: =(G57/F57)*100 -> 100
C58: 00000010 | D58: Investiční a neinvestiční akce v obl.školství | F58: 1140 | G58: 1140 | H58: =(G58/F58)*100 -> 100
A59: 4351 | B59: 5171 | D59: Opravy a udržování | E59: 1200 | F59: 1128 | G59: 1128 | H59: =(G59/F59)*100 -> 100
C60: 00000011 | D60: Investiční a neinvestiční akce v obl.sociální | E60: 1200 | F60: 1128 | G60: 1128 | H60: =(G60/F60)*100 -> 100
A61: 4357 | B61: 5137 | D61: Drobný hmotný dlouhodobý majetek | F61: =F62+F63+F64 -> 1086 | G61: =G62+G63+G64 -> 1080 | H61: =(G61/F61)*100 -> 99.447514
C62: 00000011 | D62: Investiční a neinvestiční akce v obl.sociální | F62: 1 | G62: 1 | H62: =(G62/F62)*100 -> 100
C63: 00000870 | D63: Povinný podíl kraje (půjčka EIB) | F63: 1054 | G63: 1048 | H63: =(G63/F63)*100 -> 99.43074
C64: 00000888 | D64: Úvěr KB (investice kraje-výdaje) | F64: 31 | G64: 31 | H64: =(G64/F64)*100 -> 100
A65: 4357 | B65: 5171 | D65: Opravy a udržování | E65: 1010 | F65: =F66+F67 -> 3894 | G65: =G66+G67 -> 3343 | H65: =(G65/F65)*100 -> 85.850026
C66: 00000011 | D66: Investiční a neinvestiční akce v obl.sociální | E66: 1010 | F66: 1398 | G66: 847 | H66: =(G66/F66)*100 -> 60.586552
C67: 00000888 | D67: Úvěr KB (investice kraje-výdaje) | F67: 2496 | G67: 2496 | H67: =(G67/F67)*100 -> 100
A68: 4399 | B68: 5166 | D68: Konzultační, porad.a právní služby | E68: 200 | F68: 0 | G68: 0 | H68: 0
C69: 00000011 | D69: Investiční a neinvestiční akce v obl.sociální | E69: 200 | F69: 0 | G69: 0 | H69: 0
H71: v tis. Kč
A72: § | B72: pol. | C72: UZ | D72: název položky | E72: schválený rozp. | F72: upravený rozp. | G72: skutečnost | H72: %
A73: 1 | B73: 2 | C73: 3 | D73: 4 | E73: 5 | F73: 6 | G73: 7 | H73: 8=7/6
A74: 6172 | B74: 5164 | D74: Nájemné | E74: 500 | F74: 400 | G74: 33 | H74: =(G74/F74)*100 -> 8.25
A75: 6172 | B75: 5166 | D75: Konzultační, porad.a právní služby | E75: 300 | F75: =F76+F77 -> 417 | G75: =G76+G77 -> 130 | H75: =(G75/F75)*100 -> 31.17506
C76: 00000000 | D76: Provoz | E76: 300 | F76: 300 | G76: 13 | H76: =(G76/F76)*100 -> 4.3333333
C77: 00000888 | D77: Úvěr KB (investice kraje-výdaje) | F77: 117 | G77: 117 | H77: =(G77/F77)*100 -> 100
A78: 6172 | B78: 5169 | D78: Nákup ostatních služeb | E78: 100 | F78: 1112 | G78: 988 | H78: =(G78/F78)*100 -> 88.848921
A79: 6172 | B79: 5362 | D79: Platby daní a poplatků SR | E79: 50 | F79: 50 | G79: 0 | H79: 0 | J79: EIB | M79: =F63 -> 1054 | N79: =G63 -> 1048
A80: 6172 | B80: 5901 | D80: Nespecifikované rezervy | E80: 2000 | F80: 0 | G80: 0 | H80: 0 | J80: KB | M80: =F17+F21+F24+F26+F28+F31+F34+F37+F39+F42+F44+F47+F49+F54+F56+F64+F67+F77 -> 18463 | N80: =G17+G21+G24+G26+G28+G31+G34+G37+G39+G42+G44+G47+G49+G54+G56+G64+G67+G77 -> 17373
C81: 00000011 | D81: Investiční a neinvestiční akce v obl.sociální | E81: 2000 | F81: 0 | G81: 0 | H81: 0
A82: Provozní výdaje celkem | E82: =E18+E22+E29+E32+E35+E50+E59+E65+E68+E74+E75+E78+E79+E80+E45 -> 23503 | F82: =F12+F16+F18+F20+F22+F25+F27+F29+F32+F35+F38+F40+F43+F45+F48+F50+F53+F55+F57+F59+F61+F65+F68+F74+F75+F78+F79+F80 -> 51544 | G82: =G12+G16+G18+G20+G22+G25+G27+G29+G32+G35+G38+G40+G43+G45+G48+G50+G53+G55+G57+G59+G61+G65+G68+G74+G75+G78+G79+G80 -> 42637 | H82: =G82/F82*100 -> 82.719618
A86: Investiční výdaje
H87: v tis. Kč
A88: § | B88: pol. | C88: UZ | D88: název položky | E88: schválený rozp. | F88: upravený rozp. | G88: skutečnost | H88: %
A89: 1 | B89: 2 | C89: 3 | D89: 4 | E89: 5 | F89: 6 | G89: 7 | H89: 8=7/6
A90: 2212 | B90: 6121 | D90: Budovy, haly a stavby | E90: =E91+E92+E93+E94 -> 349316 | F90: =F91+F92+F93+F94 -> 176086 | G90: =G91+G92+G93+G94 -> 158170 | H90: =(G90/F90)*100 -> 89.825426
C91: 00000012 | D91: Investiční a neinvestiční akce v obl.dopr. | E91: 96464 | F91: 53749 | G91: 43963 | H91: =(G91/F91)*100 -> 81.79315
C92: 00000018 | D92: Odstraňování povodňových škod | E92: 5904 | F92: 8000 | G92: 7986 | H92: =(G92/F92)*100 -> 99.825
C93: 00000870 | D93: Povinný podíl kraje (půjčka EIB) | E93: 246948 | F93: 104521 | G93: 98533 | H93: =(G93/F93)*100 -> 94.271008
C94: 00000888 | D94: Úvěr KB (investice kraje-výdaje) | F94: 9816 | G94: 7688 | H94: =(G94/F94)*100 -> 78.321108
A95: 2212 | B95: 6130 | D95: Pozemky | F95: =F96+F97 -> 433 | G95: =G96+G97 -> 370 | H95: =(G95/F95)*100 -> 85.450346
C96: 00000012 | D96: Investiční a neinvestiční akce v obl.dopr. | F96: 427 | G96: 367 | H96: =(G96/F96)*100 -> 85.948478
C97: 00000888 | D97: Úvěr KB (investice kraje-výdaje) | F97: 6 | G97: 3 | H97: =(G97/F97)*100 -> 50
A98: 3114 | B98: 6121 | D98: Budovy, haly a stavby | E98: =E99+E100+E101 -> 160337 | F98: =F99+F100+F101 -> 161480 | G98: =G99+G100+G101 -> 126080 | H98: =(G98/F98)*100 -> 78.077781
C99: 00000010 | D99: Investiční a neinvestiční akce v obl.školství | E99: 36211 | F99: 26077 | G99: 19541 | H99: =(G99/F99)*100 -> 74.935767
C100: 00000870 | D100: Povinný podíl kraje (půjčka EIB) | E100: 124126 | F100: 124940 | G100: 96115 | H100: =(G100/F100)*100 -> 76.928926
C101: 00000888 | D101: Úvěr KB (investice kraje-výdaje) | F101: 10463 | G101: 10424 | H101: =(G101/F101)*100 -> 99.627258
A102: 3121 | B102: 6121 | D102: Budovy, haly a stavby | E102: =E103+E104+E105 -> 11719 | F102: =F103+F104+F105 -> 23343 | G102: =G103+G104+G105 -> 22592 | H102: =(G102/F102)*100 -> 96.782761
C103: 00000010 | D103: Investiční a neinvestiční akce v obl.školství | E103: 11719 | F103: 4316 | G103: 4161 | H103: =(G103/F103)*100 -> 96.408712
C104: 00000870 | D104: Povinný podíl kraje (půjčka EIB) | F104: 11927 | G104: 11331 | H104: =(G104/F104)*100 -> 95.002935
C105: 00000888 | D105: Úvěr KB (investice kraje-výdaje) | F105: 7100 | G105: 7100 | H105: =(G105/F105)*100 -> 100
A106: 3121 | B106: 6122 | D106: Stroje, přístroje a zařízení | F106: =F107+F108 -> 174 | G106: =G107+G108 -> 174 | H106: =(G106/F106)*100 -> 100
C107: 00000010 | D107: Investiční a neinvestiční akce v obl.školství | F107: 130 | G107: 130 | H107: =(G107/F107)*100 -> 100
C108: 00000888 | D108: Úvěr KB (investice kraje-výdaje) | F108: 44 | G108: 44 | H108: =(G108/F108)*100 -> 100
...

Sheet 17-st. akce
A1: 17) Odbor investic a evropských programů | G1: ORJ - 17
A4: Správce: | C4: vedoucí odboru investic a evropských programů
C5: Ing. Miroslav Kubín
A7: Stavební akce
A10: VOŠ a SPŠ elektrotechnická, Olomouc-školní tělocvična | I10: v tis. Kč
A11: ORG | B11: § | C11: pol. | D11: UZ | E11: název položky | F11: schválený rozp. | G11: upravený rozp. | H11: skutečnost | I11: %
A12: 1 | B12: 2 | C12: 3 | D12: 4 | E12: 5 | F12: 6 | G12: 7 | H12: 8 | I12: 9=8/7
A13: 60001100026 | B13: 3122 | C13: 6121 | D13: 10 | E13: Budovy, haly a stavby | G13: 751 | H13: 640 | I13: 0
A14: Investiční výdaje celkem | F14: 0 | G14: =SUM(G13) -> 751 | H14: =SUM(H13) -> 640 | I14: 0
A17: Slovanské gymnázium, Olomouc - rek.soc.zařízení | I17: v tis. Kč
A18: ORG | B18: § | C18: pol. | D18: UZ | E18: název položky | F18: schválený rozp. | G18: upravený rozp. | H18: skutečnost | I18: %
A19: 1 | B19: 2 | C19: 3 | D19: 4 | E19: 5 | F19: 6 | G19: 7 | H19: 8 | I19: 9=8/7
A20: 60001100028 | B20: 3121 | C20: 6121 | D20: 10 | E20: Budovy, haly a stavby | F20: 2100 | G20: 1897 | H20: 1897 | I20: =(H20/G20)*100 -> 100
A21: Investiční výdaje celkem | F21: 2100 | G21: =SUM(G20) -> 1897 | H21: =SUM(H20) -> 1897 | I21: =(H21/G21)*100 -> 100
A24: Gymnázium Olomouc - Hejčín - výstavba stravovacího pavilonu skuch. | I24: v tis. Kč
A25: ORG | B25: § | C25: pol. | D25: UZ | E25: název položky | F25: schválený rozp. | G25: upravený rozp. | H25: skutečnost | I25: %
A26: 1 | B26: 2 | C26: 3 | D26: 4 | E26: 5 | F26: 6 | G26: 7 | H26: 8 | I26: 9=8/7
A27: 60001100030 | B27: 3142 | C27: 5137 | D27: 870 | E27: Drobný hmotný dlouhodobý majetek | G27: 5979 | H27: 5957 | I27: =(H27/G27)*100 -> 99.632045
A28: 60001100030 | B28: 3142 | C28: 5172 | D28: 870 | E28: Programové vybavení | G28: 106 | H28: 101 | I28: =(H28/G28)*100 -> 95.283019
A29: Provozní výdaje celkem | F29: 0 | G29: =G27+G28 -> 6085 | H29: =H27+H28 -> 6058 | I29: =(H29/G29)*100 -> 99.556286
A30: 60001100030 | B30: 3142 | C30: 6121 | D30: 10 | E30: Budovy, haly a stavby | F30: 50100 | G30: 0 | H30: 0 | I30: 0
A31: 60001100030 | B31: 3142 | C31: 6121 | D31: 870 | E31: Budovy, haly a stavby | G31: 85669 | H31: 85083 | I31: =(H31/G31)*100 -> 99.315972
A32: 60001100030 | B32: 3142 | C32: 6122 | D32: 870 | E32: Stroje, přístroje a zařízení | G32: 24343 | H32: 24343 | I32: =(H32/G32)*100 -> 100
A33: Investiční výdaje celkem | F33: =F30 -> 50100 | G33: =G30+G31+G32 -> 110012 | H33: =H30+H31+H32 -> 109426 | I33: =(H33/G33)*100 -> 99.467331
A36: Gymnázium, Hranice - půdní vestavba | I36: v tis. Kč
A37: ORG | B37: § | C37: pol. | D37: UZ | E37: název položky | F37: schválený rozp. | G37: upravený rozp. | H37: skutečnost | I37: %
A38: 1 | B38: 2 | C38: 3 | D38: 4 | E38: 5 | F38: 6 | G38: 7 | H38: 8 | I38: 9=8/7
A39: 60001100031 | B39: 3121 | C39: 6121 | D39: 10 | E39: Budovy, haly a stavby | F39: 3900 | G39: 0 | H39: 0 | I39: 0
A40: 60001100031 | B40: 3121 | C40: 6121 | D40: 870 | E40: Budovy, haly a stavby | G40: 3900 | H40: 3683 | I40: =(H40/G40)*100 -> 94.435897
A41: Investiční výdaje celkem | F41: =F39 -> 3900 | G41: =SUM(G40) -> 3900 | H41: =SUM(H40) -> 3683 | I41: =(H41/G41)*100 -> 94.435897
A44: SOU Litovel - rekonstrukce obv.pláště a výměna oken | I44: v tis. Kč
A45: ORG | B45: § | C45: pol. | D45: UZ | E45: název položky | F45: schválený rozp. | G45: upravený rozp. | H45: skutečnost | I45: %
A46: 1 | B46: 2 | C46: 3 | D46: 4 | E46: 5 | F46: 6 | G46: 7 | H46: 8 | I46: 9=8/7
A47: 60001100039 | B47: 3145 | C47: 6121 | D47: 10 | E47: Budovy, haly a stavby | F47: 1900 | G47: 1937 | H47: 851 | I47: =(H47/G47)*100 -> 43.933918
A48: Investiční výdaje celkem | F48: =F47 -> 1900 | G48: =G47 -> 1937 | H48: =H47 -> 851 | I48: =(H48/G48)*100 -> 43.933918
A51: SOŠ a SOU zemědělské, Horní Heřmanice - rek.vytápění | I51: v tis. Kč
A52: ORG | B52: § | C52: pol. | D52: UZ | E52: název položky | F52: schválený rozp. | G52: upravený rozp. | H52: skutečnost | I52: %
A53: 1 | B53: 2 | C53: 3 | D53: 4 | E53: 5 | F53: 6 | G53: 7 | H53: 8 | I53: 9=8/7
A54: 60001100042 | B54: 3123 | C54: 6121 | D54: 10 | E54: Budovy, haly a stavby | F54: 4847 | G54: 4324 | H54: 4350 | I54: =(H54/G54)*100 -> 100.6013
A55: 60001100042 | B55: 3123 | C55: 6123 | D55: 10 | E55: Dopravní prostředky | G55: 175 | H55: 175 | I55: =(H55/G55)*100 -> 100
A56: Investiční výdaje celkem | F56: =F54 -> 4847 | G56: =G54+G55 -> 4499 | H56: =H54+H55 -> 4525 | I56: =(H56/G56)*100 -> 100.57791
A59: Spec.školy pro zrakově postižené Litovel - Areál Hejčín | I59: v tis. Kč
A60: ORG | B60: § | C60: pol. | D60: UZ | E60: název položky | F60: schválený rozp. | G60: upravený rozp. | H60: skutečnost | I60: %
A61: 1 | B61: 2 | C61: 3 | D61: 4 | E61: 5 | F61: 6 | G61: 7 | H61: 8 | I61: 9=8/7
A62: 60001100188 | B62: 3114 | C62: 6121 | D62: 10 | E62: Budovy, haly a stavby | G62: 1 | H62: 1 | I62: =(H62/G62)*100 -> 100
A63: Investiční výdaje celkem | F63: =F62 -> 0 | G63: =G62 -> 1 | H63: =H62 -> 1 | I63: =(H63/G63)*100 -> 100
A68: Dětský domov Konice - rekonstrukce domova | I68: v tis. Kč
A69: ORG | B69: § | C69: pol. | D69: UZ | E69: název položky | F69: schválený rozp. | G69: upravený rozp. | H69: skutečnost | I69: %
A70: 1 | B70: 2 | C70: 3 | D70: 4 | E70: 5 | F70: 6 | G70: 7 | H70: 8 | I70: 9=8/7
A71: 60001100191 | B71: 4322 | C71: 6121 | D71: 870 | E71: Budovy, haly a stavby | G71: 11692 | H71: 1207 | I71: =(H71/G71)*100 -> 10.323298
A72: Investiční výdaje celkem | F72: =F71 -> 0 | G72: =G71 -> 11692 | H72: =H71 -> 1207 | I72: =(H72/G72)*100 -> 10.323298
A75: SPŠ Přerov, Havlíčkova - výstavba tělocvičny | I75: v tis. Kč
A76: ORG | B76: § | C76: pol. | D76: UZ | E76: název položky | F76: schválený rozp. | G76: upravený rozp. | H76: skutečnost | I76: %
A77: 1 | B77: 2 | C77: 3 | D77: 4 | E77: 5 | F77: 6 | G77: 7 | H77: 8 | I77: 9=8/7
A78: 60001100192 | B78: 3122 | C78: 6121 | D78: 10 | E78: Budovy, haly a stavby | G78: 1 | H78: 0 | I78: =(H78/G78)*100 -> 0
A79: Investiční výdaje celkem | F79: =F78 -> 0 | G79: =G78 -> 1 | H79: =H78 -> 0 | I79: =(H79/G79)*100 -> 0
A82: OA Přerov - rekonstrukce hyg.zařízení | I82: v tis. Kč
A83: ORG | B83: § | C83: pol. | D83: UZ | E83: název položky | F83: schválený rozp. | G83: upravený rozp. | H83: skutečnost | I83: %
A84: 1 | B84: 2 | C84: 3 | D84: 4 | E84: 5 | F84: 6 | G84: 7 | H84: 8 | I84: 9=8/7
A85: 60001100201 | B85: 3122 | C85: 6121 | D85: 870 | E85: Budovy, haly a stavby | G85: 5965 | H85: 5895 | I85: =(H85/G85)*100 -> 98.826488
A86: Investiční výdaje celkem | F86: =F85 -> 0 | G86: =G85 -> 5965 | H86: =H85 -> 5895 | I86: =(H86/G86)*100 -> 98.826488
A89: Speciální školy Prostějov, Tetín - rek.vývařovny internátu | I89: v tis. Kč
A90: ORG | B90: § | C90: pol. | D90: UZ | E90: název položky | F90: schválený rozp. | G90: upravený rozp. | H90: skutečnost | I90: %
A91: 1 | B91: 2 | C91: 3 | D91: 4 | E91: 5 | F91: 6 | G91: 7 | H91: 8 | I91: 9=8/7
A92: 60001100202 | B92: 3114 | C92: 6121 | D92: 870 | E92: Budovy, haly a stavby | G92: 6130 | H92: 6086 | I92: =(H92/G92)*100 -> 99.282219
A93: 60001100202 | B93: 3114 | C93: 6122 | D93: 870 | E93: Stroje, přístroje a zařízení | G93: 1720 | H93: 1720 | I93: =(H93/G93)*100 -> 100
A94: Investiční výdaje celkem | F94: =F92 -> 0 | G94: =G92+G93 -> 7850 | H94: =H92+H93 -> 7806 | I94: =(H94/G94)*100 -> 99.43949
A97: DD a SŠ zemědělská Olomouc - stavební úpravy a opravy | I97: v tis. Kč
A98: ORG | B98: § | C98: pol. | D98: UZ | E98: název položky | F98: schválený rozp. | G98: upravený rozp. | H98: skutečnost | I98: %
A99: 1 | B99: 2 | C99: 3 | D99: 4 | E99: 5 | F99: 6 | G99: 7 | H99: 8 | I99: 9=8/7
A100: 60001100204 | B100: 3122 | C100: 6121 | D100: 10 | E100: Budovy, haly a stavby | G100: 597 | H100: 597 | I100: =(H100/G100)*100 -> 100
A101: Investiční výdaje celkem | F101: =F100 -> 0 | G101: =G100 -> 597 | H101: =H100 -> 597 | I101: =(H101/G101)*100 -> 100
A104: Obchodní akademie, Olomouc - Zateplení uliční a dvorní fasády | I104: v tis. Kč
A105: ORG | B105: § | C105: pol. | D105: UZ | E105: název položky | F105: schválený rozp. | G105: upravený rozp. | H105: skutečnost | I105: %
A106: 1 | B106: 2 | C106: 3 | D106: 4 | E106: 5 | F106: 6 | G106: 7 | H106: 8 | I106: 9=8/7
A107: 60001100210 | B107: 3122 | C107: 6121 | D107: 10 | E107: Budovy, haly a stavby | G107: 400 | H107: 0 | I107: =(H107/G107)*100 -> 0
A108: Investiční výdaje celkem | F108: =F107 -> 0 | G108: =G107 -> 400 | H108: =H107 -> 0 | I108: =(H108/G108)*100 -> 0
A111: Dětský domov a Školní jídelna, Přerov - Stavební úpravy patra internátu | I111: v tis. Kč
A112: ORG | B112: § | C112: pol. | D112: UZ | E112: název položky | F112: schválený rozp. | G112: upravený rozp. | H112: skutečnost | I112: %
A113: 1 | B113: 2 | C113: 3 | D113: 4 | E113: 5 | F113: 6 | G113: 7 | H113: 8 | I113: 9=8/7
A114: 60001100211 | B114: 4322 | C114: 6121 | D114: 10 | E114: Budovy, haly a stavby | G114: 150 | H114: 115 | I114: =(H114/G114)*100 -> 76.666667
A115: Investiční výdaje celkem | F115: =F114 -> 0 | G115: =G114 -> 150 | H115: =H114 -> 115 | I115: =(H115/G115)*100 -> 76.666667
A118: SOŠ železniční, stavební a památkové péče a SOU, Šumperk -Stavební úpravy budovy "zámeček" | I118: v tis. Kč
A119: ORG | B119: § | C119: pol. | D119: UZ | E119: název položky | F119: schválený rozp. | G119: upravený rozp. | H119: skutečnost | I119: %
A120: 1 | B120: 2 | C120: 3 | D120: 4 | E120: 5 | F120: 6 | G120: 7 | H120: 8 | I120: 9=8/7
A121: 60001100212 | B121: 3123 | C121: 6121 | D121: 10 | E121: Budovy, haly a stavby | G121: 400 | H121: 397 | I121: =(H121/G121)*100 -> 99.25
A122: Investiční výdaje celkem | F122: =F121 -> 0 | G122: =G121 -> 400 | H122: =H121 -> 397 | I122: =(H122/G122)*100 -> 99.25 | L122: =G14+G21+G29+G33+G41+G48+G56+G63+G72+G79+G86+G94+G101+G108+G115+G122 -> 156137 | M122: =H14+H21+H29+H33+H41+H48+H56+H63+H72+H79+H86+H94+H101+H108+H115+H122 -> 143098
A125: SŠ technická a obchodní, Olomouc - Elektroinstalace v budově školy. | I125: v tis. Kč
A126: ORG | B126: § | C126: pol. | D126: UZ | E126: název položky | F126: schválený rozp. | G126: upravený rozp. | H126: skutečnost | I126: %
A127: 1 | B127: 2 | C127: 3 | D127: 4 | E127: 5 | F127: 6 | G127: 7 | H127: 8 | I127: 9=8/7
A128: 60001100213 | B128: 3122 | C128: 6121 | D128: 10 | E128: Budovy, haly a stavby | G128: 300 | H128: 0 | I128: =(H128/G128)*100 -> 0
A129: Investiční výdaje celkem | F129: =F128 -> 0 | G129: =G128 -> 300 | H129: =H128 -> 0 | I129: =(H129/G129)*100 -> 0
A135: Základní škola Šternberk - Sociální zařízení | I135: v tis. Kč
A136: ORG | B136: § | C136: pol. | D136: UZ | E136: název položky | F136: schválený rozp. | G136: upravený rozp. | H136: skutečnost | I136: %
A137: 1 | B137: 2 | C137: 3 | D137: 4 | E137: 5 | F137: 6 | G137: 7 | H137: 8 | I137: 9=8/7
A138: 60001100214 | B138: 3114 | C138: 6121 | D138: 10 | E138: Budovy, haly a stavby | G138: 100 | H138: 88 | I138: =(H138/G138)*100 -> 88
A139: Investiční výdaje celkem | F139: =F138 -> 0 | G139: =G138 -> 100 | H139: =H138 -> 88 | I139: =(H139/G139)*100 -> 88
A142: SPŠ oděvní, Prostějov - Stavební úpravy školy | I142: v tis. Kč
A143: ORG | B143: § | C143: pol. | D143: UZ | E143: název položky | F143: schválený rozp. | G143: upravený rozp. | H143: skutečnost | I143: %
A144: 1 | B144: 2 | C144: 3 | D144: 4 | E144: 5 | F144: 6 | G144: 7 | H144: 8 | I144: 9=8/7
...

Sheet 30  
A1: 30) Individuální projekty | G1: ORJ - 30
A3: Správce: | C3: vedoucí odboru investic a evropských programů
C4: Ing. Miroslav Kubín
A6: číslo účtu: 35-1843380237/0100
A8: ROP -Oblast školství a vzdělávání - Integrace handicapovaných dětí do vytipovaných škol a školských zařízení v Olomouckém kraji
A10: ORG 100087 | H10: v tis. Kč
A11: § | B11: položka | C11: UZ | D11: název položky | E11: schválený rozpočet | F11: upravený rozpočet | G11: skutečnost | H11: %
A12: 1 | B12: 2 | C12: 3 | D12: 4 | E12: 5 | F12: 6 | G12: 7 | H12: 8=7/6
A13: 3121 | B13: 6121 | D13: Budovy, haly a stavby | E13: 0 | F13: 5 | G13: 2 | H13: =G13/F13*100 -> 40
A14: 3122 | B14: 6121 | D14: Budovy, haly a stavby | E14: 0 | F14: 0 | G14: 0 | H14: =G14/F14*100 -> #DIV/0!
A15: Celkem | E15: =SUM(E13:E14) -> 0 | F15: =SUM(F13:F14) -> 5 | G15: =SUM(G13:G14) -> 2 | H15: =G15/F15*100 -> 40
A17: EUO - Obchodní akademie Mohelnice
A18: ORG 100133 | H18: v tis.Kč
A19: § | B19: položka | C19: UZ | D19: název položky | E19: schválený rozpočet | F19: upravený rozpočet | G19: skutečnost | H19: %
A20: 1 | B20: 2 | C20: 3 | D20: 4 | E20: 5 | F20: 6 | G20: 7 | H20: 8=7/6
A21: 3122 | B21: 6121 | D21: Budovy, haly a stavby | E21: 0 | F21: 132 | G21: 129 | H21: =G21/F21*100 -> 97.727273
A22: Celkem | E22: =SUM(E21:E21) -> 0 | F22: =SUM(F21:F21) -> 132 | G22: =SUM(G21:G21) -> 129 | H22: =G22/F22*100 -> 97.727273
A24: EUO - SŠ polygrafická Olomouc
A25: ORG 100134 | H25: v tis. Kč
A26: § | B26: položka | C26: UZ | D26: název položky | E26: schválený rozpočet | F26: upravený rozpočet | G26: skutečnost | H26: %
A27: 1 | B27: 2 | C27: 3 | D27: 4 | E27: 5 | F27: 6 | G27: 7 | H27: 8=7/6
A28: 3122 | B28: 6121 | D28: Budovy, haly a stavby | E28: 0 | F28: 20 | G28: 0 | H28: =G28/F28*100 -> 0
A29: Celkem | E29: =SUM(E28) -> 0 | F29: =SUM(F28:F28) -> 20 | G29: =SUM(G28:G28) -> 0 | H29: =G29/F29*100 -> 0
A31: Energetická úsporná opatření - Gymnázium Šumperk
A32: ORG 100135 | H32: v tis.Kč
A33: § | B33: položka | C33: UZ | D33: název položky | E33: schválený rozpočet | F33: upravený rozpočet | G33: skutečnost | H33: %
A34: 1 | B34: 2 | C34: 3 | D34: 4 | E34: 5 | F34: 6 | G34: 7 | H34: 8=7/6
A35: 3121 | B35: 6121 | D35: Budovy, haly a stavby | E35: 0 | F35: 0 | G35: 0 | H35: =G35/F35*100 -> #DIV/0!
A36: Celkem | E36: =SUM(E35:E35) -> 0 | F36: =SUM(F35:F35) -> 0 | G36: =SUM(G35:G35) -> 0 | H36: =G36/F36*100 -> #DIV/0!
A37: Realizace energeticky úsporných opatření - SPŠ a OA Uničov
A38: ORG 100221 | H38: v tis.Kč
A39: § | B39: položka | C39: UZ | D39: název položky | E39: schválený rozpočet | F39: upravený rozpočet | G39: skutečnost | H39: %
A40: 1 | B40: 2 | C40: 3 | D40: 4 | E40: 5 | F40: 6 | G40: 7 | H40: 8=7/6
A41: 3122 | B41: 6121 | D41: Budovy, haly a stavby | E41: 0 | F41: 154 | G41: 154 | H41: =G41/F41*100 -> 100
A42: Celkem | E42: =SUM(E41:E41) -> 0 | F42: =SUM(F41:F41) -> 154 | G42: =SUM(G41:G41) -> 154 | H42: =G42/F42*100 -> 100
A43: Realizace energeticky úsporných opatření - SOŠ a SOU Jeseník
A44: ORG 100461 | H44: v tis. Kč
A45: § | B45: položka | C45: UZ | D45: název položky | E45: schválený rozpočet | F45: upravený rozpočet | G45: skutečnost | H45: %
A46: 1 | B46: 2 | C46: 3 | D46: 4 | E46: 5 | F46: 6 | G46: 7 | H46: 8=7/6
A47: 3122 | B47: 6121 | D47: Budovy, haly a stavby | E47: 0 | F47: 260 | G47: 225 | H47: =G47/F47*100 -> 86.538462
A48: Celkem | E48: =SUM(E47:E47) -> 0 | F48: =SUM(F47:F47) -> 260 | G48: =SUM(G47:G47) -> 225 | H48: =G48/F48*100 -> 86.538462
A50: Realizace energeticky úsporných opatření - SPŠ strojnická Olomouc
A51: ORG 100462 | H51: v tis.Kč
A52: § | B52: položka | C52: UZ | D52: název položky | E52: schválený rozpočet | F52: upravený rozpočet | G52: skutečnost | H52: %
A53: 1 | B53: 2 | C53: 3 | D53: 4 | E53: 5 | F53: 6 | G53: 7 | H53: 8=7/6
A54: 3122 | B54: 6121 | D54: Budovy, haly a stavby | E54: 0 | F54: 206 | G54: 206 | H54: =G54/F54*100 -> 100
A55: Celkem | E55: =SUM(E54:E54) -> 0 | F55: =SUM(F54:F54) -> 206 | G55: =SUM(G54:G54) -> 206 | H55: =G55/F55*100 -> 100
A57: Realizace energeticky úsporných opatření - SŠ technická Přerov
A58: ORG 100464 | H58: v tis.Kč
A59: § | B59: položka | C59: UZ | D59: název položky | E59: schválený rozpočet | F59: upravený rozpočet | G59: skutečnost | H59: %
A60: 1 | B60: 2 | C60: 3 | D60: 4 | E60: 5 | F60: 6 | G60: 7 | H60: 8=7/6
A61: 3122 | B61: 6121 | D61: Budovy, haly a stavby | E61: 0 | F61: 155 | G61: 132 | H61: =G61/F61*100 -> 85.16129
A62: Celkem | E62: =SUM(E61:E61) -> 0 | F62: =SUM(F61:F61) -> 155 | G62: =SUM(G61:G61) -> 132 | H62: =G62/F62*100 -> 85.16129
A64: Realizace energeticky úsporných opatření - SOŠ a SOU Jeseník
A65: ORG 100461 | H65: v tis.Kč
A66: § | B66: položka | C66: UZ | D66: název položky | E66: schválený rozpočet | F66: upravený rozpočet | G66: skutečnost | H66: %
A67: 1 | B67: 2 | C67: 3 | D67: 4 | E67: 5 | F67: 6 | G67: 7 | H67: 8=7/6
A68: 3122 | B68: 6121 | D68: Budovy, haly a stavby | E68: 0 | F68: 0 | G68: 0 | H68: =G68/F68*100 -> #DIV/0!
A69: Celkem | E69: =SUM(E68:E68) -> 0 | F69: =SUM(F68:F68) -> 0 | G69: =SUM(G68:G68) -> 0 | H69: =G69/F69*100 -> #DIV/0!
A71: Realizace energeticky úsporných opatření - SPŠ strojnická Olomouc
A72: ORG 100462 | H72: v tis.Kč
A73: § | B73: položka | C73: UZ | D73: název položky | E73: schválený rozpočet | F73: upravený rozpočet | G73: skutečnost | H73: %
A74: 1 | B74: 2 | C74: 3 | D74: 4 | E74: 5 | F74: 6 | G74: 7 | H74: 8=7/6
A75: 3122 | B75: 6121 | D75: Budovy, haly a stavby | E75: 0 | F75: 0 | G75: 0 | H75: =G75/F75*100 -> #DIV/0!
A76: Celkem | E76: =SUM(E75) -> 0 | F76: =SUM(F75:F75) -> 0 | G76: =SUM(G75:G75) -> 0 | H76: =G76/F76*100 -> #DIV/0!
A78: Realizace energeticky úsporných opatření - Obchodní akademie Přerov
A79: ORG 100463 | H79: v tis.Kč
A80: § | B80: položka | C80: UZ | D80: název položky | E80: schválený rozpočet | F80: upravený rozpočet | G80: skutečnost | H80: %
A81: 1 | B81: 2 | C81: 3 | D81: 4 | E81: 5 | F81: 6 | G81: 7 | H81: 8=7/6
A82: 3122 | B82: 6121 | D82: Budovy, haly a stavby | E82: 0 | F82: 0 | G82: 0 | H82: =G82/F82*100 -> #DIV/0!
A83: Celkem | E83: =SUM(E82) -> 0 | F83: =SUM(F82:F82) -> 0 | G83: =SUM(G82:G82) -> 0 | H83: =G83/F83*100 -> #DIV/0!
A85: Realizace energeticky úsporných opatření - SŠ technická Přerov
A86: ORG 100464 | H86: v tis.Kč
A87: § | B87: položka | C87: UZ | D87: název položky | E87: schválený rozpočet | F87: upravený rozpočet | G87: skutečnost | H87: %
A88: 1 | B88: 2 | C88: 3 | D88: 4 | E88: 5 | F88: 6 | G88: 7 | H88: 8=7/6
A89: 3122 | B89: 6121 | D89: Budovy, haly a stavby | E89: 0 | F89: 0 | G89: 0 | H89: =G89/F89*100 -> #DIV/0!
A90: Celkem | E90: =SUM(E89:E89) -> 0 | F90: =SUM(F89:F89) -> 0 | G90: =SUM(G89:G89) -> 0 | H90: =G90/F90*100 -> #DIV/0!
A92: Realizace energeticky úsporných opatření - Gymnázium Jeseník
A93: ORG 100465 | H93: v tis.Kč
A94: § | B94: položka | C94: UZ | D94: název položky | E94: schválený rozpočet | F94: upravený rozpočet | G94: skutečnost | H94: %
A95: 1 | B95: 2 | C95: 3 | D95: 4 | E95: 5 | F95: 6 | G95: 7 | H95: 8=7/6
A96: 3121 | B96: 6121 | D96: Budovy, haly a stavby | E96: 0 | F96: 0 | G96: 0 | H96: =G96/F96*100 -> #DIV/0!
A97: Celkem | E97: =SUM(E96:E96) -> 0 | F97: =SUM(F96:F96) -> 0 | G97: =SUM(G96:G96) -> 0 | H97: =G97/F97*100 -> #DIV/0!
A99: Realizace energeticky úsporných opatření - SŠ logistiky a chemie Olomouc
A100: ORG 100466 | H100: v tis.Kč
A101: § | B101: položka | C101: UZ | D101: název položky | E101: schválený rozpočet | F101: upravený rozpočet | G101: skutečnost | H101: %
A102: 1 | B102: 2 | C102: 3 | D102: 4 | E102: 5 | F102: 6 | G102: 7 | H102: 8=7/6
A103: 3122 | B103: 6121 | D103: Budovy, haly a stavby | E103: 0 | F103: 0 | G103: 0 | H103: =G103/F103*100 -> #DIV/0!
A104: Celkem | E104: =SUM(E103:E103) -> 0 | F104: =SUM(F103:F103) -> 0 | G104: =SUM(G103:G103) -> 0 | H104: =G104/F104*100 -> #DIV/0!
A106: Realizace energeticky úsporných opatření - Gymnázium J. Wolkera Prostějov
A107: ORG 100467 | H107: v tis. Kč
A108: § | B108: položka | C108: UZ | D108: název položky | E108: schválený rozpočet | F108: upravený rozpočet | G108: skutečnost | H108: %
A109: 1 | B109: 2 | C109: 3 | D109: 4 | E109: 5 | F109: 6 | G109: 7 | H109: 8=7/6
A110: 3121 | B110: 6121 | D110: Budovy, haly a stavby | E110: 0 | F110: 54 | G110: 54 | H110: =G110/F110*100 -> 100
A111: Celkem | E111: =SUM(E110:E110) -> 0 | F111: =SUM(F110:F110) -> 54 | G111: =SUM(G110:G110) -> 54 | H111: =G111/F111*100 -> 100
A113: Realizace energeticky úsporných opatření - ZŠ Vlčice
A114: ORG 100468 | H114: v tis. Kč
A115: § | B115: položka | C115: UZ | D115: název položky | E115: schválený rozpočet | F115: upravený rozpočet | G115: skutečnost | H115: %
A116: 1 | B116: 2 | C116: 3 | D116: 4 | E116: 5 | F116: 6 | G116: 7 | H116: 8=7/6
A117: 3114 | B117: 6121 | D117: Budovy, haly a stavby | E117: 0 | F117: 6 | G117: 6 | H117: =G117/F117*100 -> 100
...

Sheet 32
A1: 32) Společný regionální operační program | H1: ORJ - 32
