Workbook

Sheet Rekapitulace
A1: 3. Plnění rozpočtu výdajů Olomouckého kraje k 31.12.2011
A3: Rekapitulace celkových výdajů Olomouckého kraje, které zahrnují výdaje jednotlivých odborů včetně příspěvků zřízeným příspěvkovým organizacím, výdaje na finacování evropských programů a výdaje fondů.
A6: a) dle oblastí výdajů
F7: v tis. Kč
A8: Výdaje | C8: schválený rozpočet | D8: upravený rozpočet | E8: skutečnost | F8: %
A9: 1 | C9: 2 | D9: 3 | E9: 4 | F9: 5 = 4 / 3
A10: • | B10: Odbory (kanceláře) Krajského úřadu Olomouckého kraje | C10: =SUM('Odbor celkem'!C338) -> 2648061 | D10: =SUM('Odbor celkem'!D338) -> 6024390 | E10: =SUM('Odbor celkem'!E338) -> 5497480 | F10: =E10/D10*100 -> 91.25372
A11: • | B11: Příspěvkové organizace | C11: =SUM('Odbor celkem'!C339) -> 1609257 | D11: =SUM('Odbor celkem'!D339) -> 3956781 | E11: =SUM('Odbor celkem'!E339) -> 3948051 | F11: =E11/D11*100 -> 99.779366
A12: • | B12: Evropské programy | C12: =SUM('Odbor celkem'!C340) -> 79076 | D12: =SUM('Odbor celkem'!D340) -> 897663 | E12: =SUM('Odbor celkem'!E340) -> 580690 | F12: =E12/D12*100 -> 64.689087
A13: • | B13: Fond sociálních potřeb | C13: =SUM('Odbor celkem'!C341) -> 6369 | D13: =SUM('Odbor celkem'!D341) -> 6892 | E13: =SUM('Odbor celkem'!E341) -> 6144 | F13: =E13/D13*100 -> 89.146837
A14: • | B14: Fond na podporu výstavby a obnovy vodohospodářské infrastruktury na území Olomouckého kraje | C14: =SUM('Odbor celkem'!C342) -> 40000 | D14: =SUM('Odbor celkem'!D342) -> 64235 | E14: =SUM('Odbor celkem'!E342) -> 61048 | F14: =E14/D14*100 -> 95.03853
A15: Výdaje Olomouckého kraje celkem | C15: =SUM(C10:C14) -> 4382763 | D15: =SUM(D10:D14) -> 10949961 | E15: =SUM(E10:E14) -> 10093413 | F15: =E15/D15*100 -> 92.177616
A16: Konsolidace * | C16: =SUM('Odbor celkem'!C344) -> 6359 | D16: =SUM('Odbor celkem'!D344) -> 6371 | E16: =SUM('Odbor celkem'!E344) -> 47061 | F16: =(E16/D16)*100 -> 738.67525
A17: Výdaje Olomouckého kraje (po konsolidaci) | C17: =C15-C16 -> 4376404 | D17: =D15-D16 -> 10943590 | E17: =E15-E16 -> 10046352 | F17: =(E17/D17)*100 -> 91.801246
A22: b) dle druhu výdajů
F23: v tis. Kč
A24: Výdaje | C24: schválený rozpočet | D24: upravený rozpočet | E24: skutečnost | F24: %
A25: 1 | C25: 2 | D25: 3 | E25: 4 | F25: 5 = 4 / 3
A26: • Běžné výdaje | C26: =SUM('Odbor celkem'!C347) -> 3180181 | D26: =SUM('Odbor celkem'!D347) -> 9360578 | E26: =SUM('Odbor celkem'!E347) -> 8708265 | F26: =E26/D26*100 -> 93.031274
A27: • Kapitálové výdaje | C27: =SUM('Odbor celkem'!C348) -> 1202582 | D27: =SUM('Odbor celkem'!D348) -> 1589383 | E27: =SUM('Odbor celkem'!E348) -> 1385148 | F27: =E27/D27*100 -> 87.150045
A28: Výdaje celkem | C28: =SUM(C26:C27) -> 4382763 | D28: =SUM(D26:D27) -> 10949961 | E28: =SUM(E26:E27) -> 10093413 | F28: =E28/D28*100 -> 92.177616
A29: Konsolidace * | C29: =SUM('Odbor celkem'!C350) -> 6359 | D29: =SUM('Odbor celkem'!D350) -> 6371 | E29: =SUM('Odbor celkem'!E350) -> 47061 | F29: =(E29/D29)*100 -> 738.67525
A30: Výdaje Olomouckého kraje (po konsolidaci) | C30: =C28-C29 -> 4376404 | D30: =D28-D29 -> 10943590 | E30: =E28-E29 -> 10046352 | F30: =(E30/D30)*100 -> 91.801246
A32: * Konsolidace je očištění údajů o rozpočtu a skutečnosti o interní přesuny peněžních prostředků uvnitř organizace mezi jednotlivými účty.

Sheet Odbor celkem
A1: 3. Plnění rozpočtu výdajů Olomouckého kraje k 31.12.2011
A3: Rekapitulace
F4: v tis. Kč
A5: Odbor (kancelář) | B5: ORJ | C5: schválený rozpočet | D5: upravený rozpočet | E5: skutečnost | F5: %
A6: 1 | B6: 2 | C6: 3 | D6: 4 | E6: 5 | F6: 6=5/4
A7: Zastupitelé | B7: 1 | C7: =SUM(C8:C12) -> 39088 | D7: =SUM(D8:D12) -> 38618 | E7: =SUM(E8:E12) -> 31857 | F7: =E7/D7*100 -> 82.49262 | G7: =SUM(G8:G12) -> 39088000 | H7: =SUM(H8:H12) -> 38618000 | I7: =SUM(I8:I12) -> 31857157
A8: - provozní výdaje | C8: 38815 | D8: =SUM('01 '!F81) -> 38135 | E8: =SUM('01 '!G81) -> 31494 | F8: =E8/D8*100 -> 82.585551 | G8: 38815000 | H8: 38135000 | I8: =31492408.03+1384 -> 31493792
A9: - investiční výdaje | C9: ='01 '!E82 -> 0 | D9: ='01 '!F82 -> 200 | E9: ='01 '!G82 -> 120 | F9: =E9/D9*100 -> 60 | G9: 0 | H9: 200000 | I9: 120489
A10: - účelové neinvestiční dotace | C10: ='01 '!E83 -> 0 | D10: ='01 '!F83 -> 10 | E10: ='01 '!G83 -> 5 | F10: =E10/D10*100 -> 50 | G10: 0 | H10: 10000 | I10: 5275.62
A11: - účelové investiční dotace | C11: ='01 '!E84 -> 0 | D11: ='01 '!F84 -> 0 | E11: ='01 '!G84 -> 0 | F11: 0 | G11: 0 | H11: 0 | I11: 0
A12: - konsolidace | C12: =SUM('01 '!E85) -> 273 | D12: =SUM('01 '!F85) -> 273 | E12: =SUM('01 '!G85) -> 238 | F12: =E12/D12*100 -> 87.179487 | G12: 273000 | H12: 273000 | I12: 237600
A13: Kancelář hejtmana | B13: 2 | C13: =SUM(C14:C17) -> 75041 | D13: =SUM(D14:D17) -> 97377 | E13: =SUM(E14:E17) -> 80360 | F13: =E13/D13*100 -> 82.524621 | G13: =SUM(G14:G17) -> 75041000 | H13: =SUM(H14:H17) -> 97376846 | I13: =SUM(I14:I17) -> 80359846
A14: - provozní výdaje | C14: ='02'!E182 -> 68841 | D14: ='02'!F182 -> 67566 | E14: ='02'!G182 -> 58807 | F14: =E14/D14*100 -> 87.036379 | G14: 68841000 | H14: 67566717 | I14: 58806341
A15: - investiční výdaje | C15: ='02'!E183 -> 6200 | D15: ='02'!F183 -> 16451 | E15: ='02'!G183 -> 16227 | F15: =E15/D15*100 -> 98.638381 | G15: 6200000 | H15: 16450703 | I15: 16227120
A16: - účelové neinvestiční dotace | C16: ='02'!E184 -> 0 | D16: ='02'!F184 -> 13360 | E16: ='02'!G184 -> 5326 | F16: =E16/D16*100 -> 39.865269 | G16: 0 | H16: 13359426 | I16: 5326385
A17: - účelové investiční dotace | C17: ='02'!E185 -> 0 | D17: ='02'!F185 -> 0 | E17: ='02'!G185 -> 0 | F17: 0 | G17: 0 | H17: 0 | I17: 0
A18: Kancelář ředitele | B18: 3 | C18: =SUM(C19:C23) -> 307350 | D18: =SUM(D19:D23) -> 305594 | E18: =SUM(E19:E23) -> 294029 | F18: =E18/D18*100 -> 96.215567 | G18: =SUM(G19:G23) -> 307350000 | H18: =SUM(H19:H23) -> 3.0559441e+08 | I18: =SUM(I19:I23) -> 2.9402892e+08
A19: - provozní výdaje | C19: =SUM('03'!E118) -> 297164 | D19: =SUM('03'!F118) -> 293337 | E19: =SUM('03'!G118) -> 283973 | F19: =E19/D19*100 -> 96.807767 | G19: 297164000 | H19: 2.9333726e+08 | I19: =283772841.43+200953 -> 2.8397379e+08
A20: - investiční výdaje | C20: ='03'!E119 -> 4100 | D20: ='03'!F119 -> 5236 | E20: ='03'!G119 -> 4094 | F20: =E20/D20*100 -> 78.189458 | G20: 4100000 | H20: 5236450 | I20: 4093425.3
A21: - účelové neinvestiční dotace | C21: ='03'!E120 -> 0 | D21: ='03'!F120 -> 923 | E21: ='03'!G120 -> 555 | F21: =E21/D21*100 -> 60.130011 | G21: 0 | H21: 922654 | I21: 554599.15
A22: - účelové investiční dotace | C22: ='03'!E121 -> 0 | D22: 0 | E22: 0 | F22: 0 | G22: 0 | H22: 0 | I22: 0
A23: - konsolidace | C23: =SUM('03'!E122) -> 6086 | D23: =SUM('03'!F122) -> 6098 | E23: =SUM('03'!G122) -> 5407 | F23: =E23/D23*100 -> 88.668416 | G23: 6086000 | H23: 6098050 | I23: 5407100
A24: Odbor majetkový a právní | B24: 4 | C24: =SUM(C25:C28) -> 34765 | D24: =SUM(D25:D28) -> 25483 | E24: =SUM(E25:E28) -> 24552 | F24: =E24/D24*100 -> 96.346584 | G24: =SUM(G25:G28) -> 34765000 | H24: =SUM(H25:H28) -> 25483265 | I24: =SUM(I25:I28) -> 24552141
A25: - provozní výdaje | C25: ='04'!E42 -> 22807 | D25: ='04'!F42 -> 21444 | E25: ='04'!G42 -> 20876 | F25: =E25/D25*100 -> 97.35124 | G25: 22807000 | H25: 21444046 | I25: 20876081
A26: - investiční výdaje | C26: ='04'!E43 -> 11958 | D26: ='04'!F43 -> 3610 | E26: ='04'!G43 -> 3247 | F26: =E26/D26*100 -> 89.944598 | G26: 11958000 | H26: 3610604 | I26: 3247445.1
A27: - účelové neinvestiční dotace | C27: ='04'!E44 -> 0 | D27: ='04'!F44 -> 0 | E27: ='04'!G44 -> 0 | F27: 0 | G27: 0 | H27: 0 | I27: 0
A28: - účelové investiční dotace | C28: ='04'!E45 -> 0 | D28: ='04'!F45 -> 429 | E28: ='04'!G45 -> 429 | F28: 0 | G28: 0 | H28: 428614.9 | I28: 428614.9
A29: Odbor správní a legislativní | B29: 5 | C29: =SUM(C30:C33) -> 50 | D29: =SUM(D30:D33) -> 50 | E29: =SUM(E30:E33) -> 12 | F29: 0 | G29: =SUM(G30:G33) -> 50000 | H29: =SUM(H30:H33) -> 50000 | I29: =SUM(I30:I33) -> 12000
A30: - provozní výdaje | C30: ='05'!E16 -> 50 | D30: ='05'!F16 -> 50 | E30: ='05'!G16 -> 12 | F30: 0 | G30: 50000 | H30: 50000 | I30: 12000
A31: - investiční výdaje | C31: ='05'!E17 -> 0 | D31: ='05'!F17 -> 0 | E31: ='05'!G17 -> 0 | F31: 0 | G31: 0 | H31: 0 | I31: 0
A32: - účelové neinvestiční dotace | C32: ='05'!E18 -> 0 | D32: ='05'!F18 -> 0 | E32: ='05'!G18 -> 0 | F32: 0 | G32: 0 | H32: 0 | I32: 0
A33: - účelové investiční dotace | C33: ='05'!E19 -> 0 | D33: ='05'!F19 -> 0 | E33: ='05'!G19 -> 0 | F33: 0 | G33: 0 | H33: 0 | I33: 0
A34: Odbor informatiky | B34: 6 | C34: =SUM(C35:C38) -> 26969 | D34: =SUM(D35:D38) -> 26069 | E34: =SUM(E35:E38) -> 23164 | F34: =E34/D34*100 -> 88.856496 | G34: =SUM(G35:G38) -> 26969000 | H34: =SUM(H35:H38) -> 26069000 | I34: =SUM(I35:I38) -> 23164203
A35: - provozní výdaje | C35: ='06'!E37 -> 23969 | D35: ='06'!F37 -> 23069 | E35: ='06'!G37 -> 21138 | F35: =E35/D35*100 -> 91.629459 | G35: 23969000 | H35: 23069000 | I35: 21138555
A36: - investiční výdaje | C36: ='06'!E38 -> 3000 | D36: ='06'!F38 -> 3000 | E36: ='06'!G38 -> 2026 | F36: =E36/D36*100 -> 67.533333 | G36: 3000000 | H36: 3000000 | I36: 2025648
A37: - účelové neinvestiční dotace | C37: ='06'!E39 -> 0 | D37: ='06'!F39 -> 0 | E37: ='06'!G39 -> 0 | F37: 0 | G37: 0 | H37: 0 | I37: 0
A38: - účelové investiční dotace | C38: ='06'!E40 -> 0 | D38: ='06'!F40 -> 0 | E38: ='06'!G40 -> 0 | F38: 0 | G38: 0 | H38: 0 | I38: 0
A39: Odbor ekonomický | B39: 7 | C39: =SUM(C40:C44) -> 155978 | D39: =SUM(D40:D44) -> 433425 | E39: =SUM(E40:E44) -> 55549 | F39: =E39/D39*100 -> 12.816289 | G39: =SUM(G40:G44) -> 155978000 | H39: =SUM(H40:H44) -> 4.3342532e+08 | I39: =SUM(I40:I44) -> 55548662
A40: - provozní výdaje | C40: ='07'!E52 -> 155978 | D40: ='07'!F52 -> 432144 | E40: ='07'!G52 -> 55549 | F40: =E40/D40*100 -> 12.85428 | G40: 155978000 | H40: 4.3214451e+08 | I40: 55548662
A41: - investiční výdaje | C41: ='07'!E53 -> 0 | D41: ='07'!F53 -> 0 | E41: ='07'!G53 -> 0 | F41: 0 | G41: 0 | H41: 0 | I41: 0
...

Sheet 01 
A1: 1) Zastupitelé | E1: ORJ - 01
A3: Správce: | C3: vedoucí kanceláře hejtmana
C4: Ing. Luděk Niče
A6: Provozní výdaje
H7: v tis. Kč
A8: § | B8: pol. | C8: UZ | D8: název položky | E8: schválený rozp. | F8: upravený rozp. | G8: skutečnost | H8: %
A9: 1 | B9: 2 | C9: 3 | D9: 4 | E9: 5 | F9: 6 | G9: 7 | H9: 8 = 7/ 6
A10: 6113 | B10: 5019 | D10: Ostatní platy | E10: 200 | F10: 175 | G10: 68 | H10: =(G10/F10)*100 -> 38.857143
A11: 6113 | B11: 5021 | D11: Ostatní osobní výdaje | E11: 4400 | F11: 4200 | G11: 3682 | H11: =(G11/F11)*100 -> 87.666667
A12: 6113 | B12: 5023 | D12: Odměny členů zastupitelstev obcí a krajů | E12: 11800 | F12: 11800 | G12: 11484 | H12: =(G12/F12)*100 -> 97.322034
A13: 6113 | B13: 5031 | D13: Pov.pojistné na sociální zabezpečení | E13: 1950 | F13: 1950 | G13: 1900 | H13: =(G13/F13)*100 -> 97.435897
A14: 6113 | B14: 5032 | D14: Pov.pojistné na veřejné zdrav.pojištění | E14: 1500 | F14: 1500 | G14: 1382 | H14: =(G14/F14)*100 -> 92.133333
A15: 6113 | B15: 5039 | D15: Ost. povinné pojistné placené zaměstn. | E15: 50 | F15: 50 | G15: 23 | H15: =(G15/F15)*100 -> 46
A16: 6113 | B16: 5136 | D16: Knihy, účební pomůcky a tisk | E16: 50 | F16: 50 | G16: 0 | H16: =(G16/F16)*100 -> 0
A17: 6113 | B17: 5137 | D17: Drobný hmotný inv. a neinv. majetek | E17: 1160 | F17: 680 | G17: 386 | H17: =(G17/F17)*100 -> 56.764706
A18: 6113 | B18: 5139 | D18: Nákup materiálu j. n. | E18: 1050 | F18: 1150 | G18: 1071 | H18: =(G18/F18)*100 -> 93.130435
A19: 6113 | B19: 5142 | D19: Realizované kurzové ztráty | E19: 20 | F19: 20 | G19: 0 | H19: =(G19/F19)*100 -> 0
A20: 6113 | B20: 5151 | D20: Studená voda | E20: 30 | F20: 35 | G20: 33 | H20: =(G20/F20)*100 -> 94.285714
A21: 6113 | B21: 5152 | D21: Teplo | E21: 170 | F21: 300 | G21: 227 | H21: =(G21/F21)*100 -> 75.666667
... A33: 6113 | B33: 5173 | D33: Cestovné | E33: 1600 | F33: 1845 | G33: 1558 | H33: =(G33/F33)*100 -> 84.444444
C34: 00000000 | D34: Provoz | E34: 1600 | F34: 1835 | G34: 1553 | H34: =(G34/F34)*100 -> 84.632153
C35: 00006001 | D35: MZV - Projekty krajů v rozvojových zemích | F35: 10 | G35: 5 | H35: =(G35/F35)*100 -> 50
A36: 6113 | B36: 5175 | D36: Pohoštění | E36: 1500 | F36: 2000 | G36: 1595 | H36: =(G36/F36)*100 -> 79.75
A37: 6113 | B37: 5176 | D37: Účastnické poplatky na konference | E37: 50 | F37: 65 | G37: 49 | H37: =(G37/F37)*100 -> 75.384615
A38: 6113 | B38: 5182 | D38: Poskytované zálohy vlastní pokladně | E38: 20 | F38: 20 | G38: 0 | H38: =(G38/F38)*100 -> 0
A39: 6113 | B39: 5189 | D39: Ostatní poskytované zálohy a jistiny | E39: 70 | F39: 70 | G39: 0 | H39: =(G39/F39)*100 -> 0
A40: 6113 | B40: 5194 | D40: Věcné dary | E40: 100 | F40: 0 | G40: 0 | H40: 0
A41: 6113 | B41: 5229 | D41: Ost.neinv.transfery neziskovým a pod. org. | E41: 1000 | F41: 1000 | G41: 700 | H41: =(G41/F41)*100 -> 70
A42: 6113 | B42: 5361 | D42: Nákup kolků | E42: 5 | F42: 5 | G42: 0 | H42: 0
A43: 6113 | B43: 5362 | D43: Platby daní a poplatků SR | E43: 5 | F43: 5 | G43: 0 | H43: 0
A44: 6113 | B44: 5424 | D44: Náhrady mezd v době nemoci | E44: 100 | F44: 100 | G44: 0 | H44: 0
A45: 6113 | B45: 5492 | D45: Dary obyvatelstvu | E45: 15 | F45: 15 | G45: 15 | H45: =(G45/F45)*100 -> 100
A46: 6113 | B46: 5499 | D46: Ostatní neinvestiční transfery ob. | G46: 1
A47: 6330 | B47: 5342 | D47: Převody FKSP a SF obcí a krajů | E47: 273 | F47: 273 | G47: 238 | H47: =(G47/F47)*100 -> 87.179487
A48: Provozní výdaje celkem | E48: =SUM(E36:E47,E10:E33) -> 39088 | F48: =SUM(F36:F47,F10:F33) -> 38418 | G48: =SUM(G36:G47,G10:G33) -> 31737 | H48: =(G48/F48)*100 -> 82.609714
A67: Investiční výdaje
H68: v tis. Kč
A69: § | B69: pol. | C69: UZ | D69: název položky | E69: schválený rozp. | F69: upravený rozp. | G69: skutečnost | H69: %
A70: 1 | B70: 2 | C70: 3 | D70: 4 | E70: 5 | F70: 6 | G70: 7 | H70: 8 = 7/ 6
A71: 6113 | B71: 6122 | D71: Stroje, přístroje a zařízení | F71: 50 | G71: 45 | H71: =(G71/F71)*100 -> 90
...

Sheet 02
A1: 2) Kancelář hejtmana | F1: ORJ - 02
A3: Správce: | C3: vedoucí kanceláře hejtmana
C4: Ing. Luděk Niče
A6: Provozní výdaje
H7: v tis. Kč
A8: § | B8: pol. | C8: UZ | D8: název položky | E8: schválený rozp. | F8: upravený rozp. | G8: skutečnost | H8: %
A9: 1 | B9: 2 | C9: 3 | D9: 4 | E9: 5 | F9: 6 | G9: 7 | H9: 8=7/6
A10: 2143 | B10: 5139 | D10: Nákup materiálu j.n. | E10: 300 | F10: 300 | G10: 300 | H10: =(G10/F10)*100 -> 100
C11: 00000500 | D11: Cestovní ruch | E11: 300 | F11: 300 | G11: 300 | H11: =(G11/F11)*100 -> 100
A12: 2143 | B12: 5166 | D12: Konzultační, poradenské a právní služby | F12: 560 | G12: 465 | H12: =(G12/F12)*100 -> 83.035714
C13: 00000000 | D13: Provoz | F13: 60 | G13: 60 | H13: =(G13/F13)*100 -> 100
C14: 00000500 | D14: Cestovní ruch | F14: 500 | G14: 405 | H14: =(G14/F14)*100 -> 81
A15: 2143 | B15: 5169 | D15: Nákup ostatních služeb | E15: 14470 | F15: =F16+F17+F18 -> 9408 | G15: =G16+G17+G18 -> 4599 | H15: =(G15/F15)*100 -> 48.883929
C16: 00000000 | D16: Provoz | E16: 7800 | F16: 4800 | G16: 644 | H16: =(G16/F16)*100 -> 13.416667
C17: 00000024 | D17: Přebytek hospodaření OK | F17: 315 | G17: 315 | H17: =(G17/F17)*100 -> 100
C18: 00000500 | D18: Cestovní ruch | E18: 6670 | F18: 4293 | G18: 3640 | H18: =(G18/F18)*100 -> 84.789192
A19: 2143 | B19: 5175 | D19: Pohoštění | E19: 15 | F19: 15 | G19: 15 | H19: =(G19/F19)*100 -> 100
C20: 00000500 | D20: Cestovní ruch | E20: 15 | F20: 15 | G20: 15 | H20: =(G20/F20)*100 -> 100
A21: 2143 | B21: 5212 | D21: Neinv.transfery nefin.podnik.subj.-FO | E21: 311 | F21: 541 | G21: 541 | H21: =(G21/F21)*100 -> 100
C22: 00000500 | D22: Cestovní ruch | F22: 230 | G22: 230 | H22: =(G22/F22)*100 -> 100
C23: 00000505 | D23: Úhrada za plnění firmě RNDr.Ivan Marek | E23: 311 | F23: 311 | G23: 311 | H23: =(G23/F23)*100 -> 100
A24: 2143 | B24: 5213 | D24: Neinv.transfery nefin.podn.subj.-PO | F24: 220 | G24: 220 | H24: =(G24/F24)*100 -> 100
C25: 00000500 | D25: Cestovní ruch | F25: 220 | G25: 220 | H25: =(G25/F25)*100 -> 100
A26: 2143 | B26: 5221 | D26: Neinv.transf.obecně prospěšným spol. | F26: 35 | G26: 35 | H26: =(G26/F26)*100 -> 100
C27: 00000500 | D27: Cestovní ruch | F27: 35 | G27: 35 | H27: =(G27/F27)*100 -> 100
A28: 2143 | B28: 5222 | D28: Neinvestiční transfery občanským sdružením | E28: 600 | F28: =F30+F31+F29 -> 1130 | G28: =G30+G31+G29 -> 1130 | H28: =(G28/F28)*100 -> 100
C29: 00000002 | D29: Příspěvky do 25 tis. Kč | F29: 50 | G29: 50 | H29: =(G29/F29)*100 -> 100
C30: 00000500 | D30: Cestovní ruch | F30: 680 | G30: 680 | H30: =(G30/F30)*100 -> 100
C31: 00000503 | D31: Fin.příspěvky Klubu českých turistů | E31: 600 | F31: 400 | G31: 400 | H31: =(G31/F31)*100 -> 100
A32: 2143 | B32: 5229 | D32: Ostatní neinv.transfery nezisk.a pod.org. | E32: =E33+E34+E35+E36+E37 -> 5963 | F32: =F33+F34+F35+F36+F37 -> 6453 | G32: =G33+G34+G35+G36+G37 -> 6377 | H32: =(G32/F32)*100 -> 98.822253
C33: 00000001 | D33: Významné projekty | F33: 490 | G33: 490 | H33: =(G33/F33)*100 -> 100
C34: 00000016 | D34: Ostatní příspěvky | E34: 2388 | F34: 0 | G34: 0 | H34: 0
C35: 00000500 | D35: Cestovní ruch | E35: 75 | F35: 75 | G35: 0 | H35: 0
C36: 00000504 | D36: Finanční příspěvek sdružení Jeseníky-Sdružení CR | E36: 2000 | F36: 3439 | G36: 3438 | H36: =(G36/F36)*100 -> 99.970922
C37: 00000504 | D37: Finanční příspěvek sdružení Střední Morava-Sdružení CR | E37: 1500 | F37: 2449 | G37: 2449 | H37: =(G37/F37)*100 -> 100
A39: 2143 | B39: 5321 | D39: Neinvestiční transfery obcím | E39: 600 | F39: 869 | G39: 867 | H39: =(G39/F39)*100 -> 99.76985
C40: 00000500 | D40: Cestovní ruch | E40: 600 | F40: 869 | G40: 867 | H40: =(G40/F40)*100 -> 99.76985
A41: 2143 | B41: 5323 | D41: Neinvestiční transfery krajům | E41: 300 | F41: 300 | G41: 300 | H41: =(G41/F41)*100 -> 100
C42: 00000500 | D42: Cestovní ruch | E42: 300 | F42: 300 | G42: 300 | H42: =(G42/F42)*100 -> 100
A43: 2143 | B43: 5329 | D43: Ost.neinv.transfery veř.rozpočtům úz.úrovně | F43: 50 | G43: 50 | H43: =(G43/F43)*100 -> 100
...

Sheet 03
A1: 3) Kancelář ředitele | F1: ORJ - 03
A3: Správce: | C3: vedoucí kanceláře ředitele
C4: Mgr. Lenka Doleželová
A6: Provozní výdaje
H7: v tis. Kč
A8: § | B8: pol. | C8: UZ | D8: název položky | E8: schválený rozp. | F8: upravený rozp. | G8: skutečnost | H8: %
A9: 1 | B9: 2 | C9: 3 | D9: 4 | E9: 5 | F9: 6 | G9: 7 | H9: 8=7/6
A10: 6149 | B10: 5169 | D10: Nákup ostatních služeb | F10: 181 | G10: 0 | H10: 0
C11: 00098005 | D11: MF - Sčítání lidu, domů a bytů v roce 2011 | F11: 181 | G11: 0 | H11: 0
A12: 6172 | B12: 5011 | D12: Platy zaměstnanců v pracovním poměru | E12: 173887 | F12: 171695 | G12: 169703 | H12: =(G12/F12)*100 -> 98.839803
C13: 00000000 | D13: Provoz | E13: 173887 | F13: 170949 | G13: 169111 | H13: =(G13/F13)*100 -> 98.924826
C14: 00000508 | D14: Zastupování zájmů OK v Bruselu | F14: 430 | G14: 276 | H14: =(G14/F14)*100 -> 64.186047
C15: 00004001 | D15: MF - Podpora koordinátorů romských poradců | F15: 307 | G15: 307 | H15: =(G15/F15)*100 -> 100
C16: 00098074 | D16: MF - volby do zastupitelstev v obcích | F16: 9 | G16: 9 | H16: =(G16/F16)*100 -> 100
A17: 6172 | B17: 5021 | D17: Ostatní osobní výdaje | E17: 1500 | F17: =F18+F19+F21+F22+F23 -> 1855 | G17: =G18+G19+G21+G22+G23 -> 1414 | H17: =(G17/F17)*100 -> 76.226415
C18: 00000000 | D18: Provoz | E18: 1500 | F18: 1797 | G18: 1357 | H18: =(G18/F18)*100 -> 75.514747
C19: 00000413 | D19: Dobrovolnické možnosti podpory seniorů a sociálně vyloučených občanů v EU | F19: 3 | G19: 3 | H19: =(G19/F19)*100 -> 100
C21: 00006001 | D21: MZV - Projekty krajů v rozvojových zemích | F21: 22 | G21: 21 | H21: =(G21/F21)*100 -> 95.454545
C22: 00014005 | D22: MV - neinv.dot.obcím a krajům na projekty prevence kriminality | F22: 30 | G22: 30 | H22: =(G22/F22)*100 -> 100
C23: 00098074 | D23: MF - volby do zastupitelstev v obcích | F23: 3 | G23: 3 | H23: =(G23/F23)*100 -> 100
A24: 6172 | B24: 5024 | D24: Odstupné | E24: 300 | F24: 300 | G24: 0 | H24: =(G24/F24)*100 -> 0
A25: 6172 | B25: 5029 | D25: Ostatní platby za provedenou práci j.n. | E25: 100 | F25: 100 | G25: 0 | H25: =(G25/F25)*100 -> 0
A26: 6172 | B26: 5031 | D26: Pov.pojistné na sociální zabezpečení | E26: =E28 -> 43472 | F26: =F28+F29+F30+F31 -> 43789 | G26: =G28+G29+G30+G31 -> 42578 | H26: =(G26/F26)*100 -> 97.234465
D27: a příspěvek na st.pol.zam.
C28: 00000000 | D28: Provoz | E28: 43472 | F28: 43585 | G28: 42430 | H28: =(G28/F28)*100 -> 97.350006
C29: 00000508 | D29: Zastupování zájmů OK v Bruselu | F29: 125 | G29: 69 | H29: =(G29/F29)*100 -> 55.2
C30: 00004001 | D30: MF - Podpora koordinátorů romských poradců | F30: 77 | G30: 77 | H30: =(G30/F30)*100 -> 100
C31: 00098074 | D31: MF - volby do zastupitelstev v obcích | F31: 2 | G31: 2 | H31: =(G31/F31)*100 -> 100
A32: 6172 | B32: 5032 | D32: Povinné poj.na veřejné zdrav.pojištění | E32: =E33 -> 15650 | F32: =F33+F34+F35+F36 -> 15778 | G32: =G33+G34+G35+G36 -> 15327 | H32: =(G32/F32)*100 -> 97.14159
C33: 00000000 | D33: Provoz | E33: 15650 | F33: 15704 | G33: 15273 | H33: =(G33/F33)*100 -> 97.255476
C34: 00000508 | D34: Zastupování zájmů OK v Bruselu | F34: 45 | G34: 25 | H34: =(G34/F34)*100 -> 55.555556
C35: 00004001 | D35: MF - Podpora koordinátorů romských poradců | F35: 28 | G35: 28 | H35: =(G35/F35)*100 -> 100
C36: 00098074 | D36: MF - volby do zastupitelstev v obcích | F36: 1 | G36: 1 | H36: =(G36/F36)*100 -> 100
A37: 6172 | B37: 5038 | D37: Ost.povinné poj.hrazené zaměstn. | E37: 730 | F37: =F38+F39 -> 752 | G37: =G38+G39 -> 742 | H37: =(G37/F37)*100 -> 98.670213
C38: 00000000 | D38: Provoz | E38: 730 | F38: 750 | G38: 742 | H38: =(G38/F38)*100 -> 98.933333
C39: 00004001 | D39: MF - Podpora koordinátorů romských poradců | F39: 2 | G39: 0 | H39: =(G39/F39)*100 -> 0
A40: 6172 | B40: 5039 | D40: Ost.povinné pojistné placené zaměstn. | E40: 50 | F40: 50 | G40: 0 | H40: =(G40/F40)*100 -> 0
A41: 6172 | B41: 5134 | D41: Prádlo, oděv a obuv | E41: 50 | F41: 55 | G41: 51 | H41: =(G41/F41)*100 -> 92.727273
A42: 6172 | B42: 5136 | D42: Knihy, účební pomůcky a tisk | E42: 300 | F42: 690 | G42: 645 | H42: =(G42/F42)*100 -> 93.478261
A43: 6172 | B43: 5137 | D43: Drobný hmotný dlouhodobý majetek | E43: 600 | F43: 825 | G43: 716 | H43: =(G43/F43)*100 -> 86.787879
...

Sheet 04
A1: 4) Odbor majetkový a právní | F1: ORJ - 04
A3: Správce: | C3: vedoucí odboru majetkového a právního
C4: Mgr. Hana Kamasová
A6: Provozní výdaje
H7: v tis. Kč
A8: § | B8: pol. | C8: UZ | D8: název položky | E8: schválený rozp. | F8: upravený rozp. | G8: skutečnost | H8: %
A9: 1 | B9: 2 | C9: 3 | D9: 4 | E9: 5 | F9: 6 | G9: 7 | H9: 8=7/6
A10: 6172 | B10: 5163 | D10: Služby peněžních ústavů | E10: 20908 | F10: 19545 | G10: 19545 | H10: =(G10/F10)*100 -> 100
A11: 6172 | B11: 5164 | D11: Nájemné | E11: 70 | F11: 72 | G11: 70 | H11: =(G11/F11)*100 -> 97.222222
A12: 6172 | B12: 5166 | D12: Konzultační, poradenské a právní služby | E12: 1800 | F12: =F13+F14 -> 1718 | G12: =G13+G14 -> 1218 | H12: =(G12/F12)*100 -> 70.896391
C13: 00000000 | D13: Provoz | E13: 1800 | F13: 1668 | G13: 1204 | H13: =(G13/F13)*100 -> 72.182254
C14: 00000012 | D14: Investiční a neinvestiční akce v obl.dopravy | F14: 50 | G14: 14 | H14: =(G14/F14)*100 -> 28
A15: 6172 | B15: 5169 | D15: Nákup ostatních služeb | E15: 24 | F15: =F16+F17 -> 94 | G15: =G16+G17 -> 41 | H15: =(G15/F15)*100 -> 43.617021
C16: 00000000 | D16: Provoz | E16: 24 | F16: 44 | G16: 16 | H16: =(G16/F16)*100 -> 36.363636
C17: 00000012 | D17: Investiční a neinvestiční akce v obl.dopravy | F17: 50 | G17: 25 | H17: =(G17/F17)*100 -> 50
A18: 6172 | B18: 5192 | D18: Poskytnuté neinv.příspěvky a náhrady | E18: 1 | F18: 1 | G18: 0 | H18: 0
A19: 6172 | B19: 5362 | D19: Platby daní a poplatků stát.rozpočtu | E19: 2 | F19: 12 | G19: 2 | H19: 0
A20: 6172 | B20: 5499 | D20: Ostatní neinvestiční transfery ob. | E20: 2 | F20: 2 | G20: 0 | H20: =(G20/F20)*100 -> 0
A21: Provozní výdaje celkem | E21: =E10+E11+E12+E15+E19+E20+E18 -> 22807 | F21: =F10+F11+F12+F15+F19+F20+F18 -> 21444 | G21: =G10+G11+G12+G15+G19+G20+G18 -> 20876 | H21: =(G21/F21)*100 -> 97.35124
A27: Investiční výdaje
H28: v tis.Kč
A29: § | B29: pol. | C29: UZ | D29: název položky | E29: schválený rozp. | F29: upravený rozp. | G29: skutečnost | H29: %
A30: 1 | B30: 2 | C30: 3 | D30: 4 | E30: 5 | F30: 6 | G30: 7 | H30: 8=7/6
A31: 6172 | B31: 6121 | D31: Budovy, haly a stavby | F31: =F32+F33 -> 1685 | G31: =G32+G33 -> 1675 | H31: =(G31/F31)*100 -> 99.406528
C32: 00000000 | D32: Budovy, haly a stavby | F32: 20 | G32: 10 | H32: =(G32/F32)*100 -> 50
C33: 00000010 | D33: Investiční a neinvestiční akce v obl.školství | F33: 1665 | G33: 1665 | H33: =(G33/F33)*100 -> 100
A34: 6172 | B34: 6130 | D34: Pozemky | E34: 11958 | F34: =F35+F36+F37+F38 -> 2354 | G34: =G35+G36+G37+G38 -> 2001 | H34: =(G34/F34)*100 -> 85.004248
C35: 00000000 | D35: odkup pozemku | E35: 11958 | F35: 947 | G35: 928 | H35: =(G35/F35)*100 -> 97.993664
C36: 00000010 | D36: Investiční a neinvestiční akce v obl.školství | F36: 248 | G36: 248 | H36: =(G36/F36)*100 -> 100
C37: 00000012 | D37: Investiční a neinvestiční akce v obl.dopravy | F37: 730 | G37: 396 | H37: =(G37/F37)*100 -> 54.246575
C38: 00098861 | D38: MF - Výkupy pozemků pod krajskými komunikacemi | F38: 429 | G38: 429 | H38: =(G38/F38)*100 -> 100
A39: Investiční výdaje celkem | E39: =E34 -> 11958 | F39: =F31+F34 -> 4039 | G39: =G31+G34 -> 3676 | H39: =(G39/F39)*100 -> 91.012627
A41: Výdaje odboru majetkového a právního | E41: =E42+E43+E44+E45 -> 34765 | F41: =F42+F43+F44+F45 -> 25483 | G41: =G42+G43+G44+G45 -> 24552 | H41: =(G41/F41)*100 -> 96.346584
A42: -provozní výdaje | E42: =E21 -> 22807 | F42: =F21-F44 -> 21444 | G42: =G21-G44 -> 20876 | H42: =(G42/F42)*100 -> 97.35124
A43: -investiční výdaje | E43: =E39 -> 11958 | F43: =F39-F45 -> 3610 | G43: =G39-G45 -> 3247 | H43: =(G43/F43)*100 -> 89.944598
A44: -účelové neinvestiční dotace | E44: 0 | F44: 0 | G44: 0 | H44: 0
A45: -účelové investiční dotace | E45: 0 | F45: =F38 -> 429 | G45: =G38 -> 429 | H45: =(G45/F45)*100 -> 100
A48: Odbor majetkový a právní celkem | E48: =SUM(E21,E39) -> 34765 | F48: =SUM(F21,F39) -> 25483 | G48: =SUM(G21,G39) -> 24552 | H48: =(G48/F48)*100 -> 96.346584

Sheet 05
A1: 5) Odbor správní a legislativní | F1: ORJ - 05
A3: Správce: | C3: vedoucí odboru správního a legislativního
C4: Mgr. Marie Mazánková
A6: Provozní výdaje
H7: v tis. Kč
A8: § | B8: pol. | C8: UZ | D8: název položky | E8: schválený rozp. | F8: upravený rozp. | G8: skutečnost | H8: %
A9: 1 | B9: 2 | C9: 3 | D9: 4 | E9: 5 | F9: 6 | G9: 7 | H9: 8=7/6
A10: 6172 | B10: 5166 | D10: Konzultační, poradenské a právní služby | E10: 10 | F10: 10 | G10: 0 | H10: =(G10/F10)*100 -> 0
A11: 6172 | B11: 5192 | D11: Poskytnuté neinv.příspěvky a náhrady | E11: 40 | F11: 40 | G11: 12 | H11: =(G11/F11)*100 -> 30
A12: Provozní výdaje celkem | E12: =SUM(E11,E10) -> 50 | F12: =SUM(F11,F10) -> 50 | G12: =SUM(G11,G10) -> 12 | H12: =(G12/F12)*100 -> 24
A15: Výdaje odboru správního a legislativního | E15: =E16+E17+E18+E19 -> 50 | F15: =F16+F17+F18+F19 -> 50 | G15: =G16+G17+G18+G19 -> 12 | H15: =(G15/F15)*100 -> 24
A16: -provozní výdaje | E16: =E12 -> 50 | F16: =F12 -> 50 | G16: =G12 -> 12 | H16: =(G16/F16)*100 -> 24
A17: -investiční výdaje | E17: =E13 -> 0 | F17: =F13 -> 0 | G17: =G13 -> 0 | H17: 0
A18: -účelové neinvestiční dotace | E18: 0 | F18: 0 | G18: 0 | H18: 0
A19: -účelové investiční dotace | E19: 0 | F19: 0 | G19: 0 | H19: 0
A23: Odbor správní a legislativní celkem | E23: =SUM(E12) -> 50 | F23: =SUM(F12) -> 50 | G23: =SUM(G12) -> 12 | H23: =(G23/F23)*100 -> 24

Sheet 06
A1: 6) Odbor informačních technologií | F1: ORJ - 06
A3: Správce: | C3: vedoucí odboru informačních technologií
C4: Mgr. Jiří Šafránek
A6: Provozní výdaje
H7: v tis. Kč
A8: § | B8: pol. | C8: UZ | D8: název položky | E8: schválený rozp. | F8: upravený rozp. | G8: skutečnost | H8: %
A9: 1 | B9: 2 | C9: 3 | D9: 4 | E9: 5 | F9: 6 | G9: 7 | H9: 8=7/6
A10: 6172 | B10: 5137 | D10: Drobný hmotný dlouhodobý majetek | E10: 2000 | F10: 1860 | G10: 1782 | H10: =(G10/F10)*100 -> 95.806452
A11: 6172 | B11: 5139 | D11: Nákup materiálu | E11: 400 | F11: 400 | G11: 80 | H11: =(G11/F11)*100 -> 20
A12: 6172 | B12: 5164 | D12: Nájemné | E12: =E13+E14 -> 2269 | F12: =F13+F14 -> 2544 | G12: =G13+G14 -> 2538 | H12: =(G12/F12)*100 -> 99.764151
C13: 00000000 | D13: Provoz | E13: 1700 | F13: 1975 | G13: 1969 | H13: =(G13/F13)*100 -> 99.696203
C14: 00000009 | D14: Rezerva hejtmana pro krizové řízení | E14: 569 | F14: 569 | G14: 569 | H14: =(G14/F14)*100 -> 100
A15: 6172 | B15: 5166 | D15: Konzultační, poradenské a právní služby | E15: 100 | F15: 100 | G15: 40 | H15: 0
A16: 6172 | B16: 5168 | D16: Služby zpracování dat | E16: 2100 | F16: 200 | G16: 0 | H16: =(G16/F16)*100 -> 0
A17: 6172 | B17: 5169 | D17: Nákup ostatních služeb | E17: 15700 | F17: 16565 | G17: 15526 | H17: =(G17/F17)*100 -> 93.727739
A18: 6172 | B18: 5171 | D18: Opravy a udržování | E18: 1200 | F18: 1200 | G18: 976 | H18: =(G18/F18)*100 -> 81.333333
A19: 6172 | B19: 5172 | D19: Programové vybavení | E19: 200 | F19: 200 | G19: 196 | H19: =(G19/F19)*100 -> 98
A20: Provozní výdaje celkem | E20: =E10+E11+E12+E15+E16+E17+E18+E19 -> 23969 | F20: =F10+F11+F12+F16+F17+F18+F19+F15 -> 23069 | G20: =G10+G11+G12+G16+G17+G18+G19+G15 -> 21138 | H20: =(G20/F20)*100 -> 91.629459
A27: Investiční výdaje
H28: v tis. Kč
A29: § | B29: pol. | C29: UZ | D29: název položky | E29: schválený rozp. | F29: upravený rozp. | G29: skutečnost | H29: %
A30: 1 | B30: 2 | C30: 3 | D30: 4 | E30: 5 | F30: 6 | G30: 7 | H30: 8=7/6
A31: 6172 | B31: 6111 | D31: Programové vybavení | E31: 1000 | F31: 1500 | G31: 1066 | H31: =(G31/F31)*100 -> 71.066667
A32: 6172 | B32: 6125 | D32: Výpočetní technika | E32: 2000 | F32: 1500 | G32: 960 | H32: =(G32/F32)*100 -> 64
A33: Investiční výdaje celkem | E33: =E31+E32 -> 3000 | F33: =SUM(F31,F32) -> 3000 | G33: =SUM(G31,G32) -> 2026 | H33: =(G33/F33)*100 -> 67.533333
A36: Výdaje odboru informačních technologií | E36: =E37+E38+E39+E40 -> 26969 | F36: =F37+F38+F39+F40 -> 26069 | G36: =G37+G38+G39+G40 -> 23164 | H36: =(G36/F36)*100 -> 88.856496
A37: -provozní výdaje | E37: =E20 -> 23969 | F37: =F20 -> 23069 | G37: =G20 -> 21138 | H37: =(G37/F37)*100 -> 91.629459
A38: -investiční výdaje | E38: =E33 -> 3000 | F38: =F33 -> 3000 | G38: =G33 -> 2026 | H38: =(G38/F38)*100 -> 67.533333
A39: -účelové neinvestiční dotace | E39: 0 | F39: 0 | G39: 0 | H39: 0
A40: -účelové investiční dotace | E40: 0 | F40: 0 | G40: 0 | H40: 0
A43: Odbor informačních technologií celkem | E43: =SUM(E33,E20) -> 26969 | F43: =SUM(F33,F20) -> 26069 | G43: =SUM(G33,G20) -> 23164 | H43: =(G43/F43)*100 -> 88.856496

Sheet 07
A1: 7) Odbor ekonomický | F1: ORJ - 07
A3: Správce: | C3: vedoucí odboru ekonomického
C4: Ing. Jiří Juřena
A7: Provozní výdaje
H9: v tis. Kč
A10: § | B10: pol. | C10: UZ | D10: název položky | E10: schválený rozp. | F10: upravený rozp. | G10: skutečnost | H10: %
A11: 1 | B11: 2 | C11: 3 | D11: 4 | E11: 5 | F11: 6 | G11: 7 | H11: 8=7/6
A12: 2212 | B12: 5641 | D12: Neinvestiční půjčené prostředky obcím | F12: 2000 | G12: 2000 | H12: =(G12/F12)*100 -> 100
A13: 3636 | B13: 5325 | D13: Neinv.transfery regionálním radám | E13: 500 | F13: 500 | G13: 500 | H13: =(G13/F13)*100 -> 100
A14: 4372 | B14: 5901 | D14: Nespecifikované rezervy | F14: 1281 | G14: 0 | H14: 0
C15: 00013307 | D15: MPSV - na výplatu st.přísp.pro zřiz.zařízení pro děti vyž.okamžitou pomoc | F15: 1281 | G15: 0 | H15: 0
A17: 6172 | B17: 5141 | D17: Úroky vlastní | E17: =E18+E19+E20 -> 78556 | F17: =F18+F19+F20+F21 -> 73949 | G17: =G18+G19+G20+G21 -> 36611 | H17: =(G17/F17)*100 -> 49.508445
C18: 00000000 | D18: Dodatky ke smlouvě o ÚR s ČS | E18: 9556 | F18: 56 | G18: 21 | H18: =(G18/F18)*100 -> 37.5
C19: 00000804 | D19: Půjčka z EIB-projekt modernizace silniční sítě | E19: 26000 | F19: 26000 | G19: 11525 | H19: =(G19/F19)*100 -> 44.326923
C20: 00000813 | D20: Půjčka z EIB - ROP | E20: 43000 | F20: 38735 | G20: 19097 | H20: =(G20/F20)*100 -> 49.301665
C21: 00000887 | D21: Úvěr KB - čerpání a splátky | F21: 9158 | G21: 5968 | H21: =(G21/F21)*100 -> 65.167067
A22: 6172 | B22: 5142 | D22: Realizované kurzové ztráty | E22: 3000 | F22: 3000 | G22: 26 | H22: =(G22/F22)*100 -> 0.86666667
A23: 6172 | B23: 5163 | D23: Služby peněžních ústavů | E23: 600 | F23: 600 | G23: 453 | H23: =(G23/F23)*100 -> 75.5
A24: 6172 | B24: 5164 | D24: Nájemné | E24: 2 | F24: 5 | G24: 5 | H24: =(G24/F24)*100 -> 100
A25: 6172 | B25: 5166 | D25: Konzultační, poradenské a právní služby | E25: 2000 | F25: 2000 | G25: 1374 | H25: =(G25/F25)*100 -> 68.7
A26: 6172 | B26: 5169 | D26: Nákup ostatních služeb | E26: 400 | F26: 440 | G26: 40 | H26: =(G26/F26)*100 -> 9.0909091
A27: 6172 | B27: 5362 | D27: Platby daní a poplatků | E27: 4000 | F27: 12619 | G27: 9082 | H27: =(G27/F27)*100 -> 71.970838
A28: 6172 | B28: 5901 | D28: Nespecifikované rezervy | E28: 120 | F28: =F29+F30 -> 70252 | G28: =G29+G30 -> 0 | H28: =(G28/F28)*100 -> 0
C29: 00000000 | D29: Rezerva | E29: 120 | F29: 46908 | G29: 0 | H29: 0
C30: 00000050 | D30: Rezerva OK-podíl OK na půjčce EIB | F30: 23344 | G30: 0 | H30: 0
A31: 6172 | B31: 5909 | D31: Ost.neinv.výdaje j.n. | G31: 3213 | H31: 0
A32: 6221 | B32: 5531 | D32: Peněžní dary do zahraničí | F32: 200 | G32: 200 | H32: =(G32/F32)*100 -> 100
C33: 00000016 | D33: Ostatní příspěvky | F33: 200 | G33: 200 | H33: =(G33/F33)*100 -> 100
A34: 6402 | B34: 5364 | D34: Vratky veř.rozpočtům ústř.úr.tr.poskyt.v min.rozp.obd. | F34: 2042 | G34: 2042 | H34: =(G34/F34)*100 -> 100
C35: 00000019 | D35: Zapojení prostředků z FV | F35: 2042 | G35: 2042 | H35: =(G35/F35)*100 -> 100
A36: 6409 | B36: 5229 | D36: Ostatní nein.transfery neziskovým | E36: =E38+E39 -> 36800 | F36: =F38+F39 -> 86 | G36: =G38+G39 -> 0 | H36: 0
D37: a podobným organizacím
C38: 00000001 | D38: Významné projekty | E38: 26000 | F38: 0 | G38: 0 | H38: 0
C39: 00000002 | D39: Příspěvky do 20 tis. Kč | E39: 10800 | F39: 86 | G39: 0 | H39: 0
A40: 6409 | B40: 5901 | D40: Nespecifikované rezervy | E40: =E41 -> 30000 | F40: =F41+F42+F43 -> 264451 | G40: 0 | H40: 0
C41: 00000000 | D41: Provoz | E41: 30000 | F41: 19252 | G41: 0 | H41: 0
C42: 00000813 | D42: Půjčka z EIB-projekt evropské fondy | F42: 204057 | G42: 0 | H42: 0
C43: 00000887 | D43: Úvěr KB - čerpání a splátky | F43: 41142 | G43: 0 | H43: 0 | J43: KB | M43: =F21+F43 -> 50300 | N43: =G21+G43 -> 5968
A44: 6409 | B44: 5909 | D44: Ost.neinv.výdaje j.n. | G44: 3 | H44: 0 | J44: EIB | M44: =F42+F19+F20 -> 268792 | N44: =G42 -> 0
A45: Provozní výdaje celkem | E45: =E13+E17+E22+E23+E25+E26+E27+E28+E36+E40+E24 -> 155978 | F45: =F13+F14+F17+F22+F23+F24+F25+F26+F27+F28+F34+F40+F12+F32+F36 -> 433425 | G45: =G13+G14+G17+G22+G23+G24+G25+G26+G27+G28+G34+G40+G44+G31+G12+G32+G36 -> 55549 | H45: =G45/F45*100 -> 12.816289
...

Sheet 08
A1: 8) Odbor strategického rozvoje kraje | F1: ORJ - 08
A3: Správce: | C3: vedoucí odboru strategického rozvoje kraje
C4: Ing. Michaela Pruknerová
A6: Provozní výdaje
H7: v tis. Kč
A8: § | B8: pol. | C8: UZ | D8: název položky | E8: schválený rozp. | F8: upravený rozp. | G8: skutečnost | H8: %
A9: 1 | B9: 2 | C9: 3 | D9: 4 | E9: 5 | F9: 6 | G9: 7 | H9: 8=7/6
A10: 2115 | B10: 5321 | D10: Neinvestiční transfery obcím | F10: 229 | G10: 229 | H10: =(G10/F10)*100 -> 100
C11: 00000017 | D11: Program obnovy venkova | F11: 229 | G11: 229 | H11: =(G11/F11)*100 -> 100
A12: 2141 | B12: 5221 | D12: Neinv.transfery obecně prospěš.spol. | F12: 100 | G12: 100 | H12: =(G12/F12)*100 -> 100
C13: 00000001 | D13: Významné projekty | F13: 100 | G13: 100 | H13: =(G13/F13)*100 -> 100
A14: 2141 | B14: 5222 | D14: Neinv.transfery občanským sdružením | F14: 100 | G14: 100 | H14: =(G14/F14)*100 -> 100
C15: 00000001 | D15: Významné projekty | F15: 100 | G15: 100 | H15: =(G15/F15)*100 -> 100
A16: 2212 | B16: 5321 | D16: Neinvestiční transfery obcím | F16: 3072 | G16: 3071 | H16: =(G16/F16)*100 -> 99.967448
C17: 00000017 | D17: Program obnovy venkova | F17: 3072 | G17: 3071 | H17: =(G17/F17)*100 -> 99.967448
A18: 2219 | B18: 5321 | D18: Neinvestiční transfery obcím | F18: 2804 | G18: 2804 | H18: =(G18/F18)*100 -> 100
C19: 00000017 | D19: Program obnovy venkova | F19: 2804 | G19: 2804 | H19: =(G19/F19)*100 -> 100
A20: 2251 | B20: 5213 | D20: Neinv.transfery nefin.podn.subj.-PO | E20: 3000 | F20: 3000 | G20: 3000 | H20: =(G20/F20)*100 -> 100
C21: 00000016 | D21: Ostatní příspěvky | E21: 3000 | F21: 3000 | G21: 3000 | H21: =(G21/F21)*100 -> 100
A22: 3299 | B22: 5213 | D22: Neinv.transfery nefin.podn.subj.-PO | E22: 2000 | F22: 2000 | G22: 2000 | H22: =(G22/F22)*100 -> 100
C23: 00000016 | D23: Ostatní příspěvky | E23: 2000 | F23: 2000 | G23: 2000 | H23: =(G23/F23)*100 -> 100
A24: 3322 | B24: 5321 | D24: Neinvestiční transfery obcím | F24: 54 | G24: 54 | H24: =(G24/F24)*100 -> 100
C25: 00000017 | D25: Program obnovy venkova | F25: 54 | G25: 54 | H25: =(G25/F25)*100 -> 100
A26: 3349 | B26: 5213 | D26: Neinv.transfery nefin.podn.subj.-PO | E26: 300 | F26: 300 | G26: 300 | H26: =(G26/F26)*100 -> 100
C27: 00000016 | D27: Ostatní příspěvky | E27: 300 | F27: 300 | G27: 300 | H27: =(G27/F27)*100 -> 100
A28: 3399 | B28: 5212 | D28: Neinv.transfery nefin.podn.subj.-FO | F28: 25 | G28: 25 | H28: =(G28/F28)*100 -> 100
C29: 00000002 | D29: Příspěvky do 25 tis. Kč | F29: 25 | G29: 25 | H29: =(G29/F29)*100 -> 100
A30: 3399 | B30: 5213 | D30: Neinv.transfery nefin.podn.subj.-PO | F30: 25 | G30: 25 | H30: =(G30/F30)*100 -> 100
C31: 00000002 | D31: Příspěvky do 25 tis. Kč | F31: 25 | G31: 25 | H31: =(G31/F31)*100 -> 100
A32: 3631 | B32: 5321 | D32: Neinvestiční transfery obcím | F32: 1925 | G32: 1814 | H32: =(G32/F32)*100 -> 94.233766
C33: 00000017 | D33: Program obnovy venkova | F33: 1925 | G33: 1814 | H33: =(G33/F33)*100 -> 94.233766
A34: 3635 | B34: 5166 | D34: Konzultační, poradenské a právní služby | E34: 3100 | F34: 2500 | G34: 1887 | H34: =(G34/F34)*100 -> 75.48
A35: 3635 | B35: 5169 | D35: Nákup ostatních služeb | E35: 300 | F35: 300 | G35: 292 | H35: =(G35/F35)*100 -> 97.333333
A36: 3635 | B36: 5192 | D36: Poskytnuté neinv.příspěvky a náhrady | E36: 250 | F36: 250 | G36: 49 | H36: =(G36/F36)*100 -> 19.6
A37: 3636 | B37: 5175 | D37: Pohoštění | E37: 140 | F37: 80 | G37: 67 | H37: =(G37/F37)*100 -> 83.75
A38: 3636 | B38: 5229 | D38: Ostatní neinv.transfery nezisk.a pod.org. | E38: 350 | F38: 420 | G38: 420 | H38: =(G38/F38)*100 -> 100
C39: 00000016 | D39: Ostatní příspěvky | E39: 350 | F39: 420 | G39: 420 | H39: =(G39/F39)*100 -> 100
A40: 3636 | B40: 5321 | D40: Neinvestiční transfery obcím | F40: 10795 | G40: 10793 | H40: =(G40/F40)*100 -> 99.981473
C41: 00000017 | D41: Program obnovy venkova | F41: 10795 | G41: 10793 | H41: =(G41/F41)*100 -> 99.981473
A42: 3639 | B42: 5164 | D42: Nájemné | F42: 50 | G42: 25 | H42: =(G42/F42)*100 -> 50
...

Sheet OPOK
A1: 8a) Operační program Olomouckého kraje | G1: ORJ - 88XX
A3: Správce: | C3: vedoucí odboru strategického rozvoje kraje | D3: vedoucí odboru strategického rozvoje kraje
C4: Ing. Michaela Pruknerová | D4: Ing. Michaela Pruknerová
A8: ORJ 8803-Příprava projektů podnikatelů na čerpání prostř.ze SF EU | I8: v tis. Kč
A9: § | B9: pol. | C9: UZ | D9: UZ | E9: název položky | F9: schválený rozp. | G9: upravený rozp. | H9: skutečnost | I9: %
A10: 1 | B10: 2 | C10: 3 | D10: 4 | E10: 5 | F10: 6 | G10: 7 | H10: 8 | I10: 9=8/7
A11: 3636 | B11: 5212 | C11: 5213 | E11: Neinvestičbní transfery nefin.podnik.subj.-FO | F11: 186 | G11: 2 | H11: 2 | I11: =(H11/G11)*100 -> 100
A12: 3636 | B12: 5213 | E12: Neinvestičbní transfery nefin.podnik.subj.-PO | F12: 153 | G12: 13 | H12: 13 | I12: 0
A13: Provozní výdaje celkem | F13: =F11+F12 -> 339 | G13: =G11+G12 -> 15 | H13: =H11+H12 -> 15 | I13: =(H13/G13)*100 -> 100
A14: 3636 | B14: 6312 | E14: Investiční transfery nefin.podnik.subj.-FO | F14: 423 | G14: 96 | H14: 96 | I14: =(H14/G14)*100 -> 100
A15: 3636 | B15: 6313 | E15: Investiční transfery nefin.podnik.subj.-PO | F15: 271 | G15: 387 | H15: 387 | I15: =(H15/G15)*100 -> 100
A16: Investiční výdaje celkem | F16: =F14+F15 -> 694 | G16: =G14+G15 -> 483 | H16: =H14+H15 -> 483 | I16: 0
A17: ORJ 8803 celkem | F17: =F13+F16 -> 1033 | G17: =G13+G16 -> 498 | H17: =H13+H16 -> 498 | I17: =(H17/G17)*100 -> 100
A20: ORJ 8832-Podpora sportovních volnočasových aktivit | I20: v tis. Kč
A21: § | B21: pol. | C21: UZ | D21: UZ | E21: název položky | F21: schválený rozp. | G21: upravený rozp. | H21: skutečnost | I21: %
A22: 1 | B22: 2 | C22: 3 | D22: 4 | E22: 5 | F22: 6 | G22: 7 | H22: 8 | I22: 9=8/7
A23: 3419 | B23: 6322 | E23: Inv.transfery obč.sdružením | F23: 690 | G23: 0 | H23: 0 | I23: 0
A24: Investiční výdaje celkem | F24: =F23 -> 690 | G24: =G23 -> 0 | H24: =H23 -> 0 | I24: =I23 -> 0
A25: ORJ 8832 celkem | F25: =F24 -> 690 | G25: =G24 -> 0 | H25: =H24 -> 0 | I25: =I24 -> 0
A28: ORJ 8835 - Příprava projektů NNO na čerpání prostř.ze SF EU | I28: v tis. Kč
A29: § | B29: pol. | C29: UZ | D29: UZ | E29: název položky | F29: schválený rozp. | G29: upravený rozp. | H29: skutečnost | I29: %
A30: 1 | B30: 2 | C30: 3 | D30: 4 | E30: 5 | F30: 6 | G30: 7 | H30: 8 | I30: 9=8/7
A31: 3636 | B31: 5222 | E31: Neinvestiční transfery občanským sdružením | F31: 277 | G31: 277 | H31: 277 | I31: =(H31/G31)*100 -> 100
A32: Provozní výdaje celkem | F32: =F31 -> 277 | G32: =G31 -> 277 | H32: =H31 -> 277 | I32: =(H32/G32)*100 -> 100
A33: ORJ 8835 celkem | F33: =F32 -> 277 | G33: =G32 -> 277 | H33: =H32 -> 277 | I33: =(H33/G33)*100 -> 100
A36: Výdaje odboru strategického rozvoje kraje - operační program Olomouckého kraje
F37: =SUM(F38:F41) -> 2000 | G37: =SUM(G38:G41) -> 775 | H37: =SUM(H38:H41) -> 775 | I37: =H37/G37*100 -> 100
A38: -provozní výdaje | F38: =F32+F13 -> 616 | G38: =G32+G13 -> 292 | H38: =H32+H13 -> 292 | I38: =H38/G38*100 -> 100
A39: -investiční výdaje | F39: =F24+F16 -> 1384 | G39: =G24+G16 -> 483 | H39: =H24+H16 -> 483 | I39: =H39/G39*100 -> 100
A40: -účelové neinvestiční dotace | F40: 0 | G40: 0 | H40: 0 | I40: 0
A41: -účelové investiční dotace | F41: 0 | G41: 0 | H41: 0 | I41: 0
A44: Operační program Olomouckého kraje celkem | F44: =F38+F39 -> 2000 | G44: =G38+G39 -> 775 | H44: =H38+H39 -> 775 | I44: =(H44/G44)*100 -> 100

Sheet SROP
A1: 8b) SROP - individuální projekty | F1: ORJ - 30
A3: Správce: | C3: vedoucí odboru strategického rozvoje kraje
C4: Ing. Stanislav Losert
A6: Provozní výdaje
H7: v tis. Kč
A8: § | B8: pol. | C8: UZ | D8: název položky | E8: schválený rozp. | F8: upravený rozp. | G8: skutečnost | H8: %
A9: 6172 | B9: 5163 | D9: Služby peněžních ústavů | F9: 4 | G9: 3 | H9: =(G9/F9)*100 -> 75
D10: posíleno:
D11: RZ 691/04 - přesun z ORJ 07, § 6172, pol. 5163 | F11: 4
A12: Provozní výdaje celkem | E12: 0 | F12: 4 | G12: 3 | H12: =(G12/F12)*100 -> 75
A15: Individuální projekty
A17: ORG 3001000003 - Internetizace knihoven v Olomouckém kraji | H17: v tis. Kč
A18: § | B18: pol. | C18: UZ | D18: název položky | E18: schválený rozp. | F18: upravený rozp. | G18: skutečnost | H18: %
A19: 3314 | B19: 6119 | D19: Ostatní nákup dlouhodob.nehm.maj. | F19: 346 | G19: 346 | H19: =(G19/F19)*100 -> 100
D20: posíleno:
D21: RZ 731/04 - přesun z ORJ 30, § 3314, pol. 6125 | F21: 346
A22: Investiční výdaje celkem | E22: 0 | F22: 346 | G22: 346 | H22: =(G22/F22)*100 -> 100
A25: ORG 3006000002 - Společný nadregionální projekt pro podporu domác.cestovního ruchu | H25: v tis. Kč
A26: § | B26: pol. | C26: UZ | D26: název položky | E26: schválený rozp. | F26: upravený rozp. | G26: skutečnost | H26: %
A27: 2140 | B27: 5169 | D27: Nákup ostatních služeb | F27: 251 | G27: 251 | H27: =(G27/F27)*100 -> 100
D28: posíleno:
C29: 4 | D29: RZ 659/04 - přesun z ORJ 08, § 2140, pol. 5169 | F29: 251 | G29: 251 | H29: =(G29/F29)*100 -> 100
A30: Provozní výdaje celkem | E30: 0 | F30: 251 | G30: 251 | H30: =(G30/F30)*100 -> 100
A33: ORG 3009000001 - Silnice II. Třídy č. 446 Nová Seninka | H33: v tis. Kč
A34: § | B34: pol. | C34: UZ | D34: název položky | E34: schválený rozp. | F34: upravený rozp. | G34: skutečnost | H34: %
A35: 2212 | B35: 6121 | D35: Budovy, haly a stavby | F35: 123 | G35: 123 | H35: =(G35/F35)*100 -> 100
D36: posíleno:
D37: RZ 660/04 - přesun z ORJ 08, § 3639, pol. 5166 | F37: 123
A38: Investiční výdaje celkem | E38: 0 | F38: 123 | G38: 123 | H38: =(G38/F38)*100 -> 100
A40: Provozní výdaje odboru celkem | F40: =SUM(F12) -> 4 | G40: =SUM(G12) -> 3 | H40: =G40/F40*100 -> 75
A41: Provozní výdaje individuálních projektů celkem | F41: =SUM(F30) -> 251 | G41: =SUM(G30) -> 251 | H41: =G41/F41*100 -> 100
A42: Investiční výdaje individuálních projektů celkem | F42: =SUM(F22,F38) -> 469 | G42: =SUM(G22,G38) -> 469 | H42: =G42/F42*100 -> 100
A47: SROP - individuální projekty | E47: 0 | F47: =SUM(F40,F41,F42) -> 724 | G47: =SUM(G40,G41,G42) -> 723 | H47: =(G47/F47)*100 -> 99.861878

Sheet List1

Sheet 09
A1: 9) Odbor životního prostředí a zemědělství | F1: ORJ - 09
A3: Správce: | C3: vedoucí odboru
C4: Ing. Josef Veselský
A6: Provozní výdaje
H7: v tis. Kč
A8: § | B8: pol. | C8: UZ | D8: název položky | E8: schválený rozp. | F8: upravený rozp. | G8: skutečnost | H8: %
A9: 1 | B9: 2 | C9: 3 | D9: 4 | E9: 5 | F9: 6 | G9: 7 | H9: 8=7/6
A10: 1019 | B10: 5169 | D10: Nákup ostatních služeb | F10: 32 | G10: 32 | H10: =(G10/F10)*100 -> 100
A11: 1019 | B11: 5212 | D11: Neinvest.transfery nefin.podnik.subj.-FO | F11: 10 | G11: 10 | H11: =(G11/F11)*100 -> 100
C12: 00000002 | D12: Příspěvky do 25 tis. Kč | F12: 10 | G12: 10 | H12: =(G12/F12)*100 -> 100
A13: 1019 | B13: 5213 | D13: Neinvest.transfery nefin.podnik.subj.-PO | F13: 300 | G13: 300 | H13: =(G13/F13)*100 -> 100
C14: 00000001 | D14: Významné projekty | F14: 300 | G14: 300 | H14: =(G14/F14)*100 -> 100
A15: 1019 | B15: 5222 | D15: Neinv.transfery občans.sdruž. | F15: =F16+F17 -> 200 | G15: =G16+G17 -> 200 | H15: =(G15/F15)*100 -> 100
C16: 00000001 | D16: Významné projekty | F16: 50 | G16: 50 | H16: =(G16/F16)*100 -> 100
C17: 00000002 | D17: Příspěvky do 25 tis. Kč | F17: 150 | G17: 150 | H17: =(G17/F17)*100 -> 100
A18: 1032 | B18: 5165 | D18: Nájemné za půdu | E18: 2 | F18: 2 | G18: 1 | H18: =(G18/F18)*100 -> 50
A19: 1036 | B19: 5134 | D19: Prádlo, oděv a obuv | E19: 60 | F19: 53 | G19: 53 | H19: =(G19/F19)*100 -> 100
A20: 1036 | B20: 5169 | D20: Nákup ostatních služeb | E20: 40 | F20: 30 | G20: 30 | H20: =(G20/F20)*100 -> 100
A21: 1037 | B21: 5166 | D21: Konzultační, poradenské a právní služby | F21: 50 | G21: 19 | H21: =(G21/F21)*100 -> 38
A22: 1037 | B22: 5212 | D22: Neinvest.transfery nefin.podnik.subj.-FO | F22: 315 | G22: 315 | H22: =(G22/F22)*100 -> 100
C23: 00000550 | D23: Přísp.na hosp.v lesích na území OK | F23: 315 | G23: 315 | H23: =(G23/F23)*100 -> 100
A24: 1037 | B24: 5213 | D24: Neinvest.transfery nefin.podnik.subj.-PO | E24: 13500 | F24: =F25+F26 -> 8475 | G24: =G25+G26 -> 8475 | H24: =(G24/F24)*100 -> 100
C25: 00000550 | D25: Přísp.na hosp.v lesích na území OK | E25: 13500 | F25: 8327 | G25: 8327 | H25: =(G25/F25)*100 -> 100
C26: 00029009 | D26: MZeČR - Meliorace a hrazení bystřin v lesích podle § 35 odst. 1 a 3 lesního zákona | F26: 148 | G26: 148 | H26: =(G26/F26)*100 -> 100
A27: 1037 | B27: 5223 | D27: Neinv.transf. církvím a náboženským spol. | F27: 302 | G27: 302 | H27: =(G27/F27)*100 -> 100
C28: 00000550 | D28: Přísp.na hosp.v lesích na území OK | F28: 302 | G28: 302 | H28: =(G28/F28)*100 -> 100
A29: 1037 | B29: 5321 | D29: Neinvestiční transfery obcím | F29: 3188 | G29: 3188 | H29: =(G29/F29)*100 -> 100
C30: 00000550 | D30: Přísp.na hosp.v lesích na území OK | F30: 3188 | G30: 3188 | H30: =(G30/F30)*100 -> 100
A31: 1037 | B31: 5331 | D31: Neinvestiční příspěvky zřízeným PO | F31: 841 | G31: 841 | H31: =(G31/F31)*100 -> 100
C32: 00000550 | D32: Přísp.na hosp.v lesích na území OK | F32: 841 | G32: 841 | H32: =(G32/F32)*100 -> 100
A33: 1037 | B33: 5493 | D33: Účel.neinvest.transfery nepodnik. FO | F33: 527 | G33: 527 | H33: =(G33/F33)*100 -> 100
C34: 00000550 | D34: Přísp.na hosp.v lesích na území OK | F34: 527 | G34: 527 | H34: =(G34/F34)*100 -> 100
A35: 1039 | B35: 5169 | D35: Nákup ostatních služeb | F35: 51 | G35: 51 | H35: =(G35/F35)*100 -> 100
A36: 1039 | B36: 5222 | D36: Neinv.transfery občans.sdruž. | F36: 50 | G36: 50 | H36: =(G36/F36)*100 -> 100
C37: 00000002 | D37: Příspěvky do 25 tis. Kč | F37: 50 | G37: 50 | H37: =(G37/F37)*100 -> 100
A38: 1099 | B38: 5192 | D38: Poskytnuté neinv.příspěvky a náhrady | E38: 50 | F38: 50 | G38: 0 | H38: =(G38/F38)*100 -> 0
A39: 1099 | B39: 5222 | D39: Neinv.transfery občans.sdruž. | F39: 15 | G39: 15 | H39: =(G39/F39)*100 -> 100
C40: 00000002 | D40: Příspěvky do 25 tis. Kč | F40: 15 | G40: 15 | H40: =(G40/F40)*100 -> 100
A41: 1099 | B41: 5493 | D41: Účel.neinvest.transfery nepodnik. FO | F41: 400 | G41: 395 | H41: =(G41/F41)*100 -> 98.75
C42: 00000553 | D42: Program na podporu začínajících včelařů na území OK | F42: 400 | G42: 395 | H42: =(G42/F42)*100 -> 98.75
...

Sheet 10
A1: 10) Odbor školství, mládeže a tělovýchovy | F1: ORJ - 10
A3: Správce: | C3: vedoucí odboru školství, mládeže a tělovýchovy
C4: Mgr. Miroslav Gajdůšek, MBA
A6: Provozní výdaje
H7: v tis. Kč
A8: § | B8: pol. | C8: UZ | D8: název položky | E8: schválený rozp. | F8: upravený rozp. | G8: skutečnost | H8: %
A9: 1 | B9: 2 | C9: 3 | D9: 4 | E9: 5 | F9: 6 | G9: 7 | H9: 8=7/6
A10: 3121 | B10: 5651 | D10: Neinv.půjčené prostř.zřízeným PO | F10: 400 | G10: 400 | H10: 0
A11: 3269 | B11: 5019 | D11: Ostatní platy | E11: 8 | F11: 8 | G11: 0 | H11: 0
A12: 3269 | B12: 5039 | D12: Ostatní povinné poj.placené zaměstnavat. | E12: 2 | F12: 2 | G12: 0 | H12: 0
A13: 3269 | B13: 5139 | D13: Nákup materiálu j.n. | E13: 35 | F13: =F14+F15 -> 219 | G13: =G14+G15 -> 211 | H13: =(G13/F13)*100 -> 96.347032
C14: 00000000 | D14: Provoz | E14: 35 | F14: 193 | G14: 185 | H14: =(G14/F14)*100 -> 95.854922
C15: 00000114 | D15: Talent Olomouckého kraje | F15: 26 | G15: 26 | H15: =(G15/F15)*100 -> 100
A16: 3269 | B16: 5162 | D16: Služby tel. a radiokomunikací | E16: 5 | F16: 5 | G16: 3 | H16: 0
A17: 3269 | B17: 5164 | D17: Nájemné | E17: 64 | F17: 77 | G17: 70 | H17: =(G17/F17)*100 -> 90.909091
C18: 00000000 | D18: Provoz | E18: 64 | F18: 62 | G18: 55 | H18: =(G18/F18)*100 -> 88.709677
C19: 00000114 | D19: Talent Olomouckého kraje | F19: 15 | G19: 15 | H19: =(G19/F19)*100 -> 100
A20: 3269 | B20: 5166 | D20: Konzultační, poradenské a právní služby | E20: 11945 | F20: 0 | G20: 0 | H20: 0
A21: 3269 | B21: 5169 | D21: Nákup ostatních služeb | E21: 2550 | F21: =F22+F23 -> 21978 | G21: =G22+G23 -> 21681 | H21: =(G21/F21)*100 -> 98.648649
C22: 00000000 | D22: Provoz | E22: 2550 | F22: 21913 | G22: 21616 | H22: =(G22/F22)*100 -> 98.64464
C23: 00000114 | D23: Talent Olomouckého kraje | F23: 65 | G23: 65 | H23: =(G23/F23)*100 -> 100
A24: 3269 | B24: 5175 | D24: Pohoštění | E24: 85 | F24: 166 | G24: 160 | H24: =(G24/F24)*100 -> 96.385542
C25: 00000000 | D25: Provoz | E25: 85 | F25: 116 | G25: 112 | H25: =(G25/F25)*100 -> 96.551724
C26: 00000114 | D26: Talent Olomouckého kraje | F26: 50 | G26: 48 | H26: =(G26/F26)*100 -> 96
A27: 3269 | B27: 5194 | D27: Věcné dary | E27: 1130 | F27: 1269 | G27: 1241 | H27: =(G27/F27)*100 -> 97.793538
A28: 3269 | B28: 5493 | D28: Účel.neinvest.transfery nepodnik. FO | E28: 400 | F28: 14 | G28: 0 | H28: 0
C29: 00000114 | D29: Talent Olomouckého kraje | E29: 400 | F29: 14 | G29: 0 | H29: 0
A30: 3269 | B30: 5494 | D30: Neinv.transf.obyv.nemající charakter daru | F30: 153 | G30: 153 | H30: =(G30/F30)*100 -> 100
C31: 00000114 | D31: Talent Olomouckého kraje | F31: 153 | G31: 153 | H31: =(G31/F31)*100 -> 100
A32: 3269 | B32: 5499 | D32: Ostatní neinv.transfery ob. | E32: 35 | F32: 35 | G32: 29 | H32: =(G32/F32)*100 -> 82.857143
A33: 3299 | B33: 5213 | D33: Neinv.transfery nefin.podnik.subj.-PO | F33: 50 | G33: 50 | H33: =(G33/F33)*100 -> 100
C34: 00000016 | D34: Ostatní příspěvky | F34: 50 | G34: 50 | H34: =(G34/F34)*100 -> 100
A35: 3299 | B35: 5221 | D35: Neinv.transfery obecně prospěšným společnostem
F36: =F37+F38 -> 4420 | G36: =G37+G38 -> 4420 | H36: =(G36/F36)*100 -> 100
C37: 00000001 | D37: Významné projekty | F37: 900 | G37: 900 | H37: =(G37/F37)*100 -> 100
C38: 00000116 | D38: Příspěvky vysokým školám | F38: 3520 | G38: 3520 | H38: =(G38/F38)*100 -> 100
A39: 3299 | B39: 5323 | D39: Neinvestiční transfery krajům | F39: 150 | G39: 150 | H39: =(G39/F39)*100 -> 100
C40: 00000016 | D40: Ostatní příspěvky | F40: 150 | G40: 150 | H40: =(G40/F40)*100 -> 100
A41: 3299 | B41: 5339 | D41: Neinvest.příspěvky ostatním PO | F41: 2000 | G41: 2000 | H41: =(G41/F41)*100 -> 100
C42: 00000116 | D42: Příspěvky vysokým školám | F42: 2000 | G42: 2000 | H42: =(G42/F42)*100 -> 100
...

Sheet 10 - PO
A1: 10) Odbor školství, mládeže a tělovýchovy | G1: ORJ - 10
A3: Správce: | C3: vedoucí odboru školství, mládeže a tělovýchovy
C4: Mgr. Miroslav Gajdůšek, MBA
A7: Příspěvkové organizace
A11: ZŠ a MŠ, Náměstí 150, Město Libavá | I11: v tis.Kč
A12: ORG | B12: § | C12: pol. | D12: UZ | E12: název položky | F12: schválený rozp. | G12: upravený rozp. | H12: skutečnost | I12: %
A13: 1 | B13: 2 | C13: 3 | D13: 4 | E13: 5 | F13: 6 | G13: 7 | H13: 8 | I13: 9=8/7
A14: 1000 | B14: 3111 | C14: 5331 | E14: Neinvestiční příspěvky zřízeným PO | F14: 0 | G14: =SUM(G15:G16) -> 1231 | H14: =SUM(H15:H16) -> 1231 | I14: =(H14/G14)*100 -> 100
D15: 00007131 | E15: neinv.transfery na provoz škol | G15: 400 | H15: 400 | I15: =(H15/G15)*100 -> 100
D16: 00033353 | E16: přímé nákl.na vzdělání | G16: 831 | H16: 831 | I16: =(H16/G16)*100 -> 100
A17: 1000 | B17: 3113 | C17: 5331 | E17: Neinvestiční příspěvky zřízeným PO | F17: 0 | G17: =SUM(G18:G21) -> 5971 | H17: =SUM(H18:H21) -> 5971 | I17: =(H17/G17)*100 -> 100
D18: 00007131 | E18: neinv.transfery na provoz škol | G18: 1650 | H18: 1650 | I18: =(H18/G18)*100 -> 100
D19: 00033017 | E19: progr."Školní vybavení pro žáky 1.ročníku ZV" | G19: 8 | H19: 8 | I19: =(H19/G19)*100 -> 100
D20: 00033027 | E20: posílení plat.úr.pedagog.prac.s VŠ vzděláním | G20: 185 | H20: 185 | I20: =(H20/G20)*100 -> 100
D21: 00033353 | E21: přímé nákl.na vzdělání | G21: 4128 | H21: 4128 | I21: =(H21/G21)*100 -> 100
A22: 1000 | B22: 3113 | C22: 5336 | E22: Neinvestiční dotace zřízeným PO | F22: 0 | G22: =G23+G24 -> 331 | H22: =H23+H24 -> 331 | I22: =(H22/G22)*100 -> 100
D23: 32133123 | E23: OP VK- obl.podpory 1.4. EU peníze školám-EU,CZ | G23: 50 | H23: 50 | I23: =(H23/G23)*100 -> 100
D24: 32533123 | E24: OP VK-obl.podpory 1.4. EU peníze školám-EU,EU | G24: 281 | H24: 281 | I24: =(H24/G24)*100 -> 100
A25: 1000 | B25: 3141 | C25: 5331 | E25: Neinvestiční příspěvky zřízeným PO | F25: 0 | G25: =SUM(G26:G27) -> 894 | H25: =SUM(H26:H27) -> 894 | I25: =(H25/G25)*100 -> 100
D26: 00007131 | E26: neinv.transfery na provoz škol-ZŠ Libavá | G26: 450 | H26: 450 | I26: =(H26/G26)*100 -> 100
D27: 00033353 | E27: přímé nákl.na vzdělání | G27: 444 | H27: 444 | I27: =(H27/G27)*100 -> 100
A28: 1000 | B28: 3143 | C28: 5331 | E28: Neinvestiční příspěvky zřízeným PO | F28: 0 | G28: =SUM(G29:G29) -> 461 | H28: =SUM(H29:H29) -> 461 | I28: =(H28/G28)*100 -> 100
D29: 00033353 | E29: přímé nákl.na vzdělání | G29: 461 | H29: 461 | I29: =(H29/G29)*100 -> 100
A30: Neinvestiční příspěvky celkem | F30: 0 | G30: =G14+G17+G25+G28+G22 -> 8888 | H30: =H14+H17+H25+H28+H22 -> 8888 | I30: =(H30/G30)*100 -> 100 | R30: =F30 -> 0 | S30: =G30 -> 8888 | T30: =H30 -> 8888
A34: Mateřská škola, Blanická 16, Olomouc | I34: v tis. Kč
A35: ORG | B35: § | C35: pol. | D35: UZ | E35: název položky | F35: schválený rozp. | G35: upravený rozp. | H35: skutečnost | I35: %
A36: 1 | B36: 2 | C36: 3 | D36: 4 | E36: 5 | F36: 6 | G36: 7 | H36: 8 | I36: 9=8/7
A37: 1001 | B37: 3112 | C37: 5331 | E37: Neinvestiční příspěvky zřízeným PO | F37: =SUM(F38:F42) -> 415 | G37: =SUM(G38:G42) -> 2929 | H37: =SUM(H38:H42) -> 2929 | I37: =(H37/G37)*100 -> 100
D38: 00000006 | E38: příspěvek na odpisy | F38: 45 | G38: 45 | H38: 45 | I38: =(H38/G38)*100 -> 100
D39: 00000020 | E39: provozní příspěvky zřízeným PO | F39: 370 | G39: 370 | H39: 370 | I39: =(H39/G39)*100 -> 100
D40: 00033015 | E40: hustota a specifika | G40: 454 | H40: 454 | I40: =(H40/G40)*100 -> 100
D41: 00033027 | E41: posílení plat.úr.pedagog.prac.s VŠ vzděláním | G41: 190 | H41: 190 | I41: =(H41/G41)*100 -> 100
D42: 00033353 | E42: přímé nákl.na vzdělání | G42: 1870 | H42: 1870 | I42: =(H42/G42)*100 -> 100
A43: 1001 | B43: 3141 | C43: 5331 | E43: Neinvestiční příspěvky zřízeným PO | F43: 0 | G43: =SUM(G44) -> 47 | H43: =SUM(H44) -> 47 | I43: =(H43/G43)*100 -> 100
D44: 00033353 | E44: přímé nákl.na vzdělání | G44: 47 | H44: 47 | I44: =(H44/G44)*100 -> 100
A45: Neinvestiční příspěvky celkem | F45: =SUM(F37) -> 415 | G45: =G37+G43 -> 2976 | H45: =H37+H43 -> 2976 | I45: =(H45/G45)*100 -> 100 | R45: =F45 -> 415 | S45: =G45 -> 2976 | T45: =H45 -> 2976
A50: MŠ a ZŠ při FN Olomouc, I.P.Pavlova 6, Olomouc | I50: v tis. Kč
A51: ORG | B51: § | C51: pol. | D51: UZ | E51: název položky | F51: schválený rozp. | G51: upravený rozp. | H51: skutečnost | I51: %
A52: 1 | B52: 2 | C52: 3 | D52: 4 | E52: 5 | F52: 6 | G52: 7 | H52: 8 | I52: 9=8/7
A53: 1010 | B53: 3112 | C53: 5331 | E53: Neinvestiční příspěvky zřízeným PO | F53: =SUM(F54:F58) -> 433 | G53: =SUM(G54:G58) -> 3314 | H53: =SUM(H54:H58) -> 3314 | I53: =(H53/G53)*100 -> 100
...

Sheet 10 - soukr.šk.
A1: 10) Odbor školství, mládeže a tělovýchovy | G1: ORJ - 10
A3: Správce: | C3: vedoucí odboru školství, mládeže a tělovýchovy
C4: Mgr. Miroslav Gajdůšek, MBA
A6: Soukromé školy
A7: MŠ A a T, s.r.o., U Bečvy 2, Přerov | I7: v tis. Kč
A8: ORG | B8: § | C8: pol. | D8: UZ | E8: název položky | F8: schválený rozp. | G8: upravený rozp. | H8: skutečnost | I8: %
A9: 1 | B9: 2 | C9: 3 | D9: 4 | E9: 5 | F9: 6 | G9: 7 | H9: 8 | I9: 9=8/7
A10: 1500 | B10: 3111 | C10: 5213 | E10: Neinvest.transfery nefin.podnik.subjektům-PO | G10: =SUM(G11:G11) -> 1218 | H10: =SUM(H11:H11) -> 1218 | I10: =(H10/G10)*100 -> 100
D11: 00033155 | E11: Dotace na SŠ a škol.zařízení | G11: 1218 | H11: 1218 | I11: =(H11/G11)*100 -> 100
A12: Neinvestiční příspěvky celkem | F12: =SUM(F10) -> 0 | G12: =SUM(G10) -> 1218 | H12: =SUM(H10) -> 1218 | I12: =(H12/G12)*100 -> 100
A15: Prima MŠ s.r.o., Komenského 45, Hranice | I15: v tis. Kč
A16: ORG | B16: § | C16: pol. | D16: UZ | E16: název položky | F16: schválený rozp. | G16: upravený rozp. | H16: skutečnost | I16: %
A17: 1 | B17: 2 | C17: 3 | D17: 4 | E17: 5 | F17: 6 | G17: 7 | H17: 8 | I17: 9=8/7
A18: 1502 | B18: 3111 | C18: 5213 | E18: Neinvest.transfery nefin.podnik.subjektům-PO | G18: =SUM(G19:G19) -> 1621 | H18: =SUM(H19:H19) -> 1621 | I18: =(H18/G18)*100 -> 100
D19: 00033155 | E19: Dotace na SŠ a škol.zařízení | G19: 1621 | H19: 1621 | I19: =(H19/G19)*100 -> 100
A20: 1502 | B20: 3141 | C20: 5213 | E20: Neinvest.transfery nefin.podnik.subjektům-PO | G20: =G21 -> 249 | H20: =H21 -> 249 | I20: =(H20/G20)*100 -> 100
D21: 00033155 | E21: Dotace na SŠ a škol.zařízení | G21: 249 | H21: 249 | I21: =(H21/G21)*100 -> 100
A22: Neinvestiční příspěvky celkem | F22: =SUM(F18,F20) -> 0 | G22: =SUM(G18,G20) -> 1870 | H22: =SUM(H18,H20) -> 1870 | I22: =(H22/G22)*100 -> 100
A25: Speciální MŠ A a J, s.r.o., U Bečvy 2, Přerov | I25: v tis. Kč
A26: ORG | B26: § | C26: pol. | D26: UZ | E26: název položky | F26: schválený rozp. | G26: upravený rozp. | H26: skutečnost | I26: %
A27: 1 | B27: 2 | C27: 3 | D27: 4 | E27: 5 | F27: 6 | G27: 7 | H27: 8 | I27: 9=8/7
A28: 1503 | B28: 3112 | C28: 5213 | E28: Neinvest.transfery nefin.podnik.subjektům-PO | G28: =SUM(G29:G29) -> 3314 | H28: =SUM(H29:H29) -> 3314 | I28: =(H28/G28)*100 -> 100
D29: 00033155 | E29: Dotace na SŠ a škol.zařízení | G29: 3314 | H29: 3314 | I29: =(H29/G29)*100 -> 100
A30: 1503 | B30: 3141 | C30: 5213 | E30: Neinvest.transfery nefin.podnik.subjektům-PO | G30: =SUM(G31:G31) -> 112 | H30: =SUM(H31:H31) -> 112 | I30: =(H30/G30)*100 -> 100
D31: 00033155 | E31: Dotace na SŠ a škol.zařízení | G31: 112 | H31: 112 | I31: =(H31/G31)*100 -> 100
A32: Neinvestiční příspěvky celkem | F32: 0 | G32: =SUM(G28,G30) -> 3426 | H32: =SUM(H28,H30) -> 3426 | I32: =(H32/G32)*100 -> 100
A35: Mateřská škola Sluníčko Olomouc, o.p.s., Blahoslavova 2, Olomouc | I35: v tis. Kč
A36: ORG | B36: § | C36: pol. | D36: UZ | E36: název položky | F36: schválený rozp. | G36: upravený rozp. | H36: skutečnost | I36: %
A37: 1 | B37: 2 | C37: 3 | D37: 4 | E37: 5 | F37: 6 | G37: 7 | H37: 8 | I37: 9=8/7
A38: 1504 | B38: 3111 | C38: 5221 | E38: Neinv.transfery obecně prospěš.společnostem | G38: =G39+G40 -> 907 | H38: =H39+H40 -> 907 | I38: =(H38/G38)*100 -> 100
