Workbook

Sheet rekapitulace
A1: 8. Přehled financování investičních akcí v roce 2011
D2: v Kč
B3: schválený rozpočet | C3: upravený rozpočet | D3: skutečnost
A4: oblast školství | B4: =SUM(B5:B8) -> 263350000 | C4: =SUM(C5:C8) -> 3.6542181e+08 | D4: =SUM(D5:D8) -> 3.1497772e+08
A5: - rozpočet kraje | B5: ='8d. OK 2011'!B487 -> 118391000 | C5: ='8d. OK 2011'!C487 -> 54337858 | D5: ='8d. OK 2011'!D487 -> 45635375
A6: - úvěr KB | B6: ='8b. KB 2011'!B109 -> 0 | C6: ='8b. KB 2011'!D109 -> 66784772 | D6: ='8b. KB 2011'!E109 -> 64374111
A7: - úvěr EIB | B7: ='8a. EIB - Evropské programy'!F133 -> 144959000 | C7: ='8a. EIB - Evropské programy'!G133 -> 2.3767528e+08 | D7: ='8a. EIB - Evropské programy'!H133 -> 1.9834433e+08
A8: - účelová dotace ze MŽP a SFŽP | B8: ='f) dotace'!B11 -> 0 | C8: ='f) dotace'!C11 -> 6623898.7 | D8: ='f) dotace'!D11 -> 6623898.7
A9: oblast sociální | B9: =SUM(B10:B12) -> 221564000 | C9: =SUM(C10:C12) -> 1.9288033e+08 | D9: =SUM(D10:D12) -> 1.6934386e+08
A10: - rozpočet kraje | B10: ='8d. OK 2011'!B488 -> 122648000 | C10: ='8d. OK 2011'!C488 -> 45729996 | D10: ='8d. OK 2011'!D488 -> 33009713
A11: - úvěr KB | B11: ='8b. KB 2011'!B110 -> 0 | C11: ='8b. KB 2011'!D110 -> 55835151 | D11: ='8b. KB 2011'!E110 -> 54031563
A12: - úvěr EIB | B12: ='8a. EIB - Evropské programy'!F134 -> 98916000 | C12: ='8a. EIB - Evropské programy'!G134 -> 91315186 | D12: ='8a. EIB - Evropské programy'!H134 -> 82302582
A13: oblast dopravy | B13: =SUM(B14:B20) -> 480816000 | C13: =SUM(C14:C20) -> 5.9941156e+08 | D13: =SUM(D14:D20) -> 5.2041803e+08
A14: - rozpočet kraje | B14: ='8d. OK 2011'!B489 -> 139381000 | C14: ='8d. OK 2011'!C489 -> 99355502 | D14: ='8d. OK 2011'!D489 -> 86455242
A15: - úvěr KB | B15: ='8b. KB 2011'!B111 -> 0 | C15: ='8b. KB 2011'!D111 -> 37322719 | D15: ='8b. KB 2011'!E111 -> 35190976
A16: - úvěr EIB | B16: ='8a. EIB - Evropské programy'!F136 -> 335531000 | C16: ='8a. EIB - Evropské programy'!G136 -> 4.2512498e+08 | D16: ='8a. EIB - Evropské programy'!H136 -> 3.6270468e+08
A17: - SFDI | B17: ='8c. SFDI 2011'!F14 -> 0 | C17: ='8c. SFDI 2011'!G14 -> 22823000 | D17: ='8c. SFDI 2011'!H14 -> 22809821
A18: - povodně - rozpočet kraje | B18: ='8e. povodně 2011'!C15 -> 5904000 | C18: ='8e. povodně 2011'!D15 -> 11982423 | D18: ='8e. povodně 2011'!E15 -> 10912126
A19: - povodně - dotace ze SR | B19: ='8e. povodně 2011'!C23 -> 0 | C19: ='8e. povodně 2011'!D23 -> 1916574 | D19: ='8e. povodně 2011'!E23 -> 1916574
A20: - výkup pozemků - dotace MF | B20: ='f) dotace'!B19 -> 0 | C20: ='f) dotace'!C19 -> 886367 | D20: ='f) dotace'!D19 -> 428614.9
A21: oblast kultury | B21: =SUM(B22:B24) -> 97175000 | C21: =SUM(C22:C24) -> 98103170 | D21: =SUM(D22:D24) -> 77550702
A22: - rozpočet kraje | B22: ='8d. OK 2011'!B490 -> 84675000 | C22: ='8d. OK 2011'!C490 -> 24836676 | D22: ='8d. OK 2011'!D490 -> 19656366
A23: - úvěr KB | B23: ='8b. KB 2011'!B112 -> 0 | C23: ='8b. KB 2011'!D112 -> 68166550 | D23: ='8b. KB 2011'!E112 -> 52794392
A24: - úvěr EIB | B24: ='8a. EIB - Evropské programy'!F135 -> 12500000 | C24: ='8a. EIB - Evropské programy'!G135 -> 5099944 | D24: ='8a. EIB - Evropské programy'!H135 -> 5099944
A25: oblast zdravotnictví | B25: =SUM(B26:B28) -> 51285000 | C25: =SUM(C26:C28) -> 61199082 | D25: =SUM(D26:D28) -> 53862622
A26: - rozpočet kraje | B26: ='8d. OK 2011'!B491 -> 50452000 | C26: ='8d. OK 2011'!C491 -> 43281015 | D26: ='8d. OK 2011'!D491 -> 39203847
A27: - úvěr KB | B27: ='8b. KB 2011'!B113 -> 0 | C27: ='8b. KB 2011'!D113 -> 14928250 | D27: ='8b. KB 2011'!E113 -> 11669902
A28: - úvěr EIB | B28: ='8a. EIB - Evropské programy'!F137 -> 833000 | C28: ='8a. EIB - Evropské programy'!G137 -> 2989817.5 | D28: ='8a. EIB - Evropské programy'!H137 -> 2988873.5
A29: oblast krizového řízení | B29: =SUM(B30:B31) -> 750000 | C29: =SUM(C30:C31) -> 54291672 | D29: =SUM(D30:D31) -> 47237761
A30: - rozpočet kraje | B30: ='8d. OK 2011'!B492 -> 750000 | C30: ='8d. OK 2011'!C492 -> 1791672 | D30: ='8d. OK 2011'!D492 -> 898553.77
A31: - úvěr EIB | B31: ='8a. EIB - Evropské programy'!F138 -> 0 | C31: ='8a. EIB - Evropské programy'!G138 -> 52500000 | D31: ='8a. EIB - Evropské programy'!H138 -> 46339207
A32: oblast cestovního ruchu | B32: =SUM(B33) -> 9100000 | C32: =SUM(C33) -> 30000 | D32: =SUM(D33) -> 21600
A33: - rozpočet kraje | B33: ='8d. OK 2011'!B493 -> 9100000 | C33: ='8d. OK 2011'!C493 -> 30000 | D33: ='8d. OK 2011'!D493 -> 21600
A34: oblast krajské správy | B34: =SUM(B35:B35) -> 37485000 | C34: =SUM(C35:C35) -> 31918799 | D34: =SUM(D35:D35) -> 24626098
A35: - rozpočet kraje | B35: ='8d. OK 2011'!B494 -> 37485000 | C35: ='8d. OK 2011'!C494 -> 31918799 | D35: ='8d. OK 2011'!D494 -> 24626098
A36: CELKEM | B36: =SUM(B4,B9,B13,B21,B25,B29,B32,B34) -> 1161525000 | C36: =SUM(C4,C9,C13,C21,C25,C29,C32,C34) -> 1.4032564e+09 | D36: =SUM(D4,D9,D13,D21,D25,D29,D32,D34) -> 1.2080384e+09
A40: Rekapitulace dle zdrojů:
D41: v Kč
B42: schválený rozpočet | C42: upravený rozpočet | D42: skutečnost
A43: rozpočet Olomouckého kraje | B43: =SUM(B5,B10,B14,B18,B22,B26,B30,B33,B35) -> 568786000 | C43: =SUM(C5,C10,C14,C18,C22,C26,C30,C33,C35) -> 3.1326394e+08 | D43: =SUM(D5,D10,D14,D18,D22,D26,D30,D33,D35) -> 2.6041892e+08
...

Sheet 8a. EIB - Evropské programy
A1: 8. Investiční akce Olomouckého kraje 2011
A2: a) Financovano z úvěrového rámce Evropské investiční banky ( 3 000 tis.Kč)
A4: 1. Oblast školství
A5: a) akce zajišťované odborem investic a evropských programů | I5: v Kč
A6: název akce | F6: schválený rozpočet | G6: upravený rozpočet | H6: skutečnost | I6: %
A7: oblast školství | F7: =SUM(F8:F16) -> 144959000 | G7: =SUM(G8:G16) -> 2.0546884e+08 | H7: =SUM(H8:H16) -> 1.6613789e+08 | I7: =H7/G7*100 -> 80.857951 | J7: ORG 6001
A8: - Gymnázium, Olomouc, Čajkovského 9 - Výstavba tělocvičny a sportovní víceúčelové hřiště | F8: 0 | G8: 4338000 | H8: 3980890.9 | I8: =H8/G8*100 -> 91.767885 | J8: 100354
A9: - Dostavba budovy Slovanského gymnázia Olomouc | F9: 20833000 | G9: 7589000 | H9: 7349800 | I9: =H9/G9*100 -> 96.84807 | J9: 100537
A10: - Vzdělávací centrum pro slabozraké Olomouc - Hejčín | F10: 124126000 | G10: 124940000 | H10: 96115006 | I10: =H10/G10*100 -> 76.928931 | J10: 100565
A11: - Realizace energeticky úsporných opatření - SPŠ a OA Uničov | F11: 0 | G11: 16569366 | H11: 14208922 | I11: =H11/G11*100 -> 85.754167 | J11: 100221
A12: - Kvalitnější vzdělávání řemeslníků na SŠP - nadstavba učebn. pavilonu | F12: 0 | G12: 28000000 | H12: 25901204 | I12: =H12/G12*100 -> 92.504301 | J12: 100347
A13: - SŠ polygrafická, Olomouc - Modernizace výukových prostor a vybavení | F13: 0 | G13: 11160117 | H13: 9658768.4 | I13: =H13/G13*100 -> 86.547197 | J13: 100348
A14: - VOŠ a SPŠ, Gen. Krátkého 1, Šumperk - Půdní vestavba učeben | F14: 0 | G14: 652865 | H14: 635425 | I14: =H14/G14*100 -> 97.328697 | J14: 100349
A15: - Realizace energeticky úsporných opatření - SŠ technická Přerov | F15: 0 | G15: 7267295.3 | H15: 4058685.8 | I15: =H15/G15*100 -> 55.848643 | J15: 100464
A16: - Realizace energeticky úsporných opatření - ZŠ a DD Zábřeh | F16: 0 | G16: 4952193 | H16: 4229188.6 | I16: =H16/G16*100 -> 85.400318 | J16: 100471
A18: b) akce zajišťované příspěvkovými organizacemi | I18: v Kč
A19: název akce | F19: schválený rozpočet | G19: upravený rozpočet | H19: skutečnost | I19: %
A20: oblast školství | F20: =SUM(F21:F26) -> 0 | G20: =SUM(G21:G26) -> 32206441 | H20: =SUM(H21:H26) -> 32206441 | I20: =H20/G20*100 -> 100
A21: - Základní škola, Fučíkova 312, Jeseník - Realizace energeticky úsporných zařízení | F21: 0 | G21: 2907630.1 | H21: 2907630.1 | I21: =H21/G21*100 -> 100 | J21: 1043
A22: - Gymnázium J.Wolkera, Kollárova 3, Prostějov - Realizace energeticky úsporných zařízení | F22: 0 | G22: 3978722.9 | H22: 3978722.9 | I22: =H22/G22*100 -> 100 | J22: 1106
A23: - Střední průmyslová škola strojnická, tř. 17. listopadu 49, Olomouc - Realizace energeticky úsporných zařízení | F23: 0 | G23: 12045349 | H23: 12045349 | I23: =H23/G23*100 -> 100 | J23: 1121
A24: - SOŠ a SOU strojírenské a stavební, Dukelská 1240, Jeseník - Realizace energeticky úsporných zařízení | F24: 0 | G24: 7305797 | H24: 7305797 | I24: =H24/G24*100 -> 100 | J24: 1142
A25: - Obchodní akademie, Olomoucká 82, Mohelnice- Realizace energeticky úsporných zařízení | F25: 0 | G25: 1968784.5 | H25: 1968784.5 | I25: =H25/G25*100 -> 100 | J25: 1153
A26: - SOU obchodní, nám E. Husserla 1, Prostějov - Realizace energeticky úsporných zařízení | F26: 0 | G26: 4000157 | H26: 4000157 | I26: =H26/G26*100 -> 100 | J26: 1212
A28: Oblast školství celkem | F28: =F7+F20 -> 144959000 | G28: =G7+G20 -> 2.3767528e+08 | H28: =H7+H20 -> 1.9834433e+08 | I28: =H28/G28*100 -> 83.451815
A30: 2. Oblast sociální
A31: a) akce zajišťované odborem investic a evropských programů | I31: v Kč
A32: název akce | F32: schválený rozpočet | G32: upravený rozpočet | H32: skutečnost | I32: %
A33: oblast sociální | F33: =SUM(F34:F45) -> 98916000 | G33: =SUM(G34:G45) -> 89791375 | H33: =SUM(H34:H45) -> 80778772 | I33: =H33/G33*100 -> 89.962729 | J33: ORG 6002
A34: - Revitalizace území areálu staré nemocnice v Prostějově II.etapa | F34: 0 | G34: 12042850 | H34: 7241022.1 | I34: =H34/G34*100 -> 60.127147 | J34: 100123
A35: - Realizace energeticky úsporných opatření - DD Kobylá nad Vidnávkou | F35: 0 | G35: 2274746 | H35: 1539608 | I35: =H35/G35*100 -> 67.682634 | J35: 100250
A36: - DD Šumperk - rekonstrukce koupelen klientů | F36: 0 | G36: 12344123 | H36: 10285636 | I36: =H36/G36*100 -> 83.324156 | J36: 100327
A37: - Domov Větrný mlýn Skalička - přístavba lůžkového pavilonu | F37: 0 | G37: 17333000 | H37: 17173782 | I37: =H37/G37*100 -> 99.081414 | J37: 100089
A38: - Domov důchodců a penzion Chválkovice - Šatny zaměstnanců | F38: 13000000 | G38: 16937156 | H38: 16884122 | I38: =H38/G38*100 -> 99.686881 | J38: 100258
A39: - Nový pavilon areálu Domov seniorů Pohoda Chválkovice | F39: 0 | G39: 7457000 | H39: 6812750.5 | I39: =H39/G39*100 -> 91.360474 | J39: 100328
A40: - Domov důchodců Hrubá Voda - Soc. zařízení a soc. zázemí v hl. budově | F40: 3500000 | G40: 5031000 | H40: 4957726.8 | I40: =H40/G40*100 -> 98.543566 | J40: 100401
A41: - Domov důchodců Hrubá Voda - Vybudování prádelny | F41: 0 | G41: 316000 | H41: 307701.9 | I41: =H41/G41*100 -> 97.374019 | J41: 100405
A42: - Nové Zámky - poskytovatel sociálních služeb - Rekonstr. objektu Litovel | F42: 9900000 | G42: 4820000 | H42: 4342987.4 | I42: =H42/G42*100 -> 90.103473 | J42: 100409
A43: - Nový pavilon areálu Domov pro seniory Radkova Lhota | F43: 4483000 | G43: 85500 | H43: 85500 | I43: =H43/G43*100 -> 100 | J43: 100540
A44: - Středisko sociální prevence Olomouc – Intervenční centrum Olomouc | F44: 9700000 | G44: 11150000 | H44: 11147935 | I44: =H44/G44*100 -> 99.981476 | J44: 100541
...

Sheet 8b. KB 2011
A1: 8. Investiční akce Olomouckého kraje 2011
A2: b) Financovano z úvěrového rámce Komerční banky, a.s. ( 700 tis.Kč)
A5: 1. Oblast školství
A6: a) akce zajišťované odborem investic a evropských programů | I6: v Kč
A7: název akce | B7: schválený rozpočet | C7: upravený rozpočet | D7: upravený rozpočet | E7: skutečnost | F7: %
A8: oblast školství | B8: =SUM(B9:B34) -> 0 | C8: =SUM(C9:C34) -> 0 | D8: =SUM(D9:D34) -> 66784772 | E8: =SUM(E9:E34) -> 64374111 | F8: =E8/D8*100 -> 96.390404
A9: Střední průmyslová škola Hranice - Výtah na domově mládeže | B9: 0 | D9: 600000 | E9: 600000 | F9: =E9/D9*100 -> 100 | G9: 60001001128
A10: Střední škola zemědělská, Přerov, Osmek 47 - Horkovodní přípojka | B10: 0 | D10: 2100000 | E10: 2100000 | F10: =E10/D10*100 -> 100 | G10: 60001001134
A11: Základní škola Šternberk, Olomoucká 76 - Sociální zařízení, II. etapa | B11: 0 | D11: 2013828 | E11: 2013827.8 | F11: =E11/D11*100 -> 99.999988 | G11: 60001100214
A12: Střední škola zemědělská, Přerov, Osmek 47-Rekonstrukce budovy kovárny v areálu SŠZe Přerov, II. etapa | B12: 0 | D12: 1196296 | E12: 1196296 | F12: =E12/D12*100 -> 100 | G12: 60001100237
A13: Gymnázium, Olomouc - Hejčín, Tomkova 45 - Sociální zařízení na budově C | B13: 0 | D13: 2867233 | E13: 2867232 | F13: =E13/D13*100 -> 99.999965 | G13: 60001100355
A14: Dětský domov a Školní jídelna, Hranice, Purgešova 4 - Zateplení fasády | B14: 0 | D14: 3860942 | E14: 3860941.9 | F14: =E14/D14*100 -> 99.999997 | G14: 60001100357
A15: Střední zdravotnická škola a Vyšší odborná škola zdravotnická Emanuela Pöttinga, Olomouc, Pöttingova 2 - Rekonstrukce osvětlení a elektroinstalace | B15: 0 | D15: 4106000 | E15: 4106000 | F15: =E15/D15*100 -> 100 | G15: 60001100361
A16: Střední škola sociální péče a služeb, Zábřeh, nám. 8. května 2 -Zvedací plošina pro tělesně handicapované | B16: 0 | D16: 2195165 | E16: 2195165 | F16: =E16/D16*100 -> 100 | G16: 60001100370
A17: Střední odborná škola a Střední odborné učiliště strojírenské a stavební, Jeseník, Dukelská 1240 - Střecha areálu dílen odborného výcviku, II. etapa | B17: 0 | D17: 1482935 | E17: 1482934 | F17: =E17/D17*100 -> 99.999933 | G17: 60001100391
A18: Stavební úpravy Střední, Základní a Mateřské školy Prostějov pro potřeby Základní školy a Dětského domova Prostějov v objektu Tetín 5 a 7 Prostějov | B18: 0 | D18: 8513600 | E18: 8474722 | F18: =E18/D18*100 -> 99.543342 | G18: 60001100538
A19: Střední průmyslová škola a Obchodní akademie, Uničov, Školní 164 - kotelna na domově mládeže | B19: 0 | D19: 1236412 | E19: 1236412 | F19: =E19/D19*100 -> 100 | G19: 60001100590
A20: SCHOLA SERVIS – zařízení pro další vzdělávání pedagogických pracovníků a středisko služeb školám, Prostějov - Rekonstrukce střechy, Olomoucká 25 | B20: 0 | D20: 999661 | E20: 999661 | F20: =E20/D20*100 -> 100 | G20: 60001100594
A21: Vyšší odborná škola a Střední škola automobilní, Zábřeh, U Dráhy 6 - střecha kinosálu a příslušenství | B21: 0 | D21: 1503556 | E21: 1503556 | F21: =E21/D21*100 -> 100 | G21: 60001100595
A22: Střední odborná škola gastronomie a potravinářství - vzduchotechnika ve školní kuchyni | B22: 0 | D22: 2365613 | E22: 2365612.8 | F22: =E22/D22*100 -> 99.999992 | G22: 60001100596
A23: Gymnázium, Jeseník, Komenského 281 - kotelna vyššího gymnázia | B23: 0 | D23: 2452472 | E23: 2452472 | F23: =E23/D23*100 -> 100 | G23: 60001100598
A24: Střední škola logistiky a chemie, Olomouc, U Hradiska 29 - vybudování výdejny stravy | B24: 0 | D24: 3223450 | E24: 3223449.1 | F24: =E24/D24*100 -> 99.999971 | G24: 60001100599
A25: Základní umělecká škola Miloslava Stibora - výtvarný obor, Olomouc, Pionýrská 4 - odstranění vlhkosti | B25: 0 | D25: 1592050 | E25: 1591956.8 | F25: 0 | G25: 60001100600
A26: Střední průmyslová škola stavební, Lipník nad Bečvou, Komenského sady 257 - stavební a dispoziční úpravy internátu školy | B26: 0 | D26: 2242170.7 | E26: 2242170.7 | F26: =E26/D26*100 -> 100 | G26: 60001100601
A27: Střední škola elektrotechnická, Lipník nad Bečvou, Tyršova 781 - Elektroinstalace domova mládeže Bratrská 1114 | B27: 0 | D27: 1052417 | E27: 1052417 | F27: =E27/D27*100 -> 100 | G27: 60001100602
A28: Střední průmyslová škola oděvní, Prostějov, Vápenice 1 - Domov mládeže Palečkova 1, Prostějov - stavební úpravy školy | B28: 0 | D28: 9066781 | E28: 9066781 | F28: =E28/D28*100 -> 100 | G28: 60001100603
A29: Střední odborná škola a Střední odborné učiliště, Uničov, Moravské nám. 681 - Dílny pro praktickou výuku | B29: 0 | D29: 3100000 | E29: 728640.6 | F29: =E29/D29*100 -> 23.504535 | G29: 60001100604
A30: Dětský domov a Školní jídelna, Olomouc, U Sportovní haly 1a - Kuchyňský blok | B30: 0 | D30: 1158217 | E30: 1158216.7 | F30: =E30/D30*100 -> 99.999974 | G30: 60001100605
A31: Gymnázium, Jeseník, Komenského 281 - Výdejna stravy | B31: 0 | D31: 2321930 | E31: 2321930 | F31: =E31/D31*100 -> 100 | G31: 60001100607
A32: Střední škola technická a obchodní, Olomouc, Kosinova 4 - Dlažba na chodbách školy | B32: 0 | D32: 1953335 | E32: 1953335 | F32: =E32/D32*100 -> 100 | G32: 60001100612
A33: Střední odborná škola a Střední odborné učiliště, Šumperk, Gen. Krátkého 30 - výměna kotlů | B33: 0 | D33: 2234708 | E33: 2234707.2 | F33: =E33/D33*100 -> 99.999964 | G33: 60001100623
A34: Gymnázium, Olomouc, Čajkovského 9 - výdejna stravy | B34: 0 | D34: 1346000 | E34: 1345674.6 | F34: =E34/D34*100 -> 99.975825 | G34: 60001100659
A36: Oblast školství celkem | B36: =B8 -> 0 | C36: =C8 -> 0 | D36: =D8 -> 66784772 | E36: =E8 -> 64374111 | F36: =E36/D36*100 -> 96.390404
A39: 2. Oblast sociální
A40: a) akce zajišťované odborem investic a evropských programů | I40: v Kč
A41: název akce | B41: schválený rozpočet | C41: upravený rozpočet | D41: upravený rozpočet | E41: skutečnost | F41: %
A42: oblast sociální | B42: =SUM(B43:C56) -> 0 | C42: =SUM(C43:D56) -> 55835151 | D42: =SUM(D43:D56) -> 55835151 | E42: =SUM(E43:E56) -> 54031563 | F42: =E42/D42*100 -> 96.769799 | G42: 60002100257
A43: Domov důchodců Hrubá Voda - Stavební úpravy budovy pro muže | B43: 0 | D43: 2230995.6 | E43: 2230995.6 | F43: =E43/D43*100 -> 100 | G43: 60002100261
A44: Vincentinum - poskytovatel soc. služeb Šternberk - Stavební úpravy Zeleného domova | B44: 0 | D44: 6194561 | E44: 6194561 | F44: =E44/D44*100 -> 100 | G44: 60002100262
A45: Vincentinum Šternberk - Úprava venkovních prostor pro imobilní uživatele | B45: 0 | D45: 2901000 | E45: 1835042 | F45: =E45/D45*100 -> 63.255498 | G45: 60002100272
...

Sheet 8c. SFDI 2011
A1: 8. Investiční akce Olomouckého kraje 2011
A2: c) Financovano z z dotace Státního fondu dopravní infrastruktury
A3: Schváleno usnesením Zastupitelstva Olomouckého kraje UZ/19/9/2011 z 22.4.2011, ve výši 22 823 000,- Kč
A5: akce zajišťované odborem investic a evropských programů | I5: v Kč
A6: název akce | F6: schválený rozpočet | G6: upravený rozpočet | H6: skutečnost | I6: %
A7: oblast dopravy | F7: =SUM(F8:F8) -> 0 | G7: =SUM(G8:G8) -> 22823000 | H7: =SUM(H8:H8) -> 22809821 | I7: =H7/G7*100 -> 99.942256
A8: - III/44311 Dolany - průtah, most | F8: 0 | G8: 22823000 | H8: 22809821 | I8: =H8/G8*100 -> 99.942256 | J8: 100114
A9: Celkem | F9: =SUM(F7) -> 0 | G9: =SUM(G7) -> 22823000 | H9: =SUM(H7) -> 22809821 | I9: =H9/G9*100 -> 99.942256
A13: Rekapitulace:
A14: - oblast dopravy | F14: =F7 -> 0 | G14: =G7 -> 22823000 | H14: =H7 -> 22809821 | I14: =H14/G14*100 -> 99.942256
A15: Celkem | F15: =SUM(F14:F14) -> 0 | G15: =SUM(G14:G14) -> 22823000 | H15: =SUM(H14:H14) -> 22809821 | I15: =H15/G15*100 -> 99.942256

Sheet 8d. OK 2011
A1: 8. Investiční akce Olomouckého kraje
A2: d) Financováno z rozpočtu Olomouckého kraje
A4: 1. Oblast školství
A5: a) akce zajišťované odborem investic a evropských programů | E5: v Kč
A6: název akce | B6: schválený rozpočet | C6: upravený rozpočet | D6: skutečnost | E6: %
A7: oblast školství | B7: =SUM(B8:B89) -> 118391000 | C7: =SUM(C8:C89) -> 48800858 | D7: =SUM(D8:D89) -> 40098375 | E7: =D7/C7*100 -> 82.167357
A8: - SPŠ Přerov, Havlíčkova - výstavba tělocvičny | B8: 0 | C8: 2000 | D8: 300 | E8: =D8/C8*100 -> 15 | F8: 100192
A9: - Základní škola Šternberk - Sociální zařízení | B9: 3000000 | C9: 0 | D9: 0 | E9: 0 | F9: 100214
A10: - Střední škola zemědělská, Přerov, Osmek 47-rekonstrukce budovy Kovárny | B10: 1200000 | C10: 0 | D10: 0 | E10: 0 | F10: 100237
A11: - Gymnázium, Olomouc, Čajkovského 9 - Sportovní víceúčelové hřiště | B11: 92000 | C11: 2224320 | D11: 2120596.6 | E11: =D11/C11*100 -> 95.336848 | F11: 100354
A12: - Gymnázium, Olomouc - Hejčín, Tomkova 45 - Sociální zařízení na budově C | B12: 3277000 | C12: 0 | D12: 0 | E12: 0 | F12: 100355
A13: - Dětský domov a Školní jídelna, Hranice, Purgešova 4 - Zateplení fasády | B13: 3840000 | C13: 0 | D13: 0 | E13: 0 | F13: 100357
A14: - Střední zdravotnická škola a Vyšší odborná škola zdravotnická Emanuela Pöttinga, Olomouc, Pöttingova 2 - Rekonstrukce osvětlení a elektroinstalace | B14: 4300000 | C14: 175406 | D14: 158127 | E14: 0 | F14: 100361
A15: - Střední škola řezbářská, Tovačov, Nádražní 146 - Střecha na strojní dílně | B15: 480000 | C15: 0 | D15: 0 | E15: 0 | F15: 100366
A16: - SŠ sociální péče a služeb, Zábřeh, nám. 8. května 2 - Pojízdná plošina pro tělesně handicapované | B16: 2000000 | C16: 23000 | D16: 22848 | E16: =D16/C16*100 -> 99.33913 | F16: 100370
A17: - Obchodní akademie Prostějov - Kotelna | B17: 1200000 | C17: 1720746 | D17: 1720746 | E17: =D17/C17*100 -> 100 | F17: 100382
A18: - Střední odborná škola, Šumperk, Zemědělská 3 - Střecha nad šatnami | B18: 0 | C18: 272 | D18: 272 | E18: 0 | F18: 100384
A19: - Dětský domov a Školní jídelna, Jeseník, Priessnitzova 405 - Zdravotechnika | B19: 1000000 | C19: 1139882 | D19: 1139882 | E19: 0 | F19: 100389
A20: - Střední odborná škola a Střední odborné učiliště strojírenské a stavební, Jeseník, Dukelská 1240 - | B20: 1545000 | C20: 0 | D20: 0 | E20: 0 | F20: 100391
A21: - Dostavba budovy Slovanského gymnázia Olomouc | B21: 4167000 | C21: 2021000 | D21: 1970600 | E21: =D21/C21*100 -> 97.506185 | F21: 100537
A22: - Stavební úpravy Střední, Základní a Mateřské školy Prostějov pro potřeby Základní školy a Dětského domova Prostějov v objektu Tetín 5 a 7 Prostějov | B22: 7537000 | C22: 1238380 | D22: 1238380 | E22: =D22/C22*100 -> 100 | F22: 100538
A23: - Střední odborné učiliště potravinářské, Jeseník, U Jatek 8 - Sedlová střecha na objektu tělocvičny | B23: 844000 | C23: 471060 | D23: 471060 | E23: =D23/C23*100 -> 100 | F23: 100539
A24: - Vzdělávací centrum pro slabozraké Olomouc - Hejčín -výstavba nového zařízení | B24: 24874000 | C24: 24838688 | D24: 18302638 | E24: =D24/C24*100 -> 73.68601 | F24: 100565
A25: - Gymnázium, Olomouc, Čajkovského 9 - Výstavba tělocvičny | B25: 4000000 | C25: 0 | D25: 0 | E25: 0 | F25: 100582
A26: - Střední průmyslová škola strojnická, Olomouc, tř. 17. listopadu 49 - rekonstrukce osvětlení a elektroinstalace | B26: 360000 | C26: 366000 | D26: 366000 | E26: =D26/C26*100 -> 100 | F26: 100583
A27: - Obchodní akademie, Mohelnice, Olomoucká 82 - výměna elektrických rozvodů | B27: 200000 | C27: 240000 | D27: 240000 | E27: =D27/C27*100 -> 100 | F27: 100585
A28: - Obchodní akademie a Jazyková škola s právem státní jazykové zkoušky, Přerov, Bartošova 24 - sprchy a šatny u tělocvičny | B28: 55000 | C28: 46000 | D28: 46000 | E28: =D28/C28*100 -> 100 | F28: 100586
A29: - Střední oborná škola, Šumperk, Zemědělská 3 - odstranění vlhkosti | B29: 100000 | C29: 99000 | D29: 99000 | E29: =D29/C29*100 -> 100 | F29: 100587
A30: - Střední zdravotnická škola a Vyšší odborná škola zdravotnická Emanuela Pöttinga, Olomouc, Pöttingova 2 - rekonstrukce WC v budově C, I. etapa | B30: 50000 | C30: 50000 | D30: 49800 | E30: =D30/C30*100 -> 99.6 | F30: 100588
A31: - Dětský domov a Školní jídelna, Olomouc, U Sportovní haly 1a - elektrorozvody na chodbách | B31: 500000 | C31: 325750 | D31: 325749 | E31: =D31/C31*100 -> 99.999693 | F31: 100589
A32: - Střední průmyslová škola a Obchodní akademie, Uničov, Školní 164 - kotelna na domově mládeže | B32: 900000 | C32: 0 | D32: 0 | E32: 0 | F32: 100590
A33: - Gymnázium, Šternberk, Horní náměstí 5 - Kanalizace | B33: 550000 | C33: 0 | D33: 0 | E33: 0 | F33: 100591
A34: - Střední škola polygrafická, Olomouc, Střední Novosadská 55 - rozvody slaboproudu | B34: 350000 | C34: 348849 | D34: 348848.99 | E34: =D34/C34*100 -> 99.999997 | F34: 100592
A35: - Střední škola polygrafická, Olomouc, Střední Novosadská 55 - strukturovaná kabeláž a konfigurace stávajících kabeláží a serveru PC sítě včetně Upgrade serveru | B35: 350000 | C35: 344326 | D35: 344326 | E35: =D35/C35*100 -> 100 | F35: 100593
A36: - SCHOLA SERVIS – zařízení pro další vzdělávání pedagogických pracovníků a středisko služeb školám, Prostějov - úprava vjezdu, Olomoucká 25 | B36: 780000 | C36: 0 | D36: 0 | E36: 0 | F36: 100594
A37: - Vyšší odborná škola a Střední škola automobilní, Zábřeh, U Dráhy 6 - střecha kinosálu a příslušenství | B37: 800000 | C37: 0 | D37: 0 | E37: 0 | F37: 100595
A38: - Střední odborná škola gastronomie a potravinářství - vzduchotechnika ve školní kuchyni | B38: 1000000 | C38: 0 | D38: 0 | E38: 0 | F38: 100596
A39: - Střední odborná škola gastronomie a potravinářství, Jeseník, U Jatek 8 - udírenská komora | B39: 800000 | C39: 0 | D39: 0 | E39: 0 | F39: 100597
A40: - Gymnázium, Jeseník, Komenského 281 - kotelna vyššího gymnázia | B40: 2500000 | C40: 0 | D40: 0 | E40: 0 | F40: 100598
A41: - Střední škola logistiky a chemie, Olomouc, U Hradiska 29 - vybudování výdejny stravy | B41: 2500000 | C41: 0 | D41: 0 | E41: 0 | F41: 100599
...

Sheet 8e. povodně 2011
A1: 8. Investiční akce Olomouckého kraje 2011
A2: e) Plán obnovy úseků silnic a silničních objektů po povodních v Olomouckém kraji - financováno z rozpočtu Olomouckého kraje a z Ministerstva pro místní rozvoj
A5: 1. Oblast dopravy
A6: a) akce zajišťované odborem investic a evropských programů - z rozpočtu Olomouckého kraje
F7: v Kč
A8: název akce | C8: schválený rozpočet | D8: upravený rozpočet | E8: skutečnost | F8: % | H8: UZ 18
A9: III/4562 | B9: Nová Červená Voda | C9: 0 | D9: 2066775 | E9: 1033385 | F9: =E9/D9*100 -> 49.999879 | H9: 60004100459
A10: II/377 | B10: v Plumlově - sanace svahu | C10: 0 | D10: 3076 | E10: 3076 | F10: 0 | H10: 60004100566
A11: 43911-5 | B11: most Hustopeče nad Bečvou | C11: 2904000 | D11: 3552525 | E11: 3552368.4 | F11: 0 | H11: 60004100569
A12: II/438 | B12: Opatovice | C12: 500000 | D12: 1125924 | E12: 1118688 | F12: 0 | H12: 60004100570
A13: 4535-3 | B13: směr N. Vilémovice (Uhelná) | C13: 500000 | D13: 790000 | E13: 773944 | F13: =E13/D13*100 -> 97.967595 | H13: 60004100479
A14: 438-001 | B14: Teplice nad Bečvou | C14: 2000000 | D14: 4444123.5 | E14: 4430664.4 | F14: =E14/D14*100 -> 99.697149 | H14: 60004100567
A15: Celkem | C15: =SUM(C9:C14) -> 5904000 | D15: =SUM(D9:D14) -> 11982423 | E15: =SUM(E9:E14) -> 10912126 | F15: =E15/D15*100 -> 91.06777
A19: b) akce zajišťované odborem investic a evropských programů - z Ministerstva pro Mísní rozvoj ČR - limitky | F19: v Kč
A20: název akce | C20: schválený rozpočet | D20: upravený rozpočet | E20: skutečnost | F20: %
A21: 43911-5 | B21: most Hustopeče nad Bečvou | C21: 0 | D21: 784704 | E21: 784704 | F21: =E21/D21*100 -> 100 | H21: 60004100569
A22: 438-001 | B22: Teplice nad Bečvou | C22: 0 | D22: 1131870 | E22: 1131870 | F22: =E22/D22*100 -> 100 | H22: 60004100567
A23: Celkem | C23: =SUM(C21:C22) -> 0 | D23: =SUM(D21:D22) -> 1916574 | E23: =SUM(E21:E22) -> 1916574 | F23: =E23/D23*100 -> 100
A25: Povodně celkem | C25: =SUM(C23,C15) -> 5904000 | D25: =SUM(D23,D15) -> 13898997 | E25: =SUM(E23,E15) -> 12828700 | F25: =E25/D25*100 -> 92.299461

Sheet f) dotace
A1: 8. Investiční akce Olomouckého kraje 2011
A2: f) Financováno z účelové dotace poskytnuté ze státního rozpočtu
A4: 1. Oblast školství
A5: a) akce zajišťované odborem investic a evropských programů - účelová dotace z MŽP a SFŽP | E5: v Kč
A6: název akce | B6: schválený rozpočet | C6: upravený rozpočet | D6: skutečnost | E6: %
A7: oblast dopravy | B7: =SUM(B8:B8) -> 0 | C7: =SUM(C8:C8) -> 6623898.7 | D7: =SUM(D8:D8) -> 6623898.7 | E7: =D7/C7*100 -> 100 | F7: ORG | G7: UZ
A8: - Realizace energeticky úsporných opatření - ZŠ a DD Zábřeh | B8: 0 | C8: =367994.37+6255904.37 -> 6623898.7 | D8: =367994.37+6255904.37 -> 6623898.7 | E8: =D8/C8*100 -> 100 | F8: 6001100471 | G8: 53190877+52515835
A11: Oblast školství celkem | B11: =SUM(B7) -> 0 | C11: =SUM(C7) -> 6623898.7 | D11: =SUM(D7) -> 6623898.7 | E11: =D11/C11*100 -> 100
A13: 2. Oblast dopravy
A14: a) akce zajišťované odborem majetkovým a právním - účelová dotace z MF ČR | E14: v Kč
A15: název akce | B15: schválený rozpočet | C15: upravený rozpočet | D15: skutečnost | E15: %
A16: oblast dopravy | B16: =SUM(B17:B17) -> 0 | C16: =SUM(C17:C17) -> 886367 | D16: =SUM(D17:D17) -> 428614.9 | E16: =D16/C16*100 -> 48.356369 | F16: ORG | G16: UZ
A17: - výkup pozemků | B17: 0 | C17: 886367 | D17: 428614.9 | E17: =D17/C17*100 -> 48.356369 | F17: 60004000000 | G17: 98861
A19: Oblast dopravy celkem | B19: =SUM(B16) -> 0 | C19: =SUM(C16) -> 886367 | D19: =SUM(D16) -> 428614.9 | E19: =D19/C19*100 -> 48.356369
A22: Rekapitulace:
A23: - oblast školství | B23: =B11 -> 0 | C23: =C11 -> 6623898.7 | D23: =D11 -> 6623898.7 | E23: =D23/C23*100 -> 100
A24: - oblast dopravy | B24: =B19 -> 0 | C24: =C19 -> 886367 | D24: =D19 -> 428614.9 | E24: =E19 -> 48.356369
A25: Celkem | B25: =SUM(B23:B24) -> 0 | C25: =SUM(C23:C24) -> 7510265.7 | D25: =SUM(D23:D24) -> 7052513.6 | E25: =D25/C25*100 -> 93.904981
