Workbook

Sheet rekapitulace
A1: 8. Přehled financování investičních akcí v roce 2011
D2: v Kč
B3: schválený rozpočet | C3: upravený rozpočet | D3: skutečnost
A4: oblast školství | B4: =SUM(B5:B8) -> 263350000 | C4: =SUM(C5:C8) -> 3.6542181e+08 | D4: =SUM(D5:D8) -> 3.1497772e+08
A5: - rozpočet kraje | B5: ='8d. OK 2011'!B487 -> 118391000 | C5: ='8d. OK 2011'!C487 -> 54337858 | D5: ='8d. OK 2011'!D487 -> 45635375
A6: - úvěr KB | B6: ='8b. KB 2011'!B109 -> 0 | C6: ='8b. KB 2011'!D109 -> 66784772 | D6: ='8b. KB 2011'!E109 -> 64374111
A7: - úvěr EIB | B7: ='8a. EIB - Evropské programy'!F133 -> 144959000 | C7: ='8a. EIB - Evropské programy'!G133 -> 2.3767528e+08 | D7: ='8a. EIB - Evropské programy'!H133 -> 1.9834433e+08
A8: - účelová dotace ze MŽP a SFŽP | B8: ='f) dotace'!B11 -> 0 | C8: ='f) dotace'!C11 -> 6623898.7 | D8: ='f) dotace'!D11 -> 6623898.7
A9: oblast sociální | B9: =SUM(B10:B12) -> 221564000 | C9: =SUM(C10:C12) -> 1.9288033e+08 | D9: =SUM(D10:D12) -> 1.6934386e+08
A10: - rozpočet kraje | B10: ='8d. OK 2011'!B488 -> 122648000 | C10: ='8d. OK 2011'!C488 -> 45729996 | D10: ='8d. OK 2011'!D488 -> 33009713
A11: - úvěr KB | B11: ='8b. KB 2011'!B110 -> 0 | C11: ='8b. KB 2011'!D110 -> 55835151 | D11: ='8b. KB 2011'!E110 -> 54031563
A12: - úvěr EIB | B12: ='8a. EIB - Evropské programy'!F134 -> 98916000 | C12: ='8a. EIB - Evropské programy'!G134 -> 91315186 | D12: ='8a. EIB - Evropské programy'!H134 -> 82302582
A13: oblast dopravy | B13: =SUM(B14:B20) -> 480816000 | C13: =SUM(C14:C20) -> 5.9941156e+08 | D13: =SUM(D14:D20) -> 5.2041803e+08
A14: - rozpočet kraje | B14: ='8d. OK 2011'!B489 -> 139381000 | C14: ='8d. OK 2011'!C489 -> 99355502 | D14: ='8d. OK 2011'!D489 -> 86455242
A15: - úvěr KB | B15: ='8b. KB 2011'!B111 -> 0 | C15: ='8b. KB 2011'!D111 -> 37322719 | D15: ='8b. KB 2011'!E111 -> 35190976
A16: - úvěr EIB | B16: ='8a. EIB - Evropské programy'!F136 -> 335531000 | C16: ='8a. EIB - Evropské programy'!G136 -> 4.2512498e+08 | D16: ='8a. EIB - Evropské programy'!H136 -> 3.6270468e+08
A17: - SFDI | B17: ='8c. SFDI 2011'!F14 -> 0 | C17: ='8c. SFDI 2011'!G14 -> 22823000 | D17: ='8c. SFDI 2011'!H14 -> 22809821
A18: - povodně - rozpočet kraje | B18: ='8e. povodně 2011'!C15 -> 5904000 | C18: ='8e. povodně 2011'!D15 -> 11982423 | D18: ='8e. povodně 2011'!E15 -> 10912126
A19: - povodně - dotace ze SR | B19: ='8e. povodně 2011'!C23 -> 0 | C19: ='8e. povodně 2011'!D23 -> 1916574 | D19: ='8e. povodně 2011'!E23 -> 1916574
A20: - výkup pozemků - dotace MF | B20: ='f) dotace'!B19 -> 0 | C20: ='f) dotace'!C19 -> 886367 | D20: ='f) dotace'!D19 -> 428614.9
A21: oblast kultury | B21: =SUM(B22:B24) -> 97175000 | C21: =SUM(C22:C24) -> 98103170 | D21: =SUM(D22:D24) -> 77550702
A22: - rozpočet kraje | B22: ='8d. OK 2011'!B490 -> 84675000 | C22: ='8d. OK 2011'!C490 -> 24836676 | D22: ='8d. OK 2011'!D490 -> 19656366
A23: - úvěr KB | B23: ='8b. KB 2011'!B112 -> 0 | C23: ='8b. KB 2011'!D112 -> 68166550 | D23: ='8b. KB 2011'!E112 -> 52794392
A24: - úvěr EIB | B24: ='8a. EIB - Evropské programy'!F135 -> 12500000 | C24: ='8a. EIB - Evropské programy'!G135 -> 5099944 | D24: ='8a. EIB - Evropské programy'!H135 -> 5099944
A25: oblast zdravotnictví | B25: =SUM(B26:B28) -> 51285000 | C25: =SUM(C26:C28) -> 61199082 | D25: =SUM(D26:D28) -> 53862622
A26: - rozpočet kraje | B26: ='8d. OK 2011'!B491 -> 50452000 | C26: ='8d. OK 2011'!C491 -> 43281015 | D26: ='8d. OK 2011'!D491 -> 39203847
A27: - úvěr KB | B27: ='8b. KB 2011'!B113 -> 0 | C27: ='8b. KB 2011'!D113 -> 14928250 | D27: ='8b. KB 2011'!E113 -> 11669902
A28: - úvěr EIB | B28: ='8a. EIB - Evropské programy'!F137 -> 833000 | C28: ='8a. EIB - Evropské programy'!G137 -> 2989817.5 | D28: ='8a. EIB - Evropské programy'!H137 -> 2988873.5
A29: oblast krizového řízení | B29: =SUM(B30:B31) -> 750000 | C29: =SUM(C30:C31) -> 54291672 | D29: =SUM(D30:D31) -> 47237761
A30: - rozpočet kraje | B30: ='8d. OK 2011'!B492 -> 750000 | C30: ='8d. OK 2011'!C492 -> 1791672 | D30: ='8d. OK 2011'!D492 -> 898553.77
A31: - úvěr EIB | B31: ='8a. EIB - Evropské programy'!F138 -> 0 | C31: ='8a. EIB - Evropské programy'!G138 -> 52500000 | D31: ='8a. EIB - Evropské programy'!H138 -> 46339207
A32: oblast cestovního ruchu | B32: =SUM(B33) -> 9100000 | C32: =SUM(C33) -> 30000 | D32: =SUM(D33) -> 21600
A33: - rozpočet kraje | B33: ='8d. OK 2011'!B493 -> 9100000 | C33: ='8d. OK 2011'!C493 -> 30000 | D33: ='8d. OK 2011'!D493 -> 21600
A34: oblast krajské správy | B34: =SUM(B35:B35) -> 37485000 | C34: =SUM(C35:C35) -> 31918799 | D34: =SUM(D35:D35) -> 24626098
A35: - rozpočet kraje | B35: ='8d. OK 2011'!B494 -> 37485000 | C35: ='8d. OK 2011'!C494 -> 31918799 | D35: ='8d. OK 2011'!D494 -> 24626098
A36: CELKEM | B36: =SUM(B4,B9,B13,B21,B25,B29,B32,B34) -> 1161525000 | C36: =SUM(C4,C9,C13,C21,C25,C29,C32,C34) -> 1.4032564e+09 | D36: =SUM(D4,D9,D13,D21,D25,D29,D32,D34) -> 1.2080384e+09
A40: Rekapitulace dle zdrojů:
D41: v Kč
B42: schválený rozpočet | C42: upravený rozpočet | D42: skutečnost
A43: rozpočet Olomouckého kraje | B43: =SUM(B5,B10,B14,B18,B22,B26,B30,B33,B35) -> 568786000 | C43: =SUM(C5,C10,C14,C18,C22,C26,C30,C33,C35) -> 3.1326394e+08 | D43: =SUM(D5,D10,D14,D18,D22,D26,D30,D33,D35) -> 2.6041892e+08
A44: úvěrový rámec KB | B44: =SUM(B6,B11,B15,B23,B27) -> 0 | C44: =SUM(C6,C11,C15,C23,C27) -> 2.4303744e+08 | D44: =SUM(D6,D11,D15,D23,D27) -> 2.1806094e+08
A45: úvěrový rámec EIB | B45: =SUM(B7,B12,B16,B24,B28,B31) -> 592739000 | C45: =SUM(C7,C12,C16,C24,C28,C31) -> 8.147052e+08 | D45: =SUM(D7,D12,D16,D24,D28,D31) -> 6.9777962e+08
A46: půjčka SFDI - předfinancování | B46: =SUM(B17) -> 0 | C46: =SUM(C17) -> 22823000 | D46: =SUM(D17) -> 22809821
A47: účelové dotace ze SR a SF | B47: =SUM(B8,B19,B20) -> 0 | C47: =SUM(C8,C19,C20) -> 9426839.7 | D47: =SUM(D8,D19,D20) -> 8969087.6
A48: CELKEM | B48: =SUM(B43:B47) -> 1161525000 | C48: =SUM(C43:C47) -> 1.4032564e+09 | D48: =SUM(D43:D47) -> 1.2080384e+09
A53: 1/ akce zajišťované Olomouckým krajem | F53: 2/ akce zajišťované příspěvkovými organizacemi Olomouckého kraje
B54: schválený rozpočet | C54: upravený rozpočet | D54: skutečnost | G54: schválený rozpočet | H54: upravený rozpočet | I54: skutečnost
A55: oblast školství | B55: =SUM(B56:B58) -> 103459000 | C55: =SUM(C56:C58) -> 190461811 | D55: =SUM(D56:D58) -> 1.5368781e+08 | F55: oblast školství | G55: =SUM(G56:G58) -> 0 | H55: =SUM(H56:H58) -> 23445014 | I55: =SUM(I56:I58) -> 23445014
A56: - rozpočet kraje | B56: ='[1]d) OK'!B8 -> 89964000 | C56: ='[1]d) OK'!C8 -> 19434123 | D56: ='[1]d) OK'!D8 -> 16824870 | F56: - rozpočet kraje | G56: ='[1]d) OK'!B114 -> 0 | H56: ='[1]d) OK'!C114 -> 2574500 | I56: ='[1]d) OK'!D114 -> 2574500
A57: - úvěr KB | B57: ='[1]b) KB'!B9 -> 0 | C57: ='[1]b) KB'!C9 -> 84987832 | D57: ='[1]b) KB'!D9 -> 84347883 | F57: - úvěr KB | G57: 0 | H57: 0 | I57: 0
A58: - úvěr EIB | B58: ='[1]a) EIB'!F8 -> 13495000 | C58: ='[1]a) EIB'!G8 -> 86039856 | D58: ='[1]a) EIB'!H8 -> 52515055 | F58: - úvěr EIB | G58: ='[1]a) EIB'!F20 -> 0 | H58: ='[1]a) EIB'!G20 -> 20870514 | I58: ='[1]a) EIB'!H20 -> 20870514
A59: oblast sociální | B59: =SUM(B60:B62) -> 127025000 | C59: =SUM(C60:C62) -> 1.600914e+08 | D59: =SUM(D60:D62) -> 1.0342205e+08 | F59: oblast sociální | G59: =SUM(G60:G62) -> 10875000 | H59: =SUM(H60:H62) -> 11295782 | I59: =SUM(I60:I62) -> 11295782
A60: - rozpočet kraje | B60: ='[1]d) OK'!B127 -> 96891000 | C60: ='[1]d) OK'!C127 -> 47204040 | D60: ='[1]d) OK'!D127 -> 23098061 | F60: - rozpočet kraje | G60: ='[1]d) OK'!B221 -> 10875000 | H60: ='[1]d) OK'!C221 -> 1753628 | I60: ='[1]d) OK'!D221 -> 1753628
A61: - úvěr KB | B61: ='[1]b) KB'!B56 -> 0 | C61: ='[1]b) KB'!C56 -> 40690282 | D61: ='[1]b) KB'!D56 -> 35305512 | F61: - úvěr KB | G61: ='[1]b) KB'!B75 -> 0 | H61: ='[1]b) KB'!C75 -> 9542154 | I61: ='[1]b) KB'!D75 -> 9542154
A62: - úvěr EIB | B62: ='[1]a) EIB'!F32 -> 30134000 | C62: ='[1]a) EIB'!G32 -> 72197080 | D62: ='[1]a) EIB'!H32 -> 45018475 | F62: - úvěr EIB
A63: oblast dopravy | B63: =SUM(B64:B67) -> 179138000 | C63: =SUM(C64:C67) -> 3.429203e+08 | D63: =SUM(D64:D67) -> 2.4221853e+08 | F63: oblast dopravy | G63: =SUM(G64:G67) -> 140000000 | H63: =SUM(H64:H67) -> 334000000 | I63: =SUM(I64:I67) -> 334000000
A64: - rozpočet kraje | B64: ='[1]d) OK'!B263 -> 62088000 | C64: ='[1]d) OK'!C263 -> 51160080 | D64: ='[1]d) OK'!D263 -> 39146316 | F64: - rozpočet kraje | G64: ='[1]d) OK'!B309 -> 114000000 | H64: ='[1]d) OK'!C309 -> 58800000 | I64: ='[1]d) OK'!D309 -> 58800000
A65: - úvěr KB | B65: ='[1]b) KB'!B106 -> 0 | C65: ='[1]b) KB'!C106 -> 11097000 | D65: ='[1]b) KB'!D106 -> 7891430 | F65: - úvěr KB | G65: 0 | H65: 0 | I65: 0
A66: - úvěr EIB | B66: ='[1]a) EIB'!F53 -> 117050000 | C66: ='[1]a) EIB'!G53 -> 2.5066322e+08 | D66: ='[1]a) EIB'!H53 -> 1.7293413e+08 | F66: - úvěr EIB | G66: ='[1]a) EIB'!F73 -> 26000000 | H66: ='[1]a) EIB'!G73 -> 275200000 | I66: ='[1]a) EIB'!H73 -> 275200000
A67: - SFDI | B67: ='[1]c) SFDI'!F18 -> 0 | C67: ='[1]c) SFDI'!G18 -> 30000000 | D67: ='[1]c) SFDI'!H18 -> 22246653 | F67: - SFDI
A68: oblast kultury | B68: =SUM(B69:B71) -> 39740000 | C68: =SUM(C69:C71) -> 43479440 | D68: =SUM(D69:D71) -> 21043979 | F68: oblast kultury | G68: =SUM(G69:G71) -> 5160000 | H68: =SUM(H69:H71) -> 6974743.3 | I68: =SUM(I69:I71) -> 6974743.3
A69: - rozpočet kraje | B69: ='[1]d) OK'!B339 -> 33040000 | C69: ='[1]d) OK'!C339 -> 23716190 | D69: ='[1]d) OK'!D339 -> 4988410 | F69: - rozpočet kraje | G69: ='[1]d) OK'!B367 -> 5160000 | H69: ='[1]d) OK'!C367 -> 1985479 | I69: ='[1]d) OK'!D367 -> 1985479
A70: - úvěr KB | B70: ='[1]b) KB'!B122 -> 0 | C70: ='[1]b) KB'!C122 -> 10912250 | D70: ='[1]b) KB'!D122 -> 7445729.2 | F70: - úvěr KB | G70: ='[1]b) KB'!B129 -> 0 | H70: ='[1]b) KB'!C129 -> 4989264.3 | I70: ='[1]b) KB'!D129 -> 4989264.3
A71: - úvěr EIB | B71: ='[1]a) EIB'!F103 -> 6700000 | C71: ='[1]a) EIB'!G103 -> 8851000 | D71: ='[1]a) EIB'!H103 -> 8609840 | F71: - úvěr EIB
A72: oblast zdravotnictví | B72: =SUM(B73:B76) -> 58236000 | C72: =SUM(C73:C76) -> 1.194748e+08 | D72: =SUM(D73:D76) -> 1.1200541e+08 | F72: oblast zdravotnictví | G72: =SUM(G73:G76) -> 9450000 | H72: =SUM(H73:H76) -> 14028078 | I72: =SUM(I73:I76) -> 14028078
A73: - rozpočet kraje | B73: ='[1]d) OK'!B399 -> 18310000 | C73: ='[1]d) OK'!C399 -> 10057556 | D73: ='[1]d) OK'!D399 -> 8640072.7 | F73: - rozpočet kraje | G73: ='[1]d) OK'!B451 -> 9450000 | H73: ='[1]d) OK'!C451 -> 325000 | I73: ='[1]d) OK'!D451 -> 325000
A74: - úvěr KB | B74: ='[1]b) KB'!B155 -> 0 | C74: ='[1]b) KB'!C155 -> 15650140 | D74: ='[1]b) KB'!D155 -> 13920455 | F74: - úvěr KB | G74: ='[1]b) KB'!B167 -> 0 | H74: ='[1]b) KB'!C167 -> 8971078.1 | I74: ='[1]b) KB'!D167 -> 8971078.1
A75: - úvěr EIB | B75: ='[1]a) EIB'!F113 -> 13100000 | C75: ='[1]a) EIB'!G113 -> 56559660 | D75: ='[1]a) EIB'!H113 -> 53878356 | F75: - úvěr EIB | G75: ='[1]a) EIB'!F121 -> 0 | H75: ='[1]a) EIB'!G121 -> 4732000 | I75: ='[1]a) EIB'!H121 -> 4732000
A76: - nájem NOK | B76: ='[1]d) OK'!B426 -> 26826000 | C76: ='[1]d) OK'!C426 -> 37207446 | D76: ='[1]d) OK'!D426 -> 35566522 | F76: - nájem NOK
A77: oblast cestovního ruchu | B77: =SUM(B78:B79) -> 0 | C77: =SUM(C78:C79) -> 2940000 | D77: =SUM(D78:D79) -> 2940000 | F77: oblast cestovního ruchu | G77: =SUM(G78:G79) -> 0 | H77: =SUM(H78:H79) -> 0 | I77: =SUM(I78:I79) -> 0
A78: - rozpočet kraje | F78: - rozpočet kraje
A79: - úvěr EIB | B79: ='[1]a) EIB'!F131 -> 0 | C79: ='[1]a) EIB'!G131 -> 2940000 | D79: ='[1]a) EIB'!H131 -> 2940000 | F79: - úvěr EIB
A80: oblast krajské správy | B80: =SUM(B81:B83) -> 12970000 | C80: =SUM(C81:C83) -> 11150864 | D80: =SUM(D81:D83) -> 8947257.2 | F80: oblast krajské správy | G80: =SUM(G81:G83) -> 0 | H80: =SUM(H81:H83) -> 0 | I80: =SUM(I81:I83) -> 0
A81: - rozpočet kraje | B81: ='[1]d) OK'!B514 -> 12970000 | C81: ='[1]d) OK'!C514 -> 11150864 | D81: ='[1]d) OK'!D514 -> 8947257.2 | F81: - rozpočet kraje
A82: - úvěr KB | F82: - úvěr KB
A83: - úvěr EIB | F83: - úvěr EIB
A84: CELKEM | B84: =B80+B72+B68+B63+B59+B55+B77 -> 520568000 | C84: =C80+C72+C68+C63+C59+C55+C77 -> 8.7051862e+08 | D84: =D80+D72+D68+D63+D59+D55+D77 -> 6.4426503e+08 | F84: CELKEM | G84: =G80+G72+G68+G63+G59+G55+G77 -> 165485000 | H84: =H80+H72+H68+H63+H59+H55+H77 -> 3.8974362e+08 | I84: =I80+I72+I68+I63+I59+I55+I77 -> 3.8974362e+08

Sheet 8a. EIB - Evropské programy
A1: 8. Investiční akce Olomouckého kraje 2011
A2: a) Financovano z úvěrového rámce Evropské investiční banky ( 3 000 tis.Kč)
A4: 1. Oblast školství
A5: a) akce zajišťované odborem investic a evropských programů | I5: v Kč
A6: název akce | F6: schválený rozpočet | G6: upravený rozpočet | H6: skutečnost | I6: %
A7: oblast školství | F7: =SUM(F8:F16) -> 144959000 | G7: =SUM(G8:G16) -> 2.0546884e+08 | H7: =SUM(H8:H16) -> 1.6613789e+08 | I7: =H7/G7*100 -> 80.857951 | J7: ORG 6001
A8: - Gymnázium, Olomouc, Čajkovského 9 - Výstavba tělocvičny a sportovní víceúčelové hřiště | F8: 0 | G8: 4338000 | H8: 3980890.9 | I8: =H8/G8*100 -> 91.767885 | J8: 100354
A9: - Dostavba budovy Slovanského gymnázia Olomouc | F9: 20833000 | G9: 7589000 | H9: 7349800 | I9: =H9/G9*100 -> 96.84807 | J9: 100537
A10: - Vzdělávací centrum pro slabozraké Olomouc - Hejčín | F10: 124126000 | G10: 124940000 | H10: 96115006 | I10: =H10/G10*100 -> 76.928931 | J10: 100565
A11: - Realizace energeticky úsporných opatření - SPŠ a OA Uničov | F11: 0 | G11: 16569366 | H11: 14208922 | I11: =H11/G11*100 -> 85.754167 | J11: 100221
A12: - Kvalitnější vzdělávání řemeslníků na SŠP - nadstavba učebn. pavilonu | F12: 0 | G12: 28000000 | H12: 25901204 | I12: =H12/G12*100 -> 92.504301 | J12: 100347
A13: - SŠ polygrafická, Olomouc - Modernizace výukových prostor a vybavení | F13: 0 | G13: 11160117 | H13: 9658768.4 | I13: =H13/G13*100 -> 86.547197 | J13: 100348
A14: - VOŠ a SPŠ, Gen. Krátkého 1, Šumperk - Půdní vestavba učeben | F14: 0 | G14: 652865 | H14: 635425 | I14: =H14/G14*100 -> 97.328697 | J14: 100349
A15: - Realizace energeticky úsporných opatření - SŠ technická Přerov | F15: 0 | G15: 7267295.3 | H15: 4058685.8 | I15: =H15/G15*100 -> 55.848643 | J15: 100464
A16: - Realizace energeticky úsporných opatření - ZŠ a DD Zábřeh | F16: 0 | G16: 4952193 | H16: 4229188.6 | I16: =H16/G16*100 -> 85.400318 | J16: 100471
A18: b) akce zajišťované příspěvkovými organizacemi | I18: v Kč
A19: název akce | F19: schválený rozpočet | G19: upravený rozpočet | H19: skutečnost | I19: %
A20: oblast školství | F20: =SUM(F21:F26) -> 0 | G20: =SUM(G21:G26) -> 32206441 | H20: =SUM(H21:H26) -> 32206441 | I20: =H20/G20*100 -> 100
A21: - Základní škola, Fučíkova 312, Jeseník - Realizace energeticky úsporných zařízení | F21: 0 | G21: 2907630.1 | H21: 2907630.1 | I21: =H21/G21*100 -> 100 | J21: 1043
A22: - Gymnázium J.Wolkera, Kollárova 3, Prostějov - Realizace energeticky úsporných zařízení | F22: 0 | G22: 3978722.9 | H22: 3978722.9 | I22: =H22/G22*100 -> 100 | J22: 1106
A23: - Střední průmyslová škola strojnická, tř. 17. listopadu 49, Olomouc - Realizace energeticky úsporných zařízení | F23: 0 | G23: 12045349 | H23: 12045349 | I23: =H23/G23*100 -> 100 | J23: 1121
A24: - SOŠ a SOU strojírenské a stavební, Dukelská 1240, Jeseník - Realizace energeticky úsporných zařízení | F24: 0 | G24: 7305797 | H24: 7305797 | I24: =H24/G24*100 -> 100 | J24: 1142
A25: - Obchodní akademie, Olomoucká 82, Mohelnice- Realizace energeticky úsporných zařízení | F25: 0 | G25: 1968784.5 | H25: 1968784.5 | I25: =H25/G25*100 -> 100 | J25: 1153
A26: - SOU obchodní, nám E. Husserla 1, Prostějov - Realizace energeticky úsporných zařízení | F26: 0 | G26: 4000157 | H26: 4000157 | I26: =H26/G26*100 -> 100 | J26: 1212
A28: Oblast školství celkem | F28: =F7+F20 -> 144959000 | G28: =G7+G20 -> 2.3767528e+08 | H28: =H7+H20 -> 1.9834433e+08 | I28: =H28/G28*100 -> 83.451815
A30: 2. Oblast sociální
A31: a) akce zajišťované odborem investic a evropských programů | I31: v Kč
A32: název akce | F32: schválený rozpočet | G32: upravený rozpočet | H32: skutečnost | I32: %
A33: oblast sociální | F33: =SUM(F34:F45) -> 98916000 | G33: =SUM(G34:G45) -> 89791375 | H33: =SUM(H34:H45) -> 80778772 | I33: =H33/G33*100 -> 89.962729 | J33: ORG 6002
A34: - Revitalizace území areálu staré nemocnice v Prostějově II.etapa | F34: 0 | G34: 12042850 | H34: 7241022.1 | I34: =H34/G34*100 -> 60.127147 | J34: 100123
A35: - Realizace energeticky úsporných opatření - DD Kobylá nad Vidnávkou | F35: 0 | G35: 2274746 | H35: 1539608 | I35: =H35/G35*100 -> 67.682634 | J35: 100250
A36: - DD Šumperk - rekonstrukce koupelen klientů | F36: 0 | G36: 12344123 | H36: 10285636 | I36: =H36/G36*100 -> 83.324156 | J36: 100327
A37: - Domov Větrný mlýn Skalička - přístavba lůžkového pavilonu | F37: 0 | G37: 17333000 | H37: 17173782 | I37: =H37/G37*100 -> 99.081414 | J37: 100089
A38: - Domov důchodců a penzion Chválkovice - Šatny zaměstnanců | F38: 13000000 | G38: 16937156 | H38: 16884122 | I38: =H38/G38*100 -> 99.686881 | J38: 100258
A39: - Nový pavilon areálu Domov seniorů Pohoda Chválkovice | F39: 0 | G39: 7457000 | H39: 6812750.5 | I39: =H39/G39*100 -> 91.360474 | J39: 100328
A40: - Domov důchodců Hrubá Voda - Soc. zařízení a soc. zázemí v hl. budově | F40: 3500000 | G40: 5031000 | H40: 4957726.8 | I40: =H40/G40*100 -> 98.543566 | J40: 100401
A41: - Domov důchodců Hrubá Voda - Vybudování prádelny | F41: 0 | G41: 316000 | H41: 307701.9 | I41: =H41/G41*100 -> 97.374019 | J41: 100405
A42: - Nové Zámky - poskytovatel sociálních služeb - Rekonstr. objektu Litovel | F42: 9900000 | G42: 4820000 | H42: 4342987.4 | I42: =H42/G42*100 -> 90.103473 | J42: 100409
A43: - Nový pavilon areálu Domov pro seniory Radkova Lhota | F43: 4483000 | G43: 85500 | H43: 85500 | I43: =H43/G43*100 -> 100 | J43: 100540
A44: - Středisko sociální prevence Olomouc – Intervenční centrum Olomouc | F44: 9700000 | G44: 11150000 | H44: 11147935 | I44: =H44/G44*100 -> 99.981476 | J44: 100541
A45: - Nový pavilon areálu Domov seniorů Pohoda, Olomouc - Chválkovice | F45: 58333000 | G45: 0 | H45: 0 | I45: 0 | J45: 100656
A47: b) akce zajišťované příspěvkovými organizacemi | I47: v Kč
A48: název akce | F48: schválený rozpočet | G48: upravený rozpočet | H48: skutečnost | I48: %
A49: oblast sociální | F49: =SUM(F50:F50) -> 0 | G49: =SUM(G50:G50) -> 1523810.7 | H49: =SUM(H50:H50) -> 1523810.7 | I49: =H49/G49*100 -> 100
A50: - Domov důchodců, Hlubočky 11, Hrubá Voda - Realizace energeticky úsporných zařízení | F50: 0 | G50: 1523810.7 | H50: 1523810.7 | I50: =H50/G50*100 -> 100 | J50: 1637
A52: Oblast sociální celkem | F52: =F33+F49 -> 98916000 | G52: =G33+G49 -> 91315186 | H52: =H33+H49 -> 82302582 | I52: =H52/G52*100 -> 90.130225
A54: 3. Oblast kultury
A55: a) akce zajišťované odborem investic a evropských programů | I55: v Kč
A56: název akce | F56: schválený rozpočet | G56: upravený rozpočet | H56: skutečnost | I56: %
A57: oblast kultury | F57: =SUM(F58:F58) -> 12500000 | G57: =SUM(G58:G58) -> 5099944 | H57: =SUM(H58:H58) -> 5099944 | I57: =H57/G57*100 -> 100 | J57: ORG 6003
A58: - Zámek Čechy pod Kosířem - rekonstrukce a využití objektů a revitalizace parku | F58: 12500000 | G58: 5099944 | H58: 5099944 | I58: =H58/G58*100 -> 100 | J58: 100657
A60: Oblast kultury celkem | F60: =F57 -> 12500000 | G60: =G57 -> 5099944 | H60: =H57 -> 5099944 | I60: =H60/G60*100 -> 100
A62: 4. Oblast dopravy
A63: a) akce zajišťované odborem investic a evropských programů | I63: v Kč
A64: název akce | F64: schválený rozpočet | G64: upravený rozpočet | H64: skutečnost | I64: %
A65: oblast dopravy | F65: =SUM(F66:F82) -> 246948000 | G65: =SUM(G66:G82) -> 2.349978e+08 | H65: =SUM(H66:H82) -> 1.725775e+08 | I65: =H65/G65*100 -> 73.437921 | J65: ORG 60004
A66: - Silnice II/444 Mohelnice – Stavenice | F66: 0 | G66: 57000 | H66: 56087.35 | I66: =H66/G66*100 -> 98.39886 | J66: 100007
A67: - Sušice - přeložka silnice | F67: 0 | G67: 15905000 | H67: 14771426 | I67: =H67/G67*100 -> 92.872844 | J67: 100037
A68: - Velký Týnec - průtah, II. Etapa | F68: 0 | G68: 47503343 | H68: 39131533 | I68: =H68/G68*100 -> 82.376378 | J68: 100050
A69: - Dub - Tovačov, stavební úpravy (křiž. s II/150 po křiž. do Tovačova II/433) | F69: 0 | G69: 30300000 | H69: 0 | I69: =H69/G69*100 -> 0 | J69: 100060
A70: - III/44311 Dolany - průtah, most | F70: 0 | G70: 17500000 | H70: 8005544.3 | I70: =H70/G70*100 -> 45.745968 | J70: 100114
A71: - Silnice III/4469 Bohuňovice - průtah | F71: 0 | G71: 19212000 | H71: 12079874 | I71: =H71/G71*100 -> 62.876715 | J71: 100489
A72: - II/366 Rekonstrukce silnice a most Kostelec na Hané, III.etapa | F72: 8333000 | G72: 0 | H72: 0 | I72: 0 | J72: 100012
A73: - Čechy - Domaželice - obchvat | F73: 66667000 | G73: 0 | H73: 0 | I73: 0 | J73: 100027
A74: - III/44620 Náklo - průtah | F74: 25948000 | G74: 25907483 | H74: 25894522 | I74: =H74/G74*100 -> 99.949972 | J74: 100104
A75: - III/4436, III/44310 Tovéř - okružní křižovatka | F75: 14084000 | G75: 8784000 | H75: 8779073.9 | I75: =H75/G75*100 -> 99.943919 | J75: 100108
A76: - III/44311 Dolany - průtah, most | F76: 12500000 | G76: 2197269 | H76: 5785 | I76: =H76/G76*100 -> 0.26328137 | J76: 100114
A77: - III/44930 Čelechovice na Hané - průtah | F77: 35633000 | G77: 50438257 | H77: 50433114 | I77: =H77/G77*100 -> 99.989804 | J77: 100116
A78: - II. a III. třídy Protihluková opatření | F78: 12950000 | G78: 3898117 | H78: 2733630.2 | I78: =H78/G78*100 -> 70.126941 | J78: 100289
A79: - II/447, II/446, III/44621 Pňovice - průtah | F79: 12500000 | G79: 1992000 | H79: 1659180 | I79: =H79/G79*100 -> 83.292169 | J79: 100532
A80: - II/449 - Valšovský Žleb - Dlouhá Loučka | F80: 8333000 | G80: 0.46 | H80: 0 | I80: =H80/G80*100 -> 0 | J80: 100534
A81: - Most evidenční č.437-013 - Lipník nad Bečvou | F81: 50000000 | G81: 0 | H81: 0 | I81: 0 | J81: 100658
A82: - III/44311 Dolany - průtah, II. etapa | F82: 0 | G82: 11303330 | H82: 9027728.4 | I82: =H82/G82*100 -> 79.867865 | J82: 100697
A84: b) akce zajišťované Správou silnic Olomouckého kraje (ORG 1600) | I84: v Kč
A85: název akce | F85: schválený rozpočet | G85: upravený rozpočet | H85: skutečnost | I85: %
A86: - UZ 870 | F86: =SUM(F87:F102) -> 88583000 | G86: =SUM(G87:G102) -> 1.9012718e+08 | H86: =SUM(H87:H102) -> 1.9012718e+08 | I86: =H86/G86*100 -> 100
A87: - Rekonstrukce silnice číslo III/36621 Na Příhonech v Konici | F87: 11500000 | G87: 9053755.7 | H87: 9053755.7 | I87: 0
A88: - most ev.č. 44620 - 5, Střeň | F88: 19167000 | G88: 19167000 | H88: 19167000 | I88: 0
A89: - Rozstání - Baldovec | F89: 9166000 | G89: 9166000 | H89: 9166000 | I89: =H89/G89*100 -> 100
A90: - most ev.č. 373 49 - 7, Čunín | F90: 19167000 | G90: 19167000 | H90: 19167000 | I90: =H90/G90*100 -> 100
A91: - most ev.č. 3703 - 10, Sudkov | F91: 12500000 | G91: 12500000 | H91: 12500000 | I91: =H91/G91*100 -> 100
A92: - Strachovičky - Supíkovice | F92: 8750000 | G92: 8750000 | H92: 8750000 | I92: =H92/G92*100 -> 100
A93: - most ev.č. 457 - 021, Velké Kunětice | F93: 8333000 | G93: 8333000 | H93: 8333000 | I93: =H93/G93*100 -> 100
A94: - III/44812 Čechy pod Kosířem - Lhota | F94: 0 | G94: 15417000 | H94: 15417000 | I94: =H94/G94*100 -> 100
A95: - III/37313 Slavětín - Bouzov | F95: 0 | G95: 21667000 | H95: 21667000 | I95: =H95/G95*100 -> 100
A96: - III/44311 Véska - Jívová | F96: 0 | G96: 15833000 | H96: 15833000 | I96: =H96/G96*100 -> 100
A97: - II/445 Mutkov - Chabičov | F97: 0 | G97: 16250000 | H97: 16250000 | I97: =H97/G97*100 -> 100
A98: - II/455 most 455-022 Supíkovice | F98: 0 | G98: 8333000 | H98: 8333000 | I98: =H98/G98*100 -> 100
A99: - II/436 Přerov - Penčice | F99: 0 | G99: 10000000 | H99: 10000000 | I99: =H99/G99*100 -> 100
A100: - II/315 Hoštejn - most ev.č. 315-018 | F100: 0 | G100: 2350000 | H100: 2350000 | I100: =H100/G100*100 -> 100
... A102: - mostní program | F102: 0 | G102: 11740424 | H102: 11740424 | I102: =H102/G102*100 -> 100
A104: Oblast dopravy celkem | F104: =+F86+F65 -> 335531000 | G104: =+G86+G65 -> 4.2512498e+08 | H104: =+H86+H65 -> 3.6270468e+08 | I104: =H104/G104*100 -> 85.317188
A106: 5. Oblast zdravotnictví
A107: a) akce zajišťované odborem investic a evropských programů | I107: v Kč
A108: název akce | F108: schválený rozpočet | G108: upravený rozpočet | H108: skutečnost | I108: %
A109: oblast zdravotnictví | F109: =SUM(F110:F112) -> 833000 | G109: =SUM(G110:G112) -> 2156817.5 | H109: =SUM(H110:H112) -> 2155873.5 | I109: =H109/G109*100 -> 99.956232 | J109: ORG 6005
A110: - OLÚ Paseka - Centrální jídelna a rozšíření prádelny | F110: 833000 | G110: 0 | H110: 0 | I110: 0 | J110: 100301
A111: - ZZS OK – vozové terminály | F111: 0 | G111: 2146817.5 | H111: 2146345.5 | I111: =H111/G111*100 -> 99.978014 | J111: 100014
A112: - ZZS OK – přístrojové vybavení vozidel | F112: 0 | G112: 10000 | H112: 9528 | I112: =H112/G112*100 -> 95.28 | J112: 100015
A114: b) akce zajišťované příspěvkovými organizacemi | I114: v Kč
...

Sheet 8b. KB 2011
A1: 8. Investiční akce Olomouckého kraje 2011
A2: b) Financovano z úvěrového rámce Komerční banky, a.s. ( 700 tis.Kč)
A5: 1. Oblast školství
A6: a) akce zajišťované odborem investic a evropských programů | I6: v Kč
A7: název akce | B7: schválený rozpočet | C7: upravený rozpočet | D7: upravený rozpočet | E7: skutečnost | F7: %
A8: oblast školství | B8: =SUM(B9:B34) -> 0 | C8: =SUM(C9:C34) -> 0 | D8: =SUM(D9:D34) -> 66784772 | E8: =SUM(E9:E34) -> 64374111 | F8: =E8/D8*100 -> 96.390404
A9: Střední průmyslová škola Hranice - Výtah na domově mládeže | B9: 0 | D9: 600000 | E9: 600000 | F9: =E9/D9*100 -> 100 | G9: 60001001128
A10: Střední škola zemědělská, Přerov, Osmek 47 - Horkovodní přípojka | B10: 0 | D10: 2100000 | E10: 2100000 | F10: =E10/D10*100 -> 100 | G10: 60001001134
A11: Základní škola Šternberk, Olomoucká 76 - Sociální zařízení, II. etapa | B11: 0 | D11: 2013828 | E11: 2013827.8 | F11: =E11/D11*100 -> 99.999988 | G11: 60001100214
A12: Střední škola zemědělská, Přerov, Osmek 47-Rekonstrukce budovy kovárny v areálu SŠZe Přerov, II. etapa | B12: 0 | D12: 1196296 | E12: 1196296 | F12: =E12/D12*100 -> 100 | G12: 60001100237
A13: Gymnázium, Olomouc - Hejčín, Tomkova 45 - Sociální zařízení na budově C | B13: 0 | D13: 2867233 | E13: 2867232 | F13: =E13/D13*100 -> 99.999965 | G13: 60001100355
A14: Dětský domov a Školní jídelna, Hranice, Purgešova 4 - Zateplení fasády | B14: 0 | D14: 3860942 | E14: 3860941.9 | F14: =E14/D14*100 -> 99.999997 | G14: 60001100357
A15: Střední zdravotnická škola a Vyšší odborná škola zdravotnická Emanuela Pöttinga, Olomouc, Pöttingova 2 - Rekonstrukce osvětlení a elektroinstalace | B15: 0 | D15: 4106000 | E15: 4106000 | F15: =E15/D15*100 -> 100 | G15: 60001100361
A16: Střední škola sociální péče a služeb, Zábřeh, nám. 8. května 2 -Zvedací plošina pro tělesně handicapované | B16: 0 | D16: 2195165 | E16: 2195165 | F16: =E16/D16*100 -> 100 | G16: 60001100370
A17: Střední odborná škola a Střední odborné učiliště strojírenské a stavební, Jeseník, Dukelská 1240 - Střecha areálu dílen odborného výcviku, II. etapa | B17: 0 | D17: 1482935 | E17: 1482934 | F17: =E17/D17*100 -> 99.999933 | G17: 60001100391
A18: Stavební úpravy Střední, Základní a Mateřské školy Prostějov pro potřeby Základní školy a Dětského domova Prostějov v objektu Tetín 5 a 7 Prostějov | B18: 0 | D18: 8513600 | E18: 8474722 | F18: =E18/D18*100 -> 99.543342 | G18: 60001100538
A19: Střední průmyslová škola a Obchodní akademie, Uničov, Školní 164 - kotelna na domově mládeže | B19: 0 | D19: 1236412 | E19: 1236412 | F19: =E19/D19*100 -> 100 | G19: 60001100590
A20: SCHOLA SERVIS – zařízení pro další vzdělávání pedagogických pracovníků a středisko služeb školám, Prostějov - Rekonstrukce střechy, Olomoucká 25 | B20: 0 | D20: 999661 | E20: 999661 | F20: =E20/D20*100 -> 100 | G20: 60001100594
A21: Vyšší odborná škola a Střední škola automobilní, Zábřeh, U Dráhy 6 - střecha kinosálu a příslušenství | B21: 0 | D21: 1503556 | E21: 1503556 | F21: =E21/D21*100 -> 100 | G21: 60001100595
A22: Střední odborná škola gastronomie a potravinářství - vzduchotechnika ve školní kuchyni | B22: 0 | D22: 2365613 | E22: 2365612.8 | F22: =E22/D22*100 -> 99.999992 | G22: 60001100596
A23: Gymnázium, Jeseník, Komenského 281 - kotelna vyššího gymnázia | B23: 0 | D23: 2452472 | E23: 2452472 | F23: =E23/D23*100 -> 100 | G23: 60001100598
A24: Střední škola logistiky a chemie, Olomouc, U Hradiska 29 - vybudování výdejny stravy | B24: 0 | D24: 3223450 | E24: 3223449.1 | F24: =E24/D24*100 -> 99.999971 | G24: 60001100599
A25: Základní umělecká škola Miloslava Stibora - výtvarný obor, Olomouc, Pionýrská 4 - odstranění vlhkosti | B25: 0 | D25: 1592050 | E25: 1591956.8 | F25: 0 | G25: 60001100600
A26: Střední průmyslová škola stavební, Lipník nad Bečvou, Komenského sady 257 - stavební a dispoziční úpravy internátu školy | B26: 0 | D26: 2242170.7 | E26: 2242170.7 | F26: =E26/D26*100 -> 100 | G26: 60001100601
A27: Střední škola elektrotechnická, Lipník nad Bečvou, Tyršova 781 - Elektroinstalace domova mládeže Bratrská 1114 | B27: 0 | D27: 1052417 | E27: 1052417 | F27: =E27/D27*100 -> 100 | G27: 60001100602
A28: Střední průmyslová škola oděvní, Prostějov, Vápenice 1 - Domov mládeže Palečkova 1, Prostějov - stavební úpravy školy | B28: 0 | D28: 9066781 | E28: 9066781 | F28: =E28/D28*100 -> 100 | G28: 60001100603
A29: Střední odborná škola a Střední odborné učiliště, Uničov, Moravské nám. 681 - Dílny pro praktickou výuku | B29: 0 | D29: 3100000 | E29: 728640.6 | F29: =E29/D29*100 -> 23.504535 | G29: 60001100604
A30: Dětský domov a Školní jídelna, Olomouc, U Sportovní haly 1a - Kuchyňský blok | B30: 0 | D30: 1158217 | E30: 1158216.7 | F30: =E30/D30*100 -> 99.999974 | G30: 60001100605
A31: Gymnázium, Jeseník, Komenského 281 - Výdejna stravy | B31: 0 | D31: 2321930 | E31: 2321930 | F31: =E31/D31*100 -> 100 | G31: 60001100607
A32: Střední škola technická a obchodní, Olomouc, Kosinova 4 - Dlažba na chodbách školy | B32: 0 | D32: 1953335 | E32: 1953335 | F32: =E32/D32*100 -> 100 | G32: 60001100612
A33: Střední odborná škola a Střední odborné učiliště, Šumperk, Gen. Krátkého 30 - výměna kotlů | B33: 0 | D33: 2234708 | E33: 2234707.2 | F33: =E33/D33*100 -> 99.999964 | G33: 60001100623
A34: Gymnázium, Olomouc, Čajkovského 9 - výdejna stravy | B34: 0 | D34: 1346000 | E34: 1345674.6 | F34: =E34/D34*100 -> 99.975825 | G34: 60001100659
A36: Oblast školství celkem | B36: =B8 -> 0 | C36: =C8 -> 0 | D36: =D8 -> 66784772 | E36: =E8 -> 64374111 | F36: =E36/D36*100 -> 96.390404
A39: 2. Oblast sociální
A40: a) akce zajišťované odborem investic a evropských programů | I40: v Kč
A41: název akce | B41: schválený rozpočet | C41: upravený rozpočet | D41: upravený rozpočet | E41: skutečnost | F41: %
A42: oblast sociální | B42: =SUM(B43:C56) -> 0 | C42: =SUM(C43:D56) -> 55835151 | D42: =SUM(D43:D56) -> 55835151 | E42: =SUM(E43:E56) -> 54031563 | F42: =E42/D42*100 -> 96.769799 | G42: 60002100257
A43: Domov důchodců Hrubá Voda - Stavební úpravy budovy pro muže | B43: 0 | D43: 2230995.6 | E43: 2230995.6 | F43: =E43/D43*100 -> 100 | G43: 60002100261
A44: Vincentinum - poskytovatel soc. služeb Šternberk - Stavební úpravy Zeleného domova | B44: 0 | D44: 6194561 | E44: 6194561 | F44: =E44/D44*100 -> 100 | G44: 60002100262
A45: Vincentinum Šternberk - Úprava venkovních prostor pro imobilní uživatele | B45: 0 | D45: 2901000 | E45: 1835042 | F45: =E45/D45*100 -> 63.255498 | G45: 60002100272
A46: Domov důchodců Prostějov - Koupelna III. oddělení včetně vybavení | B46: 0 | D46: 1093583 | E46: 1093583 | F46: =E46/D46*100 -> 100 | G46: 60002100351
A47: Domov Na zámečku Rokytnice - Sociální zařízení na pokojích a rozvody zdravotechniky | B47: 0 | D47: 9379202 | E47: 9379202 | F47: =E47/D47*100 -> 100 | G47: 60002100392
A48: PO v soc. oblasti - Zavedení digitalizace TV | B48: 0 | D48: 117367.2 | E48: 117367.2 | F48: =E48/D48*100 -> 100 | G48: 60002100400
A49: Domov důchodců Prostějov - Úprava vchodu do budovy | B49: 0 | D49: 14600505 | E49: 13913512 | F49: =E49/D49*100 -> 95.294729 | G49: 60002100408
A50: Nové Zámky - poskytovatel sociálních služeb - Garážová vrata a příjezdová komunikace | B50: 0 | D50: 2047273.6 | E50: 2047273.6 | F50: =E50/D50*100 -> 100 | G50: 60002100411
A51: Domov "Na Zámku" - Rekonstrukce kuchyně | B51: 0 | D51: 2370745.6 | E51: 2370745.6 | F51: =E51/D51*100 -> 100 | G51: 60002100516
A52: Domov pro seniory Javorník - evakuační lůžkový výtah | B52: 0 | D52: 4643000 | E52: 4592364 | F52: =E52/D52*100 -> 98.909412 | G52: 60002100517
A53: Ústav sociální péče pro mládež Jeseník - Osobní výtah průchozí (lůžkový) | B53: 0 | D53: 1290400 | E53: 1290400 | F53: =E53/D53*100 -> 100 | G53: 60002100519
A54: Domov seniorů POHODA Chválkovice-Stravovací provoz | B54: 0 | D54: 3500000 | E54: 3500000 | F54: =E54/D54*100 -> 100 | G54: 60002100528
A55: Domov Na zámečku Rokytnice - Stavební úpravy pokojů | B55: 0 | D55: 4260817.2 | E55: 4260817.2 | F55: =E55/D55*100 -> 100 | G55: 60002100630
A56: Ústav sociální péče pro mládež Jeseník - Osobní výtah neprůchozí (lůžkový) | B56: 0 | D56: 1205700 | E56: 1205700 | F56: =E56/D56*100 -> 100
A58: Oblast sociální celkem | B58: =B42 -> 0 | C58: =C42 -> 55835151 | D58: =D42 -> 55835151 | E58: =E42 -> 54031563 | F58: =E58/D58*100 -> 96.769799
A63: 3. Oblast dopravy
A64: a) akce zajišťované odborem investic a evropských programů | I64: v Kč
A65: název akce | B65: schválený rozpočet | C65: upravený rozpočet | D65: upravený rozpočet | E65: skutečnost | F65: %
A66: oblast dopravy | B66: =SUM(B67:B76) -> 0 | C66: =SUM(C67:C76) -> 0 | D66: =SUM(D67:D76) -> 37322719 | E66: =SUM(E67:E76) -> 35190976 | F66: =E66/D66*100 -> 94.28835 | G66: 60004001600
A67: Pavlovice - Hradčany - I.úsek | D67: 4500000 | E67: 4500000 | F67: =E67/D67*100 -> 100 | G67: 60004001600
A68: Hranice - průtah (ulice 1.máje, plocha 7280 m2, 3 autobusové zálivy | D68: 7500000 | E68: 7500000 | F68: =E68/D68*100 -> 100 | G68: 60004001600
A69: Písařov - průtah | D69: 7500000 | E69: 7500000 | F69: =E69/D69*100 -> 100 | G69: 60004001600
A70: Sypače pro SSOK | D70: 8000000 | E70: 8000000 | F70: =E70/D70*100 -> 100 | G70: 60004100038
A71: Ostružná - obchvat, 1. etapa a 2. etapa | D71: 630000 | E71: 0 | F71: =E71/D71*100 -> 0 | G71: 60004100040
A72: Prostějov - přeložka silnice | D72: 230490 | E72: 0 | F72: =E72/D72*100 -> 0 | G72: 60004100041
A73: Přerov - úprava křižovatky silnic | D73: 559104 | E73: 0 | F73: =E73/D73*100 -> 0 | G73: 60004100112
A74: Bělkovice - Lašťany -obchvat | D74: 1176735 | E74: 539030 | F74: =E74/D74*100 -> 45.807255 | G74: 60004100139
A75: II/367 Bedihošť - Kojetín | D75: 4935000 | E75: 4860556 | F75: =E75/D75*100 -> 98.491511 | G75: 60004100648
A76: Slavonín - stavební úprava křižovatky | D76: 2291390 | E76: 2291390 | F76: =E76/D76*100 -> 100
A78: Oblast dopravy celkem | B78: =B66 -> 0 | C78: =C66 -> 0 | D78: =D66 -> 37322719 | E78: =E66 -> 35190976 | F78: =E78/D78*100 -> 94.28835
A80: 4. Oblast kultury | I80: v Kč
A81: a) akce zajišťované odborem investic a evropských programů
A82: název akce | B82: schválený rozpočet | C82: upravený rozpočet | D82: upravený rozpočet | E82: skutečnost | F82: % | G82: ORG
A83: oblast kultury | B83: =SUM(B84:B92) -> 0 | C83: =SUM(C84:C92) -> 0 | D83: =SUM(D84:D91) -> 68166550 | E83: =SUM(E84:E92) -> 52794392 | F83: =E83/D83*100 -> 77.449118 | G83: 60003100198
A84: Vlastivědné muzeum Jesenicka - Inženýrské sítě a fasáda | B84: 0 | D84: 3913645 | E84: 3820337 | F84: =E84/D84*100 -> 97.615829 | G84: 60003100283
A85: Vlastivědné muzeum Jesenicka -Stálá expozice čarodějnických procesů | B85: 0 | D85: 8759600 | E85: 8710938.2 | F85: =E85/D85*100 -> 99.444475 | G85: 60003100420
A86: Vlastivědné muzeum v Šumperku - Expozice archeologie v mohelnickém muzeu | B86: 0 | D86: 3440200 | E86: 3391132.2 | F86: =E86/D86*100 -> 98.573693 | G86: 60003100422
A87: Vlastivědné muzeum v Olomouci - Elektroinstalace | B87: 0 | D87: 28372100 | E87: 23598109 | F87: =E87/D87*100 -> 83.173642 | G87: 60003100424
A88: Vlastivědné muzeum v Olomouci - Tvorba stálých expozic | B88: 0 | D88: 10735329 | E88: 339600 | F88: =E88/D88*100 -> 3.1633871 | G88: 60003100640
A89: Muzeum Komenského v Přerově - Výměna a zateplení střešního pláště budovy Horní m.č.21, Přerov | B89: 0 | D89: 1456768 | E89: 1456768 | F89: =E89/D89*100 -> 100 | G89: 60003100641
A90: Vědecká knihovna v Olomouci - Rekonstrukce interiéru hlavní budovy | B90: 0 | D90: 6914828.2 | E90: 6914828.2 | F90: =E90/D90*100 -> 100 | G90: 60003100642
A91: Muzeum Komenského v Přerově - Rekonstrukce budovy Horní náměstí 7, Přerov | B91: 0 | D91: 4574080 | E91: 4562679 | F91: =E91/D91*100 -> 99.750748
A93: Oblast kultury celkem | B93: =SUM(B83) -> 0 | C93: =SUM(C83) -> 0 | D93: =SUM(D83) -> 68166550 | E93: =SUM(E83) -> 52794392 | F93: =E93/D93*100 -> 77.449118
A95: 5. Oblast zdravotnictví | I95: v Kč
A96: a) akce zajišťované odborem investic a evropských programů
A97: název akce | B97: schválený rozpočet | C97: upravený rozpočet | D97: upravený rozpočet | E97: skutečnost | F97: % | G97: 60005100434
A98: oblast zdravotnictví | B98: =SUM(B99:B104) -> 0 | C98: =SUM(C99:C104) -> 0 | D98: =SUM(D99:D104) -> 14928250 | E98: =SUM(E99:E104) -> 11669902 | F98: =E98/D98*100 -> 78.173276 | G98: 60005100435
A99: Odborný léčebný ústav neurologicko-geriatrický Moravský Beroun, přísp. org. - Termofasáda pavilonu 2 | D99: 358979 | E99: 358979 | F99: =E99/D99*100 -> 100 | G99: 60005100542
A100: Odborný léčebný ústav neurologicko-geriatrický Moravský Beroun, přísp. org. - Rekonstrukce komunikace a odpočinkové plochy za pavilonem 1 | D100: 1228815 | E100: 1228815 | F100: =E100/D100*100 -> 100 | G100: 60005100572
A101: Zdravotnická záchranná služba Olomouckého kraje - Dostavba garáží k provozní budově letecké služby | D101: 2201456 | E101: 2201456 | F101: =E101/D101*100 -> 100 | G101: 60005100652
A102: Zdravotnická záchranná služba Olomouckého kraje - Stavební úpravy objektu v Konici | D102: 2644809.3 | E102: 2587787.4 | F102: =E102/D102*100 -> 97.844007 | G102: 60005100653
A103: Odborný léčebný ústav neurologicko-geriatrický Moravský Beroun - Výtah v pavilonu 1 | D103: 1835190.7 | E103: 1823737.2 | F103: =E103/D103*100 -> 99.375896
A104: Odborný léčebný ústav neurologicko-geriatrický Moravský Beroun - Rekonstrukce a dostavba oddělení rehabilitace | D104: 6659000 | E104: 3469127.5 | F104: =E104/D104*100 -> 52.096824 | G104: ORG
A106: Oblast zdravotnictví celkem | B106: =B98 -> 0 | C106: =C98 -> 0 | D106: =D98 -> 14928250 | E106: =E98 -> 11669902 | F106: =E106/D106*100 -> 78.173276
A108: Rekapitulace:
A109: - oblast školství | B109: =SUM(B36) -> 0 | C109: =SUM(C36) -> 0 | D109: =SUM(D36) -> 66784772 | E109: =SUM(E36) -> 64374111 | F109: =E109/D109*100 -> 96.390404
A110: - oblast sociální | B110: =SUM(B58) -> 0 | C110: =SUM(C58) -> 55835151 | D110: =SUM(D58) -> 55835151 | E110: =SUM(E58) -> 54031563 | F110: =E110/D110*100 -> 96.769799
A111: - oblast dopravy | B111: =SUM(B78) -> 0 | C111: =SUM(C78) -> 0 | D111: =SUM(D78) -> 37322719 | E111: =SUM(E78) -> 35190976 | F111: =E111/D111*100 -> 94.28835
A112: - oblast kultury | B112: =SUM(B93) -> 0 | C112: =SUM(C93) -> 0 | D112: =SUM(D93) -> 68166550 | E112: =SUM(E93) -> 52794392 | F112: =E112/D112*100 -> 77.449118
A113: - oblast zdravotnictví | B113: =SUM(B106) -> 0 | C113: =SUM(C106) -> 0 | D113: =SUM(D106) -> 14928250 | E113: =SUM(E106) -> 11669902 | F113: =E113/D113*100 -> 78.173276
A114: Celkem | B114: =SUM(B109:B113) -> 0 | C114: =SUM(C109:C113) -> 55835151 | D114: =SUM(D109:D113) -> 2.4303744e+08 | E114: =SUM(E109:E113) -> 2.1806094e+08 | F114: =E114/D114*100 -> 89.72319
A120: 8115 - pokračující z let minulých | B120: 41142000
A121: 8123 - nové | B121: 238381000
...

Sheet 8c. SFDI 2011
A1: 8. Investiční akce Olomouckého kraje 2011
A2: c) Financovano z z dotace Státního fondu dopravní infrastruktury
A3: Schváleno usnesením Zastupitelstva Olomouckého kraje UZ/19/9/2011 z 22.4.2011, ve výši 22 823 000,- Kč
A5: akce zajišťované odborem investic a evropských programů | I5: v Kč
A6: název akce | F6: schválený rozpočet | G6: upravený rozpočet | H6: skutečnost | I6: %
A7: oblast dopravy | F7: =SUM(F8:F8) -> 0 | G7: =SUM(G8:G8) -> 22823000 | H7: =SUM(H8:H8) -> 22809821 | I7: =H7/G7*100 -> 99.942256
A8: - III/44311 Dolany - průtah, most | F8: 0 | G8: 22823000 | H8: 22809821 | I8: =H8/G8*100 -> 99.942256 | J8: 100114
A9: Celkem | F9: =SUM(F7) -> 0 | G9: =SUM(G7) -> 22823000 | H9: =SUM(H7) -> 22809821 | I9: =H9/G9*100 -> 99.942256
A13: Rekapitulace:
A14: - oblast dopravy | F14: =F7 -> 0 | G14: =G7 -> 22823000 | H14: =H7 -> 22809821 | I14: =H14/G14*100 -> 99.942256
A15: Celkem | F15: =SUM(F14:F14) -> 0 | G15: =SUM(G14:G14) -> 22823000 | H15: =SUM(H14:H14) -> 22809821 | I15: =H15/G15*100 -> 99.942256

Sheet 8d. OK 2011
A1: 8. Investiční akce Olomouckého kraje
A2: d) Financováno z rozpočtu Olomouckého kraje
A4: 1. Oblast školství
A5: a) akce zajišťované odborem investic a evropských programů | E5: v Kč
A6: název akce | B6: schválený rozpočet | C6: upravený rozpočet | D6: skutečnost | E6: %
A7: oblast školství | B7: =SUM(B8:B89) -> 118391000 | C7: =SUM(C8:C89) -> 48800858 | D7: =SUM(D8:D89) -> 40098375 | E7: =D7/C7*100 -> 82.167357
A8: - SPŠ Přerov, Havlíčkova - výstavba tělocvičny | B8: 0 | C8: 2000 | D8: 300 | E8: =D8/C8*100 -> 15 | F8: 100192
A9: - Základní škola Šternberk - Sociální zařízení | B9: 3000000 | C9: 0 | D9: 0 | E9: 0 | F9: 100214
A10: - Střední škola zemědělská, Přerov, Osmek 47-rekonstrukce budovy Kovárny | B10: 1200000 | C10: 0 | D10: 0 | E10: 0 | F10: 100237
A11: - Gymnázium, Olomouc, Čajkovského 9 - Sportovní víceúčelové hřiště | B11: 92000 | C11: 2224320 | D11: 2120596.6 | E11: =D11/C11*100 -> 95.336848 | F11: 100354
A12: - Gymnázium, Olomouc - Hejčín, Tomkova 45 - Sociální zařízení na budově C | B12: 3277000 | C12: 0 | D12: 0 | E12: 0 | F12: 100355
A13: - Dětský domov a Školní jídelna, Hranice, Purgešova 4 - Zateplení fasády | B13: 3840000 | C13: 0 | D13: 0 | E13: 0 | F13: 100357
A14: - Střední zdravotnická škola a Vyšší odborná škola zdravotnická Emanuela Pöttinga, Olomouc, Pöttingova 2 - Rekonstrukce osvětlení a elektroinstalace | B14: 4300000 | C14: 175406 | D14: 158127 | E14: 0 | F14: 100361
A15: - Střední škola řezbářská, Tovačov, Nádražní 146 - Střecha na strojní dílně | B15: 480000 | C15: 0 | D15: 0 | E15: 0 | F15: 100366
A16: - SŠ sociální péče a služeb, Zábřeh, nám. 8. května 2 - Pojízdná plošina pro tělesně handicapované | B16: 2000000 | C16: 23000 | D16: 22848 | E16: =D16/C16*100 -> 99.33913 | F16: 100370
A17: - Obchodní akademie Prostějov - Kotelna | B17: 1200000 | C17: 1720746 | D17: 1720746 | E17: =D17/C17*100 -> 100 | F17: 100382
A18: - Střední odborná škola, Šumperk, Zemědělská 3 - Střecha nad šatnami | B18: 0 | C18: 272 | D18: 272 | E18: 0 | F18: 100384
A19: - Dětský domov a Školní jídelna, Jeseník, Priessnitzova 405 - Zdravotechnika | B19: 1000000 | C19: 1139882 | D19: 1139882 | E19: 0 | F19: 100389
A20: - Střední odborná škola a Střední odborné učiliště strojírenské a stavební, Jeseník, Dukelská 1240 - | B20: 1545000 | C20: 0 | D20: 0 | E20: 0 | F20: 100391
A21: - Dostavba budovy Slovanského gymnázia Olomouc | B21: 4167000 | C21: 2021000 | D21: 1970600 | E21: =D21/C21*100 -> 97.506185 | F21: 100537
A22: - Stavební úpravy Střední, Základní a Mateřské školy Prostějov pro potřeby Základní školy a Dětského domova Prostějov v objektu Tetín 5 a 7 Prostějov | B22: 7537000 | C22: 1238380 | D22: 1238380 | E22: =D22/C22*100 -> 100 | F22: 100538
A23: - Střední odborné učiliště potravinářské, Jeseník, U Jatek 8 - Sedlová střecha na objektu tělocvičny | B23: 844000 | C23: 471060 | D23: 471060 | E23: =D23/C23*100 -> 100 | F23: 100539
A24: - Vzdělávací centrum pro slabozraké Olomouc - Hejčín -výstavba nového zařízení | B24: 24874000 | C24: 24838688 | D24: 18302638 | E24: =D24/C24*100 -> 73.68601 | F24: 100565
A25: - Gymnázium, Olomouc, Čajkovského 9 - Výstavba tělocvičny | B25: 4000000 | C25: 0 | D25: 0 | E25: 0 | F25: 100582
A26: - Střední průmyslová škola strojnická, Olomouc, tř. 17. listopadu 49 - rekonstrukce osvětlení a elektroinstalace | B26: 360000 | C26: 366000 | D26: 366000 | E26: =D26/C26*100 -> 100 | F26: 100583
A27: - Obchodní akademie, Mohelnice, Olomoucká 82 - výměna elektrických rozvodů | B27: 200000 | C27: 240000 | D27: 240000 | E27: =D27/C27*100 -> 100 | F27: 100585
A28: - Obchodní akademie a Jazyková škola s právem státní jazykové zkoušky, Přerov, Bartošova 24 - sprchy a šatny u tělocvičny | B28: 55000 | C28: 46000 | D28: 46000 | E28: =D28/C28*100 -> 100 | F28: 100586
A29: - Střední oborná škola, Šumperk, Zemědělská 3 - odstranění vlhkosti | B29: 100000 | C29: 99000 | D29: 99000 | E29: =D29/C29*100 -> 100 | F29: 100587
A30: - Střední zdravotnická škola a Vyšší odborná škola zdravotnická Emanuela Pöttinga, Olomouc, Pöttingova 2 - rekonstrukce WC v budově C, I. etapa | B30: 50000 | C30: 50000 | D30: 49800 | E30: =D30/C30*100 -> 99.6 | F30: 100588
A31: - Dětský domov a Školní jídelna, Olomouc, U Sportovní haly 1a - elektrorozvody na chodbách | B31: 500000 | C31: 325750 | D31: 325749 | E31: =D31/C31*100 -> 99.999693 | F31: 100589
A32: - Střední průmyslová škola a Obchodní akademie, Uničov, Školní 164 - kotelna na domově mládeže | B32: 900000 | C32: 0 | D32: 0 | E32: 0 | F32: 100590
A33: - Gymnázium, Šternberk, Horní náměstí 5 - Kanalizace | B33: 550000 | C33: 0 | D33: 0 | E33: 0 | F33: 100591
A34: - Střední škola polygrafická, Olomouc, Střední Novosadská 55 - rozvody slaboproudu | B34: 350000 | C34: 348849 | D34: 348848.99 | E34: =D34/C34*100 -> 99.999997 | F34: 100592
A35: - Střední škola polygrafická, Olomouc, Střední Novosadská 55 - strukturovaná kabeláž a konfigurace stávajících kabeláží a serveru PC sítě včetně Upgrade serveru | B35: 350000 | C35: 344326 | D35: 344326 | E35: =D35/C35*100 -> 100 | F35: 100593
A36: - SCHOLA SERVIS – zařízení pro další vzdělávání pedagogických pracovníků a středisko služeb školám, Prostějov - úprava vjezdu, Olomoucká 25 | B36: 780000 | C36: 0 | D36: 0 | E36: 0 | F36: 100594
A37: - Vyšší odborná škola a Střední škola automobilní, Zábřeh, U Dráhy 6 - střecha kinosálu a příslušenství | B37: 800000 | C37: 0 | D37: 0 | E37: 0 | F37: 100595
A38: - Střední odborná škola gastronomie a potravinářství - vzduchotechnika ve školní kuchyni | B38: 1000000 | C38: 0 | D38: 0 | E38: 0 | F38: 100596
A39: - Střední odborná škola gastronomie a potravinářství, Jeseník, U Jatek 8 - udírenská komora | B39: 800000 | C39: 0 | D39: 0 | E39: 0 | F39: 100597
A40: - Gymnázium, Jeseník, Komenského 281 - kotelna vyššího gymnázia | B40: 2500000 | C40: 0 | D40: 0 | E40: 0 | F40: 100598
A41: - Střední škola logistiky a chemie, Olomouc, U Hradiska 29 - vybudování výdejny stravy | B41: 2500000 | C41: 0 | D41: 0 | E41: 0 | F41: 100599
A42: - Základní umělecká škola Miloslava Stibora - výtvarný obor, Olomouc, Pionýrská 4 - odstranění vlhkosti | B42: 1458000 | C42: 0 | D42: 0 | E42: 0 | F42: 100600
A43: - Střední průmyslová škola stavební, Lipník nad Bečvou, Komenského sady 257 - stavební a dispoziční úpravy internátu školy | B43: 1900000 | C43: 0 | D43: 0 | E43: 0 | F43: 100601
A44: - Střední škola elektrotechnická, Lipník nad Bečvou, Bratrská 1114 -Elektroinstalace domova mládeže | B44: 1580000 | C44: 0 | D44: 0 | E44: 0 | F44: 100602
A45: - Střední průmyslová škola oděvní, Prostějov, Vápenice 1 -Domov mládeže Palečkova 1, Prostějov - stavební úpravy školy | B45: 11735000 | C45: 0 | D45: 0 | E45: 0 | F45: 100603
A46: - Střední odborná škola a Střední odborné učiliště, Uničov, Moravské nám. 681 -Dílny pro praktickou výuku | B46: 4300000 | C46: 0 | D46: 0 | E46: 0 | F46: 100604
A47: - Dětský domov a Školní jídelna, Olomouc, U Sportovní haly 1a - kuchyňský blok | B47: 1100000 | C47: 0 | D47: 0 | E47: 0 | F47: 100605
A48: - Střední škola zemědělská, Přerov, Osmek 47 - horkovodní přípojka | B48: 2100000 | C48: 0 | D48: 0 | E48: 0 | F48: 100606
A49: - Gymnázium, Jeseník, Komenského 281 - výdejna stravy | B49: 1300000 | C49: 200000 | D49: 200000 | E49: =D49/C49*100 -> 100 | F49: 100607
A50: - Základní škola a Mateřská škola logopedická Olomouc - propojovací teplovody | B50: 800000 | C50: 0 | D50: 0 | E50: 0 | F50: 100608
A51: - Střední průmyslová škola Hranice - výtah na domově mládeže | B51: 1000000 | C51: 0 | D51: 0 | E51: 0 | F51: 100609
A52: - Gymnázium, Šternberk, Horní náměstí 5 - výměna kotlů | B52: 300000 | C52: 0 | D52: 0 | E52: 0 | F52: 100610
A53: - Střední škola, Olomouc-Svatý Kopeček, Křičkova 4 - Oplocení areálu školy | B53: 900000 | C53: 54500 | D53: 54500 | E53: =D53/C53*100 -> 100 | F53: 100611
A54: - Střední škola technická a obchodní, Olomouc, Kosinova 4 - Dlažba na chodbách školy | B54: 1800000 | C54: 0 | D54: 0 | E54: 0 | F54: 100612
A55: - Střední zdravotnická škola a Vyšší odborná škola zdravotnická Emanuela Pöttinga, Olomouc, Pöttingova 2 - výměna oken na Domově mládeže a budově školy | B55: 1200000 | C55: 791365 | D55: 791365 | E55: =D55/C55*100 -> 100 | F55: 100613
A56: - Střední zdravotnická škola a Vyšší odborná škola zdravotnická Emanuela Pöttinga, Olomouc, Pöttingova 2 - oprava střechy na objektu C | B56: 570000 | C56: 0 | D56: 0 | E56: 0 | F56: 100614
A57: - Základní umělecká škola Iši Krejčího Olomouc, Na Vozovce 32 - střecha na detašovaném pracovišti Jílová 43 A | B57: 580000 | C57: 371872 | D57: 371872 | E57: =D57/C57*100 -> 100 | F57: 100615
A58: - Střední zdravotnická škola, Hranice, Studentská 1095 - výměna oken | B58: 850000 | C58: 939827 | D58: 939827 | E58: =D58/C58*100 -> 100 | F58: 100616
A59: - Střední lesnická škola, Hranice, Jurikova 588 - kanalizace a rozvody vody na domově mládeže Teplická | B59: 1405000 | C59: 738517 | D59: 738516.59 | E59: =D59/C59*100 -> 99.999944 | F59: 100617
A60: - Obchodní akademie, Prostějov, Palackého 18 - odstranění a stavba zdi | B60: 250000 | C60: 0 | D60: 0 | E60: 0 | F60: 100618
A61: - Střední škola železniční a stavební, Šumperk, Bulharská 8 - podlaha v tělocvičně | B61: 1100000 | C61: 1028525 | D61: 1028525 | E61: =D61/C61*100 -> 100 | F61: 100619
A62: - Střední škola zemědělská Šumperk - kotelna na domově mládeže II.etapa | B62: 400000 | C62: 0 | D62: 0 | E62: 0 | F62: 100620
A63: - Střední odborná škola, Šumperk, Zemědělská 3 - výměna oken | B63: 950000 | C63: 1032680 | D63: 1032678 | E63: =D63/C63*100 -> 99.999806 | F63: 100622
A64: - Střední škola, Základní škola a Mateřská škola Šumperk, Hanácká 3 - plochá střecha | B64: 500000 | C64: 532123 | D64: 58260 | E64: =D64/C64*100 -> 10.948596 | F64: 100621
E65: v Kč
A66: název akce | B66: schválený rozpočet | C66: upravený rozpočet | D66: skutečnost | E66: %
A67: - Střední odborná škola a Střední odborné učiliště, Šumperk, Gen. Krátkého 30 - výměna kotlů | B67: 2212000 | C67: 0 | D67: 0 | E67: 0 | F67: 100623
A68: - Střední odborná škola gastronomie a potravinářství, Jeseník, U Jatek 8 - podlaha v tělocvičně | B68: 1200000 | C68: 0 | D68: 0 | E68: 0 | F68: 100624
A69: - Základní škola Jeseník, Fučíkova 312 - výměna střešní krytiny | B69: 600000 | C69: 780389.89 | D69: 780182.83 | E69: =D69/C69*100 -> 99.973467 | F69: 100625
A70: - Hotelová škola Vincenze Priessnitze, Jeseník, Dukelská 680 - výměna střešní krytiny | B70: 550000 | C70: 1254840 | D70: 1254751 | E70: =D70/C70*100 -> 99.992908 | F70: 100626
A71: - Gymnázium, Olomouc, Čajkovského 9 - výdejna stravy | B71: 600000 | C71: 0 | D71: 0 | E71: 0 | F71: 100659
A72: - ZŠ a DD Zábřeh, Sušilova 40 - Oprava střech | B72: 0 | C72: 2443000 | D72: 1892759 | E72: =D72/C72*100 -> 77.476832 | F72: 100688
A73: - ZŠ Vlčice - Oprava střechy | B73: 0 | C73: 600000 | D73: 15473 | E73: =D73/C73*100 -> 2.5788333 | F73: 100689
A74: - Integrace handicapovaných dětí do vytipovaných škol a školských zařízení v Olomouckém kraji | B74: 0 | C74: 5000 | D74: 1800 | E74: =D74/C74*100 -> 36 | F74: 100087 | G74: ORJ 30
A75: - Energeticky úsporná opatření - Obchodní akademie Mohelnice | B75: 0 | C75: 132400 | D75: 128868 | E75: =D75/C75*100 -> 97.332326 | F75: 100133 | G75: ORJ 30
A76: - Energeticky úsporná opatření - SŠ polygrafická Olomouc | B76: 0 | C76: 20000 | D76: 0 | E76: =D76/C76*100 -> 0 | F76: 100134 | G76: ORJ 30
A77: - Realizace energeticky úsporných opatření - SPŠ a OA Uničov | B77: 0 | C77: 154400 | D77: 154392 | E77: =D77/C77*100 -> 99.994819 | F77: 100221 | G77: ORJ 30
A78: - Realizace energeticky úsporných opatření - SOŠ a SOU Jeseník | B78: 0 | C78: 259640 | D78: 224640 | E78: =D78/C78*100 -> 86.519797 | F78: 100461 | G78: ORJ 30
A79: - Realizace energeticky úsporných opatření - SPŠ strojnická Olomouc | B79: 0 | C79: 206100 | D79: 206100 | E79: =D79/C79*100 -> 100 | F79: 100462 | G79: ORJ 30
A80: - Realizace energeticky úsporných opatření - SŠ technická Přerov | B80: 0 | C80: 154400 | D80: 132420 | E80: =D80/C80*100 -> 85.764249 | F80: 100464 | G80: ORJ 30
A81: - Realizace energeticky úsporných opatření - Gymnázium J. Wolkera Prostějov | B81: 0 | C81: 54000 | D81: 54000 | E81: =D81/C81*100 -> 100 | F81: 100467 | G81: ORJ 30
A82: - Realizace energeticky úsporných opatření - ZŠ Vlčice | B82: 0 | C82: 6000 | D82: 6000 | E82: =D82/C82*100 -> 100 | F82: 100468 | G82: ORJ 30
A83: - Realizace energeticky úsporných opatření - ZŠ a DD Zábřeh | B83: 0 | C83: 54000 | D83: 54000 | E83: =D83/C83*100 -> 100 | F83: 100471 | G83: ORJ 30
A84: - Realizace energeticky úsporných opatření - SOU obchodní Prostějov | B84: 0 | C84: 76000 | D84: 73872 | E84: =D84/C84*100 -> 97.2 | F84: 100472 | G84: ORJ 30
A85: - Realizace energeticky úsporných opatření - VOŠ a SŠ automobilní Zábřeh | B85: 0 | C85: 13200 | D85: 13200 | E85: =D85/C85*100 -> 100 | F85: 100510 | G85: ORJ 30
... A88: - Centrum vzdělávání na SPŠ strojnické Olomouc | B88: 0 | C88: 924000 | D88: 805200 | E88: =D88/C88*100 -> 87.142857 | F88: 100573 | G88: ORJ 30
A89: - Rekonstrukce dílen Střední školy železniční a stavební, Šumperk, Bulharská 8 | B89: 0 | C89: 265000 | D89: 102000 | E89: =D89/C89*100 -> 38.490566 | F89: 100575 | G89: ORJ 30 | H89: =SUM(C74:C89) -> 2358540 | I89: =SUM(D74:D89) -> 1974492
A91: b/ akce zajišťované příspěvkovými organizacemi | E91: v Kč
A92: název akce | B92: schválený rozpočet | C92: upravený rozpočet | D92: skutečnost | E92: %
A93: oblast školství | B93: =SUM(B94:B103) -> 0 | C93: =SUM(C94:C103) -> 5537000 | D93: =SUM(D94:D103) -> 5537000 | E93: =D93/C93*100 -> 100
A94: - Gymnázium, Horní náměstí 5, Šternberk | B94: 0 | C94: 300000 | D94: 300000 | F94: 1104
A95: - Střední odborná škola a střední odborné učiliště, gen. Krátkého 30, Šumperk | B95: 0 | C95: 390000 | D95: 390000 | F95: 1140
A96: - Obchodní akademie, Palackého 18, Prostějov | B96: 0 | C96: 250000 | D96: 250000 | F96: 1151
A97: - Střední zdravotnická škola a vyšší odborná škola zdravotnická Emanuela Pöttinga, Pöttingova 2, Olomouc | B97: 0 | C97: 570000 | D97: 570000 | F97: 1160
A98: - Střední zdravotnická škola, Kladská 2, Šumperk | B98: 0 | C98: 400000 | D98: 400000 | F98: 1163
A99: - Gymnázium, Horní náměstí 5, Šternberk | B99: 0 | C99: 350000 | D99: 350000 | F99: 1104
A100: - Střední škola řezbářská, Nádražní 146, Tovačov | B100: 0 | C100: 400000 | D100: 400000 | F100: 1216
A101: - Střední škola sociální péče a služeb, nám. 8. května č. 2, Zábřeh | B101: 0 | C101: 38000 | D101: 38000 | F101: 1223
A102: - Střední odborná škola gastronomie a potravinářství, U jatek 8, Jeseník | B102: 0 | C102: 800000 | D102: 800000 | F102: 1226
A103: - Střední škola zemědělská U Hadiska 4, Olomouc - rekonstrukce kotelny | B103: 0 | C103: 2039000 | D103: 2039000 | F103: 1123 | G103: UZ 24
A105: Oblast školství celkem | B105: =SUM(B93,B7) -> 118391000 | C105: =SUM(C93,C7) -> 54337858 | D105: =SUM(D93,D7) -> 45635375 | E105: =D105/C105*100 -> 83.984494
...

Sheet 8e. povodně 2011
A1: 8. Investiční akce Olomouckého kraje 2011
A2: e) Plán obnovy úseků silnic a silničních objektů po povodních v Olomouckém kraji - financováno z rozpočtu Olomouckého kraje a z Ministerstva pro místní rozvoj
A5: 1. Oblast dopravy
A6: a) akce zajišťované odborem investic a evropských programů - z rozpočtu Olomouckého kraje
F7: v Kč
A8: název akce | C8: schválený rozpočet | D8: upravený rozpočet | E8: skutečnost | F8: % | H8: UZ 18
A9: III/4562 | B9: Nová Červená Voda | C9: 0 | D9: 2066775 | E9: 1033385 | F9: =E9/D9*100 -> 49.999879 | H9: 60004100459
A10: II/377 | B10: v Plumlově - sanace svahu | C10: 0 | D10: 3076 | E10: 3076 | F10: 0 | H10: 60004100566
A11: 43911-5 | B11: most Hustopeče nad Bečvou | C11: 2904000 | D11: 3552525 | E11: 3552368.4 | F11: 0 | H11: 60004100569
A12: II/438 | B12: Opatovice | C12: 500000 | D12: 1125924 | E12: 1118688 | F12: 0 | H12: 60004100570
A13: 4535-3 | B13: směr N. Vilémovice (Uhelná) | C13: 500000 | D13: 790000 | E13: 773944 | F13: =E13/D13*100 -> 97.967595 | H13: 60004100479
A14: 438-001 | B14: Teplice nad Bečvou | C14: 2000000 | D14: 4444123.5 | E14: 4430664.4 | F14: =E14/D14*100 -> 99.697149 | H14: 60004100567
A15: Celkem | C15: =SUM(C9:C14) -> 5904000 | D15: =SUM(D9:D14) -> 11982423 | E15: =SUM(E9:E14) -> 10912126 | F15: =E15/D15*100 -> 91.06777
A19: b) akce zajišťované odborem investic a evropských programů - z Ministerstva pro Mísní rozvoj ČR - limitky | F19: v Kč
A20: název akce | C20: schválený rozpočet | D20: upravený rozpočet | E20: skutečnost | F20: %
A21: 43911-5 | B21: most Hustopeče nad Bečvou | C21: 0 | D21: 784704 | E21: 784704 | F21: =E21/D21*100 -> 100 | H21: 60004100569
A22: 438-001 | B22: Teplice nad Bečvou | C22: 0 | D22: 1131870 | E22: 1131870 | F22: =E22/D22*100 -> 100 | H22: 60004100567
A23: Celkem | C23: =SUM(C21:C22) -> 0 | D23: =SUM(D21:D22) -> 1916574 | E23: =SUM(E21:E22) -> 1916574 | F23: =E23/D23*100 -> 100
A25: Povodně celkem | C25: =SUM(C23,C15) -> 5904000 | D25: =SUM(D23,D15) -> 13898997 | E25: =SUM(E23,E15) -> 12828700 | F25: =E25/D25*100 -> 92.299461

Sheet f) dotace
A1: 8. Investiční akce Olomouckého kraje 2011
A2: f) Financováno z účelové dotace poskytnuté ze státního rozpočtu
A4: 1. Oblast školství
A5: a) akce zajišťované odborem investic a evropských programů - účelová dotace z MŽP a SFŽP | E5: v Kč
A6: název akce | B6: schválený rozpočet | C6: upravený rozpočet | D6: skutečnost | E6: %
A7: oblast dopravy | B7: =SUM(B8:B8) -> 0 | C7: =SUM(C8:C8) -> 6623898.7 | D7: =SUM(D8:D8) -> 6623898.7 | E7: =D7/C7*100 -> 100 | F7: ORG | G7: UZ
A8: - Realizace energeticky úsporných opatření - ZŠ a DD Zábřeh | B8: 0 | C8: =367994.37+6255904.37 -> 6623898.7 | D8: =367994.37+6255904.37 -> 6623898.7 | E8: =D8/C8*100 -> 100 | F8: 6001100471 | G8: 53190877+52515835
A11: Oblast školství celkem | B11: =SUM(B7) -> 0 | C11: =SUM(C7) -> 6623898.7 | D11: =SUM(D7) -> 6623898.7 | E11: =D11/C11*100 -> 100
A13: 2. Oblast dopravy
A14: a) akce zajišťované odborem majetkovým a právním - účelová dotace z MF ČR | E14: v Kč
A15: název akce | B15: schválený rozpočet | C15: upravený rozpočet | D15: skutečnost | E15: %
A16: oblast dopravy | B16: =SUM(B17:B17) -> 0 | C16: =SUM(C17:C17) -> 886367 | D16: =SUM(D17:D17) -> 428614.9 | E16: =D16/C16*100 -> 48.356369 | F16: ORG | G16: UZ
A17: - výkup pozemků | B17: 0 | C17: 886367 | D17: 428614.9 | E17: =D17/C17*100 -> 48.356369 | F17: 60004000000 | G17: 98861
A19: Oblast dopravy celkem | B19: =SUM(B16) -> 0 | C19: =SUM(C16) -> 886367 | D19: =SUM(D16) -> 428614.9 | E19: =D19/C19*100 -> 48.356369
A22: Rekapitulace:
A23: - oblast školství | B23: =B11 -> 0 | C23: =C11 -> 6623898.7 | D23: =D11 -> 6623898.7 | E23: =D23/C23*100 -> 100
A24: - oblast dopravy | B24: =B19 -> 0 | C24: =C19 -> 886367 | D24: =D19 -> 428614.9 | E24: =E19 -> 48.356369
A25: Celkem | B25: =SUM(B23:B24) -> 0 | C25: =SUM(C23:C24) -> 7510265.7 | D25: =SUM(D23:D24) -> 7052513.6 | E25: =D25/C25*100 -> 93.904981
