Workbook

Sheet rekapitulace
A1: 11. Příspěvky a dotace poskytnuté z rozpočtu Olomouckého kraje v roce 2011
A3: Rekapitulace
E4: v Kč
A5: Příjemce | C5: Skutečnost | E5: Vráceno v roce 2012
A6: 1 | B6: Významné projekty (ÚZ 01) | C6: =SUM('dotace '!C125) -> 54269720 | E6: 116173
A7: 2 | B7: Příspěvky do 25 tis. Kč ( ÚZ 02 ) | C7: =SUM('dotace '!C1012) -> 19492640 | E7: 27010
A8: 3 | B8: Dotace na jednotky sborů dobrovolných hasičů - z rozpočtu kraje ( ÚZ 08 ) | C8: =SUM('dotace '!C1181) -> 6059485.5 | E8: 35
A9: 4 | B9: Financování základních složek IZS ( ÚZ 09 )- z rezervy hejtmana pro krizové řízení | C9: =SUM('dotace '!C1191) -> 1925000 | E9: =SUM('dotace '!E1191) -> 0
A10: 5 | B10: Ostatní příspěvky ( ÚZ 16 ) | C10: =SUM('dotace '!C1258) -> 48153046 | E10: 95676.86
A11: 6 | B11: Program obnovy venkova ( ÚZ 17 ) | C11: =SUM('dotace '!C1413) -> 44375629 | E11: 16388
A12: 7 | B12: Přebytek hospodaření Olomouckého kraje ( ÚZ 24 ) | C12: =SUM('dotace '!C1435) -> 8369195 | E12: =SUM('dotace '!E1435) -> 0
A13: 8 | B13: Plán OK na zmírnění dopadů hospodářské krize - příspěvek na zateplení, výměna otvorových výplní ( ÚZ 29 ) | C13: =SUM('dotace '!C1724) -> 4409408 | E13: 0
A14: 9 | B14: Finanční příspěvky v oblasti sportu ( ÚZ 105 ) | C14: =SUM('dotace '!C2173) -> 37067000 | E14: 0
A15: 10 | B15: Stipendijní řád Olomouckého kraje ( ÚZ 110 ) | C15: =SUM('dotace '!C2299) -> 1602500 | E15: =SUM('dotace '!E2299) -> 0
A16: 11 | B16: Environmentální vzdělávání, výchova a osvěta (EVVO) ( ÚZ 112 ) | C16: =SUM('dotace '!C2340) -> 665890 | E16: 0
A17: 12 | B17: Talent Olomouckého kraje ( ÚZ 114 ) | C17: =SUM('dotace '!C2409) -> 230000 | E17: 0
A18: 13 | B18: Stipendia pro žáky učebních oborů ( ÚZ 115 ) | C18: =SUM('dotace '!C2449) -> 4427200 | E18: 0
A19: 14 | B19: Příspěvky vysokým školám ( ÚZ 116 ) | C19: ='dotace '!C2460 -> 13500000
A20: 15 | B20: Příspěvky divadlům a filharmoniím ( ÚZ 200 ) | C20: =SUM('dotace '!C2470) -> 2000000 | E20: 0
A21: 16 | B21: Neinvestiční dotace pro knihovny ( ÚZ 204 ) | C21: =SUM('dotace '!C2485) -> 9300000 | E21: 0
A22: 17 | B22: Obnova kulturních památek v Olomouckém kraji ( ÚZ 210 ) | C22: =SUM('dotace '!C2530) -> 9534011 | E22: 0
A23: 18 | B23: Obnova staveb drobné architektury místního významu v Olomouckém kraji ( ÚZ 211 ) | C23: =SUM('dotace '!C2594) -> 2502720 | E23: 0
A24: 19 | B24: Podpora kulturních aktivit v Olomouckém kraji ( ÚZ 212 ) | C24: =SUM('dotace '!C2809) -> 10335670 | E24: =SUM('dotace '!E2809) -> 0
A25: 20 | B25: Přímá podpora významných kulturních akcí ( ÚZ 213 ) | C25: ='dotace '!C2833 -> 6750000 | E25: 0
A26: 21 | B26: Financování protidrogové prevence ( ÚZ 254 ) | C26: =SUM('dotace '!C2846) -> 2500000 | E26: 0
A27: 22 | B27: Regulační poplatky ve zdravotnických zařízení ( ÚZ 257 ) | C27: =SUM('dotace '!C2870) -> 19260 | E27: 0
A28: 23 | B28: Vzdělávání lékařů ( ÚZ 258 ) | C28: ='dotace '!C2882 -> 1768000 | E28: 19794
A29: 24 | B29: Dotační program prevence kriminality ( ÚZ 407 ) | C29: =SUM('dotace '!C2900) -> 1000000 | E29: 24052.18
A30: 25 | B30: Strategie integrace příslušníků romských komunit ( UZ 408 ) | C30: =SUM('dotace '!C2921) -> 995540 | E30: 20204
A31: 26 | B31: Podpora aktivit pro seniory a osoby se zdravotním postižením ( ÚZ 409 ) | C31: =SUM('dotace '!C2956) -> 1250000 | E31: =SUM('dotace '!E2956) -> 0
A32: 27 | B32: Cestovní ruch ( ÚZ 500, 501,503,504,505 ) | C32: =SUM('dotace '!C3005) -> 9479073 | E32: 92371.75
A33: 28 | B33: Zastupování zájmů Olomouckého kraje v Bruselu (ÚZ 508 ) | C33: ='dotace '!C3013 -> 1290000
A34: 29 | B34: Příspěvky na hospodaření v lesích na území OK ( ÚZ 550 ) | C34: =SUM('dotace '!C3233) -> 13499602 | E34: 0
A35: 30 | B35: Prostředky z Fondu na podporu výstavby a obnovy vodohosp. infrastruktury ( ÚZ 551 ) | C35: =SUM('dotace '!C3252) -> 35196434 | E35: 139438
A36: 31 | B36: Příspěvky obcím OK na řešení mimoř.událostí ( ÚZ 552 ) | C36: =SUM('dotace '!C3269) -> 6300000 | E36: =SUM('dotace '!E3269) -> 0
A37: 32 | B37: Program na podporu začínajících včelařů na území OK ( ÚZ 553 ) | C37: ='dotace '!C3309 -> 394751
A38: 33 | B38: Příspěvek obcím na podporu výstavby cyklostezek ( ÚZ 605 ) | C38: =SUM('dotace '!C3321) -> 5403109 | E38: 905903.7
A39: 34 | B39: Příspěvek na bezpečnostní prvky na silnicích ( ÚZ 608 ) | C39: =SUM('dotace '!C3360) -> 4327554.6 | E39: 786885
A40: 35 | B40: Ostatní příspěvky - akutní hepatitida | C40: ='dotace '!C3368 -> 250000 | E40: 95839
A41: 36 | B41: Vratky od příspěvkových organizací - účelové příspěvky z rozpočtu OK | E41: =SUM('dotace '!E3373) -> 745854.08
...

Sheet dotace 
B1: 11. Příspěvky a dotace poskytnuté z rozpočtu Olomouckého kraje v roce 2011
B3: A. Dotační tituly
B5: 1. Významné projekty ( ÚZ 01)
E6: v Kč
A7: ORJ | B7: Příjemce | C7: Poskytnuto | E7: Vráceno v roce 2012
A8: 0 | B8: Aeroklub Jeseník | C8: 500000
B9: Jeseníky - Sdružení cestovního ruchu | C9: 490000 | E9: 116169
A10: 2 | B10: Cyklostezka Bečva | C10: 300000
A11: 2 | B11: Sdružení hasičů Čech, Moravy a Slezska, Krajské Sdružení hasičů Olomouckého kraje, | C11: 300000
B12: Sportovní klub při Hasičském záchranném sboru Olomouckého kraje | C12: 200000
A13: 7 | B13: RALLYE REJVÍZ, o. s. | C13: 400000 | F13: krizové řízení 02 | H13: =C8+C9+C10+C11+C12+C13 -> 2190000
A14: 8 | B14: Město Jeseník | C14: 3000000
A15: 9 | B15: MAS Moravská cesta (Litovelsko-Pomoraví),o.s. | C15: 100000
A16: 9 | B16: MAS Horní Pomoraví o.p.s. | C16: 100000 | F16: ORJ 08 | H16: =C14+C15+C16 -> 3200000
A17: 9 | B17: Český rybářský svaz,místní organizace Domašov nad Bystřicí | C17: 100000
A18: 9 | B18: Český svaz chovatelů Okresní organizace Prostějov | C18: 80000
A19: 10 | B19: MORAVSKOSLEZSKÝ KYNOLOGICKÝ SVAZ | C19: 50000
A20: 10 | B20: Český rybářský svaz místní organizace Loštice | C20: 100000
A21: 10 | B21: Rychlebské stezky | C21: 800000
A22: 10 | B22: Agrární komora OK | C22: 300000
A23: 10 | B23: Český svaz chovatelů , Základní organizace chovatelů okrasného ptactva | C23: 80000
A24: 10 | B24: Energie z obnovitelných zdrojů o.s., Jeseník | C24: 600000
A25: 10 | B25: Zelinářská unie Čech a Moravy, o.s. | C25: 50000
A26: 10 | B26: Obec Smržice | C26: 400000
A27: 10 | B27: Občanské sdružení Ester | C27: 1500000
A28: 10 | B28: Hipocentrum Fortel, o.s. | C28: 300000 | F28: ORJ 09 | H28: =SUM(C17:C28) -> 4360000
B29: Sluňákov – centrum ekologických aktivit města Olomouce, o.p.s., Skrbeňská 669/70, Horka nad Moravou | C29: 900000
B30: Konzervatoř Evangelické akademie, Wurmova 13, Olomouc | C30: 200000
B31: Mgr. Jana Horáková, Tištín 36 | C31: 100000
B32: Václav Janík, Pňovice 75, Litovel | C32: 150000
B33: INREMA SPORTS s.r.o., Nešverova 693/1, Olomouc | C33: 250000
B34: SMS GROUP s.r.o., Hradčanské náměstí 12, Praha | C34: 40000
B35: TEMPO TEAM PRAGUE s.r.o., Záhořanského 3, Praha | C35: 70000
B36: ITS TENNIS CENTRE s.r.o., Janského 18, Olomouc | C36: 50000
B37: HOKEJ Šumperk 2003 s.r.o., Žerotínova 1691/55B, Šumperk | C37: 300000
B38: ECCE HOMO RACING TEAM s.r.o., Na Bažinách 1810/26, Šternberk | C38: 80000
B39: Ricardo – racing team Prostějov o.s., Plumlovská 89, Prostějov | C39: 80000
B40: Sportovní klub BADMINTON Přerov, Nerudova 20, Přerov | C40: 100000
... B68: WRC Lovecká chata, Tř. Osvobození 14, Horka nad Moravou | C68: 200000
E71: v Kč
...
