Workbook
Name názvy.tisku: #REF!

Sheet Rekapitulace
A1: a) Příspěvkové organizace v oblasti školství | M1: ORJ -10
A2: Správce: vedoucí odboru
A3: Mgr. Miroslav Gajdůšek , MBA
A5: Rekapitulace hospodaření /výsledek hospodaření/ za rok 2011 - okres Šumperk
I6: v Kč | M6: v Kč
A7: ORG | B7: Název zařízení | C7: Adresa | E7: Náklady | F7: Výnosy | G7: Daň | H7: Výsledek hospodaření | J7: Rozdělení do fondů - v Kč | L7: Pokrytí ztráty z minulých let
H8: zlepšený VH | I8: ztráta | J8: Fond rezervní | K8: Fond odměn | M8: Celkem
A9: 1021 | B9: Základní škola a Mateřská škola při lázních | J9: ='1021'!G30 -> 56056.63 | K9: ='1021'!G29 -> 6000 | L9: 0 | M9: =J9+K9+L9 -> 62056.63
C10: Lázeňská 573 | D10: 789 61 Bludov | E10: ='1021'!G16 -> 6382255.7 | F10: ='1021'!G18 -> 6444312.3 | G10: 0 | H10: =F10-E10-G12 -> 62056.63 | I10: 0 | J10: =J9/M9 -> 0.90331412 | K10: =K9/M9 -> 0.096685882 | L10: 0 | M10: =J10+K10+L10 -> 1
A11: 1022 | B11: Základní škola a Mateřská škola při lázních | J11: ='1022'!G30 -> 44073.79 | K11: ='1022'!G29 -> 1000 | L11: 0 | M11: =J11+K11+L11 -> 45073.79
C12: Lázeňská 240 | D12: 788 15 Velké Losiny | E12: ='1022'!G16 -> 3540060.7 | F12: ='1022'!G18 -> 3585134.5 | G12: 0 | H12: =F12-E12-G12 -> 45073.79 | I12: 0 | J12: =J11/M11 -> 0.97781416 | K12: =K11/M11 -> 0.022185842 | L12: 0 | M12: =J12+K12+L12 -> 1
A13: 1024 | B13: Základní škola a Mateřská škola | J13: ='1024'!G30 -> 0 | K13: ='1024'!G29 -> 0 | L13: 0 | M13: =J13+K13+L13 -> 0
C14: Masarykova 4 | D14: 789 85 Mohelnice | E14: ='1024'!G16 -> 14066505 | F14: ='1024'!G18 -> 14050383 | G14: 0 | H14: 0 | I14: =F14-E14-G14 -> -16122.57 | J14: 0 | K14: 0 | L14: 0 | M14: =J14+K14+L14 -> 0
A15: 1040 | B15: Střední škola, Základní škola a Mateřská škola | J15: ='1040'!G30 -> 596.96 | K15: ='1040'!G29 -> 0 | L15: 0 | M15: =J15+K15+L15 -> 596.96
C16: Hanácká 3 | D16: 787 01 Šumperk | E16: ='1040'!G16 -> 31591583 | F16: ='1040'!G18 -> 31592180 | G16: 0 | H16: =F16-E16-G16 -> 596.96 | I16: 0 | J16: =J15/M15 -> 1 | K16: 0 | L16: 0 | M16: =J16+K16+L16 -> 1
A17: 1041 | B17: Základní škola a Dětský domov | J17: ='1041'!G30 -> 30051.43 | K17: ='1041'!G29 -> 15000 | L17: ='1041'!G31 -> 0 | M17: =J17+K17+L17 -> 45051.43
C18: Sušilova 40 | D18: 789 01 Zábřeh | E18: ='1041'!G16 -> 42517634 | F18: ='1041'!G18 -> 42562686 | G18: 0 | H18: =F18-E18-G18 -> 45051.43 | I18: 0 | J18: =J17/M17 -> 0.66704719 | K18: =K17/M17 -> 0.33295281 | L18: 0 | M18: =J18+K18+L18 -> 1
A19: 1111 | B19: Gymnázium | J19: ='1111'!G30 -> 11529.75 | K19: ='1111'!G29 -> 0 | L19: 0 | M19: =J19+K19+L19 -> 11529.75
C20: Masarykovo nám.8 | D20: 787 01 Šumperk | E20: ='1111'!G16 -> 36900811 | F20: ='1111'!G18 -> 36912341 | G20: 0 | H20: =(F20-E20-G20) -> 11529.75 | I20: 0 | J20: =J19/M19 -> 1 | K20: =K19/M19 -> 0 | L20: 0 | M20: =J20+K20+L20 -> 1
A21: 1112 | B21: Gymnázium | J21: ='1112'!G30 -> 69522.39 | K21: ='1112'!G29 -> 1000 | L21: 0 | M21: =J21+K21+L21 -> 70522.39
C22: n. Osvobození 20 | D22: 789 01 Zábřeh | E22: ='1112'!G16 -> 21382674 | F22: ='1112'!G18 -> 21453197 | G22: 0 | H22: =(F22-E22-G22) -> 70522.39 | I22: 0 | J22: =J21/M21 -> 0.98582011 | K22: =K21/M21 -> 0.014179894 | L22: 0 | M22: =J22+K22+L22 -> 1
A23: 1135 | B23: Vyšší odborná škola a Střední průmyslová škola | J23: ='1135'!G30 -> 226676.7 | K23: ='1135'!G29 -> 15000 | L23: 0 | M23: =J23+K23+L23 -> 241676.7
C24: Gen. Krátkého 1 | D24: 787 01 Šumperk | E24: ='1135'!G16 -> 62710177 | F24: ='1135'!G18 -> 62951853 | G24: 0 | H24: =(F24-E24-G24) -> 241676.7 | I24: 0 | J24: =J23/M23 -> 0.93793361 | K24: =K23/M23 -> 0.062066389 | L24: 0 | M24: =J24+K24+L24 -> 1
A25: 1136 | B25: VOŠ a Střední škola automobilní | J25: ='1136'!G30 -> 278397.76 | K25: ='1136'!G29 -> 25000 | L25: 0 | M25: =J25+K25+L25 -> 303397.76
C26: U Dráhy 6 | D26: 789 01 Zábřeh | E26: ='1136'!G16 -> 38385253 | F26: ='1136'!G18 -> 38688650 | G26: 0 | H26: =(F26-E26-G26) -> 303397.76 | I26: 0 | J26: =J25/M25 -> 0.91759992 | K26: =K25/M25 -> 0.082400081 | L26: 0 | M26: =J26+K26+L26 -> 1
A27: 1137 | B27: Střední průmyslová škola elektrotechnická | J27: ='1137'!G30 -> 3019.01 | K27: ='1137'!G29 -> 4000 | L27: ='1137'!G31 -> 71605.49 | M27: =J27+K27+L27 -> 78624.5
C28: gen. Svobody 2 | D28: 789 85 Mohelnice | E28: ='1137'!G16 -> 13598043 | F28: ='1137'!G18 -> 13676668 | G28: 0 | H28: =F28-E28-G28 -> 78624.5 | I28: 0 | J28: =J27/M27 -> 0.038397828 | K28: =K27/M27 -> 0.050874727 | L28: 0 | M28: =J28+K28+L28 -> 0.089272555
A29: 1138 | B29: Střední odborná škola | J29: ='1138'!G30 -> 258309.44 | K29: ='1138'!G29 -> 39797 | L29: ='1138'!G31 -> 73368.67 | M29: =J29+K29+L29 -> 371475.11
C30: Zemědělská 3 | D30: 787 01 Šumperk | E30: ='1138'!G16 -> 28847228 | F30: ='1138'!G18 -> 29294183 | G30: ='1138'!G22 -> 75480 | H30: =F30-E30-G30 -> 371475.11 | I30: 0 | J30: =J29/M29 -> 0.69536137 | K30: =K29/M29 -> 0.10713235 | L30: 0 | M30: =J30+K30+L30 -> 0.80249371
A31: 1140 | B31: Střední odborná škola a Střední odborné učiliště | J31: ='1140'!G30 -> 23114.97 | K31: ='1140'!G29 -> 50000 | L31: 0 | M31: =J31+K31+L31 -> 73114.97
C32: Gen.Krátkého 30 | D32: 787 01 Šumperk | E32: ='1140'!G16 -> 54077298 | F32: ='1140'!G18 -> 54150413 | G32: ='1140'!G22 -> 0 | H32: =(F32-E32-G32) -> 73114.97 | I32: 0 | J32: =J31/M31 -> 0.31614552 | K32: =K31/M31 -> 0.68385448 | L32: 0 | M32: =J32+K32+L32 -> 1
A33: 1153 | B33: Obchodní akademie | J33: ='1153'!G30 -> 46499.13 | K33: ='1153'!G29 -> 20000 | L33: 0 | M33: =J33+K33+L33 -> 66499.13
C34: Olomoucká 82 | D34: 789 85 Mohelnice | E34: ='1153'!G16 -> 27181768 | F34: ='1153'!G18 -> 27248268 | G34: 0 | H34: =(F34-E34-G34) -> 66499.13 | I34: 0 | J34: =J33/M33 -> 0.69924419 | K34: =K33/M33 -> 0.30075581 | L34: 0 | M34: =J34+K34+L34 -> 1
A35: 1154 | B35: Obchodní akademie a Jazyková škola | J35: ='1154'!G30 -> 121117.93 | K35: ='1154'!G29 -> 13000 | L35: 0 | M35: =J35+K35+L35 -> 134117.93
C36: Hlavní tř. 31 | D36: 787 01 Šumperk | E36: ='1154'!G16 -> 15591016 | F36: ='1154'!G18 -> 15725134 | G36: 0 | H36: =(F36-E36-G36) -> 134117.93 | I36: 0 | J36: =J35/M35 -> 0.90307038 | K36: =K35/M35 -> 0.09692962 | L36: 0 | M36: =J36+K36+L36 -> 1
A37: 1163 | B37: Střední zdravotnická škola | J37: ='1163'!G30 -> 198147.77 | K37: ='1163'!G29 -> 25000 | L37: 0 | M37: =J37+K37+L37 -> 223147.77
C38: Kladská 2 | D38: 787 01 Šumperk | E38: ='1163'!G16 -> 22607172 | F38: ='1163'!G18 -> 22830320 | G38: 0 | H38: =(F38-E38-G38) -> 223147.77 | I38: 0 | J38: =J37/M37 -> 0.88796662 | K38: =K37/M37 -> 0.11203338 | L38: 0 | M38: =J38+K38+L38 -> 1
A39: 1174 | B39: Střední škola technická | J39: ='1174'!G30 -> 1174.39 | K39: ='1174'!G29 -> 4680 | L39: 0 | M39: =J39+K39+L39 -> 5854.39
C40: 1. máje 2 | D40: 789 85 Mohelnice | E40: ='1174'!G16 -> 17533238 | F40: ='1174'!G18 -> 17539092 | G40: 0 | H40: =F40-E40-G40 -> 5854.39 | I40: 0 | J40: =J39/M39 -> 0.20059989 | K40: =K39/M39 -> 0.79940011 | L40: 0 | M40: =J40+K40+L40 -> 1
A41: 1221 | B41: Střední škola železniční a stavební | J41: ='1221'!G30 -> 79150.32 | K41: ='1221'!G29 -> 8500 | L41: 0 | M41: =J41+K41+L41 -> 87650.32
C42: Bulharská 8 | D42: 787 01 Šumperk | E42: ='1221'!G16 -> 31500597 | F42: ='1221'!G18 -> 31588247 | G42: 0 | H42: =(F42-E42-G42) -> 87650.32 | I42: 0 | J42: =J41/M41 -> 0.90302374 | K42: =K41/M41 -> 0.096976257 | L42: 0 | M42: =J42+K42+L42 -> 1
A43: 1222 | B43: Odborné učiliště a Praktická škola | J43: ='1222'!G30 -> 40041 | K43: ='1222'!G29 -> 0 | L43: 0 | M43: =J43+K43+L43 -> 40041
C44: Vodní 27 | D44: 789 85 Mohelnice | E44: ='1222'!G16 -> 12608423 | F44: ='1222'!G18 -> 12648464 | G44: 0 | H44: =(F44-E44-G44) -> 40041 | I44: 0 | J44: =J43/M43 -> 1 | K44: =K43/M43 -> 0 | L44: 0 | M44: =J44+K44+L44 -> 1
A45: 1223 | B45: Střední škola sociální péče a služeb | J45: ='1223'!G30 -> 394271.82 | K45: ='1223'!G29 -> 90000 | L45: ='1223'!G31 -> 42163.64 | M45: =J45+K45+L45 -> 526435.46
C46: nám.8. Května 2 | D46: 789 01 Zábřeh | E46: ='1223'!G16 -> 47160787 | F46: ='1223'!G18 -> 47698412 | G46: ='1223'!G22 -> 11190 | H46: =F46-E46-G46 -> 526435.46 | I46: 0 | J46: =J45/M45 -> 0.74894617 | K46: =K45/M45 -> 0.17096113 | L46: 0 | M46: =J46+K46+L46 -> 0.91990729
A47: 1224 | B47: Střední odborné učiliště zemědělské | J47: ='1224'!G30 -> 328433.12 | K47: ='1224'!G29 -> 20000 | L47: ='1224'!G31 -> 50 | M47: =J47+K47+L47 -> 348483.12
C48: Palackého 338 | D48: 789 83 Loštice | E48: ='1224'!G16 -> 14037264 | F48: ='1224'!G18 -> 14385747 | G48: 0 | H48: =F48-E48-G48 -> 348483.12 | I48: 0 | J48: =J47/M47 -> 0.94246493 | K48: =K47/M47 -> 0.057391589 | L48: =L47/M47 -> 0.00014347897 | M48: =J48+K48+L48 -> 1
A49: 1311 | B49: Základní umělecká škola | J49: ='1311'!G30 -> 120353.31 | K49: ='1311'!G29 -> 16677 | L49: 0 | M49: =J49+K49+L49 -> 137030.31
C50: nám. Svobody 15 | D50: 789 85 Mohelnice | E50: ='1311'!G16 -> 8023271 | F50: ='1311'!G18 -> 8160301.4 | G50: 0 | H50: =(F50-E50-G50) -> 137030.31 | I50: 0 | J50: =J49/M49 -> 0.878297 | K50: =K49/M49 -> 0.121703 | L50: 0 | M50: =J50+K50+L50 -> 1
A51: 1312 | B51: Základní umělecká škola | J51: ='1312'!G30 -> 155598.49 | K51: ='1312'!G29 -> 20000 | L51: 0 | M51: =J51+K51+L51 -> 175598.49
C52: Žerotínova 11 | D52: 787 01 Šumperk | E52: ='1312'!G16 -> 12872368 | F52: ='1312'!G18 -> 13047967 | G52: 0 | H52: =(F52-E52-G52) -> 175598.49 | I52: 0 | J52: =J51/M51 -> 0.8861038 | K52: =K51/M51 -> 0.1138962 | L52: 0 | M52: =J52+K52+L52 -> 1
A53: 1313 | B53: Základní umělecká škola | J53: ='1313'!G30 -> 60191.16 | K53: ='1313'!G29 -> 0 | L53: ='1313'!G31 -> 0 | M53: =J53+K53+L53 -> 60191.16
C54: Farní 9 | D54: 789 01 Zábřeh | E54: ='1313'!G16 -> 15765942 | F54: ='1313'!G18 -> 15826133 | G54: 0 | H54: =F54-E54-G54 -> 60191.16 | I54: 0 | J54: =J53/M53 -> 1 | K54: 0 | L54: 0 | M54: =J54+K54+L54 -> 1
A55: 1354 | B55: Dům dětí a mládeže MAGNET Mohelnice | J55: ='1354'!G30 -> 3094.22 | K55: ='1354'!G29 -> 0 | L55: 0 | M55: =J55+K55+L55 -> 3094.22
C56: Spartakiádní 8 | D56: 789 85 Mohelnice | E56: ='1354'!G16 -> 5071031.3 | F56: ='1354'!G18 -> 5074125.5 | G56: 0 | H56: =(F56-E56-G56) -> 3094.22 | I56: 0 | J56: =J55/M55 -> 1 | K56: =K55/M55 -> 0 | L56: 0 | M56: =J56+K56+L56 -> 1
A57: 1355 | B57: DDM a zařízení pro DVPP Vila Doris | J57: ='1355'!G30 -> 0 | K57: ='1355'!G29 -> 0 | L57: 0 | M57: =J57+K57+L57 -> 0
C58: 17. Listopadu 2 | D58: 787 01 Šumperk | E58: ='1355'!G16 -> 12626500 | F58: ='1355'!G18 -> 12286434 | G58: 0 | H58: 0 | I58: =F58-E58-G58 -> -340065.84 | J58: 0 | K58: 0 | L58: 0 | M58: =J58+K58+L58 -> 0
A60: CELKEM OKRES ŠUMPERK | E60: =SUM(E9:E58) -> 5.965789e+08 | F60: =SUM(F9:F58) -> 5.9942065e+08 | G60: =SUM(G9:G58) -> 86670 | H60: =SUM(H9:H59) -> 3111263.3 | I60: =SUM(I9:I59) -> -356188.41 | J60: =J9+J11+J13+J15+J17+J19+J21+J23+J25+J27+J29+J31+J33+J35+J37+J39+J41+J43+J45+J47+J49+J51+J53+J55+J57 -> 2549421.5 | K60: =K9+K11+K13+K15+K17+K19+K21+K23+K25+K27+K29+K31+K33+K35+K37+K39+K41+K43+K45+K47+K49+K51+K53+K55+K57 -> 374654 | L60: =L9+L11+L13+L15+L17+L19+L21+L23+L25+L27+L29+L31+L33+L35+L37+L39+L41+L43+L45+L47+L49+L51+L53+L55+L57 -> 187187.8 | M60: =M9+M11+M13+M15+M17+M19+M21+M23+M25+M27+M29+M31+M33+M35+M37+M39+M41+M43+M45+M47+M49+M51+M53+M55+M57 -> 3111263.3
H61: saldo | I61: =F60-E60-G60 -> 2755074.9
A63: Kontrolní sestava:
B64: hlavní činnost
B65: vedlejší činnost
A66: Rozdíl :
A68: Z celkového počtu 25 organizací okresu Šumperk skončilo:
C69: - 2 organizace ve ztrátě v celkové výši -356 188,41 Kč
C70: - 23 organizací se zlepšeným výsledkem hospodaření v celkové výši 3 111 263,29 Kč

Sheet 1021
A1: REKAPITULACE ZA ORGANIZACI :
A2: Název organizace : | E2: Základní škola a Mateřská škola při lázních, Bludov
E3: ……………………………………….……..………………………………………..…………………………………
A4: Adresa : | E4: Lázeňská 573, Bludov
E5: ……………………………………….……..………………………………………..…………………………………
A6: IČ | E6: 70626596 | G6: ORG | I6: 1021
E7: ……………………………… ………….…..……………………………
E11: Schválený | F11: Upravený | G11: Skutečnost | H11: z toho:
E12: rozpočet | F12: rozpočet | G12: celkem | H12: Hlavní činnost | I12: Doplňková činnost
E13: celkem | F13: celkem | H13: jednotka - Kč na 2 des. místa
A15: a) Náklady a výnosy
A16: Náklady | E16: 505000 | F16: 6444471 | G16: =H16+I16 -> 6382255.7 | H16: 6382255.7 | I16: 0
A18: Výnosy | E18: 505000 | F18: 6869493.4 | G18: =H18+I18 -> 6444312.3 | H18: 6444312.3 | I18: 0
A21: Doplňující údaje :
C22: daň z příjmů,dodatečné odvody daně z příjmů (nákladová položka) | G22: =H22+I22 -> 0 | H22: 0 | I22: 0
A24: Výsledek hospodaření /po zdanění/ | G24: =G18-G16-G22 -> 62056.63 | H24: =H18-H16-H22 -> 62056.63 | I24: =I18-I16-I22 -> 0
A28: b) | B28: Rozdělení výsledku hospodaření | G28: =G29+G30+G31 -> 62056.63
C29: - Návrh na příděly do fondů: | F29: Fond odměn | G29: 6000
F30: Fond rezervní | G30: 56056.63
C31: - Způsob krytí ztráty : | F31: Částka | G31: 0
A35: c) | B35: Závazné ukazatele
F36: Schválená částka | G36: Skutečnost | I36: % plnění
A37: Limit mzdových prostředků | F37: 0 | G37: 0 | I37: nerozp.
A38: Neinvestiční příspěvek /odpisy/ | F38: 0 | G38: 0 | I38: nerozp.
A39: Neinvestiční příspěvek /nájemné/ | F39: 0 | G39: 0 | I39: nerozp.
A40: Odvody z investičního fondu /odpisy/ | F40: 0 | G40: 0 | I40: nerozp.
A41: Odvody z investičního fondu | E41: /spolufin. akcí/ | F41: 0 | G41: 0 | I41: nerozp.
A43: d) | B43: Fondy | H43: jednotka - Kč na 2 des. místa
E44: Stav k 1.1.2011 | F44: Tvorba | G44: Čerpání | H44: Stav k | I44: Finanční krytí k
H45: 40908 | I45: 40908
C48: Fond odměn | E48: 26834 | F48: 1500 | G48: 0 | H48: =E48+F48-G48 -> 28334 | I48: =H48 -> 28334
C49: FKSP | E49: 38798.47 | F49: 44010 | G49: 64793 | H49: =E49+F49-G49 -> 18015.47 | I49: 8816.47
C50: Fond rezervní | E50: 21827.04 | F50: =3994.83+425022.4 -> 429017.23 | G50: 0 | H50: =E50+F50-G50 -> 450844.27 | I50: =H50 -> 450844.27
C51: Investiční fond | E51: 0 | F51: 0 | G51: 0 | H51: =E51+F51-G51 -> 0 | I51: =H51 -> 0
A52: celkem | E52: =E48+E49+E50+E51 -> 87459.51 | F52: =F48+F49+F50+F51 -> 474527.23 | G52: =G48+G49+G50+G51 -> 64793 | H52: =H48+H49+H50+H51 -> 497193.74 | I52: =I48+I49+I50+I51 -> 487994.74

Sheet 1022
A1: REKAPITULACE ZA ORGANIZACI :
A2: Název organizace : | E2: Základní škola a Mateřská škola při lázních, Velké Losiny
E3: ……………………………………….……..………………………………………..…………………………………
A4: Adresa : | E4: Lázeňská 240, Velké Losiny
E5: ……………………………………….……..………………………………………..…………………………………
A6: IČ | E6: 70626561 | G6: ORG | I6: 1022
E7: ……………………………… ………….…..……………………………
E11: Schválený | F11: Upravený | G11: Skutečnost | H11: z toho:
E12: rozpočet | F12: rozpočet | G12: celkem | H12: Hlavní činnost | I12: Doplňková činnost
E13: celkem | F13: celkem | H13: jednotka - Kč na 2 des. místa
A15: a) Náklady a výnosy
A16: Náklady | E16: 450000 | F16: 3749297.2 | G16: =H16+I16 -> 3540060.7 | H16: 3540060.7 | I16: 0
A18: Výnosy | E18: 450000 | F18: 3749297.2 | G18: =H18+I18 -> 3585134.5 | H18: 3585134.5 | I18: 0
A21: Doplňující údaje :
C22: daň z příjmů,dodatečné odvody daně z příjmů (nákladová položka) | G22: =H22+I22 -> 0 | H22: 0 | I22: 0
A24: Výsledek hospodaření /po zdanění/ | G24: =G18-G16-G22 -> 45073.79 | H24: =H18-H16-H22 -> 45073.79 | I24: =I18-I16-I22 -> 0
A28: b) | B28: Rozdělení výsledku hospodaření | G28: =G29+G30+G31 -> 45073.79
C29: - Návrh na příděly do fondů: | F29: Fond odměn | G29: 1000
F30: Fond rezervní | G30: 44073.79
C31: - Způsob krytí ztráty : | F31: Částka | G31: 0
A35: c) | B35: Závazné ukazatele
F36: Schválená částka | G36: Skutečnost | I36: % plnění
A37: Limit mzdových prostředků | F37: 0 | G37: 0 | I37: nerozp.
A38: Neinvestiční příspěvek /odpisy/ | F38: 0 | G38: 0 | I38: nerozp.
A39: Neinvestiční příspěvek /nájemné/ | F39: 0 | G39: 0 | I39: nerozp.
A40: Odvody z investičního fondu /odpisy/ | F40: 0 | G40: 0 | I40: nerozp.
A41: Odvody z investičního fondu | E41: /spolufin. akcí/ | F41: 0 | G41: 0 | I41: nerozp.
A43: d) | B43: Fondy | H43: jednotka - Kč na 2 des. místa
E44: Stav k 1.1.2011 | F44: Tvorba | G44: Čerpání | H44: Stav k | I44: Finanční krytí k
H45: 40908 | I45: 40908
C48: Fond odměn | E48: 2000 | F48: 1000 | G48: 0 | H48: =E48+F48-G48 -> 3000 | I48: =H48 -> 3000
C49: FKSP | E49: 19101.39 | F49: 21602 | G49: 27180 | H49: =E49+F49-G49 -> 13523.39 | I49: =H49 -> 13523.39
C50: Fond rezervní | E50: 63510.65 | F50: =1138.1+166555.2 -> 167693.3 | G50: 0 | H50: =E50+F50-G50 -> 231203.95 | I50: =H50 -> 231203.95
C51: Investiční fond | E51: 25782.1 | F51: 0 | G51: 0 | H51: =E51+F51-G51 -> 25782.1 | I51: =H51 -> 25782.1
A52: celkem | E52: =E48+E49+E50+E51 -> 110394.14 | F52: =F48+F49+F50+F51 -> 190295.3 | G52: =G48+G49+G50+G51 -> 27180 | H52: =H48+H49+H50+H51 -> 273509.44 | I52: =I48+I49+I50+I51 -> 273509.44

Sheet 1024
A1: REKAPITULACE ZA ORGANIZACI :
A2: Název organizace : | E2: Základní a Mateřská škola Mohelnice, Masarykova 4
E3: ……………………………………….……..………………………………………..…………………………………
A4: Adresa : | E4: Masarykova 4, Mohelnice
E5: ……………………………………….……..………………………………………..…………………………………
A6: IČ | E6: 60341777 | G6: ORG | I6: 1024
E7: ……………………………… ………….…..……………………………
E11: Schválený | F11: Upravený | G11: Skutečnost | H11: z toho:
E12: rozpočet | F12: rozpočet | G12: celkem | H12: Hlavní činnost | I12: Doplňková činnost
E13: celkem | F13: celkem | H13: jednotka - Kč na 2 des. místa
A15: a) Náklady a výnosy
A16: Náklady | E16: 1910000 | F16: 14049948 | G16: =H16+I16 -> 14066505 | H16: 14066505 | I16: 0
A18: Výnosy | E18: 1910000 | F18: 14076764 | G18: =H18+I18 -> 14050383 | H18: 14050383 | I18: 0
A21: Doplňující údaje :
C22: daň z příjmů,dodatečné odvody daně z příjmů (nákladová položka) | G22: =H22+I22 -> 0 | H22: 0 | I22: 0
A24: Výsledek hospodaření /po zdanění/ | G24: =G18-G16-G22 -> -16122.57 | H24: =H18-H16-H22 -> -16122.57 | I24: =I18-I16-I22 -> 0
A28: b) | B28: Rozdělení výsledku hospodaření | G28: =G29+G30+G31 -> -16122.57
C29: - Návrh na příděly do fondů: | F29: Fond odměn | G29: 0
F30: Fond rezervní | G30: 0
C31: - Způsob krytí ztráty : | F31: Částka | G31: -16122.57
A32: Ztráta 16 122,57 Kč bude uhrazena ze zlepšeného výsledku hospodaření v následujících letech (neuhrazená ztráta minulých let k 31.12.2011 je -141 209,- Kč)
A36: c) | B36: Závazné ukazatele
F37: Schválená částka | G37: Skutečnost | I37: % plnění
A38: Limit mzdových prostředků | F38: 0 | G38: 0 | I38: nerozp.
A39: Neinvestiční příspěvek /odpisy/ | F39: 196266 | G39: 196266 | I39: =G39/F39 -> 1
A40: Neinvestiční příspěvek /nájemné/ | F40: 0 | G40: 0 | I40: nerozp.
A41: Odvody z investičního fondu /odpisy/ | F41: 147000 | G41: 147000 | I41: =G41/F41 -> 1
A42: Odvody z investičního fondu | E42: /spolufin. akcí/ | F42: 0 | G42: 0 | I42: nerozp.
A45: d) | B45: Fondy | H45: jednotka - Kč na 2 des. místa
E46: Stav k 1.1.2011 | F46: Tvorba | G46: Čerpání | H46: Stav k | I46: Finanční krytí k
H47: 40908 | I47: 40908
C50: Fond odměn | E50: 28179 | F50: 0 | G50: 0 | H50: =E50+F50-G50 -> 28179 | I50: =H50 -> 28179
C51: FKSP | E51: 260464.34 | F51: 83526.8 | G51: 98506 | H51: =E51+F51-G51 -> 245485.14 | I51: 245474.02
C52: Fond rezervní | E52: =27176.75+116186 -> 143362.75 | F52: 26581.8 | G52: =27176.75+9091 -> 36267.75 | H52: =E52+F52-G52 -> 133676.8 | I52: =H52 -> 133676.8
C53: Investiční fond | E53: 188612.88 | F53: 196266 | G53: 147000 | H53: =E53+F53-G53 -> 237878.88 | I53: =H53 -> 237878.88
A54: celkem | E54: =E50+E51+E52+E53 -> 620618.97 | F54: =F50+F51+F52+F53 -> 306374.6 | G54: =G50+G51+G52+G53 -> 281773.75 | H54: =H50+H51+H52+H53 -> 645219.82 | I54: =I50+I51+I52+I53 -> 645208.7

Sheet 1040
A1: REKAPITULACE ZA ORGANIZACI :
A2: Název organizace : | E2: Střední škola, Základní škola a Mateřská škola Šumperk, Hanácká 3
E3: ……………………………………….……..………………………………………..…………………………………
A4: Adresa : | E4: Hanácká 3, Šumperk
E5: ……………………………………….……..………………………………………..…………………………………
A6: IČ | E6: 49589768 | G6: ORG | I6: 1040
E7: ……………………………… ………….…..……………………………
E11: Schválený | F11: Upravený | G11: Skutečnost | H11: z toho:
E12: rozpočet | F12: rozpočet | G12: celkem | H12: Hlavní činnost | I12: Doplňková činnost
E13: celkem | F13: celkem | H13: jednotka - Kč na 2 des. místa
A15: a) Náklady a výnosy
A16: Náklady | E16: 2181000 | F16: 31568448 | G16: =H16+I16 -> 31591583 | H16: 31558478 | I16: 33105
A18: Výnosy | E18: 2181000 | F18: 31595582 | G18: =H18+I18 -> 31592180 | H18: 31555155 | I18: 37025
A21: Doplňující údaje :
C22: daň z příjmů,dodatečné odvody daně z příjmů (nákladová položka) | G22: =H22+I22 -> 0 | H22: 0 | I22: 0
A24: Výsledek hospodaření /po zdanění/ | G24: =G18-G16-G22 -> 596.96 | H24: =H18-H16-H22 -> -3323.04 | I24: =I18-I16-I22 -> 3920
A28: b) | B28: Rozdělení výsledku hospodaření | G28: =G29+G30+G31 -> 596.96
C29: - Návrh na příděly do fondů: | F29: Fond odměn | G29: 0
F30: Fond rezervní | G30: 596.96
C31: - Způsob krytí ztráty : | F31: Částka | G31: 0
A35: c) | B35: Závazné ukazatele
F36: Schválená částka | G36: Skutečnost | I36: % plnění
A37: Limit mzdových prostředků | F37: 281250 | G37: 281250 | I37: =G37/F37 -> 1
A38: Neinvestiční příspěvek /odpisy/ | F38: 21353 | G38: 21353 | I38: =G38/F38 -> 1
A39: Neinvestiční příspěvek /nájemné/ | F39: 0 | G39: 0 | I39: nerozp.
A40: Odvody z investičního fondu /odpisy/ | F40: 16000 | G40: 16000 | I40: =G40/F40 -> 1
A41: Odvody z investičního fondu | E41: /spolufin. akcí/ | F41: 0 | G41: 0 | I41: nerozp.
A44: d) | B44: Fondy | H44: jednotka - Kč na 2 des. místa
E45: Stav k 1.1.2011 | F45: Tvorba | G45: Čerpání | H45: Stav k | I45: Finanční krytí k
H46: 40908 | I46: 40908
C49: Fond odměn | E49: 150170.58 | F49: 0 | G49: 0 | H49: =E49+F49-G49 -> 150170.58 | I49: =H49 -> 150170.58
C50: FKSP | E50: 707356.1 | F50: 205915 | G50: 357958 | H50: =E50+F50-G50 -> 555313.1 | I50: 483341.23
C51: Fond rezervní | E51: =14340.52+87314 -> 101654.52 | F51: 813169.5 | G51: 84084.98 | H51: =E51+F51-G51 -> 830739.04 | I51: =H51 -> 830739.04
C52: Investiční fond | E52: 47000.62 | F52: 21353 | G52: 16000 | H52: =E52+F52-G52 -> 52353.62 | I52: =H52 -> 52353.62
A53: celkem | E53: =E49+E50+E51+E52 -> 1006181.8 | F53: =F49+F50+F51+F52 -> 1040437.5 | G53: =G49+G50+G51+G52 -> 458042.98 | H53: =H49+H50+H51+H52 -> 1588576.3 | I53: =I49+I50+I51+I52 -> 1516604.5

Sheet 1041
A1: REKAPITULACE ZA ORGANIZACI :
A2: Název organizace : | E2: Základní škola a Dětský domov Zábřeh
E3: ……………………………………….……..………………………………………..…………………………………
A4: Adresa : | E4: Sušilova 40, Zábřeh
E5: ……………………………………….……..………………………………………..…………………………………
A6: IČ | E6: 49589725 | G6: ORG | I6: 1041
E7: ……………………………… ………….…..……………………………
E11: Schválený | F11: Upravený | G11: Skutečnost | H11: z toho:
E12: rozpočet | F12: rozpočet | G12: celkem | H12: Hlavní činnost | I12: Doplňková činnost
E13: celkem | F13: celkem | H13: jednotka - Kč na 2 des. místa
A15: a) Náklady a výnosy
A16: Náklady | E16: 10516000 | F16: 41420038 | G16: =H16+I16 -> 42517634 | H16: 42120907 | I16: 396726.9
A18: Výnosy | E18: 10516000 | F18: 41420038 | G18: =H18+I18 -> 42562686 | H18: 42021026 | I18: 541660
A21: Doplňující údaje :
C22: daň z příjmů,dodatečné odvody daně z příjmů (nákladová položka) | G22: =H22+I22 -> 0 | H22: 0 | I22: 0
A24: Výsledek hospodaření /po zdanění/ | G24: =G18-G16-G22 -> 45051.43 | H24: =H18-H16-H22 -> -99881.67 | I24: =I18-I16-I22 -> 144933.1
A28: b) | B28: Rozdělení výsledku hospodaření | G28: =G29+G30+G31 -> 45051.43
C29: - Návrh na příděly do fondů: | F29: Fond odměn | G29: 15000
F30: Fond rezervní | G30: 30051.43
C31: - Způsob krytí ztráty : | F31: Částka | G31: 0
A35: c) | B35: Závazné ukazatele
F36: Schválená částka | G36: Skutečnost | I36: % plnění
A37: Limit mzdových prostředků | F37: 948132 | G37: 948132 | I37: =G37/F37 -> 1
A38: Neinvestiční příspěvek /odpisy/ | F38: 1162000 | G38: 1162000 | I38: =G38/F38 -> 1
A39: Neinvestiční příspěvek /nájemné/ | F39: 0 | G39: 0 | I39: nerozp.
A40: Odvody z investičního fondu /odpisy/ | F40: 872000 | G40: 872000 | I40: =G40/F40 -> 1
A41: Odvody z investičního fondu | E41: /spolufin. akcí/ | F41: 0 | G41: 0 | I41: nerozp.
A44: d) | B44: Fondy | H44: jednotka - Kč na 2 des. místa
E45: Stav k 1.1.2011 | F45: Tvorba | G45: Čerpání | H45: Stav k | I45: Finanční krytí k
H46: 40908 | I46: 40908
C49: Fond odměn | E49: 59000 | F49: 10000 | G49: 4000 | H49: =E49+F49-G49 -> 65000 | I49: =H49 -> 65000
C50: FKSP | E50: 692874.81 | F50: 144237 | G50: 253425 | H50: =E50+F50-G50 -> 583686.81 | I50: 478600.59
C51: Fond rezervní | E51: =365678.88+72008.6 -> 437687.48 | F51: =185392+10439.95 -> 195831.95 | G51: 257400.6 | H51: =E51+F51-G51 -> 376118.83 | I51: 110381.33
C52: Investiční fond | E52: 234270.34 | F52: 1181973.9 | G52: 899901 | H52: =E52+F52-G52 -> 516343.24 | I52: =H52 -> 516343.24
A53: celkem | E53: =E49+E50+E51+E52 -> 1423832.6 | F53: =F49+F50+F51+F52 -> 1532042.8 | G53: =G49+G50+G51+G52 -> 1414726.6 | H53: =H49+H50+H51+H52 -> 1541148.9 | I53: =I49+I50+I51+I52 -> 1170325.2

Sheet 1111
A1: REKAPITULACE ZA ORGANIZACI :
A2: Název organizace : | E2: Gymnázium, Šumperk, Masarykovo náměstí 8
E3: ……………………………………….……..………………………………………..…………………………………
A4: Adresa : | E4: Masarykovo náměstí 8, Šumperk
E5: ……………………………………….……..………………………………………..…………………………………
A6: IČ | E6: 49589792 | G6: ORG | I6: 1111
E7: ……………………………… ………….…..……………………………
E11: Schválený | F11: Upravený | G11: Skutečnost | H11: z toho:
E12: rozpočet | F12: rozpočet | G12: celkem | H12: Hlavní činnost | I12: Doplňková činnost
E13: celkem | F13: celkem | H13: jednotka - Kč na 2 des. místa
A15: a) Náklady a výnosy
A16: Náklady | E16: 7986000 | F16: 36900811 | G16: =H16+I16 -> 36900811 | H16: 36188961 | I16: 711850
A18: Výnosy | E18: 7986000 | F18: 36912341 | G18: =H18+I18 -> 36912341 | H18: 36247525 | I18: 664816
A21: Doplňující údaje :
C22: daň z příjmů,dodatečné odvody daně z příjmů (nákladová položka) | G22: =H22+I22 -> 0 | H22: 0 | I22: 0
A24: Výsledek hospodaření /po zdanění/ | G24: =G18-G16-G22 -> 11529.75 | H24: =H18-H16-H22 -> 58563.75 | I24: =I18-I16-I22 -> -47034
A28: b) | B28: Rozdělení výsledku hospodaření | G28: =G29+G30+G31 -> 11529.75
C29: - Návrh na příděly do fondů: | F29: Fond odměn | G29: 0
F30: Fond rezervní | G30: 11529.75
C31: - Způsob krytí ztráty : | F31: Částka | G31: 0
A35: c) | B35: Závazné ukazatele
F36: Schválená částka | G36: Skutečnost | I36: % plnění
A37: Limit mzdových prostředků | F37: 0 | G37: 0 | I37: nerozp.
A38: Neinvestiční příspěvek /odpisy/ | F38: 1504425 | G38: 1504425 | I38: =G38/F38 -> 1
A39: Neinvestiční příspěvek /nájemné/ | F39: 0 | G39: 0 | I39: nerozp.
A40: Odvody z investičního fondu /odpisy/ | F40: 1128000 | G40: 1128000 | I40: =G40/F40 -> 1
A41: Odvody z investičního fondu | E41: /spolufin. akcí/ | F41: 0 | G41: 0 | I41: nerozp.
A44: d) | B44: Fondy | H44: jednotka - Kč na 2 des. místa
E45: Stav k 1.1.2011 | F45: Tvorba | G45: Čerpání | H45: Stav k | I45: Finanční krytí k
H46: 40908 | I46: 40908
C49: Fond odměn | E49: 26000 | F49: 5000 | G49: 19000 | H49: =E49+F49-G49 -> 12000 | I49: =H49 -> 12000
C50: FKSP | E50: 292505.34 | F50: 208913 | G50: 297362.2 | H50: =E50+F50-G50 -> 204056.14 | I50: 190300.63
C51: Fond rezervní | E51: =533165.66 -> 533165.66 | F51: 33270.67 | G51: 0 | H51: =E51+F51-G51 -> 566436.33 | I51: 173669.81
C52: Investiční fond | E52: 290665.59 | F52: 1566992 | G52: 1503115 | H52: =E52+F52-G52 -> 354542.59 | I52: =H52 -> 354542.59
A53: celkem | E53: =E49+E50+E51+E52 -> 1142336.6 | F53: =F49+F50+F51+F52 -> 1814175.7 | G53: =G49+G50+G51+G52 -> 1819477.2 | H53: =H49+H50+H51+H52 -> 1137035.1 | I53: =I49+I50+I51+I52 -> 730513.03

Sheet 1112
A1: REKAPITULACE ZA ORGANIZACI :
A2: Název organizace : | E2: Gymnázium, Zábřeh, náměstí Osvobození 20
E3: ……………………………………….……..………………………………………..…………………………………
A4: Adresa : | E4: náměstí Osvobození 20, Zábřeh
E5: ……………………………………….……..………………………………………..…………………………………
A6: IČ | E6: 49589687 | G6: ORG | I6: 1112
E7: ……………………………… ………….…..……………………………
E11: Schválený | F11: Upravený | G11: Skutečnost | H11: z toho:
E12: rozpočet | F12: rozpočet | G12: celkem | H12: Hlavní činnost | I12: Doplňková činnost
E13: celkem | F13: celkem | H13: jednotka - Kč na 2 des. místa
A15: a) Náklady a výnosy
A16: Náklady | E16: 5144000 | F16: 21382674 | G16: =H16+I16 -> 21382674 | H16: 21124817 | I16: 257857.7
A18: Výnosy | E18: 5144000 | F18: 21453197 | G18: =H18+I18 -> 21453197 | H18: 21131753 | I18: 321444
A21: Doplňující údaje :
C22: daň z příjmů,dodatečné odvody daně z příjmů (nákladová položka) | G22: =H22+I22 -> 0 | H22: 0 | I22: 0
A24: Výsledek hospodaření /po zdanění/ | G24: =G18-G16-G22 -> 70522.39 | H24: =H18-H16-H22 -> 6936.09 | I24: =I18-I16-I22 -> 63586.3
A28: b) | B28: Rozdělení výsledku hospodaření | G28: =G29+G30+G31 -> 70522.39
C29: - Návrh na příděly do fondů: | F29: Fond odměn | G29: 1000
F30: Fond rezervní | G30: 69522.39
C31: - Způsob krytí ztráty : | F31: Částka | G31: 0
A35: c) | B35: Závazné ukazatele
F36: Schválená částka | G36: Skutečnost | I36: % plnění
A37: Limit mzdových prostředků | F37: 0 | G37: 0 | I37: nerozp.
A38: Neinvestiční příspěvek /odpisy/ | F38: 268000 | G38: 268000 | I38: =G38/F38 -> 1
A39: Neinvestiční příspěvek /nájemné/ | F39: 0 | G39: 0 | I39: nerozp.
A40: Odvody z investičního fondu /odpisy/ | F40: 201000 | G40: 201000 | I40: =G40/F40 -> 1
A41: Odvody z investičního fondu | E41: /spolufin. akcí/ | F41: 0 | G41: 0 | I41: nerozp.
A44: d) | B44: Fondy | H44: jednotka - Kč na 2 des. místa
E45: Stav k 1.1.2011 | F45: Tvorba | G45: Čerpání | H45: Stav k | I45: Finanční krytí k
H46: 40908 | I46: 40908
C49: Fond odměn | E49: 9000 | F49: 3000 | G49: 5000 | H49: =E49+F49-G49 -> 7000 | I49: =H49 -> 7000
C50: FKSP | E50: 451108.64 | F50: 120208 | G50: 114178 | H50: =E50+F50-G50 -> 457138.64 | I50: 338586.15
C51: Fond rezervní | E51: 508358.91 | F51: =115496.24+3688 -> 119184.24 | G51: =116880+3688 -> 120568 | H51: =E51+F51-G51 -> 506975.15 | I51: 297898.09
C52: Investiční fond | E52: 301278.25 | F52: 356829 | G52: 201000 | H52: =E52+F52-G52 -> 457107.25 | I52: 281202.83
A53: celkem | E53: =E49+E50+E51+E52 -> 1269745.8 | F53: =F49+F50+F51+F52 -> 599221.24 | G53: =G49+G50+G51+G52 -> 440746 | H53: =H49+H50+H51+H52 -> 1428221 | I53: =I49+I50+I51+I52 -> 924687.07

Sheet 1135
A1: REKAPITULACE ZA ORGANIZACI :
A2: Název organizace : | E2: VOŠ a SPŠ, Šumperk, Gen. Krátkého 1
E3: ……………………………………….……..………………………………………..…………………………………
A4: Adresa : | E4: Gen. Krátkého 1, Šumperk
E5: ……………………………………….……..………………………………………..…………………………………
A6: IČ | E6: 00843113 | G6: ORG | I6: 1135
E7: ……………………………… ………….…..……………………………
E11: Schválený | F11: Upravený | G11: Skutečnost | H11: z toho:
E12: rozpočet | F12: rozpočet | G12: celkem | H12: Hlavní činnost | I12: Doplňková činnost
E13: celkem | F13: celkem | H13: jednotka - Kč na 2 des. místa
A15: a) Náklady a výnosy
A16: Náklady | E16: 15333000 | F16: 59749501 | G16: =H16+I16 -> 62710177 | H16: 61634597 | I16: 1075579.5
A18: Výnosy | E18: 15520000 | F18: 59936501 | G18: =H18+I18 -> 62951853 | H18: 61634597 | I18: 1317256.2
A21: Doplňující údaje :
C22: daň z příjmů,dodatečné odvody daně z příjmů (nákladová položka) | G22: =H22+I22 -> 0 | H22: 0 | I22: 0
A24: Výsledek hospodaření /po zdanění/ | G24: =G18-G16-G22 -> 241676.7 | H24: =H18-H16-H22 -> 0 | I24: =I18-I16-I22 -> 241676.7
A28: b) | B28: Rozdělení výsledku hospodaření | G28: =G29+G30+G31 -> 241676.7
C29: - Návrh na příděly do fondů: | F29: Fond odměn | G29: 15000
F30: Fond rezervní | G30: 226676.7
C31: - Způsob krytí ztráty : | F31: Částka | G31: 0
A35: c) | B35: Závazné ukazatele
F36: Schválená částka | G36: Skutečnost | I36: % plnění
A37: Limit mzdových prostředků | F37: 261820 | G37: 261820 | I37: =G37/F37 -> 1
A38: Neinvestiční příspěvek /odpisy/ | F38: 3295454 | G38: 3269297.4 | I38: =G38/F38 -> 0.99206282
A39: Neinvestiční příspěvek /nájemné/ | F39: 0 | G39: 0 | I39: nerozp.
A40: Odvody z investičního fondu /odpisy/ | F40: 2472000 | G40: 2472000 | I40: =G40/F40 -> 1
A41: Odvody z investičního fondu | E41: /spolufin. akcí/ | F41: 0 | G41: 0 | I41: nerozp.
A43: d) | B43: Fondy | H43: jednotka - Kč na 2 des. místa
E44: Stav k 1.1.2011 | F44: Tvorba | G44: Čerpání | H44: Stav k | I44: Finanční krytí k
H45: 40908 | I45: 40908
C48: Fond odměn | E48: 213041 | F48: 1000 | G48: 23000 | H48: =E48+F48-G48 -> 191041 | I48: =H48 -> 191041
C49: FKSP | E49: 276644.23 | F49: 321273 | G49: 381876 | H49: =E49+F49-G49 -> 216041.23 | I49: 261411.23
C50: Fond rezervní | E50: =126377.05+961 -> 127338.05 | F50: =395000.27+418140.69+13000 -> 826140.96 | G50: =9939+12996 -> 22935 | H50: =E50+F50-G50 -> 930544.01 | I50: =680869.01+965 -> 681834.01
C51: Investiční fond | E51: 727573.48 | F51: 3404197.4 | G51: 2867603.6 | H51: =E51+F51-G51 -> 1264167.3 | I51: =H51 -> 1264167.3
A52: celkem | E52: =E48+E49+E50+E51 -> 1344596.8 | F52: =F48+F49+F50+F51 -> 4552611.4 | G52: =G48+G49+G50+G51 -> 3295414.6 | H52: =H48+H49+H50+H51 -> 2601793.5 | I52: =I48+I49+I50+I51 -> 2398453.5

Sheet 1136
A1: REKAPITULACE ZA ORGANIZACI :
A2: Název organizace : | E2: VOŠ a Střední škola automobilní, Zábřeh, U Dráhy 6
E3: ……………………………………….……..………………………………………..…………………………………
A4: Adresa : | E4: U Dráhy 6, Zábřeh
E5: ……………………………………….……..………………………………………..…………………………………
A6: IČ | E6: 00577324 | G6: ORG | I6: 1136
E7: ……………………………… ………….…..……………………………
E11: Schválený | F11: Upravený | G11: Skutečnost | H11: z toho:
E12: rozpočet | F12: rozpočet | G12: celkem | H12: Hlavní činnost | I12: Doplňková činnost
E13: celkem | F13: celkem | H13: jednotka - Kč na 2 des. místa
A15: a) Náklady a výnosy
A16: Náklady | E16: 10598000 | F16: 38385238 | G16: =H16+I16 -> 38385253 | H16: 37857983 | I16: 527269.49
A18: Výnosy | E18: 10598000 | F18: 38690037 | G18: =H18+I18 -> 38688650 | H18: 38081692 | I18: 606958
A21: Doplňující údaje :
C22: daň z příjmů,dodatečné odvody daně z příjmů (nákladová položka) | G22: =H22+I22 -> 0 | H22: 0 | I22: 0
A24: Výsledek hospodaření /po zdanění/ | G24: =G18-G16-G22 -> 303397.76 | H24: =H18-H16-H22 -> 223709.25 | I24: =I18-I16-I22 -> 79688.51
A28: b) | B28: Rozdělení výsledku hospodaření | G28: =G29+G30+G31 -> 303397.76
C29: - Návrh na příděly do fondů: | F29: Fond odměn | G29: 25000
F30: Fond rezervní | G30: 278397.76
C31: - Způsob krytí ztráty : | F31: Částka | G31: 0
A35: c) | B35: Závazné ukazatele
F36: Schválená částka | G36: Skutečnost | I36: % plnění
A37: Limit mzdových prostředků | F37: 60000 | G37: 52176 | I37: =G37/F37 -> 0.8696
A38: Neinvestiční příspěvek /odpisy/ | F38: 1205000 | G38: 1210608 | I38: =G38/F38 -> 1.0046539
A39: Neinvestiční příspěvek /nájemné/ | F39: 0 | G39: 0 | I39: nerozp.
A40: Odvody z investičního fondu /odpisy/ | F40: 904000 | G40: 904000 | I40: =G40/F40 -> 1
A41: Odvody z investičního fondu | E41: /spolufin. akcí/ | F41: 150000 | G41: 150000 | I41: =G41/F41 -> 1
A42: Pozn.: Vynaložené odpisy nad stanovený limit byly finančně pokryty z provozních prostředků organizace- 5 608,- Kč.
A44: d) | B44: Fondy | H44: jednotka - Kč na 2 des. místa
E45: Stav k 1.1.2011 | F45: Tvorba | G45: Čerpání | H45: Stav k | I45: Finanční krytí k
H46: 40908 | I46: 40908
C49: Fond odměn | E49: 19500 | F49: 20000 | G49: 30900 | H49: =E49+F49-G49 -> 8600 | I49: 0
C50: FKSP | E50: 107822.21 | F50: 209370 | G50: 247465.1 | H50: =E50+F50-G50 -> 69727.11 | I50: 73209.37
C51: Fond rezervní | E51: 367320.11 | F51: =61201.39+7500 -> 68701.39 | G51: 7500 | H51: =E51+F51-G51 -> 428521.5 | I51: 206563.88
C52: Investiční fond | E52: 283092.12 | F52: 1243119 | G52: 1260890 | H52: =E52+F52-G52 -> 265321.12 | I52: 41137.77
A53: celkem | E53: =E49+E50+E51+E52 -> 777734.44 | F53: =F49+F50+F51+F52 -> 1541190.4 | G53: =G49+G50+G51+G52 -> 1546755.1 | H53: =H49+H50+H51+H52 -> 772169.73 | I53: =I49+I50+I51+I52 -> 320911.02

Sheet 1137
A1: REKAPITULACE ZA ORGANIZACI :
A2: Název organizace : | E2: SPŠ elektrotechnická, Mohelnice, Gen. Svobody 2
E3: ……………………………………….……..………………………………………..…………………………………
A4: Adresa : | E4: Gen. Svobody 2, Mohelnice
E5: ……………………………………….……..………………………………………..…………………………………
A6: IČ | E6: 00843105 | G6: ORG | I6: 1137
E7: ……………………………… ………….…..……………………………
E11: Schválený | F11: Upravený | G11: Skutečnost | H11: z toho:
E12: rozpočet | F12: rozpočet | G12: celkem | H12: Hlavní činnost | I12: Doplňková činnost
E13: celkem | F13: celkem | H13: jednotka - Kč na 2 des. místa
A15: a) Náklady a výnosy
A16: Náklady | E16: 2278000 | F16: 13592638 | G16: =H16+I16 -> 13598043 | H16: 13440830 | I16: 157213.11
A18: Výnosy | E18: 2278000 | F18: 13592638 | G18: =H18+I18 -> 13676668 | H18: 13494422 | I18: 182246
A21: Doplňující údaje :
C22: daň z příjmů,dodatečné odvody daně z příjmů (nákladová položka) | G22: =H22+I22 -> 0 | H22: 0 | I22: 0
A24: Výsledek hospodaření /po zdanění/ | G24: =G18-G16-G22 -> 78624.5 | H24: =H18-H16-H22 -> 53591.61 | I24: =I18-I16-I22 -> 25032.89
A28: b) | B28: Rozdělení výsledku hospodaření | G28: =G29+G30+G31 -> 78624.5
C29: - Návrh na příděly do fondů: | F29: Fond odměn | G29: 4000
F30: Fond rezervní | G30: 3019.01
C31: - Způsob krytí ztráty : | F31: Částka | G31: 71605.49
A32: Zlepšený výsledek hospodaření ve výši 78 624,50 Kč bude částečně použit na úhradu neuhrazené ztráty minulých let, která je ve výši - 71 605,49 Kč.
A35: c) | B35: Závazné ukazatele
F36: Schválená částka | G36: Skutečnost | I36: % plnění
A37: Limit mzdových prostředků | F37: 0 | G37: 0 | I37: nerozp.
A38: Neinvestiční příspěvek /odpisy/ | F38: 389000 | G38: 389000 | I38: =G38/F38 -> 1
A39: Neinvestiční příspěvek /nájemné/ | F39: 0 | G39: 0 | I39: nerozp.
A40: Odvody z investičního fondu /odpisy/ | F40: 292000 | G40: 292000 | I40: =G40/F40 -> 1
A41: Odvody z investičního fondu | E41: /spolufin. akcí/ | F41: 0 | G41: 0 | I41: nerozp.
A43: d) | B43: Fondy | H43: jednotka - Kč na 2 des. místa
E44: Stav k 1.1.2011 | F44: Tvorba | G44: Čerpání | H44: Stav k | I44: Finanční krytí k
H45: 40908 | I45: 40908
C48: Fond odměn | E48: 17708.28 | F48: 0 | G48: 5805 | H48: =E48+F48-G48 -> 11903.28 | I48: =H48 -> 11903.28
C49: FKSP | E49: 276976.96 | F49: 78202 | G49: 163507 | H49: =E49+F49-G49 -> 191671.96 | I49: 158879.96
C50: Fond rezervní | E50: 6691.23 | F50: =6691.23+105510 -> 112201.23 | G50: =631+104502.21 -> 105133.21 | H50: =E50+F50-G50 -> 13759.25 | I50: =H50 -> 13759.25
C51: Investiční fond | E51: 23366 | F51: 399956 | G51: 367716 | H51: =E51+F51-G51 -> 55606 | I51: =H51 -> 55606
A52: celkem | E52: =E48+E49+E50+E51 -> 324742.47 | F52: =F48+F49+F50+F51 -> 590359.23 | G52: =G48+G49+G50+G51 -> 642161.21 | H52: =H48+H49+H50+H51 -> 272940.49 | I52: =I48+I49+I50+I51 -> 240148.49

Sheet 1138
A1: REKAPITULACE ZA ORGANIZACI :
A2: Název organizace : | E2: Střední odborná škola, Šumperk, Zemědělská 3
E3: ……………………………………….……..………………………………………..…………………………………
A4: Adresa : | E4: Zemědělská 3, Šumperk
E5: ……………………………………….……..………………………………………..…………………………………
A6: IČ | E6: 00852384 | G6: ORG | I6: 1138
E7: ……………………………… ………….…..……………………………
E11: Schválený | F11: Upravený | G11: Skutečnost | H11: z toho:
E12: rozpočet | F12: rozpočet | G12: celkem | H12: Hlavní činnost | I12: Doplňková činnost
E13: celkem | F13: celkem | H13: jednotka - Kč na 2 des. místa
A15: a) Náklady a výnosy
A16: Náklady | E16: 9683000 | F16: 29101654 | G16: =H16+I16 -> 28847228 | H16: 27789244 | I16: 1057984.4
A18: Výnosy | E18: 9683000 | F18: 29488507 | G18: =H18+I18 -> 29294183 | H18: 27577263 | I18: 1716920.5
A21: Doplňující údaje :
C22: daň z příjmů,dodatečné odvody daně z příjmů (nákladová položka) | G22: 75480 | H22: 0 | I22: 0
A24: Výsledek hospodaření /po zdanění/ | G24: =G18-G16-G22 -> 371475.11 | H24: =H18-H16-H22 -> -211981.01 | I24: =I18-I16-I22 -> 658936.12
A28: b) | B28: Rozdělení výsledku hospodaření | G28: =G29+G30+G31 -> 371475.11
C29: - Návrh na příděly do fondů: | F29: Fond odměn | G29: 39797
F30: Fond rezervní | G30: 258309.44
C31: - Způsob krytí ztráty : | F31: Částka | G31: 73368.67
A32: Zlepšený výsledek hospodaření ve výši 371 475,11 Kč bude částečně použit na úhradu neuhrazené ztráty minulých let, která je ve výši - 73 368,67 Kč.
A36: c) | B36: Závazné ukazatele
F37: Schválená částka | G37: Skutečnost | I37: % plnění
A38: Limit mzdových prostředků | F38: 0 | G38: 0 | I38: nerozp.
A39: Neinvestiční příspěvek /odpisy/ | F39: 1027659 | G39: 893785.41 | I39: =G39/F39 -> 0.86972956
A40: Neinvestiční příspěvek /nájemné/ | F40: 0 | G40: 0 | I40: nerozp.
A41: Odvody z investičního fondu /odpisy/ | F41: 771000 | G41: 771000 | I41: =G41/F41 -> 1
A42: Odvody z investičního fondu | E42: /spolufin. akcí/ | F42: 0 | G42: 0 | I42: nerozp.
A44: d) | B44: Fondy | H44: jednotka - Kč na 2 des. místa
E45: Stav k 1.1.2011 | F45: Tvorba | G45: Čerpání | H45: Stav k | I45: Finanční krytí k
H46: 40908 | I46: 40908
C49: Fond odměn | E49: 7203 | F49: 0 | G49: 7000 | H49: =E49+F49-G49 -> 203 | I49: =H49 -> 203
C50: FKSP | E50: 149710.99 | F50: 145464 | G50: 221255.5 | H50: =E50+F50-G50 -> 73919.49 | I50: 52216.49
C51: Fond rezervní | E51: =877215.41+10000 -> 887215.41 | F51: 20876 | G51: =56455.41+15876 -> 72331.41 | H51: =E51+F51-G51 -> 835760 | I51: 15000
C52: Investiční fond | E52: 0 | F52: 1267127 | G52: 1164610 | H52: =E52+F52-G52 -> 102517 | I52: =H52 -> 102517
A53: celkem | E53: =E49+E50+E51+E52 -> 1044129.4 | F53: =F49+F50+F51+F52 -> 1433467 | G53: =G49+G50+G51+G52 -> 1465196.9 | H53: =H49+H50+H51+H52 -> 1012399.5 | I53: =I49+I50+I51+I52 -> 169936.49

Sheet 1140
A1: REKAPITULACE ZA ORGANIZACI :
A2: Název organizace : | E2: SOŠ a SOU, Šumperk, Gen. Krátkého 30
E3: ……………………………………….……..………………………………………..…………………………………
A4: Adresa : | E4: Gen. Krátkého 30, Šumperk
E5: ……………………………………….……..………………………………………..…………………………………
A6: IČ | E6: 00851167 | G6: ORG | I6: 1140
E7: ……………………………… ………….…..……………………………
E11: Schválený | F11: Upravený | G11: Skutečnost | H11: z toho:
E12: rozpočet | F12: rozpočet | G12: celkem | H12: Hlavní činnost | I12: Doplňková činnost
E13: celkem | F13: celkem | H13: jednotka - Kč na 2 des. místa
A15: a) Náklady a výnosy
A16: Náklady | E16: 20974000 | F16: 54077298 | G16: =H16+I16 -> 54077298 | H16: 52141409 | I16: 1935889.5
A18: Výnosy | E18: 20974000 | F18: 54475756 | G18: =H18+I18 -> 54150413 | H18: 51892864 | I18: 2257549.1
A21: Doplňující údaje :
C22: daň z příjmů,dodatečné odvody daně z příjmů (nákladová položka) | G22: =H22+I22 -> 0 | H22: 0 | I22: 0
A24: Výsledek hospodaření /po zdanění/ | G24: =G18-G16-G22 -> 73114.97 | H24: =H18-H16-H22 -> -248544.71 | I24: =I18-I16-I22 -> 321659.68
A28: b) | B28: Rozdělení výsledku hospodaření | G28: =G29+G30+G31 -> 73114.97
C29: - Návrh na příděly do fondů: | F29: Fond odměn | G29: 50000
F30: Fond rezervní | G30: 23114.97
C31: - Způsob krytí ztráty : | F31: Částka | G31: 0
A35: c) | B35: Závazné ukazatele
F36: Schválená částka | G36: Skutečnost | I36: % plnění
A37: Limit mzdových prostředků | F37: 250000 | G37: 242259 | I37: =G37/F37 -> 0.969036
A38: Neinvestiční příspěvek /odpisy/ | F38: 2269780 | G38: 2317194 | I38: =G38/F38 -> 1.0208892
A39: Neinvestiční příspěvek /nájemné/ | F39: 0 | G39: 0 | I39: nerozp.
A40: Odvody z investičního fondu /odpisy/ | F40: 1702000 | G40: 1702000 | I40: =G40/F40 -> 1
A41: Odvody z investičního fondu | E41: /spolufin. akcí/ | F41: 662000 | G41: 662000 | I41: =G41/F41 -> 1
A42: Pozn.: Vynaložené odpisy nad stanovený limit byly finančně pokryty z provozních prostředků organizace- 47 414,- Kč.
A45: d) | B45: Fondy | H45: jednotka - Kč na 2 des. místa
E46: Stav k 1.1.2011 | F46: Tvorba | G46: Čerpání | H46: Stav k | I46: Finanční krytí k
H47: 40908 | I47: 40908
C50: Fond odměn | E50: 13379 | F50: 21000 | G50: 33400 | H50: =E50+F50-G50 -> 979 | I50: =H50 -> 979
C51: FKSP | E51: 153503.07 | F51: 263795 | G51: 345547.07 | H51: =E51+F51-G51 -> 71751 | I51: 161219.99
C52: Fond rezervní | E52: 216375.57 | F52: =44197.87+25000 -> 69197.87 | G52: =200000+25000 -> 225000 | H52: =E52+F52-G52 -> 60573.44 | I52: =H52 -> 60573.44
C53: Investiční fond | E53: 2269974.2 | F53: 2547453.6 | G53: 3056644.4 | H53: =E53+F53-G53 -> 1760783.4 | I53: =H53 -> 1760783.4
A54: celkem | E54: =E50+E51+E52+E53 -> 2653231.9 | F54: =F50+F51+F52+F53 -> 2901446.5 | G54: =G50+G51+G52+G53 -> 3660591.5 | H54: =H50+H51+H52+H53 -> 1894086.9 | I54: =I50+I51+I52+I53 -> 1983555.9

Sheet 1153
A1: REKAPITULACE ZA ORGANIZACI :
A2: Název organizace : | E2: Obchodní akademie, Mohelnice, Olomoucká 82
E3: ……………………………………….……..………………………………………..…………………………………
A4: Adresa : | E4: Olomoucká 82, Mohelnice
E5: ……………………………………….……..………………………………………..…………………………………
A6: IČ | E6: 60045035 | G6: ORG | I6: 1153
E7: ……………………………… ………….…..……………………………
E11: Schválený | F11: Upravený | G11: Skutečnost | H11: z toho:
E12: rozpočet | F12: rozpočet | G12: celkem | H12: Hlavní činnost | I12: Doplňková činnost
E13: celkem | F13: celkem | H13: jednotka - Kč na 2 des. místa
A15: a) Náklady a výnosy
A16: Náklady | E16: 8781000 | F16: 26278381 | G16: =H16+I16 -> 27181768 | H16: 26259278 | I16: 922490
A18: Výnosy | E18: 8781000 | F18: 26278383 | G18: =H18+I18 -> 27248268 | H18: 26058495 | I18: 1189773
A21: Doplňující údaje :
C22: daň z příjmů,dodatečné odvody daně z příjmů (nákladová položka) | G22: =H22+I22 -> 0 | H22: 0 | I22: 0
A24: Výsledek hospodaření /po zdanění/ | G24: =G18-G16-G22 -> 66499.13 | H24: =H18-H16-H22 -> -200783.87 | I24: =I18-I16-I22 -> 267283
A28: b) | B28: Rozdělení výsledku hospodaření | G28: =G29+G30+G31 -> 66499.13
C29: - Návrh na příděly do fondů: | F29: Fond odměn | G29: 20000
F30: Fond rezervní | G30: 46499.13
C31: - Způsob krytí ztráty : | F31: Částka | G31: 0
A35: c) | B35: Závazné ukazatele
F36: Schválená částka | G36: Skutečnost | I36: % plnění
A37: Limit mzdových prostředků | F37: 797160 | G37: 797160 | I37: =G37/F37 -> 1
A38: Neinvestiční příspěvek /odpisy/ | F38: 1794077 | G38: 1727748.9 | I38: =G38/F38 -> 0.9630294
A39: Neinvestiční příspěvek /nájemné/ | F39: 278144.85 | G39: 278144.85 | I39: =G39/F39 -> 1
A40: Odvody z investičního fondu /odpisy/ | F40: 1346000 | G40: 1346000 | I40: =G40/F40 -> 1
A41: Odvody z investičního fondu | E41: /spolufin. akcí/ | F41: 80000 | G41: 80000 | I41: =G41/F41 -> 1
A44: d) | B44: Fondy | H44: jednotka - Kč na 2 des. místa
E45: Stav k 1.1.2011 | F45: Tvorba | G45: Čerpání | H45: Stav k | I45: Finanční krytí k
H46: 40908 | I46: 40908
C49: Fond odměn | E49: 32887 | F49: 0 | G49: 18600 | H49: =E49+F49-G49 -> 14287 | I49: =H49 -> 14287
C50: FKSP | E50: 27571.24 | F50: 111554 | G50: 111305 | H50: =E50+F50-G50 -> 27820.24 | I50: 5791.89
C51: Fond rezervní | E51: 83604 | F51: =6207.3+13000 -> 19207.3 | G51: 11223 | H51: =E51+F51-G51 -> 91588.3 | I51: =H51 -> 91588.3
C52: Investiční fond | E52: 342071.23 | F52: 8551090 | G52: 8782576.5 | H52: =E52+F52-G52 -> 110584.77 | I52: =H52 -> 110584.77
A53: celkem | E53: =E49+E50+E51+E52 -> 486133.47 | F53: =F49+F50+F51+F52 -> 8681851.3 | G53: =G49+G50+G51+G52 -> 8923704.5 | H53: =H49+H50+H51+H52 -> 244280.31 | I53: =I49+I50+I51+I52 -> 222251.96

Sheet 1154
A1: REKAPITULACE ZA ORGANIZACI :
A2: Název organizace : | E2: Obchodní akademie a Jazyková škola, Šumperk, Hlavní třída 31
E3: ……………………………………….……..………………………………………..…………………………………
A4: Adresa : | E4: Hlavní třída 31, Šumperk
E5: ……………………………………….……..………………………………………..…………………………………
A6: IČ | E6: 49589679 | G6: ORG | I6: 1154
E7: ……………………………… ………….…..……………………………
E11: Schválený | F11: Upravený | G11: Skutečnost | H11: z toho:
E12: rozpočet | F12: rozpočet | G12: celkem | H12: Hlavní činnost | I12: Doplňková činnost
E13: celkem | F13: celkem | H13: jednotka - Kč na 2 des. místa
A15: a) Náklady a výnosy
A16: Náklady | E16: 4184000 | F16: 15591016 | G16: =H16+I16 -> 15591016 | H16: 15218762 | I16: 372254.37
A18: Výnosy | E18: 4264000 | F18: 15725134 | G18: =H18+I18 -> 15725134 | H18: 15223661 | I18: 501473.45
A21: Doplňující údaje :
C22: daň z příjmů,dodatečné odvody daně z příjmů (nákladová položka) | G22: =H22+I22 -> 0 | H22: 0 | I22: 0
A24: Výsledek hospodaření /po zdanění/ | G24: =G18-G16-G22 -> 134117.93 | H24: =H18-H16-H22 -> 4898.85 | I24: =I18-I16-I22 -> 129219.08
A28: b) | B28: Rozdělení výsledku hospodaření | G28: =G29+G30+G31 -> 134117.93
C29: - Návrh na příděly do fondů: | F29: Fond odměn | G29: 13000
F30: Fond rezervní | G30: 121117.93
C31: - Způsob krytí ztráty : | F31: Částka | G31: 0
A35: c) | B35: Závazné ukazatele
F36: Schválená částka | G36: Skutečnost | I36: % plnění
A37: Limit mzdových prostředků | F37: 77000 | G37: 73898 | I37: =G37/F37 -> 0.95971429
A38: Neinvestiční příspěvek /odpisy/ | F38: 601000 | G38: 601858.91 | I38: =G38/F38 -> 1.0014291
A39: Neinvestiční příspěvek /nájemné/ | F39: 0 | G39: 0 | I39: nerozp.
A40: Odvody z investičního fondu /odpisy/ | F40: 451000 | G40: 451000 | I40: =G40/F40 -> 1
A41: Odvody z investičního fondu | E41: /spolufin. akcí/ | F41: 0 | G41: 0 | I41: nerozp.
A42: Pozn.: Vynaložené odpisy nad stanovený limit byly finančně pokryty z provozních prostředků organizace- 858,91 Kč.
A44: d) | B44: Fondy | H44: jednotka - Kč na 2 des. místa
E45: Stav k 1.1.2011 | F45: Tvorba | G45: Čerpání | H45: Stav k | I45: Finanční krytí k
H46: 40908 | I46: 40908
C49: Fond odměn | E49: 84478 | F49: 13000 | G49: 7000 | H49: =E49+F49-G49 -> 90478 | I49: =H49 -> 90478
C50: FKSP | E50: 53553.65 | F50: 80615 | G50: 96561 | H50: =E50+F50-G50 -> 37607.65 | I50: 31058.65
C51: Fond rezervní | E51: 341930.21 | F51: =129072.09+65601 -> 194673.09 | G51: =10246.97+65601 -> 75847.97 | H51: =E51+F51-G51 -> 460755.33 | I51: =H51 -> 460755.33
C52: Investiční fond | E52: 425456.83 | F52: 659176.91 | G52: 595833 | H52: =E52+F52-G52 -> 488800.74 | I52: =H52 -> 488800.74
A53: celkem | E53: =E49+E50+E51+E52 -> 905418.69 | F53: =F49+F50+F51+F52 -> 947465 | G53: =G49+G50+G51+G52 -> 775241.97 | H53: =H49+H50+H51+H52 -> 1077641.7 | I53: =I49+I50+I51+I52 -> 1071092.7

Sheet 1163
A1: REKAPITULACE ZA ORGANIZACI :
A2: Název organizace : | E2: Střední zdravotnická škola, Šumperk, Kladská 2
E3: ……………………………………….……..………………………………………..…………………………………
A4: Adresa : | E4: Kladská 2, Šumperk
E5: ……………………………………….……..………………………………………..…………………………………
A6: IČ | E6: 00851213 | G6: ORG | I6: 1163
E7: ……………………………… ………….…..……………………………
E11: Schválený | F11: Upravený | G11: Skutečnost | H11: z toho:
E12: rozpočet | F12: rozpočet | G12: celkem | H12: Hlavní činnost | I12: Doplňková činnost
E13: celkem | F13: celkem | H13: jednotka - Kč na 2 des. místa
A15: a) Náklady a výnosy
A16: Náklady | E16: 5038000 | F16: 22540320 | G16: =H16+I16 -> 22607172 | H16: 22013890 | I16: 593281.88
A18: Výnosy | E18: 5038000 | F18: 22623138 | G18: =H18+I18 -> 22830320 | H18: 22027186 | I18: 803134
A21: Doplňující údaje :
C22: daň z příjmů,dodatečné odvody daně z příjmů (nákladová položka) | G22: =H22+I22 -> 0 | H22: 0 | I22: 0
A24: Výsledek hospodaření /po zdanění/ | G24: =G18-G16-G22 -> 223147.77 | H24: =H18-H16-H22 -> 13295.65 | I24: =I18-I16-I22 -> 209852.12
A28: b) | B28: Rozdělení výsledku hospodaření | G28: =G29+G30+G31 -> 223147.77
C29: - Návrh na příděly do fondů: | F29: Fond odměn | G29: 25000
F30: Fond rezervní | G30: 198147.77
C31: - Způsob krytí ztráty : | F31: Částka | G31: 0
A35: c) | B35: Závazné ukazatele
F36: Schválená částka | G36: Skutečnost | I36: % plnění
A37: Limit mzdových prostředků | F37: 0 | G37: 0 | I37: nerozp.
A38: Neinvestiční příspěvek /odpisy/ | F38: 83955 | G38: 83955 | I38: =G38/F38 -> 1
A39: Neinvestiční příspěvek /nájemné/ | F39: 0 | G39: 0 | I39: nerozp.
A40: Odvody z investičního fondu /odpisy/ | F40: 63000 | G40: 63000 | I40: =G40/F40 -> 1
A41: Odvody z investičního fondu | E41: /spolufin. akcí/ | F41: 0 | G41: 0 | I41: nerozp.
A44: d) | B44: Fondy | H44: jednotka - Kč na 2 des. místa
E45: Stav k 1.1.2011 | F45: Tvorba | G45: Čerpání | H45: Stav k | I45: Finanční krytí k
H46: 40908 | I46: 40908
C49: Fond odměn | E49: 5400 | F49: 20000 | G49: 16800 | H49: =E49+F49-G49 -> 8600 | I49: =H49 -> 8600
C50: FKSP | E50: 51746.1 | F50: 124760 | G50: 121978 | H50: =E50+F50-G50 -> 54528.1 | I50: 43493.86
C51: Fond rezervní | E51: 175651.19 | F51: =221258.25+516 -> 221774.25 | G51: 0 | H51: =E51+F51-G51 -> 397425.44 | I51: =H51 -> 397425.44
C52: Investiční fond | E52: 44199.25 | F52: 87804 | G52: 63000 | H52: =E52+F52-G52 -> 69003.25 | I52: =H52 -> 69003.25
A53: celkem | E53: =E49+E50+E51+E52 -> 276996.54 | F53: =F49+F50+F51+F52 -> 454338.25 | G53: =G49+G50+G51+G52 -> 201778 | H53: =H49+H50+H51+H52 -> 529556.79 | I53: =I49+I50+I51+I52 -> 518522.55

Sheet 1174
A1: REKAPITULACE ZA ORGANIZACI :
A2: Název organizace : | E2: Střední škola technická, Mohelnice, 1. máje 2
E3: ……………………………………….……..………………………………………..…………………………………
A4: Adresa : | E4: 1. máje 2, Mohelnice
E5: ……………………………………….……..………………………………………..…………………………………
A6: IČ | E6: 00851205 | G6: ORG | I6: 1174
E7: ……………………………… ………….…..……………………………
E11: Schválený | F11: Upravený | G11: Skutečnost | H11: z toho:
E12: rozpočet | F12: rozpočet | G12: celkem | H12: Hlavní činnost | I12: Doplňková činnost
E13: celkem | F13: celkem | H13: jednotka - Kč na 2 des. místa
A15: a) Náklady a výnosy
A16: Náklady | E16: 3826000 | F16: 17533238 | G16: =H16+I16 -> 17533238 | H16: 17335078 | I16: 198159.89
A18: Výnosy | E18: 3826000 | F18: 17612492 | G18: =H18+I18 -> 17539092 | H18: 17154548 | I18: 384544
A21: Doplňující údaje :
C22: daň z příjmů,dodatečné odvody daně z příjmů (nákladová položka) | G22: =H22+I22 -> 0 | H22: 0 | I22: 0
A24: Výsledek hospodaření /po zdanění/ | G24: =G18-G16-G22 -> 5854.39 | H24: =H18-H16-H22 -> -180529.72 | I24: =I18-I16-I22 -> 186384.11
A28: b) | B28: Rozdělení výsledku hospodaření | G28: =G29+G30+G31 -> 5854.39
C29: - Návrh na příděly do fondů: | F29: Fond odměn | G29: 4680
F30: Fond rezervní | G30: 1174.39
C31: - Způsob krytí ztráty : | F31: Částka | G31: 0
A35: c) | B35: Závazné ukazatele
F36: Schválená částka | G36: Skutečnost | I36: % plnění
A37: Limit mzdových prostředků | F37: 3500 | G37: 3500 | I37: =G37/F37 -> 1
A38: Neinvestiční příspěvek /odpisy/ | F38: 398995 | G38: 398995 | I38: =G38/F38 -> 1
A39: Neinvestiční příspěvek /nájemné/ | F39: 0 | G39: 0 | I39: nerozp.
A40: Odvody z investičního fondu /odpisy/ | F40: 299000 | G40: 299000 | I40: =G40/F40 -> 1
A41: Odvody z investičního fondu | E41: /spolufin. akcí/ | F41: 0 | G41: 0 | I41: nerozp.
A43: d) | B43: Fondy | H43: jednotka - Kč na 2 des. místa
E44: Stav k 1.1.2011 | F44: Tvorba | G44: Čerpání | H44: Stav k | I44: Finanční krytí k
H45: 40908 | I45: 40908
C48: Fond odměn | E48: 11000 | F48: 4000 | G48: 15000 | H48: =E48+F48-G48 -> 0 | I48: =H48 -> 0
C49: FKSP | E49: 72531.43 | F49: 96492 | G49: 145018.32 | H49: =E49+F49-G49 -> 24005.11 | I49: 22964.4
C50: Fond rezervní | E50: 217552.79 | F50: 1242.89 | G50: 0 | H50: =E50+F50-G50 -> 218795.68 | I50: =H50 -> 218795.68
C51: Investiční fond | E51: 512444.03 | F51: 399959 | G51: 299000 | H51: =E51+F51-G51 -> 613403.03 | I51: =H51 -> 613403.03
A52: celkem | E52: =E48+E49+E50+E51 -> 813528.25 | F52: =F48+F49+F50+F51 -> 501693.89 | G52: =G48+G49+G50+G51 -> 459018.32 | H52: =H48+H49+H50+H51 -> 856203.82 | I52: =I48+I49+I50+I51 -> 855163.11

Sheet 1221
A1: REKAPITULACE ZA ORGANIZACI :
A2: Název organizace : | E2: Střední škola železniční a stavební, Šumperk, Bulharská 8
E3: ……………………………………….……..………………………………………..…………………………………
A4: Adresa : | E4: Bulharská 8, Šumperk
E5: ……………………………………….……..………………………………………..…………………………………
A6: IČ | E6: 14451107 | G6: ORG | I6: 1221
E7: ……………………………… ………….…..……………………………
E11: Schválený | F11: Upravený | G11: Skutečnost | H11: z toho:
E12: rozpočet | F12: rozpočet | G12: celkem | H12: Hlavní činnost | I12: Doplňková činnost
E13: celkem | F13: celkem | H13: jednotka - Kč na 2 des. místa
A15: a) Náklady a výnosy
A16: Náklady | E16: 8419000 | F16: 31536306 | G16: =H16+I16 -> 31500597 | H16: 30895745 | I16: 604852
A18: Výnosy | E18: 8419000 | F18: 31536306 | G18: =H18+I18 -> 31588247 | H18: 30898028 | I18: 690219
A21: Doplňující údaje :
C22: daň z příjmů,dodatečné odvody daně z příjmů (nákladová položka) | G22: =H22+I22 -> 0 | H22: 0 | I22: 0
A24: Výsledek hospodaření /po zdanění/ | G24: =G18-G16-G22 -> 87650.32 | H24: =H18-H16-H22 -> 2283.32 | I24: =I18-I16-I22 -> 85367
A28: b) | B28: Rozdělení výsledku hospodaření | G28: =G29+G30+G31 -> 87650.32
C29: - Návrh na příděly do fondů: | F29: Fond odměn | G29: 8500
F30: Fond rezervní | G30: 79150.32
C31: - Způsob krytí ztráty : | F31: Částka | G31: 0
A35: c) | B35: Závazné ukazatele
F36: Schválená částka | G36: Skutečnost | I36: % plnění
A37: Limit mzdových prostředků | F37: 0 | G37: 0 | I37: nerozp.
A38: Neinvestiční příspěvek /odpisy/ | F38: 1313820 | G38: 1313820 | I38: =G38/F38 -> 1
A39: Neinvestiční příspěvek /nájemné/ | F39: 0 | G39: 0 | I39: nerozp.
A40: Odvody z investičního fondu /odpisy/ | F40: 985000 | G40: 985000 | I40: =G40/F40 -> 1
A41: Odvody z investičního fondu | E41: /spolufin. akcí/ | F41: 0 | G41: 0 | I41: nerozp.
A44: d) | B44: Fondy | H44: jednotka - Kč na 2 des. místa
E45: Stav k 1.1.2011 | F45: Tvorba | G45: Čerpání | H45: Stav k | I45: Finanční krytí k
H46: 40908 | I46: 40908
C49: Fond odměn | E49: 85700 | F49: 8000 | G49: 21500 | H49: =E49+F49-G49 -> 72200 | I49: 82200
C50: FKSP | E50: 67443.63 | F50: 166926 | G50: 181866 | H50: =E50+F50-G50 -> 52503.63 | I50: 52504.33
C51: Fond rezervní | E51: 213730.44 | F51: =74389.06+6000 -> 80389.06 | G51: 6000 | H51: =E51+F51-G51 -> 288119.5 | I51: =H51 -> 288119.5
C52: Investiční fond | E52: 387284.23 | F52: 1313820 | G52: 1631323 | H52: =E52+F52-G52 -> 69781.23 | I52: =H52 -> 69781.23
A53: celkem | E53: =E49+E50+E51+E52 -> 754158.3 | F53: =F49+F50+F51+F52 -> 1569135.1 | G53: =G49+G50+G51+G52 -> 1840689 | H53: =H49+H50+H51+H52 -> 482604.36 | I53: =I49+I50+I51+I52 -> 492605.06

Sheet 1222
A1: REKAPITULACE ZA ORGANIZACI :
A2: Název organizace : | E2: Odborné učiliště a Praktická škola, Mohelnice, Vodní 27
E3: ……………………………………….……..………………………………………..…………………………………
A4: Adresa : | E4: Vodní 27, Mohelnice
E5: ……………………………………….……..………………………………………..…………………………………
A6: IČ | E6: 62353179 | G6: ORG | I6: 1222
E7: ……………………………… ………….…..……………………………
E11: Schválený | F11: Upravený | G11: Skutečnost | H11: z toho:
E12: rozpočet | F12: rozpočet | G12: celkem | H12: Hlavní činnost | I12: Doplňková činnost
E13: celkem | F13: celkem | H13: jednotka - Kč na 2 des. místa
A15: a) Náklady a výnosy
A16: Náklady | E16: 1403000 | F16: 12608515 | G16: =H16+I16 -> 12608423 | H16: 12608423 | I16: 0
A18: Výnosy | E18: 1403000 | F18: 12904751 | G18: =H18+I18 -> 12648464 | H18: 12648464 | I18: 0
A21: Doplňující údaje :
C22: daň z příjmů,dodatečné odvody daně z příjmů (nákladová položka) | G22: =H22+I22 -> 0 | H22: 0 | I22: 0
A24: Výsledek hospodaření /po zdanění/ | G24: =G18-G16-G22 -> 40041 | H24: =H18-H16-H22 -> 40041 | I24: =I18-I16-I22 -> 0
A28: b) | B28: Rozdělení výsledku hospodaření | G28: =G29+G30+G31 -> 40041
C29: - Návrh na příděly do fondů: | F29: Fond odměn | G29: 0
F30: Fond rezervní | G30: 40041
C31: - Způsob krytí ztráty : | F31: Částka | G31: 0
A35: c) | B35: Závazné ukazatele
F36: Schválená částka | G36: Skutečnost | I36: % plnění
A37: Limit mzdových prostředků | F37: 25000 | G37: 23853 | I37: =G37/F37 -> 0.95412
A38: Neinvestiční příspěvek /odpisy/ | F38: 131066 | G38: 131066 | I38: =G38/F38 -> 1
A39: Neinvestiční příspěvek /nájemné/ | F39: 0 | G39: 0 | I39: nerozp.
A40: Odvody z investičního fondu /odpisy/ | F40: 98000 | G40: 98000 | I40: =G40/F40 -> 1
A41: Odvody z investičního fondu | E41: /spolufin. akcí/ | F41: 0 | G41: 0 | I41: nerozp.
A44: d) | B44: Fondy | H44: jednotka - Kč na 2 des. místa
E45: Stav k 1.1.2011 | F45: Tvorba | G45: Čerpání | H45: Stav k | I45: Finanční krytí k
H46: 40908 | I46: 40908
C49: Fond odměn | E49: 49476 | F49: 0 | G49: 0 | H49: =E49+F49-G49 -> 49476 | I49: =H49 -> 49476
C50: FKSP | E50: 272800.39 | F50: 75682 | G50: 160552 | H50: =E50+F50-G50 -> 187930.39 | I50: 187947.42
C51: Fond rezervní | E51: 41133.62 | F51: =5983+224112.98 -> 230095.98 | G51: 0 | H51: =E51+F51-G51 -> 271229.6 | I51: =366771.04+47116.62 -> 413887.66
C52: Investiční fond | E52: 42703.83 | F52: 131066 | G52: 98000 | H52: =E52+F52-G52 -> 75769.83 | I52: =H52 -> 75769.83
A53: celkem | E53: =E49+E50+E51+E52 -> 406113.84 | F53: =F49+F50+F51+F52 -> 436843.98 | G53: =G49+G50+G51+G52 -> 258552 | H53: =H49+H50+H51+H52 -> 584405.82 | I53: =I49+I50+I51+I52 -> 727080.91

Sheet 1223
A1: REKAPITULACE ZA ORGANIZACI :
A2: Název organizace : | E2: Střední škola sociální péče a služeb, Zábřeh, nám. 8. května 2
E3: ……………………………………….……..………………………………………..…………………………………
A4: Adresa : | E4: nám. 8. května 2, Zábřeh
E5: ……………………………………….……..………………………………………..…………………………………
A6: IČ | E6: 00409014 | G6: ORG | I6: 1223
E7: ……………………………… ………….…..……………………………
E11: Schválený | F11: Upravený | G11: Skutečnost | H11: z toho:
E12: rozpočet | F12: rozpočet | G12: celkem | H12: Hlavní činnost | I12: Doplňková činnost
E13: celkem | F13: celkem | H13: jednotka - Kč na 2 des. místa
A15: a) Náklady a výnosy
A16: Náklady | E16: 10293000 | F16: 47192231 | G16: =H16+I16 -> 47160787 | H16: 45155094 | I16: 2005692.9
A18: Výnosy | E18: 10374000 | F18: 47032733 | G18: =H18+I18 -> 47698412 | H18: 45149023 | I18: 2549389.3
A21: Doplňující údaje :
C22: daň z příjmů,dodatečné odvody daně z příjmů (nákladová položka) | G22: =H22+I22 -> 11190 | H22: 0 | I22: 11190
A24: Výsledek hospodaření /po zdanění/ | G24: =G18-G16-G22 -> 526435.46 | H24: =H18-H16-H22 -> -6070.98 | I24: =I18-I16-I22 -> 532506.44
A28: b) | B28: Rozdělení výsledku hospodaření | G28: =G29+G30+G31 -> 526435.46
C29: - Návrh na příděly do fondů: | F29: Fond odměn | G29: 90000
F30: Fond rezervní | G30: 394271.82
C31: - Způsob krytí ztráty : | F31: Částka | G31: 42163.64
A32: Zlepšený výsledek hospodaření ve výši 526 435,46 Kč bude částečně použit na úhradu neuhrazené ztráty minulých let, která je ve výši - 42 163,64 Kč.
A35: c) | B35: Závazné ukazatele
F36: Schválená částka | G36: Skutečnost | I36: % plnění
A37: Limit mzdových prostředků | F37: 223500 | G37: 185476.61 | I37: =G37/F37 -> 0.82987298
A38: Neinvestiční příspěvek /odpisy/ | F38: 896038 | G38: 896007.94 | I38: =G38/F38 -> 0.99996645
A39: Neinvestiční příspěvek /nájemné/ | F39: 0 | G39: 0 | I39: nerozp.
A40: Odvody z investičního fondu /odpisy/ | F40: 672000 | G40: 672000 | I40: =G40/F40 -> 1
A41: Odvody z investičního fondu | E41: /spolufin. akcí/ | F41: 280000 | G41: 280000 | I41: =G41/F41 -> 1
A42: Pozn.: Odvod z investičního fondu (úhrada pozemku) ve výši 26 000,- Kč.
A45: d) | B45: Fondy | H45: jednotka - Kč na 2 des. místa
E46: Stav k 1.1.2011 | F46: Tvorba | G46: Čerpání | H46: Stav k | I46: Finanční krytí k
H47: 40908 | I47: 40908
C50: Fond odměn | E50: 23713 | F50: 0 | G50: 3100.88 | H50: =E50+F50-G50 -> 20612.12 | I50: 0
C51: FKSP | E51: 235239.83 | F51: 268089.44 | G51: 258015.63 | H51: =E51+F51-G51 -> 245313.64 | I51: 142616.51
C52: Fond rezervní | E52: 0 | F52: 0 | G52: 0 | H52: =E52+F52-G52 -> 0 | I52: =H52 -> 0
C53: Investiční fond | E53: 1124338.9 | F53: 954504.94 | G53: 1674471.3 | H53: =E53+F53-G53 -> 404372.5 | I53: 1661.73
A54: celkem | E54: =E50+E51+E52+E53 -> 1383291.7 | F54: =F50+F51+F52+F53 -> 1222594.4 | G54: =G50+G51+G52+G53 -> 1935587.8 | H54: =H50+H51+H52+H53 -> 670298.26 | I54: =I50+I51+I52+I53 -> 144278.24

Sheet 1224
A1: REKAPITULACE ZA ORGANIZACI :
A2: Název organizace : | E2: SOU zemědělské, Loštice, Palackého 338
E3: ……………………………………….……..………………………………………..…………………………………
A4: Adresa : | E4: Palackého 338, Loštice
E5: ……………………………………….……..………………………………………..…………………………………
A6: IČ | E6: 00100498 | G6: ORG | I6: 1224
E7: ……………………………… ………….…..……………………………
E11: Schválený | F11: Upravený | G11: Skutečnost | H11: z toho:
E12: rozpočet | F12: rozpočet | G12: celkem | H12: Hlavní činnost | I12: Doplňková činnost
E13: celkem | F13: celkem | H13: jednotka - Kč na 2 des. místa
A15: a) Náklady a výnosy
A16: Náklady | E16: 4190000 | F16: 14130261 | G16: =H16+I16 -> 14037264 | H16: 13774191 | I16: 263073.25
A18: Výnosy | E18: 4225000 | F18: 14165261 | G18: =H18+I18 -> 14385747 | H18: 14062536 | I18: 323211
A21: Doplňující údaje :
C22: daň z příjmů,dodatečné odvody daně z příjmů (nákladová položka) | G22: =H22+I22 -> 0 | H22: 0 | I22: 0
A24: Výsledek hospodaření /po zdanění/ | G24: =G18-G16-G22 -> 348483.12 | H24: =H18-H16-H22 -> 288345.37 | I24: =I18-I16-I22 -> 60137.75
A28: b) | B28: Rozdělení výsledku hospodaření | G28: =G29+G30+G31 -> 348483.12
C29: - Návrh na příděly do fondů: | F29: Fond odměn | G29: 20000
F30: Fond rezervní | G30: 328433.12
C31: - Způsob krytí ztráty : | F31: Částka | G31: 50
A32: Zlepšený výsledek hospodaření ve výši 348 483,12 Kč bude částečně použit na úhradu neuhrazené ztráty minulých let, která je ve výši - 50,- Kč.
A35: c) | B35: Závazné ukazatele
F36: Schválená částka | G36: Skutečnost | I36: % plnění
A37: Limit mzdových prostředků | F37: 100000 | G37: 82573 | I37: =G37/F37 -> 0.82573
A38: Neinvestiční příspěvek /odpisy/ | F38: 245000 | G38: 245592 | I38: =G38/F38 -> 1.0024163
A39: Neinvestiční příspěvek /nájemné/ | F39: 0 | G39: 0 | I39: nerozp.
A40: Odvody z investičního fondu /odpisy/ | F40: 184000 | G40: 184000 | I40: =G40/F40 -> 1
A41: Odvody z investičního fondu | E41: /spolufin. akcí/ | F41: 0 | G41: 0 | I41: nerozp.
A42: Pozn.: Vynaložené odpisy nad stanovený limit byly finančně pokryty z provozních prostředků organizace- 592,- Kč.
A44: d) | B44: Fondy | H44: jednotka - Kč na 2 des. místa
E45: Stav k 1.1.2011 | F45: Tvorba | G45: Čerpání | H45: Stav k | I45: Finanční krytí k
H46: 40908 | I46: 40908
C49: Fond odměn | E49: 0 | F49: 20000 | G49: 4000 | H49: =E49+F49-G49 -> 16000 | I49: =H49 -> 16000
C50: FKSP | E50: 281082.53 | F50: 66720 | G50: 137791.1 | H50: =E50+F50-G50 -> 210011.43 | I50: 135132.33
C51: Fond rezervní | E51: 0 | F51: 56072.79 | G51: 0 | H51: =E51+F51-G51 -> 56072.79 | I51: 56072.79
C52: Investiční fond | E52: 303395.59 | F52: 320614 | G52: 184000 | H52: =E52+F52-G52 -> 440009.59 | I52: =H52 -> 440009.59
A53: celkem | E53: =E49+E50+E51+E52 -> 584478.12 | F53: =F49+F50+F51+F52 -> 463406.79 | G53: =G49+G50+G51+G52 -> 325791.1 | H53: =H49+H50+H51+H52 -> 722093.81 | I53: =I49+I50+I51+I52 -> 647214.71

Sheet 1311
A1: REKAPITULACE ZA ORGANIZACI :
A2: Název organizace : | E2: Základní umělecká škola, Mohelnice, Náměstí Svobody 15
E3: ……………………………………….……..………………………………………..…………………………………
A4: Adresa : | E4: Náměstí Svobody 15, Mohelnice
E5: ……………………………………….……..………………………………………..…………………………………
A6: IČ | E6: 00851451 | G6: ORG | I6: 1311
E7: ……………………………… ………….…..……………………………
E11: Schválený | F11: Upravený | G11: Skutečnost | H11: z toho:
E12: rozpočet | F12: rozpočet | G12: celkem | H12: Hlavní činnost | I12: Doplňková činnost
E13: celkem | F13: celkem | H13: jednotka - Kč na 2 des. místa
A15: a) Náklady a výnosy
A16: Náklady | E16: 1339000 | F16: 8225050 | G16: =H16+I16 -> 8023271 | H16: 8008091 | I16: 15180
A18: Výnosy | E18: 1339000 | F18: 8225050 | G18: =H18+I18 -> 8160301.4 | H18: 8145121.4 | I18: 15180
A21: Doplňující údaje :
C22: daň z příjmů,dodatečné odvody daně z příjmů (nákladová položka) | G22: =H22+I22 -> 0 | H22: 0 | I22: 0
A24: Výsledek hospodaření /po zdanění/ | G24: =G18-G16-G22 -> 137030.31 | H24: =H18-H16-H22 -> 137030.31 | I24: =I18-I16-I22 -> 0
A28: b) | B28: Rozdělení výsledku hospodaření | G28: =G29+G30+G31 -> 137030.31
C29: - Návrh na příděly do fondů: | F29: Fond odměn | G29: 16677
F30: Fond rezervní | G30: 120353.31
C31: - Způsob krytí ztráty : | F31: Částka | G31: 0
A35: c) | B35: Závazné ukazatele
F36: Schválená částka | G36: Skutečnost | I36: % plnění
A37: Limit mzdových prostředků | F37: 0 | G37: 0 | I37: nerozp.
A38: Neinvestiční příspěvek /odpisy/ | F38: 131300 | G38: 131196 | I38: =G38/F38 -> 0.99920792
A39: Neinvestiční příspěvek /nájemné/ | F39: 0 | G39: 0 | I39: nerozp.
A40: Odvody z investičního fondu /odpisy/ | F40: 98000 | G40: 98000 | I40: =G40/F40 -> 1
A41: Odvody z investičního fondu | E41: /spolufin. akcí/ | F41: 0 | G41: 0 | I41: nerozp.
A44: d) | B44: Fondy | H44: jednotka - Kč na 2 des. místa
E45: Stav k 1.1.2011 | F45: Tvorba | G45: Čerpání | H45: Stav k | I45: Finanční krytí k
H46: 40908 | I46: 40908
C49: Fond odměn | E49: 92874 | F49: 1000 | G49: 16551 | H49: =E49+F49-G49 -> 77323 | I49: 91874
C50: FKSP | E50: 77678.54 | F50: 49932 | G50: 94126 | H50: =E50+F50-G50 -> 33484.54 | I50: 3302.02
C51: Fond rezervní | E51: 151809.38 | F51: =82911.91+3000 -> 85911.91 | G51: =97499+3000 -> 100499 | H51: =E51+F51-G51 -> 137222.29 | I51: =H51 -> 137222.29
C52: Investiční fond | E52: 80422.3 | F52: 131448 | G52: 98000 | H52: =E52+F52-G52 -> 113870.3 | I52: =H52 -> 113870.3
A53: celkem | E53: =E49+E50+E51+E52 -> 402784.22 | F53: =F49+F50+F51+F52 -> 268291.91 | G53: =G49+G50+G51+G52 -> 309176 | H53: =H49+H50+H51+H52 -> 361900.13 | I53: =I49+I50+I51+I52 -> 346268.61

Sheet 1312
A1: REKAPITULACE ZA ORGANIZACI :
A2: Název organizace : | E2: Základní umělecká škola, Šumperk, Žerotínova 11
E3: ……………………………………….……..………………………………………..…………………………………
A4: Adresa : | E4: Žerotínova 11, Šumperk
E5: ……………………………………….……..………………………………………..…………………………………
A6: IČ | E6: 00852333 | G6: ORG | I6: 1312
E7: ……………………………… ………….…..……………………………
E11: Schválený | F11: Upravený | G11: Skutečnost | H11: z toho:
E12: rozpočet | F12: rozpočet | G12: celkem | H12: Hlavní činnost | I12: Doplňková činnost
E13: celkem | F13: celkem | H13: jednotka - Kč na 2 des. místa
A15: a) Náklady a výnosy
A16: Náklady | E16: 1694000 | F16: 13027334 | G16: =H16+I16 -> 12872368 | H16: 12847118 | I16: 25250
A18: Výnosy | E18: 1694000 | F18: 13027334 | G18: =H18+I18 -> 13047967 | H18: 13022717 | I18: 25250
A21: Doplňující údaje :
C22: daň z příjmů,dodatečné odvody daně z příjmů (nákladová položka) | G22: =H22+I22 -> 0 | H22: 0 | I22: 0
A24: Výsledek hospodaření /po zdanění/ | G24: =G18-G16-G22 -> 175598.49 | H24: =H18-H16-H22 -> 175598.49 | I24: =I18-I16-I22 -> 0
A28: b) | B28: Rozdělení výsledku hospodaření | G28: =G29+G30+G31 -> 175598.49
C29: - Návrh na příděly do fondů: | F29: Fond odměn | G29: 20000
F30: Fond rezervní | G30: 155598.49
C31: - Způsob krytí ztráty : | F31: Částka | G31: 0
A35: c) | B35: Závazné ukazatele
F36: Schválená částka | G36: Skutečnost | I36: % plnění
A37: Limit mzdových prostředků | F37: 0 | G37: 0 | I37: nerozp.
A38: Neinvestiční příspěvek /odpisy/ | F38: 32634 | G38: 32634.5 | I38: =G38/F38 -> 1.0000153
A39: Neinvestiční příspěvek /nájemné/ | F39: 0 | G39: 0 | I39: nerozp.
A40: Odvody z investičního fondu /odpisy/ | F40: 24000 | G40: 24000 | I40: =G40/F40 -> 1
A41: Odvody z investičního fondu | E41: /spolufin. akcí/ | F41: 0 | G41: 0 | I41: nerozp.
A42: Pozn.: Vynaložené odpisy nad stanovený limit byly finančně pokryty z provozních prostředků organizace- 0,50 Kč.
A44: d) | B44: Fondy | H44: jednotka - Kč na 2 des. místa
E45: Stav k 1.1.2011 | F45: Tvorba | G45: Čerpání | H45: Stav k | I45: Finanční krytí k
H46: 40908 | I46: 40908
C49: Fond odměn | E49: 17391 | F49: 800 | G49: 2250 | H49: =E49+F49-G49 -> 15941 | I49: =H49 -> 15941
C50: FKSP | E50: 200348 | F50: 82964 | G50: 118703.6 | H50: =E50+F50-G50 -> 164608.4 | I50: 145423.94
C51: Fond rezervní | E51: =2763.57+75600.82 -> 78364.39 | F51: =6257.77 -> 6257.77 | G51: 30000 | H51: =E51+F51-G51 -> 54622.16 | I51: =H51 -> 54622.16
C52: Investiční fond | E52: 15782.8 | F52: 32634.5 | G52: 24000 | H52: =E52+F52-G52 -> 24417.3 | I52: =H52 -> 24417.3
A53: celkem | E53: =E49+E50+E51+E52 -> 311886.19 | F53: =F49+F50+F51+F52 -> 122656.27 | G53: =G49+G50+G51+G52 -> 174953.6 | H53: =H49+H50+H51+H52 -> 259588.86 | I53: =I49+I50+I51+I52 -> 240404.4

Sheet 1313
A1: REKAPITULACE ZA ORGANIZACI :
A2: Název organizace : | E2: Základní umělecká škola, Zábřeh, Farní 9
E3: ……………………………………….……..………………………………………..…………………………………
A4: Adresa : | E4: Farní 9, Zábřeh
E5: ……………………………………….……..………………………………………..…………………………………
A6: IČ | E6: 64095151 | G6: ORG | I6: 1313
E7: ……………………………… ………….…..……………………………
E11: Schválený | F11: Upravený | G11: Skutečnost | H11: z toho:
E12: rozpočet | F12: rozpočet | G12: celkem | H12: Hlavní činnost | I12: Doplňková činnost
E13: celkem | F13: celkem | H13: jednotka - Kč na 2 des. místa
A15: a) Náklady a výnosy
A16: Náklady | E16: 1959000 | F16: 15765942 | G16: =H16+I16 -> 15765942 | H16: 15728882 | I16: 37060
A18: Výnosy | E18: 1959000 | F18: 15826133 | G18: =H18+I18 -> 15826133 | H18: 15789073 | I18: 37060
A21: Doplňující údaje :
C22: daň z příjmů,dodatečné odvody daně z příjmů (nákladová položka) | G22: =H22+I22 -> 0 | H22: 0 | I22: 0
A24: Výsledek hospodaření /po zdanění/ | G24: =G18-G16-G22 -> 60191.16 | H24: =H18-H16-H22 -> 60191.16 | I24: =I18-I16-I22 -> 0
A28: b) | B28: Rozdělení výsledku hospodaření | G28: =G29+G30+G31 -> 60191.16
C29: - Návrh na příděly do fondů: | F29: Fond odměn | G29: 0
F30: Fond rezervní | G30: 60191.16
C31: - Způsob krytí ztráty : | F31: Částka | G31: 0
A35: c) | B35: Závazné ukazatele
F36: Schválená částka | G36: Skutečnost | I36: % plnění
A37: Limit mzdových prostředků | F37: 0 | G37: 0 | I37: nerozp.
A38: Neinvestiční příspěvek /odpisy/ | F38: 48480 | G38: 48480 | I38: =G38/F38 -> 1
A39: Neinvestiční příspěvek /nájemné/ | F39: 0 | G39: 0 | I39: nerozp.
A40: Odvody z investičního fondu /odpisy/ | F40: 36000 | G40: 36000 | I40: =G40/F40 -> 1
A41: Odvody z investičního fondu | E41: /spolufin. akcí/ | F41: 0 | G41: 0 | I41: nerozp.
A44: d) | B44: Fondy | H44: jednotka - Kč na 2 des. místa
E45: Stav k 1.1.2011 | F45: Tvorba | G45: Čerpání | H45: Stav k | I45: Finanční krytí k
H46: 40908 | I46: 40908
C49: Fond odměn | E49: 150419 | F49: 0 | G49: 4000 | H49: =E49+F49-G49 -> 146419 | I49: =H49 -> 146419
C50: FKSP | E50: 640619.72 | F50: 101515 | G50: 102465 | H50: =E50+F50-G50 -> 639669.72 | I50: 591014.89
C51: Fond rezervní | E51: =370893.43+8480 -> 379373.43 | F51: 0 | G51: 0 | H51: =E51+F51-G51 -> 379373.43 | I51: =H51 -> 379373.43
C52: Investiční fond | E52: 13594.1 | F52: 48480 | G52: 36000 | H52: =E52+F52-G52 -> 26074.1 | I52: =H52 -> 26074.1
A53: celkem | E53: =E49+E50+E51+E52 -> 1184006.2 | F53: =F49+F50+F51+F52 -> 149995 | G53: =G49+G50+G51+G52 -> 142465 | H53: =H49+H50+H51+H52 -> 1191536.2 | I53: =I49+I50+I51+I52 -> 1142881.4

Sheet 1354
A1: REKAPITULACE ZA ORGANIZACI :
A2: Název organizace : | E2: Dům dětí a mládeže Magnet, Mohelnice
E3: ……………………………………….……..………………………………………..…………………………………
A4: Adresa : | E4: Spartakiádní 8, Mohelnice
E5: ……………………………………….……..………………………………………..…………………………………
A6: IČ | E6: 00853020 | G6: ORG | I6: 1354
E7: ……………………………… ………….…..……………………………
E11: Schválený | F11: Upravený | G11: Skutečnost | H11: z toho:
E12: rozpočet | F12: rozpočet | G12: celkem | H12: Hlavní činnost | I12: Doplňková činnost
E13: celkem | F13: celkem | H13: jednotka - Kč na 2 des. místa
A15: a) Náklady a výnosy
A16: Náklady | E16: 1340000 | F16: 5073366 | G16: =H16+I16 -> 5071031.3 | H16: 5071031.3 | I16: 0
A18: Výnosy | E18: 1340000 | F18: 5073366 | G18: =H18+I18 -> 5074125.5 | H18: 5074125.5 | I18: 0
A21: Doplňující údaje :
C22: daň z příjmů,dodatečné odvody daně z příjmů (nákladová položka) | G22: =H22+I22 -> 0 | H22: 0 | I22: 0
A24: Výsledek hospodaření /po zdanění/ | G24: =G18-G16-G22 -> 3094.22 | H24: =H18-H16-H22 -> 3094.22 | I24: =I18-I16-I22 -> 0
A28: b) | B28: Rozdělení výsledku hospodaření | G28: =G29+G30+G31 -> 3094.22
C29: - Návrh na příděly do fondů: | F29: Fond odměn | G29: 0
F30: Fond rezervní | G30: 3094.22
C31: - Způsob krytí ztráty : | F31: Částka | G31: 0
A35: c) | B35: Závazné ukazatele
F36: Schválená částka | G36: Skutečnost | I36: % plnění
A37: Limit mzdových prostředků | F37: 160000 | G37: 109660 | I37: =G37/F37 -> 0.685375
A38: Neinvestiční příspěvek /odpisy/ | F38: 12616 | G38: 12616 | I38: =G38/F38 -> 1
A39: Neinvestiční příspěvek /nájemné/ | F39: 0 | G39: 0 | I39: nerozp.
A40: Odvody z investičního fondu /odpisy/ | F40: 9000 | G40: 9000 | I40: =G40/F40 -> 1
A41: Odvody z investičního fondu | E41: /spolufin. akcí/ | F41: 0 | G41: 0 | I41: nerozp.
A44: d) | B44: Fondy | H44: jednotka - Kč na 2 des. místa
E45: Stav k 1.1.2011 | F45: Tvorba | G45: Čerpání | H45: Stav k | I45: Finanční krytí k
H46: 40908 | I46: 40908
C49: Fond odměn | E49: 29087 | F49: 1000 | G49: 0 | H49: =E49+F49-G49 -> 30087 | I49: =H49 -> 30087
C50: FKSP | E50: 56221.37 | F50: 24549 | G50: 35388 | H50: =E50+F50-G50 -> 45382.37 | I50: 37489.02
C51: Fond rezervní | E51: =42516.76+145195.5 -> 187712.26 | F51: =1636.87+39400 -> 41036.87 | G51: 4400 | H51: =E51+F51-G51 -> 224349.13 | I51: =H51 -> 224349.13
C52: Investiční fond | E52: 67405.78 | F52: 12616 | G52: 9000 | H52: =E52+F52-G52 -> 71021.78 | I52: =H52 -> 71021.78
A53: celkem | E53: =E49+E50+E51+E52 -> 340426.41 | F53: =F49+F50+F51+F52 -> 79201.87 | G53: =G49+G50+G51+G52 -> 48788 | H53: =H49+H50+H51+H52 -> 370840.28 | I53: =I49+I50+I51+I52 -> 362946.93

Sheet 1355
A1: REKAPITULACE ZA ORGANIZACI :
A2: Název organizace : | E2: DDM a zařízení pro DVPP Vila Doris Šumperk
E3: ……………………………………….……..………………………………………..…………………………………
A4: Adresa : | E4: 17. listopadu 2, Šumperk
E5: ……………………………………….……..………………………………………..…………………………………
A6: IČ | E6: 00851507 | G6: ORG | I6: 1355
E7: ……………………………… ………….…..……………………………
E11: Schválený | F11: Upravený | G11: Skutečnost | H11: z toho:
E12: rozpočet | F12: rozpočet | G12: celkem | H12: Hlavní činnost | I12: Doplňková činnost
E13: celkem | F13: celkem | H13: jednotka - Kč na 2 des. místa
A15: a) Náklady a výnosy
A16: Náklady | E16: 5541000 | F16: 12329000 | G16: =H16+I16 -> 12626500 | H16: 12415708 | I16: 210792
A18: Výnosy | E18: 5541000 | F18: 12276103 | G18: =H18+I18 -> 12286434 | H18: 11919414 | I18: 367020
A21: Doplňující údaje :
C22: daň z příjmů,dodatečné odvody daně z příjmů (nákladová položka) | G22: =H22+I22 -> 0 | H22: 0 | I22: 0
A24: Výsledek hospodaření /po zdanění/ | G24: =G18-G16-G22 -> -340065.84 | H24: =H18-H16-H22 -> -496293.84 | I24: =I18-I16-I22 -> 156228
A28: b) | B28: Rozdělení výsledku hospodaření | G28: =G29+G30+G31 -> -340065.84
C29: - Návrh na příděly do fondů: | F29: Fond odměn | G29: 0
F30: Fond rezervní | G30: 0
C31: - Způsob krytí ztráty : | F31: Částka | G31: -340065.84
A32: Ztráta 340 065,84 Kč bude pokryta ze zlepšeného hospodářského výsledku v následujících letech (184 627,04 Kč) a z prostředků rezervního fondu (155 438,80 Kč) v souladu s ust. § 30, odst. 3d) zákona č. 250/2000 Sb., o rozpočtových pravidlech územních rozpočtů ve znění pozdějších předpisů - použití prostředků rezervního fondu, vyjma poskytnutých darů
A35: c) | B35: Závazné ukazatele
F36: Schválená částka | G36: Skutečnost | I36: % plnění
A37: Limit mzdových prostředků | F37: 695000 | G37: 621542 | I37: =G37/F37 -> 0.89430504
A38: Neinvestiční příspěvek /odpisy/ | F38: 79190 | G38: 79190 | I38: =G38/F38 -> 1
A39: Neinvestiční příspěvek /nájemné/ | F39: 0 | G39: 0 | I39: nerozp.
A40: Odvody z investičního fondu /odpisy/ | F40: 59000 | G40: 59000 | I40: =G40/F40 -> 1
A41: Odvody z investičního fondu | E41: /spolufin. akcí/ | F41: 0 | G41: 0 | I41: nerozp.
A44: d) | B44: Fondy | H44: jednotka - Kč na 2 des. místa
E45: Stav k 1.1.2011 | F45: Tvorba | G45: Čerpání | H45: Stav k | I45: Finanční krytí k
H46: 40908 | I46: 40908
C49: Fond odměn | E49: 10558 | F49: 20000 | G49: 23145 | H49: =E49+F49-G49 -> 7413 | I49: =H49 -> 7413
C50: FKSP | E50: 9284.75 | F50: 51529 | G50: 56395 | H50: =E50+F50-G50 -> 4418.75 | I50: 30868.14
C51: Fond rezervní | E51: =2687+124567 -> 127254 | F51: =152751.8+48000 -> 200751.8 | G51: 85886 | H51: =E51+F51-G51 -> 242119.8 | I51: =H51 -> 242119.8
C52: Investiční fond | E52: 193997.9 | F52: 79190 | G52: 59000 | H52: =E52+F52-G52 -> 214187.9 | I52: =H52 -> 214187.9
A53: celkem | E53: =E49+E50+E51+E52 -> 341094.65 | F53: =F49+F50+F51+F52 -> 351470.8 | G53: =G49+G50+G51+G52 -> 224426 | H53: =H49+H50+H51+H52 -> 468139.45 | I53: =I49+I50+I51+I52 -> 494588.84
