Workbook
Name __xlnm.Print_Area_14: '20. Duha Vikýřovice'!$A$1:$I$55

Sheet soc. oblast
A1: b) Příspěvkové organizace v oblasti sociálních věcí | R1: ORJ -11
A2: Správce : | C2: vedoucí odboru | D2: vedoucí odboru sociálních věcí
D3: PhDr. Markéta Čožíková
A4: Rekapitulace hospodaření /výsledek hospodaření -2011/ | Q4: v Kč
A7: ORG | B7: § | C7: PO | D7: Název zařízení | E7: Adresa | G7: Náklady | H7: Výnosy | I7: Dań | M7: Výsledek hospodaření | O7: Rozdělení do fondů - v Kč
I8: HV | J8: dań z příjmu | K8: Daň a dodatečné odvody daně z příjmů | L8: HV po zdanění | M8: zlepšený VH | N8: ztráta | O8: Fond odměn | P8: Fond rezervní | Q8: Pokrytí ztáty min. období | R8: Celkem
A9: 1631 | B9: § 4357 | C9: 1 | D9: Domov pro seniory Javorník, příspěvková organizace | E9: Školní 104 | F9: 790 70 Javorník | G9: 16132921 | H9: 16136987 | I9: =H9-G9 -> 4066.11 | J9: 0 | L9: =I9-K9-J9 -> 4066.11 | M9: =IF((L9<0),0,L9) -> 4066.11 | N9: =IF((L9<0),L9,0) -> 0 | O9: ='1. DD Javorník'!G29 -> 0 | P9: ='1. DD Javorník'!G30 -> 4066.11 | Q9: ='1. DD Javorník'!H30 -> 0 | R9: ='1. DD Javorník'!G28 -> 4066.11 | S9: =R9-M9 -> 5.9617378e-10
O10: ='1. DD Javorník'!G29 -> 0 | P10: =P9/$R9 -> 1 | R10: =Q10+P10+O10 -> 1
A11: 1632 | B11: § 4357 | C11: 1 | D11: Domov důchodců Kobylá, příspěvková organizace | E11: Kobylá nad Vidnavkou č. 153 | F11: 790 56 Kobylá nad Vidnavkou | G11: 27320295 | H11: 27322439 | I11: =H11-G11 -> 2143.79 | J11: 0 | L11: =I11-K11-J11 -> 2143.79 | M11: =IF((L11<0),0,L11) -> 2143.79 | N11: =IF((L11<0),L11,0) -> 0 | O11: ='2. DD Kobylá'!G29 -> 0 | P11: ='2. DD Kobylá'!G30 -> 2143.79 | Q11: ='2. DD Kobylá'!H30 -> 0 | R11: ='2. DD Kobylá'!G28 -> 2143.79 | S11: =R11-M11 -> 8.9403329e-10
O12: =O11/$R11 -> 0 | P12: =P11/$R11 -> 1 | R12: =Q12+P12+O12 -> 1
A13: 1633 | B13: § 4357 | C13: 1 | D13: Domov Sněženka Jeseník, příspěvková organizace | E13: Moravská 814/2 | F13: 790 01 Jeseník | G13: 29342093 | H13: 29351971 | I13: =H13-G13 -> 9877.46 | J13: 0 | L13: =I13-K13-J13 -> 9877.46 | M13: =IF((L13<0),0,L13) -> 9877.46 | N13: =IF((L13<0),L13,0) -> 0 | O13: ='3. Domov Sněženka Jeseník'!G29 -> 0 | P13: ='3. Domov Sněženka Jeseník'!G28 -> 9877.46 | Q13: ='3. Domov Sněženka Jeseník'!H28 -> 0 | R13: ='3. Domov Sněženka Jeseník'!G28 -> 9877.46 | S13: =R13-M13 -> -8.9494279e-10
O14: =O13/$R13 -> 0 | P14: =P13/$R13 -> 1 | R14: =Q14+P14+O14 -> 1
A15: 1634 | B15: § 4351 | C15: 1 | D15: Středisko pečovatelské služby Jeseník, příspěvková organizace | E15: O. Březiny 1370 | F15: 790 01 Jeseník | G15: 4237850.9 | H15: 4506850.9 | I15: =H15-G15 -> 269000.01 | J15: 0 | L15: =I15-K15-J15 -> 269000.01 | M15: =IF((L15<0),0,L15) -> 269000.01 | N15: =IF((L15<0),L15,0) -> 0 | O15: ='4. Středisko PS Jeseník'!G29 -> 0 | P15: ='4. Středisko PS Jeseník'!G30 -> 269000.01 | Q15: ='4. Středisko PS Jeseník'!H30 -> 0 | R15: ='4. Středisko PS Jeseník'!G28 -> 269000.01 | S15: =R15-M15 -> 0
O16: =O15/$R15 -> 0 | P16: =P15/$R15 -> 1 | R16: =Q16+P16+O16 -> 1
A17: 1635 | B17: § 4357 | C17: 1 | D17: Domov důchodců Červenka, příspěvková organizace | E17: Nádražní 105 | F17: 784 01 Litovel | G17: 49496498 | H17: 49496498 | I17: =H17-G17 -> 0 | J17: 0 | L17: =I17-K17-J17 -> 0 | M17: =IF((L17<0),0,L17) -> 0 | N17: =IF((L17<0),L17,0) -> 0 | O17: ='5. DD Červenka'!G29 -> 0 | P17: ='5. DD Červenka'!G30 -> 0 | Q17: ='5. DD Červenka'!H30 -> 0 | R17: ='5. DD Červenka'!G28 -> 0 | S17: =R17-M17 -> 0
A19: 1636 | B19: § 4357 | C19: 1 | D19: Dům seniorů FRANTIŠEK Náměšť na Hané, příspěvková organizace | E19: Komenského 291 | F19: 783 44 Náměšť na Hané | G19: 10744102 | H19: 10781778 | I19: =H19-G19 -> 37676.34 | J19: 0 | L19: =I19-K19-J19 -> 37676.34 | M19: =IF((L19<0),0,L19) -> 37676.34 | N19: =IF((L19<0),L19,0) -> 0 | O19: ='6.DD Náměšť na Hané'!G29 -> 0 | P19: ='6.DD Náměšť na Hané'!G30 -> 37676.34 | Q19: ='6.DD Náměšť na Hané'!H30 -> 0 | R19: ='6.DD Náměšť na Hané'!G28 -> 37676.34 | S19: =R19-M19 -> 1.4551915e-10
O20: =O19/$R19 -> 0 | P20: =P19/$R19 -> 1 | R20: =Q20+P20+O20 -> 1
A21: 1637 | B21: § 4357 | C21: 1 | D21: Domov důchodců Hrubá Voda,přísp.organizace | E21: Hlubočky 11 | F21: 783 61 Hlubočky | G21: 24812973 | H21: 24833548 | I21: =H21-G21 -> 20574.52 | J21: 0 | L21: =I21-K21-J21 -> 20574.52 | M21: =IF((L21<0),0,L21) -> 20574.52 | N21: =IF((L21<0),L21,0) -> 0 | O21: ='7. DD Hrubá Voda'!G29 -> 0 | P21: ='7. DD Hrubá Voda'!G30 -> 20574.52 | Q21: ='7. DD Hrubá Voda'!H30 -> 0 | R21: ='7. DD Hrubá Voda'!G28 -> 20574.52 | S21: =R21-M21 -> 4.4747139e-10
O22: =O21/$R21 -> 0 | P22: =P21/$R21 -> 1 | R22: =Q22+P22+O22 -> 1
A23: 1638 | B23: § 4357 | C23: 1 | D23: Domov seniorů POHODA Chválkovice, přísp. organizace | E23: Švabinského 3 | F23: 772 00 Olomouc - Chválkovice | G23: 83241855 | H23: 83251441 | I23: =H23-G23 -> 9585.85 | J23: 0 | L23: =I23-K23-J23 -> 9585.85 | M23: =IF((L23<0),0,L23) -> 9585.85 | N23: =IF((L23<0),L23,0) -> 0 | O23: ='8. Domov seniorů Chválkovice'!G29 -> 0 | P23: ='8. Domov seniorů Chválkovice'!G30 -> 9585.85 | Q23: ='8. Domov seniorů Chválkovice'!H30 -> 0 | R23: ='8. Domov seniorů Chválkovice'!G28 -> 9585.85 | S23: =R23-M23 -> -8.9403329e-09
O24: =O23/$R23 -> 0 | P24: =P23/$R23 -> 1 | R24: =Q24+P24+O24 -> 1
A25: 1639 | B25: § 4351 | C25: 1 | D25: Sociální služby pro seniory Olomouc, příspěvková organizace | E25: Zikova 14 | F25: 779 00 Olomouc | G25: 56329182 | H25: 56330774 | I25: =H25-G25 -> 1592.8 | J25: 0 | L25: =I25-K25-J25 -> 1592.8 | M25: =IF((L25<0),0,L25) -> 1592.8 | N25: =IF((L25<0),L25,0) -> 0 | O25: ='9. Sociální služby Olomouc'!G29 -> 0 | P25: ='9. Sociální služby Olomouc'!G30 -> 1592.8 | Q25: ='9. Sociální služby Olomouc'!H30 -> 0 | R25: ='9. Sociální služby Olomouc'!G28 -> 1592.8 | S25: =R25-M25 -> 2.9801868e-09
O26: =O25/$R25 -> 0 | P26: =P25/$R25 -> 1 | R26: =Q26+P26+O26 -> 1
A27: 1640 | B27: § 4357 | C27: 1 | D27: Vincentinum - poskytovatel sociálních služeb Šternberk, přísp. org. | E27: Sadová 7 | F27: 785 01 Šternberk | G27: 81992888 | H27: 81993107 | I27: =H27-G27 -> 218.84 | J27: 0 | L27: =I27-K27-J27 -> 218.84 | M27: =IF((L27<0),0,L27) -> 218.84 | N27: =IF((L27<0),L27,0) -> 0 | O27: ='10. Vincentinum'!G29 -> 0 | P27: ='10. Vincentinum'!G30 -> 218.84 | Q27: ='10. Vincentinum'!H30 -> 0 | R27: ='10. Vincentinum'!G28 -> 218.84 | S27: =R27-M27 -> -3.5762753e-09
O28: =O27/$R27 -> 0 | P28: =P27/$R27 -> 1 | R28: =Q28+P28+O28 -> 1
A29: 1641 | B29: § 4356 | C29: 1 | D29: Klíč - centrum sociálních služeb Olomouc, příspěvková organizace | E29: Dolní Hejčínská 28 | F29: 779 00 Olomouc | G29: 23331169 | H29: 23331556 | I29: =H29-G29 -> 386.89 | J29: 0 | L29: =I29-K29-J29 -> 386.89 | M29: =IF((L29<0),0,L29) -> 386.89 | N29: =IF((L29<0),L29,0) -> 0 | O29: ='11. Klíč'!G29 -> 0 | P29: ='11. Klíč'!G30 -> 386.89 | Q29: ='11. Klíč'!H30 -> 0 | R29: ='11. Klíč'!G28 -> 386.89 | S29: =R29-M29 -> -5.9606009e-10
O30: =O29/$R29 -> 0 | P30: =P29/$R29 -> 1 | R30: =Q30+P30+O30 -> 1
A31: 1642 | B31: § 4357 | C31: 1 | D31: Nové Zámky - poskytovatel sociálních služeb, příspěvková organizace | E31: Nové Zámky 2 | F31: 784 01 Litovel | G31: 68077684 | H31: 68077684 | I31: =H31-G31 -> 0 | J31: 0 | L31: =I31-K31-J31 -> 0 | M31: =IF((L31<0),0,L31) -> 0 | N31: =IF((L31<0),L31,0) -> 0 | O31: ='12. Nové Zámky'!G29 -> 0 | P31: ='12. Nové Zámky'!G30 -> 0 | Q31: ='12. Nové Zámky'!H30 -> 0 | R31: ='12. Nové Zámky'!G28 -> 0 | S31: =R31-M31 -> 0
A33: 1644 | B33: § 4372 | C33: 1 | D33: Středisko sociální prevence Olomouc, příspěvková organizace | E33: Na Vozovce 26 | F33: 772 00 Olomouc | G33: 19368443 | H33: 19664875 | I33: =H33-G33 -> 296431.74 | J33: 0 | K33: 7220 | L33: =I33-K33-J33 -> 289211.74 | M33: =IF((L33<0),0,L33) -> 289211.74 | N33: =IF((L33<0),L33,0) -> 0 | O33: ='13. Středisko soc. prevence'!G29 -> 0 | P33: ='13. Středisko soc. prevence'!G30 -> 289211.74 | Q33: ='13. Středisko soc. prevence'!H30 -> 0 | R33: ='13. Středisko soc. prevence'!G28 -> 289211.74 | S33: =R33-M33 -> 1.6298145e-09
O34: =O33/$R33 -> 0 | P34: =P33/$R33 -> 1 | R34: =Q34+P34+O34 -> 1
A35: 1645 | B35: § 4357 | C35: 1 | D35: Domov důchodců Šumperk,příspěvková organizace | E35: U Sanatoria 25 | F35: 787 01 Šumperk | G35: 57599558 | H35: 57637253 | I35: =H35-G35 -> 37694.68 | J35: 0 | L35: =I35-K35-J35 -> 37694.68 | M35: =IF((L35<0),0,L35) -> 37694.68 | N35: =IF((L35<0),L35,0) -> 0 | O35: ='14. DD Šumperk'!G29 -> 0 | P35: ='14. DD Šumperk'!G30 -> 37694.68 | Q35: ='14. DD Šumperk'!H30 -> 0 | R35: ='14. DD Šumperk'!G28 -> 37694.68 | S35: =R35-M35 -> 2.9831426e-10
O36: =O35/$R35 -> 0 | P36: =P35/$R35 -> 1 | R36: =Q36+P36+O36 -> 1
A37: 1646 | B37: § 4357 | C37: 1 | D37: Domov důchodců Libina, příspěvková organizace | E37: Libina 540 | F37: 788 05 Libina | G37: 22111559 | H37: 22140597 | I37: =H37-G37 -> 29037.67 | J37: 0 | L37: =I37-K37-J37 -> 29037.67 | M37: =IF((L37<0),0,L37) -> 29037.67 | N37: =IF((L37<0),L37,0) -> 0 | O37: ='15. DD Libina'!G29 -> 0 | P37: ='15. DD Libina'!G30 -> 29037.67 | Q37: ='15. DD Libina'!H30 -> 0 | R37: ='15. DD Libina'!G28 -> 29037.67 | S37: =R37-M37 -> 1.9354047e-09
O38: =O37/$R37 -> 0 | P38: =P37/$R37 -> 1 | R38: =Q38+P38+O38 -> 1
A39: 1647 | B39: § 4357 | C39: 1 | D39: Domov důchodců Štíty, příspěvková organizace | E39: Na Pilníku 222 | F39: 789 91 Štíty | G39: 40238609 | H39: 40238609 | I39: =H39-G39 -> 0 | J39: 0 | L39: =I39-K39-J39 -> 0 | M39: =IF((L39<0),0,L39) -> 0 | N39: =IF((L39<0),L39,0) -> 0 | O39: ='16. DD Štíty'!G29 -> 0 | P39: ='16. DD Štíty'!G30 -> 0 | Q39: ='16. DD Štíty'!H30 -> 0 | R39: ='16. DD Štíty'!G28 -> 0 | S39: =R39-M39 -> 0
A41: 1648 | B41: § 4354 | C41: 1 | D41: Sociální služby Šumperk, příspěvková organizace | E41: Vančurova 37 | F41: 787 01 Šumperk | G41: 14072342 | H41: 14072342 | I41: =H41-G41 -> 0 | J41: 0 | L41: =I41-K41-J41 -> 0 | M41: =IF((L41<0),0,L41) -> 0 | N41: =IF((L41<0),L41,0) -> 0 | O41: ='17. Soc. služby Šumperk'!G29 -> 0 | P41: ='17. Soc. služby Šumperk'!G30 -> 0 | Q41: ='17. Soc. služby Šumperk'!H30 -> 0 | R41: ='17. Soc. služby Šumperk'!G28 -> 0 | S41: =R41-M41 -> 0
A43: 1649 | B43: § 4354 | C43: 1 | D43: Penzion pro důchodce Loštice,příspěvková organizace | E43: Hradská 113 | F43: 789 83 Loštice | G43: 4850356.5 | H43: 4850356.5 | I43: =H43-G43 -> 0 | J43: 0 | L43: =I43-K43-J43 -> 0 | M43: =IF((L43<0),0,L43) -> 0 | N43: =IF((L43<0),L43,0) -> 0 | O43: ='18. Penzion Loštice'!G29 -> 0 | P43: ='18. Penzion Loštice'!G30 -> 0 | Q43: ='18. Penzion Loštice'!H30 -> 0 | R43: ='18. Penzion Loštice'!G28 -> 0 | S43: =R43-M43 -> 0
A45: 1650 | B45: § 4357 | C45: 1 | D45: Domov Paprsek Olšany, příspěvková organizace | E45: Olšany 105 | F45: 789 62 Olšany, Šumperk | G45: 21790828 | H45: 21798324 | I45: =H45-G45 -> 7495.59 | J45: 0 | L45: =I45-K45-J45 -> 7495.59 | M45: =IF((L45<0),0,L45) -> 7495.59 | N45: =IF((L45<0),L45,0) -> 0 | O45: ='19. Domov Paprsek Olšany'!G29 -> 0 | P45: ='19. Domov Paprsek Olšany'!G30 -> 7495.59 | Q45: ='19. Domov Paprsek Olšany'!H30 -> 0 | R45: ='19. Domov Paprsek Olšany'!G28 -> 7495.59 | S45: =R45-M45 -> 1.4915713e-10
O46: =O45/$R45 -> 0 | P46: =P45/$R45 -> 1 | R46: =Q46+P46+O46 -> 1
A47: 1651 | B47: § 4356 | C47: 1 | D47: Duha - centrum sociálních služeb Vikýřovice, příspěvková organizace | E47: Krenišovská 224 | F47: 788 13 Vikýřovice, Šumperk | G47: 5632424.7 | H47: 5632424.7 | I47: =H47-G47 -> 0 | J47: 0 | L47: =I47-K47-J47 -> 0 | M47: =IF((L47<0),0,L47) -> 0 | N47: =IF((L47<0),L47,0) -> 0 | O47: ='20. Duha Vikýřovice'!G29 -> 0 | P47: ='20. Duha Vikýřovice'!G30 -> 0 | Q47: ='20. Duha Vikýřovice'!H30 -> 0 | R47: ='20. Duha Vikýřovice'!G28 -> 0 | S47: =R47-M47 -> 0
A49: 1652 | B49: § 4357 | C49: 1 | D49: Domov důchodců Prostějov, příspěvková organizace | E49: Nerudova 70 | F49: 796 01 Prostějov | G49: 56740073 | H49: 56691365 | I49: =H49-G49 -> -48707.97 | J49: 0 | K49: -204810 | L49: =I49-K49-J49 -> 156102.03 | M49: =IF((L49<0),0,L49) -> 156102.03 | N49: =IF((L49<0),L49,0) -> 0 | O49: ='21. DD Prostějov'!G29 -> 0 | P49: ='21. DD Prostějov'!G30 -> 0 | Q49: ='21. DD Prostějov'!G31 -> 156102.03 | R49: ='21. DD Prostějov'!G28 -> 156102.03 | S49: =R49-M49 -> -1.193257e-09
A51: 1653 | B51: § 4357 | C51: 1 | D51: Domov důchodců Jesenec, příspěvková organizace | E51: Jesenec 1 | F51: 796 01 Prostějov | G51: 20381957 | H51: 20453948 | I51: =H51-G51 -> 71991.87 | J51: 0 | L51: =I51-K51-J51 -> 71991.87 | M51: =IF((L51<0),0,L51) -> 71991.87 | N51: =IF((L51<0),L51,0) -> 0 | O51: ='22. DD Jesenec'!G29 -> 0 | P51: ='22. DD Jesenec'!G30 -> 71991.87 | Q51: ='22. DD Jesenec'!H30 -> 0 | R51: ='22. DD Jesenec'!G28 -> 71991.87 | S51: =R51-M51 -> -1.0477379e-09
O52: =O51/$R51 -> 0 | P52: =P51/$R51 -> 1 | R52: =Q52+P52+O52 -> 1
A53: 1654 | B53: § 4357 | C53: 1 | D53: Domov "Na Zámku", příspěvková organizace | E53: nám. děk. Františka Kvapila 17 | F53: 798 26 Nezamyslice | G53: 39623812 | H53: 39630804 | I53: =H53-G53 -> 6991.34 | J53: 0 | L53: =I53-K53-J53 -> 6991.34 | M53: =IF((L53<0),0,L53) -> 6991.34 | N53: =IF((L53<0),L53,0) -> 0 | O53: ='23. Domov Na Zámku Nezam.'!G29 -> 0 | P53: ='23. Domov Na Zámku Nezam.'!G30 -> 6991.34 | Q53: ='23. Domov Na Zámku Nezam.'!H30 -> 0 | R53: ='23. Domov Na Zámku Nezam.'!G28 -> 6991.34 | S53: =R53-M53 -> -3.5761332e-09
O54: =O53/$R53 -> 0 | P54: =P53/$R53 -> 1 | R54: =Q54+P54+O54 -> 1
A55: 1655 | B55: § 4351 | C55: 1 | D55: Sociální služby Prostějov, příspěvková organizace | E55: Pod Kosířem 27 | F55: 796 01 Prostějov | G55: 10348381 | H55: 10348381 | I55: =H55-G55 -> 0 | J55: 0 | L55: =I55-K55-J55 -> 0 | M55: =IF((L55<0),0,L55) -> 0 | N55: =IF((L55<0),L55,0) -> 0 | O55: ='24. Sociální služby Prostějov'!G29 -> 0 | P55: ='24. Sociální služby Prostějov'!G30 -> 0 | Q55: ='24. Sociální služby Prostějov'!H30 -> 0 | R55: ='24. Sociální služby Prostějov'!G28 -> 0 | S55: =R55-M55 -> 0
A57: 1656 | B57: § 4357 | C57: 1 | D57: Centrum sociálních služeb, Prostějov, příspěvková organizace | E57: Lidická 86 | F57: 796 01 Prostějov | G57: 69631424 | H57: 69678006 | I57: =H57-G57 -> 46581.77 | J57: 0 | L57: =I57-K57-J57 -> 46581.77 | M57: =IF((L57<0),0,L57) -> 46581.77 | N57: =IF((L57<0),L57,0) -> 0 | O57: ='25. Centrum soc. sl. Prostějov'!G29 -> 0 | P57: ='25. Centrum soc. sl. Prostějov'!G30 -> 46581.77 | Q57: ='25. Centrum soc. sl. Prostějov'!H30 -> 0 | R57: ='25. Centrum soc. sl. Prostějov'!G28 -> 46581.77 | S57: =R57-M57 -> 4.1691237e-09
O58: =O57/$R57 -> 0 | P58: =P57/$R57 -> 1 | R58: =Q58+P58+O58 -> 1
A59: 1657 | B59: § 4357 | C59: 1 | D59: Domov pro seniory Radkova Lhota, příspěvková organizace | E59: Radkova Lhota 16 | F59: 751 14 Dřevohostice | G59: 36808861 | H59: 36811292 | I59: =H59-G59 -> 2430.74 | J59: 0 | L59: =I59-K59-J59 -> 2430.74 | M59: =IF((L59<0),0,L59) -> 2430.74 | N59: =IF((L59<0),L59,0) -> 0 | O59: ='26. DD Rakova Lhota'!G29 -> 0 | P59: ='26. DD Rakova Lhota'!G30 -> 2430.74 | Q59: ='26. DD Rakova Lhota'!H30 -> 0 | R59: ='26. DD Rakova Lhota'!G28 -> 2430.74 | S59: =R59-M59 -> -2.0863808e-09
O60: =O59/$R59 -> 0 | P60: =P59/$R59 -> 1 | R60: =Q60+P60+O60 -> 1
A61: 1658 | B61: § 4357 | C61: 1 | D61: Domov Alfreda Skeneho Pavlovice u Přerova, příspěvková organizace | E61: Pavlovice u Přerova 95 | F61: 751 12 Pavlovice u Přerova | G61: 40035190 | H61: 40129007 | I61: =H61-G61 -> 93816.82 | J61: 0 | L61: =I61-K61-J61 -> 93816.82 | M61: =IF((L61<0),0,L61) -> 93816.82 | N61: =IF((L61<0),L61,0) -> 0 | O61: ='27. Domov Alfreda Pavlovice'!G29 -> 0 | P61: ='27. Domov Alfreda Pavlovice'!G30 -> 93816.82 | Q61: ='27. Domov Alfreda Pavlovice'!H30 -> 0 | R61: ='27. Domov Alfreda Pavlovice'!G28 -> 93816.82 | S61: =R61-M61 -> -2.910383e-10
O62: =O61/$R61 -> 0 | P62: =P61/$R61 -> 1 | R62: =Q62+P62+O62 -> 1
A63: 1659 | B63: § 4357 | C63: 1 | D63: Domov pro seniory Tovačov, příspěvková organizace | E63: Nádražní ul. 94 | F63: 751 01 Tovačov | G63: 45558603 | H63: 45562368 | I63: =H63-G63 -> 3764.77 | J63: 0 | L63: =I63-K63-J63 -> 3764.77 | M63: =IF((L63<0),0,L63) -> 3764.77 | N63: =IF((L63<0),L63,0) -> 0 | O63: ='28. Domov pro seniory Tovačov'!G29 -> 0 | P63: ='28. Domov pro seniory Tovačov'!G30 -> 3764.77 | Q63: ='28. Domov pro seniory Tovačov'!H30 -> 0 | R63: ='28. Domov pro seniory Tovačov'!G28 -> 3764.77 | S63: =R63-M63 -> 4.1723069e-09
O64: =O63/$R63 -> 0 | P64: =P63/$R63 -> 1 | R64: =Q64+P64+O64 -> 1
A65: 1660 | B65: § 4357 | C65: 1 | D65: Domov Větrný mlýn Skalička, příspěvková organizace | E65: Skalička 1 | F65: 753 52 Skalička | G65: 25857254 | H65: 25889004 | I65: =H65-G65 -> 31750.72 | J65: 0 | L65: =I65-K65-J65 -> 31750.72 | M65: =IF((L65<0),0,L65) -> 31750.72 | N65: =IF((L65<0),L65,0) -> 0 | O65: ='29. Domov Větrný mlýn Skalička'!G29 -> 0 | P65: ='29. Domov Větrný mlýn Skalička'!G30 -> 31750.72 | Q65: ='29. Domov Větrný mlýn Skalička'!H30 -> 0 | R65: ='29. Domov Větrný mlýn Skalička'!G28 -> 31750.72 | S65: =R65-M65 -> -2.5320332e-09
O66: =O65/$R65 -> 0 | P66: =P65/$R65 -> 1 | R66: =Q66+P66+O66 -> 1
A67: 1661 | B67: § 4357 | C67: 1 | D67: Centrum Dominika Kokory, příspěvková organizace | E67: Kokory 54 | F67: 751 05 Kokory | G67: 26323223 | H67: 26323397 | I67: =H67-G67 -> 173.99 | J67: 0 | L67: =I67-K67-J67 -> 173.99 | M67: =IF((L67<0),0,L67) -> 173.99 | N67: =IF((L67<0),L67,0) -> 0 | O67: ='30. Centrum Dominika Kokory'!G29 -> 0 | P67: ='30. Centrum Dominika Kokory'!G30 -> 173.99 | Q67: ='30. Centrum Dominika Kokory'!H30 -> 0 | R67: ='30. Centrum Dominika Kokory'!G28 -> 173.99 | S67: =R67-M67 -> -2.0861535e-09
O68: =O67/$R67 -> 0 | P68: =P67/$R67 -> 1 | R68: =Q68+P68+O68 -> 1
A69: 1662 | B69: § 4357 | C69: 1 | D69: Domov ADAM Dřevohostice, příspěvková organizace | E69: Lapač 449 | F69: 751 05 Dřevohostice | G69: 33656017 | H69: 33734323 | I69: =H69-G69 -> 78306.67 | J69: 0 | L69: =I69-K69-J69 -> 78306.67 | M69: =IF((L69<0),0,L69) -> 78306.67 | N69: =IF((L69<0),L69,0) -> 0 | O69: ='31. Domov Adam Dřevohostice'!G29 -> 0 | P69: ='31. Domov Adam Dřevohostice'!G30 -> 78306.67 | Q69: ='31. Domov Adam Dřevohostice'!H30 -> 0 | R69: ='31. Domov Adam Dřevohostice'!G28 -> 78306.67 | S69: =R69-M69 -> -1.7898856e-09
O70: =O69/$R69 -> 0 | P70: =P69/$R69 -> 1 | R70: =Q70+P70+O70 -> 1
A71: 1663 | B71: § 4357 | C71: 1 | D71: Domov Na zámečku Rokytnice, příspěvková organizace | E71: U Rybníčka 1 | F71: 751 04 Rokytnice | G71: 51352090 | H71: 51384799 | I71: =H71-G71 -> 32709.57 | J71: 0 | L71: =I71-K71-J71 -> 32709.57 | M71: =IF((L71<0),0,L71) -> 32709.57 | N71: =IF((L71<0),L71,0) -> 0 | O71: ='32. Domov Na zámečku Rokytnice'!G29 -> 0 | P71: ='32. Domov Na zámečku Rokytnice'!G30 -> 32709.57 | Q71: ='32. Domov Na zámečku Rokytnice'!H30 -> 0 | R71: ='32. Domov Na zámečku Rokytnice'!G28 -> 32709.57 | S71: =R71-M71 -> -2.9831426e-10
O72: =O71/$R71 -> 0 | P72: =P71/$R71 -> 1 | R72: =Q72+P72+O72 -> 1
A77: CELKEM | G77: =SUM(G9:G72) -> 1.1170405e+09 | H77: =ROUND(SUM(H9:H72),2) -> 1.1180861e+09 | I77: =SUM(I9:I72) -> 1045592.6 | J77: =SUM(J9:J72) -> 0 | K77: =SUM(K9:K72) -> -197590 | L77: =SUM(L9:L72) -> 1243182.6 | M77: =ROUND(SUM(M9:M72),2) -> 1243182.6 | N77: =SUM(N9:N72) -> 0 | O77: =O71+O69+O67+O65+O63+O61+O59+O57+O55+O53+O51+O49+O47+O45+O43+O41+O39+O37+O35+O33+O31+O29+O27+O25+O23+O21+O19+O17+O15+O13+O11+O9 -> 0 | P77: =P71+P69+P67+P65+P63+P61+P59+P57+P55+P53+P51+P49+P47+P45+P43+P41+P39+P37+P35+P33+P31+P29+P27+P25+P23+P21+P19+P17+P15+P13+P11+P9 -> 1087080.6 | Q77: =Q71+Q69+Q67+Q65+Q63+Q61+Q59+Q57+Q55+Q53+Q51+Q49+Q47+Q45+Q43+Q41+Q39+Q37+Q35+Q33+Q31+Q29+Q27+Q25+Q23+Q21+Q19+Q17+Q15+Q13+Q11+Q9 -> 156102.03 | R77: =R71+R69+R67+R65+R63+R61+R59+R57+R55+R53+R51+R49+R47+R45+R43+R41+R39+R37+R35+R33+R31+R29+R27+R25+R23+R21+R19+R17+R15+R13+R11+R9 -> 1243182.6
M78: saldo | N78: =M77+N77 -> 1243182.6 | O78: =O77/$R77 -> 0 | P78: =P77/$R77 -> 0.87443354 | Q78: =Q77/$R77 -> 0.12556646 | R78: =Q78+P78+O78 -> 1
A79: Kontrolní sestava: | G79: =G80+G81 -> 1.1170405e+09 | H79: =H80+H81 -> 1.1180861e+09 | I79: =I80+I81 -> 8334.77 | J79: =J80+J81 -> 0 | K79: =K80+K81 -> -197590 | L79: =L80+L81 -> 1243182.6
D80: hlavní činnost | G80: 1.1170405e+09 | H80: 1.1180861e+09 | I80: 8324.77 | J80: 0 | K80: -197590 | L80: 1243182.6
D81: vedlejší činnost | G81: 0 | H81: 0 | I81: 10 | J81: 0 | K81: 0 | L81: 0
A82: Rozdíl : | G82: =G77-G79 -> 0 | H82: =H77-H79 -> 0 | I82: =I77-I79 -> 1037257.8 | J82: =J77-J79 -> 0 | K82: =K77-K79 -> 0 | L82: =L77-L79 -> 1.1175871e-08
A84: Z celkového počtu 32 organizací skončilo :
B85: - 25 organizací se zlepšeným hospodářským výsledkem, v celkové výši | H85: =M77 -> 1243182.6 | J85: tis. Kč | K85: Kč
B86: - 7 organizací s vyrovnaným hospodářským výsledkem | C86: 0 | H86: 0 | J86: tis. Kč | K86: Kč
B87: - 0 organizací ve ztrátě | C87: 0 | H87: =N77 -> 0 | J87: tis. Kč | K87: Kč

Sheet 1. DD Javorník
A1: REKAPITULACE ZA ORGANIZACI :
A2: Název organizace : | E2: Domov pro seniory Javorník, příspěvková organizace
E3: ……………………………………….……..………………………………………..…………………………………
A4: Adresa : | E4: Školní 104 790 70 Javorník
E5: ……………………………………….……..………………………………………..…………………………………
A6: IĆ | E6: 75004101 | H6: ORG | I6: 1631
E7: ……………………………… ………….…..……………………………
E11: Schválený | F11: Upravený | G11: Skutečnost | H11: z toho:
E12: rozpočet | F12: rozpočet | G12: celkem | H12: Hlavní činnost | I12: Doplňková činnost
E13: celkem | F13: celkem | H13: jednotka - Kč na 2 des. místa
A15: a) Náklady a výnosy
A16: Náklady | E16: 15554000 | F16: 15554000 | G16: =H16+I16 -> 16132921 | H16: 16132921 | I16: 0
A18: Výnosy | E18: 14390000 | F18: 15554000 | G18: =H18+I18 -> 16136987 | H18: 16136987 | I18: 0
A21: Doplňující údaje :
C22: daň z příjmů,dodatečné odvody daně z příjmů (nákladová položka) | G22: =H22+I22 -> 0 | H22: 0 | I22: 0
A24: Výsledek hospodaření /po zdanění/ | G24: =ROUND(G18-G16-G22,2) -> 4066.11 | H24: =H18-H16-H22 -> 4066.11 | I24: =I18-I16-I22 -> 0
A28: b) | B28: Rozdělení výsledku hospodaření | G28: 4066.11
C29: - Návrh na příděly do fondů: | F29: Fond odměn | G29: 0
F30: Fond rezervní | G30: 4066.11
C31: - Způsob krytí ztráty : | F31: Ćástka | G31: 0
A35: c) | B35: Závazné ukazatele
F36: Schválená částka | G36: Skutečnost | I36: % plnění
A37: Limit mzdových prostředků | F37: 8344000 | G37: 8419003 | I37: =IF(F37=0,"nerozp.",G37/F37) -> 1.0089889
A38: Neinvestiční příspěvek /odpisy/ | F38: 335000 | G38: 333329 | I38: =IF(F38=0,"nerozp.",G38/F38) -> 0.99501194
A39: Neinvestiční příspěvek/nájemné/ | F39: 0 | G39: 0 | I39: =IF(F39=0,"nerozp.",G39/F39) -> nerozp.
A40: Odvody z investičního fondu /odpisy/ | F40: 269000 | G40: 269000 | I40: =IF(F40=0,"nerozp.",G40/F40) -> 1
A41: Odvody z investičního fondu /spolufin. akcí/ | F41: 0 | G41: 0 | I41: =IF(F41=0,"nerozp.",G41/F41) -> nerozp.
A42: Pozn. : | B42: Neinvestiční příspěvek - odpisy - příspěvková organizace vrátila částku 1 671,- Kč dne 10.1.2012 na účet Olom. kraje .
B43: Překročení limitu mzdových prostředků o 75 003,- Kč, jedná se o zapojení prostředků na mzdy, poskytnuté Úřadem práce a to ve výši 75 022 Kč ( 19,- Kč bylo nedočepáno z limitu mzdových prostředků).
A44: d) | B44: Fondy | H44: jednotka - Kč na 2 des. místa
E45: Stav k 1.1.2011 | F45: Tvorba | G45: Čerpání | H45: Stav k | I45: Finanční krytí k
H46: 40908 | I46: 40908
C49: Fond odměn | E49: 48600 | F49: 0 | G49: 0 | H49: =E49+F49-G49 -> 48600 | I49: 48600
C50: FKSP | E50: 163357.62 | F50: 83770 | G50: 161324 | H50: =E50+F50-G50 -> 85803.62 | I50: 54010.62
C51: Fond rezervní | E51: 157684.76 | F51: 503226.55 | G51: 657000 | H51: =E51+F51-G51 -> 3911.31 | I51: 3911.31
C52: Investiční fond | E52: 115914.8 | F52: 859329 | G52: 903629 | H52: =E52+F52-G52 -> 71614.8 | I52: 71614.8
A53: celkem | E53: =SUM(E49:E52) -> 485557.18 | F53: =SUM(F49:F52) -> 1446325.6 | G53: =SUM(G49:G52) -> 1721953 | H53: =SUM(H49:H52) -> 209929.73 | I53: =SUM(I49:I52) -> 178136.73

Sheet 2. DD Kobylá
A1: REKAPITULACE ZA ORGANIZACI :
A2: Název organizace : | E2: Domov důchodců Kobylá nad Vidnavkou, příspěvková organizace
E3: ……………………………………….……..………………………………………..…………………………………
A4: Adresa : | E4: Kobylá nad Vidnavkou 153, 790 65
E5: ……………………………………….……..………………………………………..…………………………………
A6: IĆ | E6: 75004127 | H6: ORG | I6: 1632
E7: ……………………………… ………….…..……………………………
E11: Schválený | F11: Upravený | G11: Skutečnost | H11: z toho:
E12: rozpočet | F12: rozpočet | G12: celkem | H12: Hlavní činnost | I12: Doplňková činnost
E13: celkem | F13: celkem | H13: jednotka - Kč na 2 des. místa
A15: a) Náklady a výnosy
A16: Náklady | E16: 26819000 | F16: 26837000 | G16: =H16+I16 -> 27320295 | H16: 27320295 | I16: 0
A18: Výnosy | E18: 24584000 | F18: 26837000 | G18: =H18+I18 -> 27322439 | H18: 27322439 | I18: 0
A21: Doplňující údaje :
C22: daň z příjmů,dodatečné odvody daně z příjmů (nákladová položka) | G22: =H22+I22 -> 0 | H22: 0 | I22: 0
A24: Výsledek hospodaření /po zdanění/ | G24: =ROUND(G18-G16-G22,2) -> 2143.79 | H24: =H18-H16-H22 -> 2143.79 | I24: =I18-I16-I22 -> 0
A28: b) | B28: Rozdělení výsledku hospodaření | G28: 2143.79
C29: - Návrh na příděly do fondů: | F29: Fond odměn | G29: 0
F30: Fond rezervní | G30: 2143.79
C31: - Způsob krytí ztráty : | F31: Ćástka | G31: 0
A35: c) | B35: Závazné ukazatele
F36: Schválená částka | G36: Skutečnost | I36: % plnění
A37: Limit mzdových prostředků | F37: 14455000 | G37: 14794939 | I37: =IF(F37=0,"nerozp.",G37/F37) -> 1.0235171
A38: Neinvestiční příspěvek /odpisy/ | F38: 313480 | G38: 316027 | I38: =IF(F38=0,"nerozp.",G38/F38) -> 1.0081249
A39: Neinvestiční příspěvek/nájemné/ | F39: 0 | G39: 0 | I39: =IF(F39=0,"nerozp.",G39/F39) -> nerozp.
A40: Odvody z investičního fondu /odpisy/ | F40: 250480 | G40: 250480 | I40: =IF(F40=0,"nerozp.",G40/F40) -> 1
A41: Odvody z investičního fondu /spolufin. akcí/ | F41: 0 | G41: 0 | I41: =IF(F41=0,"nerozp.",G41/F41) -> nerozp.
A42: Pozn. : | B42: Vynaložené odpisy nad stanovený limit byly finančně pokryty z provozních prostředků organizace-2 547,- Kč.
B43: Překročení limitu mzdových prostředků o 339 939,- Kč bylo způsobeno zapojením prostředků na mzdy, poskytnuté Úřadem práce v Olomouci na základě dohod o vyhrazení společensky účelného pracovního místa a o vytvoření pracovních příležitostí v rámci veřejně prospěšných prací.
A44: d) | B44: Fondy | H44: jednotka - Kč na 2 des. místa
E45: Stav k 1.1.2011 | F45: Tvorba | G45: Čerpání | H45: Stav k | I45: Finanční krytí k
H46: 40908 | I46: 40908
C49: Fond odměn | E49: 59270 | F49: 0 | G49: 0 | H49: =E49+F49-G49 -> 59270 | I49: 59270
C50: FKSP | E50: 137041.62 | F50: =0.32+151600 -> 151600.32 | G50: 207294 | H50: =E50+F50-G50 -> 81347.94 | I50: 41647.94
C51: Fond rezervní | E51: 86534.93 | F51: 63095.15 | G51: 92821 | H51: =E51+F51-G51 -> 56809.08 | I51: 56809.08
C52: Investiční fond | E52: 474254 | F52: 1664477 | G52: 1659251 | H52: =E52+F52-G52 -> 479480 | I52: 646980
A53: celkem | E53: =SUM(E49:E52) -> 757100.55 | F53: =SUM(F49:F52) -> 1879172.5 | G53: =SUM(G49:G52) -> 1959366 | H53: =SUM(H49:H52) -> 676907.02 | I53: =SUM(I49:I52) -> 804707.02

Sheet 3. Domov Sněženka Jeseník
A1: REKAPITULACE ZA ORGANIZACI :
A2: Název organizace : | E2: Domov Sněženka Jeseník, příspěvková organizace
E3: ……………………………………….……..………………………………………..…………………………………
A4: Adresa : | E4: Moravská 814/2, 790 01 Jeseník
E5: ……………………………………….……..………………………………………..…………………………………
A6: IĆ | E6: 75004097 | H6: ORG | I6: 1633
E7: ……………………………… ………….…..……………………………
E11: Schválený | F11: Upravený | G11: Skutečnost | H11: z toho:
E12: rozpočet | F12: rozpočet | G12: celkem | H12: Hlavní činnost | I12: Doplňková činnost
E13: celkem | F13: celkem | H13: jednotka - Kč na 2 des. místa
A15: a) Náklady a výnosy
A16: Náklady | E16: 29065000 | F16: 28966014 | G16: =H16+I16 -> 29342093 | H16: 29342093 | I16: 0
A18: Výnosy | E18: 27161000 | F18: 28966014 | G18: =H18+I18 -> 29351971 | H18: 29351971 | I18: 0
A21: Doplňující údaje :
C22: daň z příjmů,dodatečné odvody daně z příjmů (nákladová položka) | G22: =H22+I22 -> 0 | H22: 0 | I22: 0
A24: Výsledek hospodaření /po zdanění/ | G24: =ROUND(G18-G16-G22,2) -> 9877.46 | H24: =H18-H16-H22 -> 9877.46 | I24: =I18-I16-I22 -> 0
A28: b) | B28: Rozdělení výsledku hospodaření | G28: 9877.46
C29: - Návrh na příděly do fondů: | F29: Fond odměn | G29: 0
F30: Fond rezervní | G30: 9877.46
C31: - Způsob krytí ztráty : | F31: Ćástka | G31: 0
A35: c) | B35: Závazné ukazatele
F36: Schválená částka | G36: Skutečnost | I36: % plnění
A37: Limit mzdových prostředků | F37: 15160000 | G37: 15295243 | I37: =IF(F37=0,"nerozp.",G37/F37) -> 1.008921
A38: Neinvestiční příspěvek /odpisy/ | F38: 933458 | G38: 948551 | I38: =IF(F38=0,"nerozp.",G38/F38) -> 1.0161689
A39: Neinvestiční příspěvek/nájemné/ | F39: 0 | G39: 0 | I39: =IF(F39=0,"nerozp.",G39/F39) -> nerozp.
A40: Odvody z investičního fondu /odpisy/ | F40: 703458 | G40: 703458 | I40: =IF(F40=0,"nerozp.",G40/F40) -> 1
A41: Odvody z investičního fondu /spolufin. akcí/ | F41: 0 | G41: 0 | I41: =IF(F41=0,"nerozp.",G41/F41) -> nerozp.
A42: Pozn. : | B42: Vynaložené odpisy nad stanovený limit byly finančně pokryty z provozních prostředků organizace-15 093,- Kč.
B43: Překročení limitu mzdových prostředků o 135 243,- Kč, jedná se o zapojení prostředků na mzdy, poskytnuté Úřadem práce Jeseník a to ve výši 135 243,- Kč.
A44: d) | B44: Fondy | H44: jednotka - Kč na 2 des. místa
E45: Stav k 1.1.2011 | F45: Tvorba | G45: Čerpání | H45: Stav k | I45: Finanční krytí k
H46: 40908 | I46: 40908
C49: Fond odměn | E49: 2000.95 | F49: 0 | G49: 0 | H49: =E49+F49-G49 -> 2000.95 | I49: 2000.95
C50: FKSP | E50: 82054.44 | F50: 152667 | G50: 191369.35 | H50: =E50+F50-G50 -> 43352.09 | I50: 43352.09
C51: Fond rezervní | E51: 139264.5 | F51: 951144.55 | G51: 956723 | H51: =E51+F51-G51 -> 133686.05 | I51: 133686.05
C52: Investiční fond | E52: 250230.6 | F52: 2052551 | G52: 2287461 | H52: =E52+F52-G52 -> 15320.6 | I52: 15320.6
A53: celkem | E53: =SUM(E49:E52) -> 473550.49 | F53: =SUM(F49:F52) -> 3156362.5 | G53: =SUM(G49:G52) -> 3435553.4 | H53: =SUM(H49:H52) -> 194359.69 | I53: =SUM(I49:I52) -> 194359.69

Sheet 4. Středisko PS Jeseník
A1: REKAPITULACE ZA ORGANIZACI :
A2: Název organizace : | E2: Středisko pečovatelské služby Jeseník, , přísp. organizace
E3: ……………………………………….……..………………………………………..…………………………………
A4: Adresa : | E4: Otakara Březiny 1370/2c, 790 01 Jeseník
E5: ……………………………………….……..………………………………………..…………………………………
A6: IĆ | E6: 75004143 | H6: ORG | I6: 1634
E7: ……………………………… ………….…..……………………………
E11: Schválený | F11: Upravený | G11: Skutečnost | H11: z toho:
E12: rozpočet | F12: rozpočet | G12: celkem | H12: Hlavní činnost | I12: Doplňková činnost
E13: celkem | F13: celkem | H13: jednotka - Kč na 2 des. místa
A15: a) Náklady a výnosy
A16: Náklady | E16: 4262000 | F16: 4258022 | G16: =H16+I16 -> 4237850.9 | H16: 4237850.9 | I16: 0
A18: Výnosy | E18: 4262000 | F18: 4258022 | G18: =H18+I18 -> 4506850.9 | H18: 4506850.9 | I18: 0
A21: Doplňující údaje :
C22: daň z příjmů,dodatečné odvody daně z příjmů (nákladová položka) | G22: =H22+I22 -> 0 | H22: 0 | I22: 0
A24: Výsledek hospodaření /po zdanění/ | G24: =ROUND(G18-G16-G22,2) -> 269000.01 | H24: =H18-H16-H22 -> 269000.01 | I24: =I18-I16-I22 -> 0
A28: b) | B28: Rozdělení výsledku hospodaření | G28: 269000.01
C29: - Návrh na příděly do fondů: | F29: Fond odměn | G29: 0
F30: Fond rezervní | G30: 269000.01
C31: - Způsob krytí ztráty : | F31: Ćástka | G31: 0
A35: c) | B35: Závazné ukazatele
F36: Schválená částka | G36: Skutečnost | I36: % plnění
A37: Limit mzdových prostředků | F37: 2334000 | G37: 2387470 | I37: =IF(F37=0,"nerozp.",G37/F37) -> 1.0229092
A38: Neinvestiční příspěvek /odpisy/ | F38: 112000 | G38: 120623.1 | I38: =IF(F38=0,"nerozp.",G38/F38) -> 1.076992
A39: Neinvestiční příspěvek/nájemné/ | F39: 0 | G39: 0 | I39: =IF(F39=0,"nerozp.",G39/F39) -> nerozp.
A40: Odvody z investičního fondu /odpisy/ | F40: 84500 | G40: 84500 | I40: =IF(F40=0,"nerozp.",G40/F40) -> 1
A41: Odvody z investičního fondu /spolufin. akcí/ | F41: 0 | G41: 0 | I41: =IF(F41=0,"nerozp.",G41/F41) -> nerozp.
A42: Pozn. : | B42: Vynaložené odpisy nad stanovený limit byly finančně pokryty z provozních prostředků organizace-8 623,- Kč.
B43: Překročení limitu mzdových prostředků o 53 470 ,- Kč, jedná se o zapojení prostředků na mzdy, poskytnuté Úřadem práce Jeseník a to ve výši 53 129,- Kč a částka 341,- Kč byla čerpána z fondu odměn.
A44: d) | B44: Fondy | H44: jednotka - Kč na 2 des. místa
E45: Stav k 1.1.2011 | F45: Tvorba | G45: Čerpání | H45: Stav k | I45: Finanční krytí k
H46: 40908 | I46: 40908
C49: Fond odměn | E49: 59620 | F49: 0 | G49: 341 | H49: =E49+F49-G49 -> 59279 | I49: 59279
C50: FKSP | E50: 14506.4 | F50: 23974 | G50: 28508 | H50: =E50+F50-G50 -> 9972.4 | I50: 7332.52
C51: Fond rezervní | E51: 122875.24 | F51: 110767.53 | G51: 36090 | H51: =E51+F51-G51 -> 197552.77 | I51: 197552.77
C52: Investiční fond | E52: 103643.5 | F52: 120623.1 | G52: 157819 | H52: =E52+F52-G52 -> 66447.6 | I52: 66447.6
A53: celkem | E53: =SUM(E49:E52) -> 300645.14 | F53: =SUM(F49:F52) -> 255364.63 | G53: =SUM(G49:G52) -> 222758 | H53: =SUM(H49:H52) -> 333251.77 | I53: =SUM(I49:I52) -> 330611.89

Sheet 5. DD Červenka
A1: REKAPITULACE ZA ORGANIZACI :
A2: Název organizace : | E2: Domov důchodců Červenka, příspěvková organizace
E3: ……………………………………….……..………………………………………..…………………………………
A4: Adresa : | E4: Nádražní 105, Červenka
E5: ……………………………………….……..………………………………………..…………………………………
A6: IĆ | E6: 75004402 | H6: ORG | I6: 1635
E7: ……………………………… ………….…..……………………………
E11: Schválený | F11: Upravený | G11: Skutečnost | H11: z toho:
E12: rozpočet | F12: rozpočet | G12: celkem | H12: Hlavní činnost | I12: Doplňková činnost
E13: celkem | F13: celkem | H13: jednotka - Kč na 2 des. místa
A15: a) Náklady a výnosy
A16: Náklady | E16: 48773000 | F16: 49496498 | G16: =H16+I16 -> 49496498 | H16: 49496498 | I16: 0
A18: Výnosy | E18: 47140000 | F18: 49496498 | G18: =H18+I18 -> 49496498 | H18: 49496498 | I18: 0
A21: Doplňující údaje :
C22: daň z příjmů,dodatečné odvody daně z příjmů (nákladová položka) | G22: =H22+I22 -> 0 | H22: 0 | I22: 0
A24: Výsledek hospodaření /po zdanění/ | G24: =ROUND(G18-G16-G22,2) -> 0 | H24: =H18-H16-H22 -> 7.4505806e-09 | I24: =I18-I16-I22 -> 0
A28: b) | B28: Rozdělení výsledku hospodaření | G28: 0
C29: - Návrh na příděly do fondů: | F29: Fond odměn | G29: 0
F30: Fond rezervní | G30: 0
C31: - Způsob krytí ztráty : | F31: Ćástka | G31: 0
A35: c) | B35: Závazné ukazatele
F36: Schválená částka | G36: Skutečnost | I36: % plnění
A37: Limit mzdových prostředků | F37: 22274000 | G37: 22274000 | I37: =IF(F37=0,"nerozp.",G37/F37) -> 1
A38: Neinvestiční příspěvek /odpisy/ | F38: 826314 | G38: 841658 | I38: =IF(F38=0,"nerozp.",G38/F38) -> 1.0185692
A39: Neinvestiční příspěvek/nájemné/ | F39: 0 | G39: 0 | I39: =IF(F39=0,"nerozp.",G39/F39) -> nerozp.
A40: Odvody z investičního fondu /odpisy/ | F40: 647314 | G40: 647314 | I40: =IF(F40=0,"nerozp.",G40/F40) -> 1
A41: Odvody z investičního fondu /spolufin. akcí/ | F41: 0 | G41: 0 | I41: =IF(F41=0,"nerozp.",G41/F41) -> nerozp.
A42: Pozn. : | B42: Vynaložené odpisy nad stanovený limit byly finančně pokryty z provozních prostředků organizace-15 344,-Kč.
A44: d) | B44: Fondy | H44: jednotka - Kč na 2 des. místa
E45: Stav k 1.1.2011 | F45: Tvorba | G45: Čerpání | H45: Stav k | I45: Finanční krytí k
H46: 40908 | I46: 40908
C49: Fond odměn | E49: 1420 | F49: 0 | G49: 0 | H49: =E49+F49-G49 -> 1420 | I49: 1420
C50: FKSP | E50: 343367.32 | F50: 224176 | G50: 257372 | H50: =E50+F50-G50 -> 310171.32 | I50: 303445.58
C51: Fond rezervní | E51: 15586 | F51: 12000 | G51: 17291.5 | H51: =E51+F51-G51 -> 10294.5 | I51: 10294.5
C52: Investiční fond | E52: 2163.24 | F52: 1221708 | G52: 1223564 | H52: =E52+F52-G52 -> 307.24 | I52: 307.24
A53: celkem | E53: =SUM(E49:E52) -> 362536.56 | F53: =SUM(F49:F52) -> 1457884 | G53: =SUM(G49:G52) -> 1498227.5 | H53: =SUM(H49:H52) -> 322193.06 | I53: =SUM(I49:I52) -> 315467.32

Sheet 6.DD Náměšť na Hané
A1: REKAPITULACE ZA ORGANIZACI :
A2: Název organizace : | E2: Dům seniorů FRANTIŠEK Náměšť na Hané, , přísp. organizace
E3: ……………………………………….……..………………………………………..…………………………………
A4: Adresa : | E4: Komenského 291, 783 44 Náměšť na Hané
E5: ……………………………………….……..………………………………………..…………………………………
A6: IĆ | E6: 750 04 381 | H6: ORG | I6: 1636
E7: ……………………………… ………….…..……………………………
E11: Schválený | F11: Upravený | G11: Skutečnost | H11: z toho:
E12: rozpočet | F12: rozpočet | G12: celkem | H12: Hlavní činnost | I12: Doplňková činnost
E13: celkem | F13: celkem | H13: jednotka - Kč na 2 des. místa
A15: a) Náklady a výnosy
A16: Náklady | E16: 10768000 | F16: 10744102 | G16: =H16+I16 -> 10744102 | H16: 10744102 | I16: 0
A18: Výnosy | E18: 10288000 | F18: 10781778 | G18: =H18+I18 -> 10781778 | H18: 10781778 | I18: 0
A21: Doplňující údaje :
C22: daň z příjmů,dodatečné odvody daně z příjmů (nákladová položka) | G22: =H22+I22 -> 0 | H22: 0 | I22: 0
A24: Výsledek hospodaření /po zdanění/ | G24: =ROUND(G18-G16-G22,2) -> 37676.34 | H24: =H18-H16-H22 -> 37676.34 | I24: =I18-I16-I22 -> 0
A28: b) | B28: Rozdělení výsledku hospodaření | G28: 37676.34
C29: - Návrh na příděly do fondů: | F29: Fond odměn | G29: 0
F30: Fond rezervní | G30: 37676.34
C31: - Způsob krytí ztráty : | F31: Ćástka | G31: 0
A35: c) | B35: Závazné ukazatele
F36: Schválená částka | G36: Skutečnost | I36: % plnění
A37: Limit mzdových prostředků | F37: 5590000 | G37: 5590000 | I37: =IF(F37=0,"nerozp.",G37/F37) -> 1
A38: Neinvestiční příspěvek /odpisy/ | F38: 130563 | G38: 130563 | I38: =IF(F38=0,"nerozp.",G38/F38) -> 1
A39: Neinvestiční příspěvek/nájemné/ | F39: 0 | G39: 0 | I39: =IF(F39=0,"nerozp.",G39/F39) -> nerozp.
A40: Odvody z investičního fondu /odpisy/ | F40: 97923 | G40: 97923 | I40: =IF(F40=0,"nerozp.",G40/F40) -> 1
A41: Odvody z investičního fondu /spolufin. akcí/ | F41: 0 | G41: 0 | I41: =IF(F41=0,"nerozp.",G41/F41) -> nerozp.
A42: Pozn. :
A44: d) | B44: Fondy | H44: jednotka - Kč na 2 des. místa
E45: Stav k 1.1.2011 | F45: Tvorba | G45: Čerpání | H45: Stav k | I45: Finanční krytí k
H46: 40908 | I46: 40908
C49: Fond odměn | E49: 1556 | F49: 0 | G49: 0 | H49: =E49+F49-G49 -> 1556 | I49: 1556
C50: FKSP | E50: 63632.77 | F50: 55948 | G50: 82302 | H50: =E50+F50-G50 -> 37278.77 | I50: 35246.4
C51: Fond rezervní | E51: 154718.81 | F51: 185322.08 | G51: 307843 | H51: =E51+F51-G51 -> 32197.89 | I51: 32197.89
C52: Investiční fond | E52: 48948.7 | F52: 471563 | G52: 350823 | H52: =E52+F52-G52 -> 169688.7 | I52: 169688.7
A53: celkem | E53: =SUM(E49:E52) -> 268856.28 | F53: =SUM(F49:F52) -> 712833.08 | G53: =SUM(G49:G52) -> 740968 | H53: =SUM(H49:H52) -> 240721.36 | I53: =SUM(I49:I52) -> 238688.99

Sheet 7. DD Hrubá Voda
A1: REKAPITULACE ZA ORGANIZACI :
A2: Název organizace : | E2: Domov důchodců Hrubá Voda, přísp.organizace
E3: ……………………………………….……..………………………………………..…………………………………
A4: Adresa : | E4: Hrubá Voda 11. Hlubočky
E5: ……………………………………….……..………………………………………..…………………………………
A6: IĆ | E6: 75004399 | H6: ORG | I6: 1637
E7: ……………………………… ………….…..……………………………
E11: Schválený | F11: Upravený | G11: Skutečnost | H11: z toho:
E12: rozpočet | F12: rozpočet | G12: celkem | H12: Hlavní činnost | I12: Doplňková činnost
E13: celkem | F13: celkem | H13: jednotka - Kč na 2 des. místa
A15: a) Náklady a výnosy
A16: Náklady | E16: 23892000 | F16: 24659973 | G16: =H16+I16 -> 24812973 | H16: 24812973 | I16: 0
A18: Výnosy | E18: 21045000 | F18: 24680548 | G18: =H18+I18 -> 24833548 | H18: 24833548 | I18: 0
A21: Doplňující údaje :
C22: daň z příjmů,dodatečné odvody daně z příjmů (nákladová položka) | G22: =H22+I22 -> 0 | H22: 0 | I22: 0
A24: Výsledek hospodaření /po zdanění/ | G24: =ROUND(G18-G16-G22,2) -> 20574.52 | H24: =H18-H16-H22 -> 20574.52 | I24: =I18-I16-I22 -> 0
A28: b) | B28: Rozdělení výsledku hospodaření | G28: 20574.52
C29: - Návrh na příděly do fondů: | F29: Fond odměn | G29: 0
F30: Fond rezervní | G30: 20574.52
C31: - Způsob krytí ztráty : | F31: Ćástka | G31: 0
A35: c) | B35: Závazné ukazatele
F36: Schválená částka | G36: Skutečnost | I36: % plnění
A37: Limit mzdových prostředků | F37: 11856000 | G37: 12009000 | I37: =IF(F37=0,"nerozp.",G37/F37) -> 1.0129049
A38: Neinvestiční příspěvek /odpisy/ | F38: 867570 | G38: 903676 | I38: =IF(F38=0,"nerozp.",G38/F38) -> 1.0416174
A39: Neinvestiční příspěvek/nájemné/ | F39: 0 | G39: 0 | I39: =IF(F39=0,"nerozp.",G39/F39) -> nerozp.
A40: Odvody z investičního fondu /odpisy/ | F40: 675570 | G40: 675570 | I40: =IF(F40=0,"nerozp.",G40/F40) -> 1
A41: Odvody z investičního fondu /spolufin. akcí/ | F41: 0 | G41: 0 | I41: =IF(F41=0,"nerozp.",G41/F41) -> nerozp.
A42: Pozn. : | B42: Vynaložené odpisy nad stanovený limit byly finančně pokryty z provozních prostředků organizace-36 106,-Kč.
B43: Překročení limitu mzdových prostředků o 153 000,- Kč, což bylo způsobeno zapojením prostředků na mzdy poskytnuté Úřadem práce Olomouc.
A44: d) | B44: Fondy | H44: jednotka - Kč na 2 des. místa
E45: Stav k 1.1.2011 | F45: Tvorba | G45: Čerpání | H45: Stav k | I45: Finanční krytí k
H46: 40908 | I46: 40908
C49: Fond odměn | E49: 9960 | F49: 0 | G49: 0 | H49: =E49+F49-G49 -> 9960 | I49: 9960
C50: FKSP | E50: 642036.29 | F50: 329781 | G50: 421132 | H50: =E50+F50-G50 -> 550685.29 | I50: 239370.07
C51: Fond rezervní | E51: 69041.7 | F51: 118053.15 | G51: 12704 | H51: =E51+F51-G51 -> 174390.85 | I51: 174390.85
C52: Investiční fond | E52: =192700.3+0.4 -> 192700.7 | F52: =5644543 -> 5644543 | G52: 5516337 | H52: =E52+F52-G52 -> 320906.7 | I52: 320906.7
A53: celkem | E53: =SUM(E49:E52) -> 913738.69 | F53: =SUM(F49:F52) -> 6092377.2 | G53: =SUM(G49:G52) -> 5950173 | H53: =SUM(H49:H52) -> 1055942.8 | I53: =SUM(I49:I52) -> 744627.62

Sheet 8. Domov seniorů Chválkovice
A1: REKAPITULACE ZA ORGANIZACI :
A2: Název organizace : | E2: Domov seniorů POHODA Chválkovice, přísp. organizace
E3: ……………………………………….……..………………………………………..…………………………………
A4: Adresa : | E4: Švabinského 3, 772 00 Olomouc
E5: ……………………………………….……..………………………………………..…………………………………
A6: IĆ | E6: 75004372 | H6: ORG | I6: 1638
E7: ……………………………… ………….…..……………………………
E11: Schválený | F11: Upravený | G11: Skutečnost | H11: z toho:
E12: rozpočet | F12: rozpočet | G12: celkem | H12: Hlavní činnost | I12: Doplňková činnost
E13: celkem | F13: celkem | H13: jednotka - Kč na 2 des. místa
A15: a) Náklady a výnosy
A16: Náklady | E16: 87530000 | F16: 82462847 | G16: =H16+I16 -> 83241855 | H16: 83241855 | I16: 0
A18: Výnosy | E18: 80720000 | F18: 82462847 | G18: =H18+I18 -> 83251441 | H18: 83251441 | I18: 0
A21: Doplňující údaje :
C22: daň z příjmů,dodatečné odvody daně z příjmů (nákladová položka) | G22: =H22+I22 -> 0 | H22: 0 | I22: 0
A24: Výsledek hospodaření /po zdanění/ | G24: =ROUND(G18-G16-G22,2) -> 9585.85 | H24: =H18-H16-H22 -> 9585.85 | I24: =I18-I16-I22 -> 0
A28: b) | B28: Rozdělení výsledku hospodaření | G28: 9585.85
C29: - Návrh na příděly do fondů: | F29: Fond odměn | G29: 0
F30: Fond rezervní | G30: 9585.85
C31: - Způsob krytí ztráty : | F31: Ćástka | G31: 0
A35: c) | B35: Závazné ukazatele
F36: Schválená částka | G36: Skutečnost | I36: % plnění
A37: Limit mzdových prostředků | F37: 41203000 | G37: 41203000 | I37: =IF(F37=0,"nerozp.",G37/F37) -> 1
A38: Neinvestiční příspěvek /odpisy/ | F38: 1216000 | G38: 1374890 | I38: =IF(F38=0,"nerozp.",G38/F38) -> 1.1306661
A39: Neinvestiční příspěvek/nájemné/ | F39: 0 | G39: 0 | I39: =IF(F39=0,"nerozp.",G39/F39) -> nerozp.
A40: Odvody z investičního fondu /odpisy/ | F40: 980000 | G40: 980000 | I40: =IF(F40=0,"nerozp.",G40/F40) -> 1
A41: Odvody z investičního fondu /spolufin. akcí/ | F41: 0 | G41: 0 | I41: =IF(F41=0,"nerozp.",G41/F41) -> nerozp.
A42: Pozn. : | B42: Vynaložené odpisy nad stanovený limit byly finančně pokryty z provozních prostředků organizace-158 890,- Kč.
A44: d) | B44: Fondy | H44: jednotka - Kč na 2 des. místa
E45: Stav k 1.1.2011 | F45: Tvorba | G45: Čerpání | H45: Stav k | I45: Finanční krytí k
H46: 40908 | I46: 40908
C49: Fond odměn | E49: 29950 | F49: 0 | G49: 0 | H49: =E49+F49-G49 -> 29950 | I49: 29950
C50: FKSP | E50: 113656.79 | F50: 412375 | G50: 450035 | H50: =E50+F50-G50 -> 75996.79 | I50: 46679.37
C51: Fond rezervní | E51: 32082.85 | F51: 22416.94 | G51: 1000 | H51: =E51+F51-G51 -> 53499.79 | I51: 53499.79
C52: Investiční fond | E52: 287954.5 | F52: 1821390 | G52: 1613095.4 | H52: =E52+F52-G52 -> 496249.1 | I52: 176249.1
A53: celkem | E53: =SUM(E49:E52) -> 463644.14 | F53: =SUM(F49:F52) -> 2256181.9 | G53: =SUM(G49:G52) -> 2064130.4 | H53: =SUM(H49:H52) -> 655695.68 | I53: =SUM(I49:I52) -> 306378.26

Sheet 9. Sociální služby Olomouc
A1: REKAPITULACE ZA ORGANIZACI :
A2: Název organizace : | E2: Sociální služby pro seniory Olomouc, přísp. organizace
E3: ……………………………………….……..………………………………………..…………………………………
A4: Adresa : | E4: Zikova 618/14, 770 10 Olomouc
E5: ……………………………………….……..………………………………………..…………………………………
A6: IĆ | E6: 75004259 | H6: ORG | I6: 1639
E7: ……………………………… ………….…..……………………………
E11: Schválený | F11: Upravený | G11: Skutečnost | H11: z toho:
E12: rozpočet | F12: rozpočet | G12: celkem | H12: Hlavní činnost | I12: Doplňková činnost
E13: celkem | F13: celkem | H13: jednotka - Kč na 2 des. místa
A15: a) Náklady a výnosy
A16: Náklady | E16: 55730000 | F16: 56533269 | G16: =H16+I16 -> 56329182 | H16: 56329182 | I16: 0
A18: Výnosy | E18: 52127000 | F18: 56533269 | G18: =H18+I18 -> 56330774 | H18: 56330774 | I18: 0
A21: Doplňující údaje :
C22: daň z příjmů,dodatečné odvody daně z příjmů (nákladová položka) | G22: =H22+I22 -> 0 | H22: 0 | I22: 0
A24: Výsledek hospodaření /po zdanění/ | G24: =ROUND(G18-G16-G22,2) -> 1592.8 | H24: =H18-H16-H22 -> 1592.8 | I24: =I18-I16-I22 -> 0
A28: b) | B28: Rozdělení výsledku hospodaření | G28: 1592.8
C29: - Návrh na příděly do fondů: | F29: Fond odměn | G29: 0
F30: Fond rezervní | G30: 1592.8
C31: - Způsob krytí ztráty : | F31: Ćástka | G31: 0
A35: c) | B35: Závazné ukazatele
F36: Schválená částka | G36: Skutečnost | I36: % plnění
A37: Limit mzdových prostředků | F37: 27096000 | G37: 27096000 | I37: =IF(F37=0,"nerozp.",G37/F37) -> 1
A38: Neinvestiční příspěvek /odpisy/ | F38: 1458105 | G38: 1458105 | I38: =IF(F38=0,"nerozp.",G38/F38) -> 1
A39: Neinvestiční příspěvek/nájemné/ | F39: 0 | G39: 0 | I39: =IF(F39=0,"nerozp.",G39/F39) -> nerozp.
A40: Odvody z investičního fondu /odpisy/ | F40: 1168105 | G40: 1168105 | I40: =IF(F40=0,"nerozp.",G40/F40) -> 1
A41: Odvody z investičního fondu /spolufin. akcí/ | F41: 0 | G41: 0 | I41: =IF(F41=0,"nerozp.",G41/F41) -> nerozp.
A42: Pozn. :
A44: d) | B44: Fondy | H44: jednotka - Kč na 2 des. místa
E45: Stav k 1.1.2011 | F45: Tvorba | G45: Čerpání | H45: Stav k | I45: Finanční krytí k
H46: 40908 | I46: 40908
C49: Fond odměn | E49: 2565 | F49: 0 | G49: 0 | H49: =E49+F49-G49 -> 2565 | I49: 2565
C50: FKSP | E50: 55938.17 | F50: 267903 | G50: 249222 | H50: =E50+F50-G50 -> 74619.17 | I50: 60927.11
C51: Fond rezervní | E51: 7142.43 | F51: 16227.01 | G51: 16000 | H51: =E51+F51-G51 -> 7369.44 | I51: 7369.44
C52: Investiční fond | E52: 144613 | F52: 2735105 | G52: 2723409.4 | H52: =E52+F52-G52 -> 156308.6 | I52: 156308.6
A53: celkem | E53: =SUM(E49:E52) -> 210258.6 | F53: =SUM(F49:F52) -> 3019235 | G53: =SUM(G49:G52) -> 2988631.4 | H53: =SUM(H49:H52) -> 240862.21 | I53: =SUM(I49:I52) -> 227170.15

Sheet 10. Vincentinum
A1: REKAPITULACE ZA ORGANIZACI :
A2: Název organizace : | E2: Vincentinum - poskytovatel sociálních služeb Šternberk,p.o.
E3: ……………………………………….……..………………………………………..…………………………………
A4: Adresa : | E4: Sadová 7, 785 01 Šternberk
E5: ……………………………………….……..………………………………………..…………………………………
A6: IĆ | E6: 75004429 | H6: ORG | I6: 1640
E7: ……………………………… ………….…..……………………………
E11: Schválený | F11: Upravený | G11: Skutečnost | H11: z toho:
E12: rozpočet | F12: rozpočet | G12: celkem | H12: Hlavní činnost | I12: Doplňková činnost
E13: celkem | F13: celkem | H13: jednotka - Kč na 2 des. místa
A15: a) Náklady a výnosy
A16: Náklady | E16: 82428000 | F16: 81906102 | G16: =H16+I16 -> 81992888 | H16: 81992888 | I16: 0
A18: Výnosy | E18: 74971000 | F18: 81906102 | G18: =H18+I18 -> 81993107 | H18: 81993107 | I18: 0
A21: Doplňující údaje :
C22: daň z příjmů,dodatečné odvody daně z příjmů (nákladová položka) | G22: =H22+I22 -> 0 | H22: 0 | I22: 0
A24: Výsledek hospodaření /po zdanění/ | G24: =ROUND(G18-G16-G22,2) -> 218.84 | H24: =H18-H16-H22 -> 218.84 | I24: =I18-I16-I22 -> 0
A28: b) | B28: Rozdělení výsledku hospodaření | G28: 218.84
C29: - Návrh na příděly do fondů: | F29: Fond odměn | G29: 0
F30: Fond rezervní | G30: 218.84
C31: - Způsob krytí ztráty : | F31: Ćástka | G31: 0
A35: c) | B35: Závazné ukazatele
F36: Schválená částka | G36: Skutečnost | I36: % plnění
A37: Limit mzdových prostředků | F37: 42941000 | G37: 43904570 | I37: =IF(F37=0,"nerozp.",G37/F37) -> 1.0224394
A38: Neinvestiční příspěvek /odpisy/ | F38: 944102 | G38: 944102 | I38: =IF(F38=0,"nerozp.",G38/F38) -> 1
A39: Neinvestiční příspěvek/nájemné/ | F39: 0 | G39: 0 | I39: =IF(F39=0,"nerozp.",G39/F39) -> nerozp.
A40: Odvody z investičního fondu /odpisy/ | F40: 730102 | G40: 730102 | I40: =IF(F40=0,"nerozp.",G40/F40) -> 1
A41: Odvody z investičního fondu /spolufin. akcí/ | F41: 0 | G41: 0 | I41: =IF(F41=0,"nerozp.",G41/F41) -> nerozp.
A42: Pozn. :
B43: Překročení limitu mzdových prostředků o 963 570,- Kč. Z toho 960 048,- Kč bylo způsobeno zapojením prostředků na mzdy, poskytnuté Úřadem práce v Olomouci na základě dohod a 3 522,- Kč byly hrazeny z fondu odměn na odměny vyplacené zaměstnancům v prosinci 2011.
A44: d) | B44: Fondy | H44: jednotka - Kč na 2 des. místa
E45: Stav k 1.1.2011 | F45: Tvorba | G45: Čerpání | H45: Stav k | I45: Finanční krytí k
H46: 40908 | I46: 40908
C49: Fond odměn | E49: 22806 | F49: 0 | G49: 3522 | H49: =E49+F49-G49 -> 19284 | I49: 19284
C50: FKSP | E50: 317753.67 | F50: 440194.86 | G50: 655588 | H50: =E50+F50-G50 -> 102360.53 | I50: 120289.05
C51: Fond rezervní | E51: 579344.61 | F51: 10077.45 | G51: 443828.19 | H51: =E51+F51-G51 -> 145593.87 | I51: 145593.87
C52: Investiční fond | E52: 166085.4 | F52: 1445350 | G52: 1144102 | H52: =E52+F52-G52 -> 467333.4 | I52: 467333.4
A53: celkem | E53: =SUM(E49:E52) -> 1085989.7 | F53: =SUM(F49:F52) -> 1895622.3 | G53: =SUM(G49:G52) -> 2247040.2 | H53: =SUM(H49:H52) -> 734571.8 | I53: =SUM(I49:I52) -> 752500.32

Sheet 11. Klíč
A1: REKAPITULACE ZA ORGANIZACI :
A2: Název organizace : | E2: Klíč - centrum sociálních služeb Olomouc, přísp. organizace
E3: ……………………………………….……..………………………………………..…………………………………
A4: Adresa : | E4: Dolní Hejčínská 28, 779 00 Olomouc
E5: ……………………………………….……..………………………………………..…………………………………
A6: IĆ | E6: 70890595 | H6: ORG | I6: 1641
E7: ……………………………… ………….…..……………………………
E11: Schválený | F11: Upravený | G11: Skutečnost | H11: z toho:
E12: rozpočet | F12: rozpočet | G12: celkem | H12: Hlavní činnost | I12: Doplňková činnost
E13: celkem | F13: celkem | H13: jednotka - Kč na 2 des. místa
A15: a) Náklady a výnosy
A16: Náklady | E16: 23284000 | F16: 23107369 | G16: =H16+I16 -> 23331169 | H16: 23331169 | I16: 0
A18: Výnosy | E18: 20954000 | F18: 22527118 | G18: =H18+I18 -> 23331556 | H18: 23331556 | I18: 0
A21: Doplňující údaje :
C22: daň z příjmů,dodatečné odvody daně z příjmů (nákladová položka) | G22: =H22+I22 -> 0 | H22: 0 | I22: 0
A24: Výsledek hospodaření /po zdanění/ | G24: =ROUND(G18-G16-G22,2) -> 386.89 | H24: =H18-H16-H22 -> 386.89 | I24: =I18-I16-I22 -> 0
A28: b) | B28: Rozdělení výsledku hospodaření | G28: 386.89
C29: - Návrh na příděly do fondů: | F29: Fond odměn | G29: 0
F30: Fond rezervní | G30: 386.89
C31: - Způsob krytí ztráty : | F31: Ćástka | G31: 0
A35: c) | B35: Závazné ukazatele
F36: Schválená částka | G36: Skutečnost | I36: % plnění
A37: Limit mzdových prostředků | F37: 12865000 | G37: 12898254 | I37: =IF(F37=0,"nerozp.",G37/F37) -> 1.0025848
A38: Neinvestiční příspěvek /odpisy/ | F38: 672369 | G38: 674495 | I38: =IF(F38=0,"nerozp.",G38/F38) -> 1.003162
A39: Neinvestiční příspěvek/nájemné/ | F39: 0 | G39: 0 | I39: =IF(F39=0,"nerozp.",G39/F39) -> nerozp.
A40: Odvody z investičního fondu /odpisy/ | F40: 506369 | G40: 506369 | I40: =IF(F40=0,"nerozp.",G40/F40) -> 1
A41: Odvody z investičního fondu /spolufin. akcí/ | F41: 0 | G41: 0 | I41: =IF(F41=0,"nerozp.",G41/F41) -> nerozp.
A42: Pozn. : | B42: Vynaložené odpisy nad stanovený limit byly finančně pokryty z provozních prostředků organizace-2 126,- Kč.
B43: Překročení limitu mzdových prostředků o 33 254,- Kč., bylo způsobeno zapojením prostředků na mzdy, poskytnuté Úřadem práce v rámci dohody o vyhrazení společensky účelného pracovního místa (10 448,- Kč) a dohod o zabezpečení vzdělávacích aktivit zaměstnanců v rámci projektu „Vzdělávejte se pro růst“ (22 806,-Kč).
A44: d) | B44: Fondy | H44: jednotka - Kč na 2 des. místa
E45: Stav k 1.1.2011 | F45: Tvorba | G45: Čerpání | H45: Stav k | I45: Finanční krytí k
H46: 40908 | I46: 40908
C49: Fond odměn | E49: 14270 | F49: 0 | G49: 0 | H49: =E49+F49-G49 -> 14270 | I49: 14270
C50: FKSP | E50: 226043.89 | F50: 128611 | G50: 178027 | H50: =E50+F50-G50 -> 176627.89 | I50: 170765.7
C51: Fond rezervní | E51: 333475.45 | F51: 363312.3 | G51: 111275 | H51: =E51+F51-G51 -> 585512.75 | I51: 585512.75
C52: Investiční fond | E52: 207425.8 | F52: 1996180 | G52: 1863027 | H52: =E52+F52-G52 -> 340578.8 | I52: 340578.8
A53: celkem | E53: =SUM(E49:E52) -> 781215.14 | F53: =SUM(F49:F52) -> 2488103.3 | G53: =SUM(G49:G52) -> 2152329 | H53: =SUM(H49:H52) -> 1116989.4 | I53: =SUM(I49:I52) -> 1111127.2

Sheet 12. Nové Zámky
A1: REKAPITULACE ZA ORGANIZACI :
A2: Název organizace : | E2: Nové Zámky-poskytovatel sociálních služeb,přísp. organizace
E3: ……………………………………….……..………………………………………..…………………………………
A4: Adresa : | E4: Mladeč,Nové Zámky č.p.2,Litovel, 784 01
E5: ……………………………………….……..………………………………………..…………………………………
A6: IĆ | E6: 70890871 | H6: ORG | I6: 1642
E7: ……………………………… ………….…..……………………………
E11: Schválený | F11: Upravený | G11: Skutečnost | H11: z toho:
E12: rozpočet | F12: rozpočet | G12: celkem | H12: Hlavní činnost | I12: Doplňková činnost
E13: celkem | F13: celkem | H13: jednotka - Kč na 2 des. místa
A15: a) Náklady a výnosy
A16: Náklady | E16: 69351000 | F16: 68077684 | G16: =H16+I16 -> 68077684 | H16: 68077684 | I16: 0
A18: Výnosy | E18: 63191000 | F18: 68077684 | G18: =H18+I18 -> 68077684 | H18: 68077684 | I18: 0
A21: Doplňující údaje :
C22: daň z příjmů,dodatečné odvody daně z příjmů (nákladová položka) | G22: =H22+I22 -> 0 | H22: 0 | I22: 0
A24: Výsledek hospodaření /po zdanění/ | G24: =ROUND(G18-G16-G22,2) -> 0 | H24: =H18-H16-H22 -> -2.9802322e-08 | I24: =I18-I16-I22 -> 0
A28: b) | B28: Rozdělení výsledku hospodaření | G28: 0
C29: - Návrh na příděly do fondů: | F29: Fond odměn | G29: 0
F30: Fond rezervní | G30: 0
C31: - Způsob krytí ztráty : | F31: Ćástka | G31: 0
A35: c) | B35: Závazné ukazatele
F36: Schválená částka | G36: Skutečnost | I36: % plnění
A37: Limit mzdových prostředků | F37: 35128000 | G37: 35128000 | I37: =IF(F37=0,"nerozp.",G37/F37) -> 1
A38: Neinvestiční příspěvek /odpisy/ | F38: 2004664 | G38: 2004728.8 | I38: =IF(F38=0,"nerozp.",G38/F38) -> 1.0000323
A39: Neinvestiční příspěvek/nájemné/ | F39: 0 | G39: 0 | I39: =IF(F39=0,"nerozp.",G39/F39) -> nerozp.
A40: Odvody z investičního fondu /odpisy/ | F40: 1544664 | G40: 1544664 | I40: =IF(F40=0,"nerozp.",G40/F40) -> 1
A41: Odvody z investičního fondu /spolufin. akcí/ | F41: 0 | G41: 0 | I41: =IF(F41=0,"nerozp.",G41/F41) -> nerozp.
A42: Pozn. : | B42: Vynaložené odpisy nad stanovený limit byly finančně pokryty z provozních prostředků organizace-64,80 Kč.
A44: d) | B44: Fondy | H44: jednotka - Kč na 2 des. místa
E45: Stav k 1.1.2011 | F45: Tvorba | G45: Čerpání | H45: Stav k | I45: Finanční krytí k
H46: 40908 | I46: 40908
C49: Fond odměn | E49: 52000 | F49: 0 | G49: 0 | H49: =E49+F49-G49 -> 52000 | I49: 52000
C50: FKSP | E50: 1202456.3 | F50: 350510 | G50: 521801 | H50: =E50+F50-G50 -> 1031165.3 | I50: 954934.33
C51: Fond rezervní | E51: 105465.33 | F51: 144308.86 | G51: 111069.28 | H51: =E51+F51-G51 -> 138704.91 | I51: 138704.91
C52: Investiční fond | E52: 218533.58 | F52: 2603107.8 | G52: 2792529 | H52: =E52+F52-G52 -> 29112.38 | I52: 29112.38
A53: celkem | E53: =SUM(E49:E52) -> 1578455.2 | F53: =SUM(F49:F52) -> 3097926.7 | G53: =SUM(G49:G52) -> 3425399.3 | H53: =SUM(H49:H52) -> 1250982.6 | I53: =SUM(I49:I52) -> 1174751.6

Sheet 13. Středisko soc. prevence
A1: REKAPITULACE ZA ORGANIZACI :
A2: Název organizace : | E2: Středisko sociální prevence Olomouc, , přísp. organizace
E3: ……………………………………….……..………………………………………..…………………………………
A4: Adresa : | E4: Na Vozovce 26, 779 00 Olomouc
E5: ……………………………………….……..………………………………………..…………………………………
A6: IĆ | E6: 75004437 | H6: ORG | I6: 1644
E7: ……………………………… ………….…..……………………………
E11: Schválený | F11: Upravený | G11: Skutečnost | H11: z toho:
E12: rozpočet | F12: rozpočet | G12: celkem | H12: Hlavní činnost | I12: Doplňková činnost
E13: celkem | F13: celkem | H13: jednotka - Kč na 2 des. místa
A15: a) Náklady a výnosy
A16: Náklady | E16: 23097000 | F16: 20398009 | G16: =H16+I16 -> 19368443 | H16: 19368443 | I16: 0
A18: Výnosy | E18: 20916000 | F18: 20405229 | G18: =H18+I18 -> 19664875 | H18: 19664875 | I18: 0
A21: Doplňující údaje :
C22: daň z příjmů,dodatečné odvody daně z příjmů (nákladová položka) | G22: =H22+I22 -> 7220 | H22: 7220 | I22: 0
A24: Výsledek hospodaření /po zdanění/ | G24: =ROUND(G18-G16-G22,2) -> 289211.74 | H24: =H18-H16-H22 -> 289211.74 | I24: =I18-I16-I22 -> 0
A28: b) | B28: Rozdělení výsledku hospodaření | G28: 289211.74
C29: - Návrh na příděly do fondů: | F29: Fond odměn | G29: 0
F30: Fond rezervní | G30: 289211.74
C31: - Způsob krytí ztráty : | F31: Ćástka | G31: 0
A35: c) | B35: Závazné ukazatele
F36: Schválená částka | G36: Skutečnost | I36: % plnění
A37: Limit mzdových prostředků | F37: 13416000 | G37: 11266392 | I37: =IF(F37=0,"nerozp.",G37/F37) -> 0.83977281
A38: Neinvestiční příspěvek /odpisy/ | F38: 159490 | G38: 159639 | I38: =IF(F38=0,"nerozp.",G38/F38) -> 1.0009342
A39: Neinvestiční příspěvek/nájemné/ | F39: 0 | G39: 0 | I39: =IF(F39=0,"nerozp.",G39/F39) -> nerozp.
A40: Odvody z investičního fondu /odpisy/ | F40: 130490 | G40: 130490 | I40: =IF(F40=0,"nerozp.",G40/F40) -> 1
A41: Odvody z investičního fondu /spolufin. akcí/ | F41: 0 | G41: 0 | I41: =IF(F41=0,"nerozp.",G41/F41) -> nerozp.
A42: Pozn. : | B42: Vynaložené odpisy nad stanovený limit byly finančně pokryty z provozních prostředků organizace- 149,- Kč.
B43: Nedočerpání limitu mzdových prostředků o 2 149 608,- Kč., bylo způsobeno zrušením pracovních míst, změnami platových výměrů, nedočerpáním plánovaných fin. prostředků v poradnách pro rodinu. Další nedočerpání bylo způsobeno pracovní neschopností zaměstnanců, plánované pracovní místo sociální pracovník v Sociálně aktivizační službě pro rodiny s dětmi nebylo obsazeno z důvodu nižšího počtu klientů.
A44: d) | B44: Fondy | H44: jednotka - Kč na 2 des. místa
E45: Stav k 1.1.2011 | F45: Tvorba | G45: Čerpání | H45: Stav k | I45: Finanční krytí k
H46: 40908 | I46: 40908
C49: Fond odměn | E49: 7200 | F49: 0 | G49: 0 | H49: =E49+F49-G49 -> 7200 | I49: 7200
C50: FKSP | E50: 138111.2 | F50: 91547 | G50: 149625 | H50: =E50+F50-G50 -> 80033.2 | I50: 70857.44
C51: Fond rezervní | E51: 785471.76 | F51: 437186.3 | G51: 490000 | H51: =E51+F51-G51 -> 732658.06 | I51: 732658.06
C52: Investiční fond | E52: 38630.73 | F52: 649639 | G52: 608331 | H52: =E52+F52-G52 -> 79938.73 | I52: 126621.73
A53: celkem | E53: =SUM(E49:E52) -> 969413.69 | F53: =SUM(F49:F52) -> 1178372.3 | G53: =SUM(G49:G52) -> 1247956 | H53: =SUM(H49:H52) -> 899829.99 | I53: =SUM(I49:I52) -> 937337.23

Sheet 14. DD Šumperk
A1: REKAPITULACE ZA ORGANIZACI :
A2: Název organizace : | E2: Domov důchodců Šumperk, příspěvková organizace
E3: ……………………………………….……..………………………………………..…………………………………
A4: Adresa : | E4: Šumperk, U sanatoria 25
E5: ……………………………………….……..………………………………………..…………………………………
A6: IĆ | E6: 75004011 | H6: ORG | I6: 1645
E7: ……………………………… ………….…..……………………………
E11: Schválený | F11: Upravený | G11: Skutečnost | H11: z toho:
E12: rozpočet | F12: rozpočet | G12: celkem | H12: Hlavní činnost | I12: Doplňková činnost
E13: celkem | F13: celkem | H13: jednotka - Kč na 2 des. místa
A15: a) Náklady a výnosy
A16: Náklady | E16: 58858000 | F16: 57264001 | G16: =H16+I16 -> 57599558 | H16: 57599558 | I16: 0
A18: Výnosy | E18: 55417000 | F18: 57264001 | G18: =H18+I18 -> 57637253 | H18: 57637253 | I18: 0
A21: Doplňující údaje :
C22: daň z příjmů,dodatečné odvody daně z příjmů (nákladová položka) | G22: =H22+I22 -> 0 | H22: 0 | I22: 0
A24: Výsledek hospodaření /po zdanění/ | G24: =ROUND(G18-G16-G22,2) -> 37694.68 | H24: =H18-H16-H22 -> 37694.68 | I24: =I18-I16-I22 -> 0
A28: b) | B28: Rozdělení výsledku hospodaření | G28: 37694.68
C29: - Návrh na příděly do fondů: | F29: Fond odměn | G29: 0
F30: Fond rezervní | G30: 37694.68
C31: - Způsob krytí ztráty : | F31: Ćástka | G31: 0
A35: c) | B35: Závazné ukazatele
F36: Schválená částka | G36: Skutečnost | I36: % plnění
A37: Limit mzdových prostředků | F37: 29850000 | G37: 28952929 | I37: =IF(F37=0,"nerozp.",G37/F37) -> 0.96994737
A38: Neinvestiční příspěvek /odpisy/ | F38: 1389000 | G38: 1423075.1 | I38: =IF(F38=0,"nerozp.",G38/F38) -> 1.0245321
A39: Neinvestiční příspěvek/nájemné/ | F39: 0 | G39: 0 | I39: =IF(F39=0,"nerozp.",G39/F39) -> nerozp.
A40: Odvody z investičního fondu /odpisy/ | F40: 1070000 | G40: 1070000 | I40: =IF(F40=0,"nerozp.",G40/F40) -> 1
A41: Odvody z investičního fondu /spolufin. akcí/ | F41: 0 | G41: 0 | I41: =IF(F41=0,"nerozp.",G41/F41) -> nerozp.
A42: Pozn. : | B42: Vynaložené odpisy nad stanovený limit byly finančně pokryty z provozních prostředků organizace-34 075,14 Kč.
B43: Nedočerpání limitu mzdových prostředků o 897 071,- Kč., bylo způsobeno přijetím úsporných opatření v této oblasti. Další nedočerpání bylo způsobeno dlouhodobou pracovní neschopností zaměstnanců.
A44: d) | B44: Fondy | H44: jednotka - Kč na 2 des. místa
E45: Stav k 1.1.2011 | F45: Tvorba | G45: Čerpání | H45: Stav k | I45: Finanční krytí k
H46: 40908 | I46: 40908
C49: Fond odměn | E49: 116200 | F49: 0 | G49: 0 | H49: =E49+F49-G49 -> 116200 | I49: 116200
C50: FKSP | E50: 962382.33 | F50: 291504 | G50: 393883 | H50: =E50+F50-G50 -> 860003.33 | I50: 670572.55
C51: Fond rezervní | E51: 169898.28 | F51: 14589.23 | G51: 0 | H51: =E51+F51-G51 -> 184487.51 | I51: 184487.51
C52: Investiční fond | E52: 297323.76 | F52: 3654964.1 | G52: 3849185.6 | H52: =E52+F52-G52 -> 103102.3 | I52: 103102.3
A53: celkem | E53: =SUM(E49:E52) -> 1545804.4 | F53: =SUM(F49:F52) -> 3961057.4 | G53: =SUM(G49:G52) -> 4243068.6 | H53: =SUM(H49:H52) -> 1263793.1 | I53: =SUM(I49:I52) -> 1074362.4

Sheet 15. DD Libina
A1: REKAPITULACE ZA ORGANIZACI :
A2: Název organizace : | E2: Domov důchodců Libina, příspěvková organizace
E3: ……………………………………….……..………………………………………..…………………………………
A4: Adresa : | E4: Libina 540, 788 05 Libina
E5: ……………………………………….……..………………………………………..…………………………………
A6: IĆ | E6: 75003988 | H6: ORG | I6: 1646
E7: ……………………………… ………….…..……………………………
E11: Schválený | F11: Upravený | G11: Skutečnost | H11: z toho:
E12: rozpočet | F12: rozpočet | G12: celkem | H12: Hlavní činnost | I12: Doplňková činnost
E13: celkem | F13: celkem | H13: jednotka - Kč na 2 des. místa
A15: a) Náklady a výnosy
A16: Náklady | E16: 22109000 | F16: 22255061 | G16: =H16+I16 -> 22111559 | H16: 22111559 | I16: 0
A18: Výnosy | E18: 20105000 | F18: 22255061 | G18: =H18+I18 -> 22140597 | H18: 22140597 | I18: 0
A21: Doplňující údaje :
C22: daň z příjmů,dodatečné odvody daně z příjmů (nákladová položka) | G22: =H22+I22 -> 0 | H22: 0 | I22: 0
A24: Výsledek hospodaření /po zdanění/ | G24: =ROUND(G18-G16-G22,2) -> 29037.67 | H24: =H18-H16-H22 -> 29037.67 | I24: =I18-I16-I22 -> 0
A28: b) | B28: Rozdělení výsledku hospodaření | G28: 29037.67
C29: - Návrh na příděly do fondů: | F29: Fond odměn | G29: 0
F30: Fond rezervní | G30: 29037.67
C31: - Způsob krytí ztráty : | F31: Ćástka | G31: 0
A35: c) | B35: Závazné ukazatele
F36: Schválená částka | G36: Skutečnost | I36: % plnění
A37: Limit mzdových prostředků | F37: 10477000 | G37: 10477000 | I37: =IF(F37=0,"nerozp.",G37/F37) -> 1
A38: Neinvestiční příspěvek /odpisy/ | F38: 160879 | G38: 160879.14 | I38: =IF(F38=0,"nerozp.",G38/F38) -> 1.0000009
A39: Neinvestiční příspěvek/nájemné/ | F39: 0 | G39: 0 | I39: =IF(F39=0,"nerozp.",G39/F39) -> nerozp.
A40: Odvody z investičního fondu /odpisy/ | F40: 124879 | G40: 124879 | I40: =IF(F40=0,"nerozp.",G40/F40) -> 1
A41: Odvody z investičního fondu /spolufin. akcí/ | F41: 0 | G41: 0 | I41: =IF(F41=0,"nerozp.",G41/F41) -> nerozp.
A42: Pozn. : | B42: Vynaložené odpisy nad stanovený limit byly finančně pokryty z provozních prostředků organizace-0,14 Kč.
A44: d) | B44: Fondy | H44: jednotka - Kč na 2 des. místa
E45: Stav k 1.1.2011 | F45: Tvorba | G45: Čerpání | H45: Stav k | I45: Finanční krytí k
H46: 40908 | I46: 40908
C49: Fond odměn | E49: 25000 | F49: 0 | G49: 0 | H49: =E49+F49-G49 -> 25000 | I49: 25000
C50: FKSP | E50: 222306.09 | F50: 105206.92 | G50: 165040 | H50: =E50+F50-G50 -> 162473.01 | I50: 158453.74
C51: Fond rezervní | E51: 52936.59 | F51: 213618.14 | G51: 100000 | H51: =E51+F51-G51 -> 166554.73 | I51: 166554.73
C52: Investiční fond | E52: 43178.94 | F52: 500569.14 | G52: 471985 | H52: =E52+F52-G52 -> 71763.08 | I52: 71763.08
A53: celkem | E53: =SUM(E49:E52) -> 343421.62 | F53: =SUM(F49:F52) -> 819394.2 | G53: =SUM(G49:G52) -> 737025 | H53: =SUM(H49:H52) -> 425790.82 | I53: =SUM(I49:I52) -> 421771.55

Sheet 16. DD Štíty
A1: REKAPITULACE ZA ORGANIZACI :
A2: Název organizace : | E2: Domov důchodců Štíty, příspěvková organizace
E3: ……………………………………….……..………………………………………..…………………………………
A4: Adresa : | E4: Na Pilníku 222, 789 91 Štíty
E5: ……………………………………….……..………………………………………..…………………………………
A6: IĆ | E6: 750 04 003 | H6: ORG | I6: 1647
E7: ……………………………… ………….…..……………………………
E11: Schválený | F11: Upravený | G11: Skutečnost | H11: z toho:
E12: rozpočet | F12: rozpočet | G12: celkem | H12: Hlavní činnost | I12: Doplňková činnost
E13: celkem | F13: celkem | H13: jednotka - Kč na 2 des. místa
A15: a) Náklady a výnosy
A16: Náklady | E16: 40536000 | F16: 40468357 | G16: =H16+I16 -> 40238609 | H16: 40238609 | I16: 0
A18: Výnosy | E18: 37288000 | F18: 40468357 | G18: =H18+I18 -> 40238609 | H18: 40238609 | I18: 0
A21: Doplňující údaje :
C22: daň z příjmů,dodatečné odvody daně z příjmů (nákladová položka) | G22: =H22+I22 -> 0 | H22: 0 | I22: 0
A24: Výsledek hospodaření /po zdanění/ | G24: =ROUND(G18-G16-G22,2) -> 0 | H24: =H18-H16-H22 -> 0 | I24: =I18-I16-I22 -> 0
A28: b) | B28: Rozdělení výsledku hospodaření | G28: 0
C29: - Návrh na příděly do fondů: | F29: Fond odměn | G29: 0
F30: Fond rezervní | G30: 0
C31: - Způsob krytí ztráty : | F31: Ćástka | G31: 0
A35: c) | B35: Závazné ukazatele
F36: Schválená částka | G36: Skutečnost | I36: % plnění
A37: Limit mzdových prostředků | F37: 21630000 | G37: 21630000 | I37: =IF(F37=0,"nerozp.",G37/F37) -> 1
A38: Neinvestiční příspěvek /odpisy/ | F38: 1049230 | G38: 1062990.8 | I38: =IF(F38=0,"nerozp.",G38/F38) -> 1.0131151
A39: Neinvestiční příspěvek/nájemné/ | F39: 0 | G39: 0 | I39: =IF(F39=0,"nerozp.",G39/F39) -> nerozp.
A40: Odvody z investičního fondu /odpisy/ | F40: 786923 | G40: 786923 | I40: =IF(F40=0,"nerozp.",G40/F40) -> 1
A41: Odvody z investičního fondu /spolufin. akcí/ | F41: 0 | G41: 0 | I41: =IF(F41=0,"nerozp.",G41/F41) -> nerozp.
A42: Pozn. : | B42: Vynaložené odpisy nad stanovený limit byly finančně pokryty z provozních prostředků organizace-13 760,80 Kč.
A44: d) | B44: Fondy | H44: jednotka - Kč na 2 des. místa
E45: Stav k 1.1.2011 | F45: Tvorba | G45: Čerpání | H45: Stav k | I45: Finanční krytí k
H46: 40908 | I46: 40908
C49: Fond odměn | E49: 25800 | F49: 0 | G49: 0 | H49: =E49+F49-G49 -> 25800 | I49: 25800
C50: FKSP | E50: 52328.89 | F50: 209712 | G50: 212088 | H50: =E50+F50-G50 -> 49952.89 | I50: 43698.89
C51: Fond rezervní | E51: 176515.25 | F51: 84399.59 | G51: 158405.44 | H51: =E51+F51-G51 -> 102509.4 | I51: 102509.4
C52: Investiční fond | E52: 156237.5 | F52: 1062990.8 | G52: 1086301 | H52: =E52+F52-G52 -> 132927.3 | I52: 132927.3
A53: celkem | E53: =SUM(E49:E52) -> 410881.64 | F53: =SUM(F49:F52) -> 1357102.4 | G53: =SUM(G49:G52) -> 1456794.4 | H53: =SUM(H49:H52) -> 311189.59 | I53: =SUM(I49:I52) -> 304935.59

Sheet 17. Soc. služby Šumperk
A1: REKAPITULACE ZA ORGANIZACI :
A2: Název organizace : | E2: Sociální služby Šumperk, příspěvková organizace
E3: ……………………………………….……..………………………………………..…………………………………
A4: Adresa : | E4: Vančurova 37, 787 01 Šumperk
E5: ……………………………………….……..………………………………………..…………………………………
A6: IĆ | E6: 75004038 | H6: ORG | I6: 1648
E7: ……………………………… ………….…..……………………………
E11: Schválený | F11: Upravený | G11: Skutečnost | H11: z toho:
E12: rozpočet | F12: rozpočet | G12: celkem | H12: Hlavní činnost | I12: Doplňková činnost
E13: celkem | F13: celkem | H13: jednotka - Kč na 2 des. místa
A15: a) Náklady a výnosy
A16: Náklady | E16: 13798000 | F16: 13996337 | G16: =H16+I16 -> 14072342 | H16: 14072342 | I16: 0
A18: Výnosy | E18: 12522000 | F18: 13996337 | G18: =H18+I18 -> 14072342 | H18: 14072342 | I18: 0
A21: Doplňující údaje :
C22: daň z příjmů,dodatečné odvody daně z příjmů (nákladová položka) | G22: =H22+I22 -> 0 | H22: 0 | I22: 0
A24: Výsledek hospodaření /po zdanění/ | G24: =ROUND(G18-G16-G22,2) -> 0 | H24: =H18-H16-H22 -> 1.8626451e-09 | I24: =I18-I16-I22 -> 0
A28: b) | B28: Rozdělení výsledku hospodaření | G28: 0
C29: - Návrh na příděly do fondů: | F29: Fond odměn | G29: 0
F30: Fond rezervní | G30: 0
C31: - Způsob krytí ztráty : | F31: Ćástka | G31: 0
A35: c) | B35: Závazné ukazatele
F36: Schválená částka | G36: Skutečnost | I36: % plnění
A37: Limit mzdových prostředků | F37: 7174000 | G37: 7125184 | I37: =IF(F37=0,"nerozp.",G37/F37) -> 0.99319543
A38: Neinvestiční příspěvek /odpisy/ | F38: 206369 | G38: 209390 | I38: =IF(F38=0,"nerozp.",G38/F38) -> 1.0146388
A39: Neinvestiční příspěvek/nájemné/ | F39: 0 | G39: 0 | I39: =IF(F39=0,"nerozp.",G39/F39) -> nerozp.
A40: Odvody z investičního fondu /odpisy/ | F40: 154527 | G40: 154527 | I40: =IF(F40=0,"nerozp.",G40/F40) -> 1
A41: Odvody z investičního fondu /spolufin. akcí/ | F41: 0 | G41: 0 | I41: =IF(F41=0,"nerozp.",G41/F41) -> nerozp.
A42: Pozn. : | B42: Vynaložené odpisy nad stanovený limit byly finančně pokryty z provozních prostředků organizace-3 021,-Kč.
A44: d) | B44: Fondy | H44: jednotka - Kč na 2 des. místa
E45: Stav k 1.1.2011 | F45: Tvorba | G45: Čerpání | H45: Stav k | I45: Finanční krytí k
H46: 40908 | I46: 40908
C49: Fond odměn | E49: 5600 | F49: 0 | G49: 0 | H49: =E49+F49-G49 -> 5600 | I49: 5600
C50: FKSP | E50: 125486.44 | F50: 67736 | G50: 108770 | H50: =E50+F50-G50 -> 84452.44 | I50: 87115.91
C51: Fond rezervní | E51: 141165.14 | F51: 132768.77 | G51: 88915.38 | H51: =E51+F51-G51 -> 185018.53 | I51: 185018.53
C52: Investiční fond | E52: 68962.07 | F52: 840965 | G52: 154527 | H52: =E52+F52-G52 -> 755400.07 | I52: 755400.07
A53: celkem | E53: =SUM(E49:E52) -> 341213.65 | F53: =SUM(F49:F52) -> 1041469.8 | G53: =SUM(G49:G52) -> 352212.38 | H53: =SUM(H49:H52) -> 1030471 | I53: =SUM(I49:I52) -> 1033134.5

Sheet 18. Penzion Loštice
A1: REKAPITULACE ZA ORGANIZACI :
A2: Název organizace : | E2: Penzion pro důchodce Loštice,příspěvková organizace
E3: ……………………………………….……..………………………………………..…………………………………
A4: Adresa : | E4: Hradská 113/5, 789 83 Loštice
E5: ……………………………………….……..………………………………………..…………………………………
A6: IĆ | E6: 75004020 | H6: ORG | I6: 1649
E7: ……………………………… ………….…..……………………………
E11: Schválený | F11: Upravený | G11: Skutečnost | H11: z toho:
E12: rozpočet | F12: rozpočet | G12: celkem | H12: Hlavní činnost | I12: Doplňková činnost
E13: celkem | F13: celkem | H13: jednotka - Kč na 2 des. místa
A15: a) Náklady a výnosy
A16: Náklady | E16: 5015000 | F16: 4666974 | G16: =H16+I16 -> 4850356.5 | H16: 4850356.5 | I16: 0
A18: Výnosy | E18: 4663000 | F18: 4666974 | G18: =H18+I18 -> 4850356.5 | H18: 4850356.5 | I18: 0
A21: Doplňující údaje :
C22: daň z příjmů,dodatečné odvody daně z příjmů (nákladová položka) | G22: =H22+I22 -> 0 | H22: 0 | I22: 0
A24: Výsledek hospodaření /po zdanění/ | G24: =ROUND(G18-G16-G22,2) -> 0 | H24: =H18-H16-H22 -> 0 | I24: =I18-I16-I22 -> 0
A28: b) | B28: Rozdělení výsledku hospodaření | G28: 0
C29: - Návrh na příděly do fondů: | F29: Fond odměn | G29: 0
F30: Fond rezervní | G30: 0
C31: - Způsob krytí ztráty : | F31: Ćástka | G31: 0
A35: c) | B35: Závazné ukazatele
F36: Schválená částka | G36: Skutečnost | I36: % plnění
A37: Limit mzdových prostředků | F37: 2076000 | G37: 2048589 | I37: =IF(F37=0,"nerozp.",G37/F37) -> 0.98679624
A38: Neinvestiční příspěvek /odpisy/ | F38: 211246 | G38: 218678 | I38: =IF(F38=0,"nerozp.",G38/F38) -> 1.0351817
A39: Neinvestiční příspěvek/nájemné/ | F39: 0 | G39: 0 | I39: =IF(F39=0,"nerozp.",G39/F39) -> nerozp.
A40: Odvody z investičního fondu /odpisy/ | F40: 160246 | G40: 160246 | I40: =IF(F40=0,"nerozp.",G40/F40) -> 1
A41: Odvody z investičního fondu /spolufin. akcí/ | F41: 0 | G41: 0 | I41: =IF(F41=0,"nerozp.",G41/F41) -> nerozp.
A42: Pozn. : | B42: Vynaložené odpisy nad stanovený limit byly finančně pokryty z provozních prostředků organizace-7 432,- Kč.
B43: Přesto, že příspěvkové organizaci byl poskytnut příspěvek z Úřadu práce, organizace nedočerpala limit mzdových prostředků a to z důvodu dlouhodobé pracovní neschopnosti a odchodu do důchodu zaměstnanců, kdy pracobvní místa nebyla ihned obsazena.
A44: d) | B44: Fondy | H44: jednotka - Kč na 2 des. místa
E45: Stav k 1.1.2011 | F45: Tvorba | G45: Čerpání | H45: Stav k | I45: Finanční krytí k
H46: 40908 | I46: 40908
C49: Fond odměn | E49: 2000 | F49: 0 | G49: 0 | H49: =E49+F49-G49 -> 2000 | I49: 2000
C50: FKSP | E50: 26574.43 | F50: 20311 | G50: 35755 | H50: =E50+F50-G50 -> 11130.43 | I50: 6784.43
C51: Fond rezervní | E51: 15512 | F51: 386.05 | G51: 0 | H51: =E51+F51-G51 -> 15898.05 | I51: 15898.05
C52: Investiční fond | E52: 53389 | F52: 368278 | G52: 309846 | H52: =E52+F52-G52 -> 111821 | I52: 111821
A53: celkem | E53: =SUM(E49:E52) -> 97475.43 | F53: =SUM(F49:F52) -> 388975.05 | G53: =SUM(G49:G52) -> 345601 | H53: =SUM(H49:H52) -> 140849.48 | I53: =SUM(I49:I52) -> 136503.48

Sheet 19. Domov Paprsek Olšany
A1: REKAPITULACE ZA ORGANIZACI :
A2: Název organizace : | E2: Domov Paprsek Olšany, příspěvková organizace
E3: ……………………………………….……..………………………………………..…………………………………
A4: Adresa : | E4: Olšany 105, 789 62 Olšany
E5: ……………………………………….……..………………………………………..…………………………………
A6: IĆ | E6: 75004054 | H6: ORG | I6: 1650
E7: ……………………………… ………….…..……………………………
E11: Schválený | F11: Upravený | G11: Skutečnost | H11: z toho:
E12: rozpočet | F12: rozpočet | G12: celkem | H12: Hlavní činnost | I12: Doplňková činnost
E13: celkem | F13: celkem | H13: jednotka - Kč na 2 des. místa
A15: a) Náklady a výnosy
A16: Náklady | E16: 21466000 | F16: 21472022 | G16: =H16+I16 -> 21790828 | H16: 21790828 | I16: 0
A18: Výnosy | E18: 19841000 | F18: 21472022 | G18: =H18+I18 -> 21798324 | H18: 21798324 | I18: 0
A21: Doplňující údaje :
C22: daň z příjmů,dodatečné odvody daně z příjmů (nákladová položka) | G22: =H22+I22 -> 0 | H22: 0 | I22: 0
A24: Výsledek hospodaření /po zdanění/ | G24: =ROUND(G18-G16-G22,2) -> 7495.59 | H24: =H18-H16-H22 -> 7495.59 | I24: =I18-I16-I22 -> 0
A28: b) | B28: Rozdělení výsledku hospodaření | G28: 7495.59
C29: - Návrh na příděly do fondů: | F29: Fond odměn | G29: 0
F30: Fond rezervní | G30: 7495.59
C31: - Způsob krytí ztráty : | F31: Ćástka | G31: 0
A35: c) | B35: Závazné ukazatele
F36: Schválená částka | G36: Skutečnost | I36: % plnění
A37: Limit mzdových prostředků | F37: 10871000 | G37: 10871000 | I37: =IF(F37=0,"nerozp.",G37/F37) -> 1
A38: Neinvestiční příspěvek /odpisy/ | F38: 335460 | G38: 335460 | I38: =IF(F38=0,"nerozp.",G38/F38) -> 1
A39: Neinvestiční příspěvek/nájemné/ | F39: 0 | G39: 0 | I39: =IF(F39=0,"nerozp.",G39/F39) -> nerozp.
A40: Odvody z investičního fondu /odpisy/ | F40: 255460 | G40: 255460 | I40: =IF(F40=0,"nerozp.",G40/F40) -> 1
A41: Odvody z investičního fondu /spolufin. akcí/ | F41: 0 | G41: 0 | I41: =IF(F41=0,"nerozp.",G41/F41) -> nerozp.
A42: Pozn. :
A44: d) | B44: Fondy | H44: jednotka - Kč na 2 des. místa
E45: Stav k 1.1.2011 | F45: Tvorba | G45: Čerpání | H45: Stav k | I45: Finanční krytí k
H46: 40908 | I46: 40908
C49: Fond odměn | E49: 3200 | F49: 0 | G49: 0 | H49: =E49+F49-G49 -> 3200 | I49: 3200
C50: FKSP | E50: 341980.57 | F50: 109435 | G50: 178870 | H50: =E50+F50-G50 -> 272545.57 | I50: 263114.98
C51: Fond rezervní | E51: 51602.73 | F51: 218497.09 | G51: 39068 | H51: =E51+F51-G51 -> 231031.82 | I51: 231031.82
C52: Investiční fond | E52: 99815 | F52: 456460 | G52: 376460 | H52: =E52+F52-G52 -> 179815 | I52: 179815
A53: celkem | E53: =SUM(E49:E52) -> 496598.3 | F53: =SUM(F49:F52) -> 784392.09 | G53: =SUM(G49:G52) -> 594398 | H53: =SUM(H49:H52) -> 686592.39 | I53: =SUM(I49:I52) -> 677161.8

Sheet 20. Duha Vikýřovice
A1: REKAPITULACE ZA ORGANIZACI :
A2: Název organizace : | E2: Duha – centrum sociálních služeb Vikýřovice, přísp. org.
E3: ……………………………………….……..………………………………………..…………………………………
A4: Adresa : | E4: 788 13 Vikýřovice, Krenišovská 224
E5: ……………………………………….……..………………………………………..…………………………………
A6: IĆ | E6: 75004089 | H6: ORG | I6: 1651
E7: ……………………………… ………….…..……………………………
E11: Schválený | F11: Upravený | G11: Skutečnost | H11: z toho:
E12: rozpočet | F12: rozpočet | G12: celkem | H12: Hlavní činnost | I12: Doplňková činnost
E13: celkem | F13: celkem | H13: jednotka - Kč na 2 des. místa
A15: a) Náklady a výnosy
A16: Náklady | E16: 5848000 | F16: 5845972 | G16: =H16+I16 -> 5632424.7 | H16: 5632424.7 | I16: 0
A18: Výnosy | E18: 4953000 | F18: 5845972 | G18: =H18+I18 -> 5632424.7 | H18: 5632424.7 | I18: 0
A21: Doplňující údaje :
C22: daň z příjmů,dodatečné odvody daně z příjmů (nákladová položka) | G22: =H22+I22 -> 0 | H22: 0 | I22: 0
A24: Výsledek hospodaření /po zdanění/ | G24: =ROUND(G18-G16-G22,2) -> 0 | H24: =H18-H16-H22 -> 0 | I24: =I18-I16-I22 -> 0
A28: b) | B28: Rozdělení výsledku hospodaření | G28: 0
C29: - Návrh na příděly do fondů: | F29: Fond odměn | G29: 0
F30: Fond rezervní | G30: 0
C31: - Způsob krytí ztráty : | F31: Ćástka | G31: 0
A35: c) | B35: Závazné ukazatele
F36: Schválená částka | G36: Skutečnost | I36: % plnění
A37: Limit mzdových prostředků | F37: 3365000 | G37: 3222866 | I37: =IF(F37=0,"nerozp.",G37/F37) -> 0.95776107
A38: Neinvestiční příspěvek /odpisy/ | F38: 87937 | G38: 87937 | I38: =IF(F38=0,"nerozp.",G38/F38) -> 1
A39: Neinvestiční příspěvek/nájemné/ | F39: 0 | G39: 0 | I39: =IF(F39=0,"nerozp.",G39/F39) -> nerozp.
A40: Odvody z investičního fondu /odpisy/ | F40: 66203 | G40: 66203 | I40: =IF(F40=0,"nerozp.",G40/F40) -> 1
A41: Odvody z investičního fondu /spolufin. akcí/ | F41: 0 | G41: 0 | I41: =IF(F41=0,"nerozp.",G41/F41) -> nerozp.
A42: Pozn. :
B43: Nedočerpání limitu mzdových prostředků o 142 134,- Kč., bylo způsobeno dlouhodobou pracovní neschopností zaměstnanců.
A44: d) | B44: Fondy | H44: jednotka - Kč na 2 des. místa
E45: Stav k 1.1.2011 | F45: Tvorba | G45: Čerpání | H45: Stav k | I45: Finanční krytí k
H46: 40908 | I46: 40908
C49: Fond odměn | E49: 33195 | F49: 0 | G49: 0 | H49: =E49+F49-G49 -> 33195 | I49: 33195
C50: FKSP | E50: 34510.55 | F50: 32772 | G50: 51423.6 | H50: =E50+F50-G50 -> 15858.95 | I50: 14964.2
C51: Fond rezervní | E51: 129351.65 | F51: 10214.25 | G51: 45925.23 | H51: =E51+F51-G51 -> 93640.67 | I51: 93640.67
C52: Investiční fond | E52: 22516.53 | F52: 87937 | G52: 66203 | H52: =E52+F52-G52 -> 44250.53 | I52: 44250.53
A53: celkem | E53: =SUM(E49:E52) -> 219573.73 | F53: =SUM(F49:F52) -> 130923.25 | G53: =SUM(G49:G52) -> 163551.83 | H53: =SUM(H49:H52) -> 186945.15 | I53: =SUM(I49:I52) -> 186050.4

Sheet 21. DD Prostějov
A1: REKAPITULACE ZA ORGANIZACI :
A2: Název organizace : | E2: Domov důchodců Prostějov, příspěvková organizace
E3: ……………………………………….……..………………………………………..…………………………………
A4: Adresa : | E4: Nerudova 1666/70, 796 01 Prostějov
E5: ……………………………………….……..………………………………………..…………………………………
A6: IĆ | E6: 71197699 | H6: ORG | I6: 1652
E7: ……………………………… ………….…..……………………………
E11: Schválený | F11: Upravený | G11: Skutečnost | H11: z toho:
E12: rozpočet | F12: rozpočet | G12: celkem | H12: Hlavní činnost | I12: Doplňková činnost
E13: celkem | F13: celkem | H13: jednotka - Kč na 2 des. místa
A15: a) Náklady a výnosy
A16: Náklady | E16: 56829000 | F16: 56708872 | G16: =H16+I16 -> 56740073 | H16: 56740073 | I16: 0
A18: Výnosy | E18: 50750000 | F18: 56503872 | G18: =H18+I18 -> 56691365 | H18: 56691365 | I18: 0
A21: Doplňující údaje :
C22: daň z příjmů,dodatečné odvody daně z příjmů (nákladová položka) | G22: =H22+I22 -> -204810 | H22: -204810 | I22: 0
A24: Výsledek hospodaření /po zdanění/ | G24: =ROUND(G18-G16-G22,2) -> 156102.03 | H24: =H18-H16-H22 -> 156102.03 | I24: =I18-I16-I22 -> 0
A28: b) | B28: Rozdělení výsledku hospodaření | G28: =G29+G30+G31 -> 156102.03
C29: - Návrh na příděly do fondů: | F29: Fond odměn | G29: 0
F30: Fond rezervní | G30: 0
C31: - Způsob krytí ztráty : | F31: Ćástka | G31: 156102.03
A32: Zlepšený výsledek hospodaření za rok 2011 ve výši 156 102,03 Kč bude použit k úhradě ztráty minulých let, která je k 31.12.2011 ve výši 1 349 830,63 Kč. Zbylá část tj. 1 193 728,60 Kč bude ve výši 768 024,39 Kč uhrazena z rezervního fondu a zbývající část tj. 425 704,21 Kč ze zlepšeného výsledku hospodaření v následujících letech.
A35: c) | B35: Závazné ukazatele
F36: Schválená částka | G36: Skutečnost | I36: % plnění
A37: Limit mzdových prostředků | F37: 27282000 | G37: 27206100 | I37: =IF(F37=0,"nerozp.",G37/F37) -> 0.99721795
A38: Neinvestiční příspěvek /odpisy/ | F38: 642046 | G38: 658938.3 | I38: =IF(F38=0,"nerozp.",G38/F38) -> 1.0263101
A39: Neinvestiční příspěvek/nájemné/ | F39: 0 | G39: 0 | I39: =IF(F39=0,"nerozp.",G39/F39) -> nerozp.
A40: Odvody z investičního fondu /odpisy/ | F40: 506046 | G40: 506046 | I40: =IF(F40=0,"nerozp.",G40/F40) -> 1
A41: Odvody z investičního fondu /spolufin. akcí/ | F41: 0 | G41: 0 | I41: =IF(F41=0,"nerozp.",G41/F41) -> nerozp.
A42: Pozn. : | B42: Vynaložené odpisy nad stanovený limit byly finančně pokryty z provozních prostředků organizace-16 892,- Kč.
A44: d) | B44: Fondy | H44: jednotka - Kč na 2 des. místa
E45: Stav k 1.1.2011 | F45: Tvorba | G45: Čerpání | H45: Stav k | I45: Finanční krytí k
H46: 40908 | I46: 40908
C49: Fond odměn | E49: 256627 | F49: 0 | G49: 0 | H49: =E49+F49-G49 -> 256627 | I49: 256627
C50: FKSP | E50: 147760.32 | F50: 269590 | G50: 164097 | H50: =E50+F50-G50 -> 253253.32 | I50: 208561.8
C51: Fond rezervní | E51: 781927.55 | F51: 49242 | G51: 39237.13 | H51: =E51+F51-G51 -> 791932.42 | I51: 791932.42
C52: Investiční fond | E52: 138318.1 | F52: 2593430.3 | G52: 2534038 | H52: =E52+F52-G52 -> 197710.4 | I52: 197710.4
A53: celkem | E53: =SUM(E49:E52) -> 1324633 | F53: =SUM(F49:F52) -> 2912262.3 | G53: =SUM(G49:G52) -> 2737372.1 | H53: =SUM(H49:H52) -> 1499523.1 | I53: =SUM(I49:I52) -> 1454831.6

Sheet 22. DD Jesenec
A1: REKAPITULACE ZA ORGANIZACI :
A2: Název organizace : | E2: Domov důchodců Jesenec, příspěvková organizace
E3: ……………………………………….……..………………………………………..…………………………………
A4: Adresa : | E4: Jesenec č.p.1, 798 53 JESENEC
E5: ……………………………………….……..………………………………………..…………………………………
A6: IĆ | E6: 711 97 702 | H6: ORG | I6: 1653
E7: ……………………………… ………….…..……………………………
E11: Schválený | F11: Upravený | G11: Skutečnost | H11: z toho:
E12: rozpočet | F12: rozpočet | G12: celkem | H12: Hlavní činnost | I12: Doplňková činnost
E13: celkem | F13: celkem | H13: jednotka - Kč na 2 des. místa
A15: a) Náklady a výnosy
A16: Náklady | E16: 20243000 | F16: 20381534 | G16: =H16+I16 -> 20381957 | H16: 20381957 | I16: 0
A18: Výnosy | E18: 18902000 | F18: 20453948 | G18: =H18+I18 -> 20453948 | H18: 20453948 | I18: 0
A21: Doplňující údaje :
C22: daň z příjmů,dodatečné odvody daně z příjmů (nákladová položka) | G22: =H22+I22 -> 0 | H22: 0 | I22: 0
A24: Výsledek hospodaření /po zdanění/ | G24: =ROUND(G18-G16-G22,2) -> 71991.87 | H24: =H18-H16-H22 -> 71991.87 | I24: =I18-I16-I22 -> 0
A28: b) | B28: Rozdělení výsledku hospodaření | G28: 71991.87
C29: - Návrh na příděly do fondů: | F29: Fond odměn | G29: 0
F30: Fond rezervní | G30: 71991.87
C31: - Způsob krytí ztráty : | F31: Ćástka | G31: 0
A35: c) | B35: Závazné ukazatele
F36: Schválená částka | G36: Skutečnost | I36: % plnění
A37: Limit mzdových prostředků | F37: 9647000 | G37: 9647000 | I37: =IF(F37=0,"nerozp.",G37/F37) -> 1
A38: Neinvestiční příspěvek /odpisy/ | F38: 178340 | G38: 178763 | I38: =IF(F38=0,"nerozp.",G38/F38) -> 1.0023719
A39: Neinvestiční příspěvek/nájemné/ | F39: 0 | G39: 0 | I39: =IF(F39=0,"nerozp.",G39/F39) -> nerozp.
A40: Odvody z investičního fondu /odpisy/ | F40: 135340 | G40: 135340 | I40: =IF(F40=0,"nerozp.",G40/F40) -> 1
A41: Odvody z investičního fondu /spolufin. akcí/ | F41: 0 | G41: 0 | I41: =IF(F41=0,"nerozp.",G41/F41) -> nerozp.
A42: Pozn. : | B42: Vynaložené odpisy nad stanovený limit byly finančně pokryty z provozních prostředků organizace-423,- Kč.
A44: d) | B44: Fondy | H44: jednotka - Kč na 2 des. místa
E45: Stav k 1.1.2011 | F45: Tvorba | G45: Čerpání | H45: Stav k | I45: Finanční krytí k
H46: 40908 | I46: 40908
C49: Fond odměn | E49: 84101 | F49: 0 | G49: 0 | H49: =E49+F49-G49 -> 84101 | I49: 84101
C50: FKSP | E50: 27293.15 | F50: 96292 | G50: 91292 | H50: =E50+F50-G50 -> 32293.15 | I50: 31091.58
C51: Fond rezervní | E51: 466617.09 | F51: 172299.42 | G51: 136114 | H51: =E51+F51-G51 -> 502802.51 | I51: 502802.51
C52: Investiční fond | E52: 67147.7 | F52: 909571 | G52: 908148 | H52: =E52+F52-G52 -> 68570.7 | I52: 68570.7
A53: celkem | E53: =SUM(E49:E52) -> 645158.94 | F53: =SUM(F49:F52) -> 1178162.4 | G53: =SUM(G49:G52) -> 1135554 | H53: =SUM(H49:H52) -> 687767.36 | I53: =SUM(I49:I52) -> 686565.79

Sheet 23. Domov Na Zámku Nezam.
A1: REKAPITULACE ZA ORGANIZACI :
A2: Název organizace : | E2: Domov "Na Zámku", příspěvková organizace
E3: ……………………………………….……..………………………………………..…………………………………
A4: Adresa : | E4: nám.děk. Františka Kvapila 17, Nezamyslice
E5: ……………………………………….……..………………………………………..…………………………………
A6: IĆ | E6: 71197737 | H6: ORG | I6: 1654
E7: ……………………………… ………….…..……………………………
E11: Schválený | F11: Upravený | G11: Skutečnost | H11: z toho:
E12: rozpočet | F12: rozpočet | G12: celkem | H12: Hlavní činnost | I12: Doplňková činnost
E13: celkem | F13: celkem | H13: jednotka - Kč na 2 des. místa
A15: a) Náklady a výnosy
A16: Náklady | E16: 39166000 | F16: 39602933 | G16: =H16+I16 -> 39623812 | H16: 39623812 | I16: 0
A18: Výnosy | E18: 36071000 | F18: 39602933 | G18: =H18+I18 -> 39630804 | H18: 39630804 | I18: 0
A21: Doplňující údaje :
C22: daň z příjmů,dodatečné odvody daně z příjmů (nákladová položka) | G22: =H22+I22 -> 0 | H22: 0 | I22: 0
A24: Výsledek hospodaření /po zdanění/ | G24: =ROUND(G18-G16-G22,2) -> 6991.34 | H24: =H18-H16-H22 -> 6991.34 | I24: =I18-I16-I22 -> 0
A28: b) | B28: Rozdělení výsledku hospodaření | G28: 6991.34
C29: - Návrh na příděly do fondů: | F29: Fond odměn | G29: 0
F30: Fond rezervní | G30: 6991.34
C31: - Způsob krytí ztráty : | F31: Ćástka | G31: 0
A35: c) | B35: Závazné ukazatele
F36: Schválená částka | G36: Skutečnost | I36: % plnění
A37: Limit mzdových prostředků | F37: 18615000 | G37: 18654805 | I37: =IF(F37=0,"nerozp.",G37/F37) -> 1.0021383
A38: Neinvestiční příspěvek /odpisy/ | F38: 1028568 | G38: 1028568 | I38: =IF(F38=0,"nerozp.",G38/F38) -> 1
A39: Neinvestiční příspěvek/nájemné/ | F39: 0 | G39: 0 | I39: =IF(F39=0,"nerozp.",G39/F39) -> nerozp.
A40: Odvody z investičního fondu /odpisy/ | F40: 771926 | G40: 771926 | I40: =IF(F40=0,"nerozp.",G40/F40) -> 1
A41: Odvody z investičního fondu /spolufin. akcí/ | F41: 0 | G41: 0 | I41: =IF(F41=0,"nerozp.",G41/F41) -> nerozp.
A42: Pozn. :
B43: Překročení limitu mzdových prostředků o 39 805,- Kč, jedná se o zapojení prostředků na mzdy, poskytnuté Úřadem práce v Prostějově a to ve výši 39 805 Kč.
A44: d) | B44: Fondy | H44: jednotka - Kč na 2 des. místa
E45: Stav k 1.1.2011 | F45: Tvorba | G45: Čerpání | H45: Stav k | I45: Finanční krytí k
H46: 40908 | I46: 40908
C49: Fond odměn | E49: 158839 | F49: 0 | G49: 0 | H49: =E49+F49-G49 -> 158839 | I49: 158839
C50: FKSP | E50: 94709.97 | F50: 186833 | G50: 195769 | H50: =E50+F50-G50 -> 85773.97 | I50: 49784.41
C51: Fond rezervní | E51: 121844.89 | F51: 25250.87 | G51: 116424.02 | H51: =E51+F51-G51 -> 30671.74 | I51: 30671.74
C52: Investiční fond | E52: 339195.93 | F52: 1043568 | G52: 771926 | H52: =E52+F52-G52 -> 610837.93 | I52: 610837.93
A53: celkem | E53: =SUM(E49:E52) -> 714589.79 | F53: =SUM(F49:F52) -> 1255651.9 | G53: =SUM(G49:G52) -> 1084119 | H53: =SUM(H49:H52) -> 886122.64 | I53: =SUM(I49:I52) -> 850133.08

Sheet 24. Sociální služby Prostějov
A1: REKAPITULACE ZA ORGANIZACI :
A2: Název organizace : | E2: SOCIÁLNÍ SLUŽBY PROSTĚJOV, příspěvková organizace
E3: ……………………………………….……..………………………………………..…………………………………
A4: Adresa : | E4: POD KOSÍŘEM 27, 796 01 PROSTĚJOV
E5: ……………………………………….……..………………………………………..…………………………………
A6: IĆ | E6: 00150100 | H6: ORG | I6: 1655
E7: ……………………………… ………….…..……………………………
E11: Schválený | F11: Upravený | G11: Skutečnost | H11: z toho:
E12: rozpočet | F12: rozpočet | G12: celkem | H12: Hlavní činnost | I12: Doplňková činnost
E13: celkem | F13: celkem | H13: jednotka - Kč na 2 des. místa
A15: a) Náklady a výnosy
A16: Náklady | E16: 10581000 | F16: 10356158 | G16: =H16+I16 -> 10348381 | H16: 10348381 | I16: 0
A18: Výnosy | E18: 9870000 | F18: 10356158 | G18: =H18+I18 -> 10348381 | H18: 10348381 | I18: 0
A21: Doplňující údaje :
C22: daň z příjmů,dodatečné odvody daně z příjmů (nákladová položka) | G22: =H22+I22 -> 0 | H22: 0 | I22: 0
A24: Výsledek hospodaření /po zdanění/ | G24: =ROUND(G18-G16-G22,2) -> 0 | H24: =H18-H16-H22 -> -1.8626451e-09 | I24: =I18-I16-I22 -> 0
A28: b) | B28: Rozdělení výsledku hospodaření | G28: =G29+G30+G31 -> 0
C29: - Návrh na příděly do fondů: | F29: Fond odměn | G29: 0
F30: Fond rezervní | G30: 0
C31: - Způsob krytí ztráty : | F31: Ćástka | G31: 0
A35: c) | B35: Závazné ukazatele
F36: Schválená částka | G36: Skutečnost | I36: % plnění
A37: Limit mzdových prostředků | F37: 5930000 | G37: 5930000 | I37: =IF(F37=0,"nerozp.",G37/F37) -> 1
A38: Neinvestiční příspěvek /odpisy/ | F38: 194000 | G38: 193158 | I38: =IF(F38=0,"nerozp.",G38/F38) -> 0.99565979
A39: Neinvestiční příspěvek/nájemné/ | F39: 0 | G39: 0 | I39: =IF(F39=0,"nerozp.",G39/F39) -> nerozp.
A40: Odvody z investičního fondu /odpisy/ | F40: 145250 | G40: 145250 | I40: =IF(F40=0,"nerozp.",G40/F40) -> 1
A41: Odvody z investičního fondu /spolufin. akcí/ | F41: 0 | G41: 0 | I41: =IF(F41=0,"nerozp.",G41/F41) -> nerozp.
A42: Pozn. : | B42: Neinvestiční příspěvek - odpisy - příspěvková organizace vrátila částku 842- Kč dne 13.1.2012 na účet Olom. kraje .
A44: d) | B44: Fondy | H44: jednotka - Kč na 2 des. místa
E45: Stav k 1.1.2011 | F45: Tvorba | G45: Čerpání | H45: Stav k | I45: Finanční krytí k
H46: 40908 | I46: 40908
C49: Fond odměn | E49: 13445 | F49: 0 | G49: 0 | H49: =E49+F49-G49 -> 13445 | I49: 13445
C50: FKSP | E50: 77288.9 | F50: 58773.7 | G50: 76906 | H50: =E50+F50-G50 -> 59156.6 | I50: 63227.56
C51: Fond rezervní | E51: 217949.64 | F51: 215526.86 | G51: 154939.26 | H51: =E51+F51-G51 -> 278537.24 | I51: 278537.24
C52: Investiční fond | E52: 36880.3 | F52: 198158 | G52: 145535 | H52: =E52+F52-G52 -> 89503.3 | I52: 89503.3
A53: celkem | E53: =SUM(E49:E52) -> 345563.84 | F53: =SUM(F49:F52) -> 472458.56 | G53: =SUM(G49:G52) -> 377380.26 | H53: =SUM(H49:H52) -> 440642.14 | I53: =SUM(I49:I52) -> 444713.1

Sheet 25. Centrum soc. sl. Prostějov
A1: REKAPITULACE ZA ORGANIZACI :
A2: Název organizace : | E2: Centrum sociálních služeb Prostějov, přísp. organizace
E3: ……………………………………….……..………………………………………..…………………………………
A4: Adresa : | E4: Lidická 86, Prostějov
E5: ……………………………………….……..………………………………………..…………………………………
A6: IĆ | E6: 479 21 293 | H6: ORG | I6: 1656
E7: ……………………………… ………….…..……………………………
E11: Schválený | F11: Upravený | G11: Skutečnost | H11: z toho:
E12: rozpočet | F12: rozpočet | G12: celkem | H12: Hlavní činnost | I12: Doplňková činnost
E13: celkem | F13: celkem | H13: jednotka - Kč na 2 des. místa
A15: a) Náklady a výnosy
A16: Náklady | E16: 71809000 | F16: 69864356 | G16: =H16+I16 -> 69631424 | H16: 69631424 | I16: 0
A18: Výnosy | E18: 67831000 | F18: 69864356 | G18: =H18+I18 -> 69678006 | H18: 69678006 | I18: 0
A21: Doplňující údaje :
C22: daň z příjmů,dodatečné odvody daně z příjmů (nákladová položka) | G22: =H22+I22 -> 0 | H22: 0 | I22: 0
A24: Výsledek hospodaření /po zdanění/ | G24: =ROUND(G18-G16-G22,2) -> 46581.77 | H24: =H18-H16-H22 -> 46581.77 | I24: =I18-I16-I22 -> 0
A28: b) | B28: Rozdělení výsledku hospodaření | G28: =G29+G30+G31 -> 46581.77
C29: - Návrh na příděly do fondů: | F29: Fond odměn | G29: 0
F30: Fond rezervní | G30: 46581.77
C31: - Způsob krytí ztráty : | F31: Ćástka | G31: 0
A35: c) | B35: Závazné ukazatele
F36: Schválená částka | G36: Skutečnost | I36: % plnění
A37: Limit mzdových prostředků | F37: 34327000 | G37: 34326911 | I37: =IF(F37=0,"nerozp.",G37/F37) -> 0.99999741
A38: Neinvestiční příspěvek /odpisy/ | F38: 3900901 | G38: 3900901.1 | I38: =IF(F38=0,"nerozp.",G38/F38) -> 1
A39: Neinvestiční příspěvek/nájemné/ | F39: 0 | G39: 0 | I39: =IF(F39=0,"nerozp.",G39/F39) -> nerozp.
A40: Odvody z investičního fondu /odpisy/ | F40: 3006901 | G40: 3006901 | I40: =IF(F40=0,"nerozp.",G40/F40) -> 1
A41: Odvody z investičního fondu /spolufin. akcí/ | F41: 0 | G41: 0 | I41: =IF(F41=0,"nerozp.",G41/F41) -> nerozp.
A42: Pozn. : | B42: Vynaložené odpisy nad stanovený limit byly finančně pokryty z provozních prostředků organizace- 0,10 Kč.
A44: d) | B44: Fondy | H44: jednotka - Kč na 2 des. místa
E45: Stav k 1.1.2011 | F45: Tvorba | G45: Čerpání | H45: Stav k | I45: Finanční krytí k
H46: 40908 | I46: 40908
C49: Fond odměn | E49: 136705.6 | F49: 0 | G49: 0 | H49: =E49+F49-G49 -> 136705.6 | I49: 136705.6
C50: FKSP | E50: 438373.29 | F50: 344541.92 | G50: 394089.05 | H50: =E50+F50-G50 -> 388826.16 | I50: 307693.38
C51: Fond rezervní | E51: 94477.75 | F51: 118024.05 | G51: 54015.66 | H51: =E51+F51-G51 -> 158486.14 | I51: 158486.14
C52: Investiční fond | E52: 626404.35 | F52: 4454901.1 | G52: 4162696 | H52: =E52+F52-G52 -> 918609.45 | I52: 918609.45
A53: celkem | E53: =SUM(E49:E52) -> 1295961 | F53: =SUM(F49:F52) -> 4917467.1 | G53: =SUM(G49:G52) -> 4610800.7 | H53: =SUM(H49:H52) -> 1602627.3 | I53: =SUM(I49:I52) -> 1521494.6

Sheet 26. DD Rakova Lhota
A1: REKAPITULACE ZA ORGANIZACI :
A2: Název organizace : | E2: Domov pro seniory Radkova Lhota, přísp. organizace
E3: ……………………………………….……..………………………………………..…………………………………
A4: Adresa : | E4: Radkova Lhota 16, 751 14 Dřevohostice
E5: ……………………………………….……..………………………………………..…………………………………
A6: IĆ | E6: 61985881 | H6: ORG | I6: 1657
E7: ……………………………… ………….…..……………………………
E11: Schválený | F11: Upravený | G11: Skutečnost | H11: z toho:
E12: rozpočet | F12: rozpočet | G12: celkem | H12: Hlavní činnost | I12: Doplňková činnost
E13: celkem | F13: celkem | H13: jednotka - Kč na 2 des. místa
A15: a) Náklady a výnosy
A16: Náklady | E16: 35300000 | F16: 36754775 | G16: =H16+I16 -> 36808861 | H16: 36808861 | I16: 0
A18: Výnosy | E18: 33693000 | F18: 36754775 | G18: =H18+I18 -> 36811292 | H18: 36811292 | I18: 0
A21: Doplňující údaje :
C22: daň z příjmů,dodatečné odvody daně z příjmů (nákladová položka) | G22: =H22+I22 -> 0 | H22: 0 | I22: 0
A24: Výsledek hospodaření /po zdanění/ | G24: =ROUND(G18-G16-G22,2) -> 2430.74 | H24: =H18-H16-H22 -> 2430.74 | I24: =I18-I16-I22 -> 0
A28: b) | B28: Rozdělení výsledku hospodaření | G28: 2430.74
C29: - Návrh na příděly do fondů: | F29: Fond odměn | G29: 0
F30: Fond rezervní | G30: 2430.74
C31: - Způsob krytí ztráty : | F31: Ćástka | G31: 0
A35: c) | B35: Závazné ukazatele
F36: Schválená částka | G36: Skutečnost | I36: % plnění
A37: Limit mzdových prostředků | F37: 17223000 | G37: 17275596 | I37: =IF(F37=0,"nerozp.",G37/F37) -> 1.0030538
A38: Neinvestiční příspěvek /odpisy/ | F38: 568022 | G38: 568034 | I38: =IF(F38=0,"nerozp.",G38/F38) -> 1.0000211
A39: Neinvestiční příspěvek/nájemné/ | F39: 0 | G39: 0 | I39: =IF(F39=0,"nerozp.",G39/F39) -> nerozp.
A40: Odvody z investičního fondu /odpisy/ | F40: 439022 | G40: 439022 | I40: =IF(F40=0,"nerozp.",G40/F40) -> 1
A41: Odvody z investičního fondu /spolufin. akcí/ | F41: 0 | G41: 0 | I41: =IF(F41=0,"nerozp.",G41/F41) -> nerozp.
A42: Pozn. : | B42: Vynaložené odpisy nad stanovený limit byly finančně pokryty z provozních prostředků organizace-12,- Kč.
B43: Překročení limitu mzdových prostředků o 52 596,- Kč, jedná se o zapojení prostředků na mzdy, poskytnuté Úřadem práce a to ve výši 52 632 Kč ( 36,- Kč bylo nedočepáno z limitu mzdových prostředků).
A44: d) | B44: Fondy | H44: jednotka - Kč na 2 des. místa
E45: Stav k 1.1.2011 | F45: Tvorba | G45: Čerpání | H45: Stav k | I45: Finanční krytí k
H46: 40908 | I46: 40908
C49: Fond odměn | E49: 19343 | F49: 0 | G49: 0 | H49: =E49+F49-G49 -> 19343 | I49: 19343
C50: FKSP | E50: 456125.98 | F50: 172480 | G50: 345061 | H50: =E50+F50-G50 -> 283544.98 | I50: 291081.98
C51: Fond rezervní | E51: 327961.48 | F51: 87742.73 | G51: 79200.33 | H51: =E51+F51-G51 -> 336503.88 | I51: 336503.88
C52: Investiční fond | E52: 140060.56 | F52: 910081 | G52: 881069 | H52: =E52+F52-G52 -> 169072.56 | I52: 169072.56
A53: celkem | E53: =SUM(E49:E52) -> 943491.02 | F53: =SUM(F49:F52) -> 1170303.7 | G53: =SUM(G49:G52) -> 1305330.3 | H53: =SUM(H49:H52) -> 808464.42 | I53: =SUM(I49:I52) -> 816001.42

Sheet 27. Domov Alfreda Pavlovice
A1: REKAPITULACE ZA ORGANIZACI :
A2: Název organizace : | E2: Domov Alfreda Skeneho Pavlovice u Přerova, p.organizace
E3: ……………………………………….……..………………………………………..…………………………………
A4: Adresa : | E4: Pavlovice u Přerova č. 95, 751 12
E5: ……………………………………….……..………………………………………..…………………………………
A6: IĆ | E6: 61985864 | H6: ORG | I6: 1658
E7: ……………………………… ………….…..……………………………
E11: Schválený | F11: Upravený | G11: Skutečnost | H11: z toho:
E12: rozpočet | F12: rozpočet | G12: celkem | H12: Hlavní činnost | I12: Doplňková činnost
E13: celkem | F13: celkem | H13: jednotka - Kč na 2 des. místa
A15: a) Náklady a výnosy
A16: Náklady | E16: 41545000 | F16: 40102000 | G16: =H16+I16 -> 40035190 | H16: 40035190 | I16: 0
A18: Výnosy | E18: 38067000 | F18: 40102000 | G18: =H18+I18 -> 40129007 | H18: 40129007 | I18: 0
A21: Doplňující údaje :
C22: daň z příjmů,dodatečné odvody daně z příjmů (nákladová položka) | G22: =H22+I22 -> 0 | H22: 0 | I22: 0
A24: Výsledek hospodaření /po zdanění/ | G24: =ROUND(G18-G16-G22,2) -> 93816.82 | H24: =H18-H16-H22 -> 93816.82 | I24: =I18-I16-I22 -> 0
A28: b) | B28: Rozdělení výsledku hospodaření | G28: 93816.82
C29: - Návrh na příděly do fondů: | F29: Fond odměn | G29: 0
F30: Fond rezervní | G30: 93816.82
C31: - Způsob krytí ztráty : | F31: Ćástka | G31: 0
A35: c) | B35: Závazné ukazatele
F36: Schválená částka | G36: Skutečnost | I36: % plnění
A37: Limit mzdových prostředků | F37: 21320000 | G37: 21466269 | I37: =IF(F37=0,"nerozp.",G37/F37) -> 1.0068606
A38: Neinvestiční příspěvek /odpisy/ | F38: 383727 | G38: 384220 | I38: =IF(F38=0,"nerozp.",G38/F38) -> 1.0012848
A39: Neinvestiční příspěvek/nájemné/ | F39: 0 | G39: 0 | I39: =IF(F39=0,"nerozp.",G39/F39) -> nerozp.
A40: Odvody z investičního fondu /odpisy/ | F40: 292727 | G40: 292727 | I40: =IF(F40=0,"nerozp.",G40/F40) -> 1
A41: Odvody z investičního fondu /spolufin. akcí/ | F41: 0 | G41: 0 | I41: =IF(F41=0,"nerozp.",G41/F41) -> nerozp.
A42: Pozn. : | B42: Vynaložené odpisy nad stanovený limit byly finančně pokryty z provozních prostředků organizace-439,- Kč.
B43: Překročení limitu mzdových prostředků o 146 269,- Kč, jedná se o zapojení prostředků na mzdy, poskytnuté Úřadem práce.
A44: d) | B44: Fondy | H44: jednotka - Kč na 2 des. místa
E45: Stav k 1.1.2011 | F45: Tvorba | G45: Čerpání | H45: Stav k | I45: Finanční krytí k
H46: 40908 | I46: 40908
C49: Fond odměn | E49: 22928 | F49: 0 | G49: 0 | H49: =E49+F49-G49 -> 22928 | I49: 22928
C50: FKSP | E50: 253682.58 | F50: 247868 | G50: 320250 | H50: =E50+F50-G50 -> 181300.58 | I50: 160921.41
C51: Fond rezervní | E51: 232879.54 | F51: 222977.82 | G51: 19451 | H51: =E51+F51-G51 -> 436406.36 | I51: 436406.36
C52: Investiční fond | E52: 100953.57 | F52: 1620390 | G52: 1655257 | H52: =E52+F52-G52 -> 66086.57 | I52: 66086.57
A53: celkem | E53: =SUM(E49:E52) -> 610443.69 | F53: =SUM(F49:F52) -> 2091235.8 | G53: =SUM(G49:G52) -> 1994958 | H53: =SUM(H49:H52) -> 706721.51 | I53: =SUM(I49:I52) -> 686342.34

Sheet 28. Domov pro seniory Tovačov
A1: REKAPITULACE ZA ORGANIZACI :
A2: Název organizace : | E2: Domov pro seniory Tovačov, příspěvková organizace
E3: ……………………………………….……..………………………………………..…………………………………
A4: Adresa : | E4: Nádražní 94, 751 01 Tovačov
E5: ……………………………………….……..………………………………………..…………………………………
A6: IĆ | E6: 61985872 | H6: ORG | I6: 1659
E7: ……………………………… ………….…..……………………………
E11: Schválený | F11: Upravený | G11: Skutečnost | H11: z toho:
E12: rozpočet | F12: rozpočet | G12: celkem | H12: Hlavní činnost | I12: Doplňková činnost
E13: celkem | F13: celkem | H13: jednotka - Kč na 2 des. místa
A15: a) Náklady a výnosy
A16: Náklady | E16: 43075000 | F16: 45032000 | G16: =H16+I16 -> 45558603 | H16: 45558603 | I16: 0
A18: Výnosy | E18: 40950000 | F18: 45032000 | G18: =H18+I18 -> 45562368 | H18: 45562368 | I18: 0
A21: Doplňující údaje :
C22: daň z příjmů,dodatečné odvody daně z příjmů (nákladová položka) | G22: =H22+I22 -> 0 | H22: 0 | I22: 0
A24: Výsledek hospodaření /po zdanění/ | G24: =ROUND(G18-G16-G22,2) -> 3764.77 | H24: =H18-H16-H22 -> 3764.77 | I24: =I18-I16-I22 -> 0
A28: b) | B28: Rozdělení výsledku hospodaření | G28: 3764.77
C29: - Návrh na příděly do fondů: | F29: Fond odměn | G29: 0
F30: Fond rezervní | G30: 3764.77
C31: - Způsob krytí ztráty : | F31: Ćástka | G31: 0
A35: c) | B35: Závazné ukazatele
F36: Schválená částka | G36: Skutečnost | I36: % plnění
A37: Limit mzdových prostředků | F37: 20152000 | G37: 20628415 | I37: =IF(F37=0,"nerozp.",G37/F37) -> 1.0236411
A38: Neinvestiční příspěvek /odpisy/ | F38: 2242980 | G38: 2242993 | I38: =IF(F38=0,"nerozp.",G38/F38) -> 1.0000058
A39: Neinvestiční příspěvek/nájemné/ | F39: 0 | G39: 0 | I39: =IF(F39=0,"nerozp.",G39/F39) -> nerozp.
A40: Odvody z investičního fondu /odpisy/ | F40: 1711980 | G40: 1711980 | I40: =IF(F40=0,"nerozp.",G40/F40) -> 1
A41: Odvody z investičního fondu /spolufin. akcí/ | F41: 0 | G41: 0 | I41: =IF(F41=0,"nerozp.",G41/F41) -> nerozp.
A42: Pozn. : | B42: Vynaložené odpisy nad stanovený limit byly finančně pokryty z provozních prostředků organizace-13,- Kč.
B43: Překročení limitu mzdových prostředků o 476 415,- Kč, jedná se o zapojení prostředků na mzdy, poskytnuté Úřadem práce Přerov ve výši 179 991,- Kč a částka 294 424,- Kč byla poskytnuta z prostředků ESF v rámci operačního programu "Vzděláváním ke kvalitě".
A44: d) | B44: Fondy | H44: jednotka - Kč na 2 des. místa
E45: Stav k 1.1.2011 | F45: Tvorba | G45: Čerpání | H45: Stav k | I45: Finanční krytí k
H46: 40908 | I46: 40908
C49: Fond odměn | E49: 18710 | F49: 0 | G49: 0 | H49: =E49+F49-G49 -> 18710 | I49: 18710
C50: FKSP | E50: 28035.5 | F50: 203444.44 | G50: 216645 | H50: =E50+F50-G50 -> 14834.94 | I50: 9358.15
C51: Fond rezervní | E51: 76110.01 | F51: 111268.15 | G51: 187378.16 | H51: =E51+F51-G51 -> 0 | I51: 0
C52: Investiční fond | E52: 36528.34 | F52: 3191793 | G52: 3166411 | H52: =E52+F52-G52 -> 61910.34 | I52: 61910.34
A53: celkem | E53: =SUM(E49:E52) -> 159383.85 | F53: =SUM(F49:F52) -> 3506505.6 | G53: =SUM(G49:G52) -> 3570434.2 | H53: =SUM(H49:H52) -> 95455.28 | I53: =SUM(I49:I52) -> 89978.49

Sheet 29. Domov Větrný mlýn Skalička
A1: REKAPITULACE ZA ORGANIZACI :
A2: Název organizace : | E2: Domov Větrný mlýn Skalička, příspěvková organizace
E3: ……………………………………….……..………………………………………..…………………………………
A4: Adresa : | E4: Skalička 1
E5: ……………………………………….……..………………………………………..…………………………………
A6: IĆ | E6: 61985902 | H6: ORG | I6: 1660
E7: ……………………………… ………….…..……………………………
E11: Schválený | F11: Upravený | G11: Skutečnost | H11: z toho:
E12: rozpočet | F12: rozpočet | G12: celkem | H12: Hlavní činnost | I12: Doplňková činnost
E13: celkem | F13: celkem | H13: jednotka - Kč na 2 des. místa
A15: a) Náklady a výnosy
A16: Náklady | E16: 25907000 | F16: 25547935 | G16: =H16+I16 -> 25857254 | H16: 25857254 | I16: 0
A18: Výnosy | E18: 23892000 | F18: 25547935 | G18: =H18+I18 -> 25889004 | H18: 25889004 | I18: 0
A21: Doplňující údaje :
C22: daň z příjmů,dodatečné odvody daně z příjmů (nákladová položka) | G22: =H22+I22 -> 0 | H22: 0 | I22: 0
A24: Výsledek hospodaření /po zdanění/ | G24: =ROUND(G18-G16-G22,2) -> 31750.72 | H24: =H18-H16-H22 -> 31750.72 | I24: =I18-I16-I22 -> 0
A28: b) | B28: Rozdělení výsledku hospodaření | G28: 31750.72
C29: - Návrh na příděly do fondů: | F29: Fond odměn | G29: 0
F30: Fond rezervní | G30: 31750.72
C31: - Způsob krytí ztráty : | F31: Ćástka | G31: 0
A35: c) | B35: Závazné ukazatele
F36: Schválená částka | G36: Skutečnost | I36: % plnění
A37: Limit mzdových prostředků | F37: 13274000 | G37: 13274000 | I37: =IF(F37=0,"nerozp.",G37/F37) -> 1
A38: Neinvestiční příspěvek /odpisy/ | F38: 417633 | G38: 417633 | I38: =IF(F38=0,"nerozp.",G38/F38) -> 1
A39: Neinvestiční příspěvek/nájemné/ | F39: 0 | G39: 0 | I39: =IF(F39=0,"nerozp.",G39/F39) -> nerozp.
A40: Odvody z investičního fondu /odpisy/ | F40: 322633 | G40: 322633 | I40: =IF(F40=0,"nerozp.",G40/F40) -> 1
A41: Odvody z investičního fondu /spolufin. akcí/ | F41: 0 | G41: 0 | I41: =IF(F41=0,"nerozp.",G41/F41) -> nerozp.
A44: d) | B44: Fondy | H44: jednotka - Kč na 2 des. místa
E45: Stav k 1.1.2011 | F45: Tvorba | G45: Čerpání | H45: Stav k | I45: Finanční krytí k
H46: 40908 | I46: 40908
C49: Fond odměn | E49: 12850 | F49: 0 | G49: 0 | H49: =E49+F49-G49 -> 12850 | I49: 12850
C50: FKSP | E50: 82623.93 | F50: 133128 | G50: 178964.46 | H50: =E50+F50-G50 -> 36787.47 | I50: 31717.47
C51: Fond rezervní | E51: 387037.79 | F51: 181576.92 | G51: 190933 | H51: =E51+F51-G51 -> 377681.71 | I51: 377681.71
C52: Investiční fond | E52: 42297.42 | F52: 890574 | G52: 795574 | H52: =E52+F52-G52 -> 137297.42 | I52: 137297.42
A53: celkem | E53: =SUM(E49:E52) -> 524809.14 | F53: =SUM(F49:F52) -> 1205278.9 | G53: =SUM(G49:G52) -> 1165471.5 | H53: =SUM(H49:H52) -> 564616.6 | I53: =SUM(I49:I52) -> 559546.6

Sheet 30. Centrum Dominika Kokory
A1: REKAPITULACE ZA ORGANIZACI :
A2: Název organizace : | E2: Centrum Dominika Kokory, příspěvková organizace
E3: ……………………………………….……..………………………………………..…………………………………
A4: Adresa : | E4: Kokory 54, 751 05 Kokory
E5: ……………………………………….……..………………………………………..…………………………………
A6: IĆ | E6: 61985929 | H6: ORG | I6: 1661
E7: ……………………………… ………….…..……………………………
E11: Schválený | F11: Upravený | G11: Skutečnost | H11: z toho:
E12: rozpočet | F12: rozpočet | G12: celkem | H12: Hlavní činnost | I12: Doplňková činnost
E13: celkem | F13: celkem | H13: jednotka - Kč na 2 des. místa
A15: a) Náklady a výnosy
A16: Náklady | E16: 25696000 | F16: 25776728 | G16: =H16+I16 -> 26323223 | H16: 26323223 | I16: 0
A18: Výnosy | E18: 23700000 | F18: 25776728 | G18: =H18+I18 -> 26323397 | H18: 26323397 | I18: 0
A21: Doplňující údaje :
C22: daň z příjmů,dodatečné odvody daně z příjmů (nákladová položka) | G22: =H22+I22 -> 0 | H22: 0 | I22: 0
A24: Výsledek hospodaření /po zdanění/ | G24: =ROUND(G18-G16-G22,2) -> 173.99 | H24: =H18-H16-H22 -> 173.99 | I24: =I18-I16-I22 -> 0
A28: b) | B28: Rozdělení výsledku hospodaření | G28: 173.99
C29: - Návrh na příděly do fondů: | F29: Fond odměn | G29: 0
F30: Fond rezervní | G30: 173.99
C31: - Způsob krytí ztráty : | F31: Ćástka | G31: 0
A35: c) | B35: Závazné ukazatele
F36: Schválená částka | G36: Skutečnost | I36: % plnění
A37: Limit mzdových prostředků | F37: 12496000 | G37: 12568388 | I37: =IF(F37=0,"nerozp.",G37/F37) -> 1.0057929
A38: Neinvestiční příspěvek /odpisy/ | F38: 1174728 | G38: 1191719.5 | I38: =IF(F38=0,"nerozp.",G38/F38) -> 1.0144642
A39: Neinvestiční příspěvek/nájemné/ | F39: 0 | G39: 0 | I39: =IF(F39=0,"nerozp.",G39/F39) -> nerozp.
A40: Odvody z investičního fondu /odpisy/ | F40: 903728 | G40: 903728 | I40: =IF(F40=0,"nerozp.",G40/F40) -> 1
A41: Odvody z investičního fondu /spolufin. akcí/ | F41: 0 | G41: 0 | I41: =IF(F41=0,"nerozp.",G41/F41) -> nerozp.
A42: Pozn. : | B42: Vynaložené odpisy nad stanovený limit byly finančně pokryty z provozních prostředků organizace-16 991,50 Kč.
B43: Překročení limitu mzdových prostředků o 72 388,- Kč, jedná se o zapojení prostředků na mzdy, poskytnuté Úřadem práce a to ve výši 72 388,- Kč.
A44: d) | B44: Fondy | H44: jednotka - Kč na 2 des. místa
E45: Stav k 1.1.2011 | F45: Tvorba | G45: Čerpání | H45: Stav k | I45: Finanční krytí k
H46: 40908 | I46: 40908
C49: Fond odměn | E49: 16640 | F49: 0 | G49: 0 | H49: =E49+F49-G49 -> 16640 | I49: 16640
C50: FKSP | E50: 279518.27 | F50: 126218 | G50: 163066 | H50: =E50+F50-G50 -> 242670.27 | I50: 248025.27
C51: Fond rezervní | E51: 34672.49 | F51: 62974 | G51: 35527.8 | H51: =E51+F51-G51 -> 62118.69 | I51: 62118.69
C52: Investiční fond | E52: 96805.46 | F52: 1991081.5 | G52: 2048779 | H52: =E52+F52-G52 -> 39107.96 | I52: 39107.96
A53: celkem | E53: =SUM(E49:E52) -> 427636.22 | F53: =SUM(F49:F52) -> 2180273.5 | G53: =SUM(G49:G52) -> 2247372.8 | H53: =SUM(H49:H52) -> 360536.92 | I53: =SUM(I49:I52) -> 365891.92

Sheet 31. Domov Adam Dřevohostice
A1: REKAPITULACE ZA ORGANIZACI :
A2: Název organizace : | E2: Domov ADAM Dřevohostice, příspěvková organizace
E3: ……………………………………….……..………………………………………..…………………………………
A4: Adresa : | E4: Lapač 449, 751 14 Dřevohostice
E5: ……………………………………….……..………………………………………..…………………………………
A6: IĆ | E6: 61985899 | H6: ORG | I6: 1662
E7: ……………………………… ………….…..……………………………
E11: Schválený | F11: Upravený | G11: Skutečnost | H11: z toho:
E12: rozpočet | F12: rozpočet | G12: celkem | H12: Hlavní činnost | I12: Doplňková činnost
E13: celkem | F13: celkem | H13: jednotka - Kč na 2 des. místa
A15: a) Náklady a výnosy
A16: Náklady | E16: 32962000 | F16: 33142103 | G16: =H16+I16 -> 33656017 | H16: 33656017 | I16: 0
A18: Výnosy | E18: 30584000 | F18: 33142103 | G18: =H18+I18 -> 33734323 | H18: 33734323 | I18: 0
A21: Doplňující údaje :
C22: daň z příjmů,dodatečné odvody daně z příjmů (nákladová položka) | G22: =H22+I22 -> 0 | H22: 0 | I22: 0
A24: Výsledek hospodaření /po zdanění/ | G24: =ROUND(G18-G16-G22,2) -> 78306.67 | H24: =H18-H16-H22 -> 78306.67 | I24: =I18-I16-I22 -> 0
A28: b) | B28: Rozdělení výsledku hospodaření | G28: 78306.67
C29: - Návrh na příděly do fondů: | F29: Fond odměn | G29: 0
F30: Fond rezervní | G30: 78306.67
C31: - Způsob krytí ztráty : | F31: Ćástka | G31: 0
A35: c) | B35: Závazné ukazatele
F36: Schválená částka | G36: Skutečnost | I36: % plnění
A37: Limit mzdových prostředků | F37: 16810000 | G37: 16826053 | I37: =IF(F37=0,"nerozp.",G37/F37) -> 1.000955
A38: Neinvestiční příspěvek /odpisy/ | F38: 1244805 | G38: 1380103 | I38: =IF(F38=0,"nerozp.",G38/F38) -> 1.1086901
A39: Neinvestiční příspěvek/nájemné/ | F39: 0 | G39: 0 | I39: =IF(F39=0,"nerozp.",G39/F39) -> nerozp.
A40: Odvody z investičního fondu /odpisy/ | F40: 944805 | G40: 944805 | I40: =IF(F40=0,"nerozp.",G40/F40) -> 1
A41: Odvody z investičního fondu /spolufin. akcí/ | F41: 0 | G41: 0 | I41: =IF(F41=0,"nerozp.",G41/F41) -> nerozp.
A42: Pozn. : | B42: Vynaložené odpisy nad stanovený limit byly finančně pokryty z provozních prostředků organizace-135 298,- Kč.
B43: Překročení limitu mzdových prostředků o 16 053,- Kč, hrazeno z fondu odměn příspěvkové organizace.
A44: d) | B44: Fondy | H44: jednotka - Kč na 2 des. místa
E45: Stav k 1.1.2011 | F45: Tvorba | G45: Čerpání | H45: Stav k | I45: Finanční krytí k
H46: 40908 | I46: 40908
C49: Fond odměn | E49: 60100 | F49: 0 | G49: 16053 | H49: =E49+F49-G49 -> 44047 | I49: 44047
C50: FKSP | E50: 245445.84 | F50: 168781 | G50: 204864 | H50: =E50+F50-G50 -> 209362.84 | I50: 185404.27
C51: Fond rezervní | E51: 242724.24 | F51: 58749.88 | G51: 23798.85 | H51: =E51+F51-G51 -> 277675.27 | I51: 277675.27
C52: Investiční fond | E52: 232828.6 | F52: 1927649 | G52: 1906357 | H52: =E52+F52-G52 -> 254120.6 | I52: 254120.6
A53: celkem | E53: =SUM(E49:E52) -> 781098.68 | F53: =SUM(F49:F52) -> 2155179.9 | G53: =SUM(G49:G52) -> 2151072.9 | H53: =SUM(H49:H52) -> 785205.71 | I53: =SUM(I49:I52) -> 761247.14

Sheet 32. Domov Na zámečku Rokytnice
A1: REKAPITULACE ZA ORGANIZACI :
A2: Název organizace : | E2: Domov Na zámečku Rokytnice, příspěvková organizace
E3: ……………………………………….……..………………………………………..…………………………………
A4: Adresa : | E4: Rokytnice č. p. 1
E5: ……………………………………….……..………………………………………..…………………………………
A6: IĆ | E6: 61985911 | H6: ORG | I6: 1663
E7: ……………………………… ………….…..……………………………
E11: Schválený | F11: Upravený | G11: Skutečnost | H11: z toho:
E12: rozpočet | F12: rozpočet | G12: celkem | H12: Hlavní činnost | I12: Doplňková činnost
E13: celkem | F13: celkem | H13: jednotka - Kč na 2 des. místa
A15: a) Náklady a výnosy
A16: Náklady | E16: 50599000 | F16: 51468341 | G16: =H16+I16 -> 51352090 | H16: 51352090 | I16: 0
A18: Výnosy | E18: 46448000 | F18: 51468341 | G18: =H18+I18 -> 51384799 | H18: 51384799 | I18: 0
A21: Doplňující údaje :
C22: daň z příjmů,dodatečné odvody daně z příjmů (nákladová položka) | G22: =H22+I22 -> 0 | H22: 0 | I22: 0
A24: Výsledek hospodaření /po zdanění/ | G24: =ROUND(G18-G16-G22,2) -> 32709.57 | H24: =H18-H16-H22 -> 32709.57 | I24: =I18-I16-I22 -> 0
A28: b) | B28: Rozdělení výsledku hospodaření | G28: 32709.57
C29: - Návrh na příděly do fondů: | F29: Fond odměn | G29: 0
F30: Fond rezervní | G30: 32709.57
C31: - Způsob krytí ztráty : | F31: Ćástka | G31: 0
A35: c) | B35: Závazné ukazatele
F36: Schválená částka | G36: Skutečnost | I36: % plnění
A37: Limit mzdových prostředků | F37: 25104000 | G37: 25385916 | I37: =IF(F37=0,"nerozp.",G37/F37) -> 1.0112299
A38: Neinvestiční příspěvek /odpisy/ | F38: 1675039 | G38: 1683920 | I38: =IF(F38=0,"nerozp.",G38/F38) -> 1.005302
A39: Neinvestiční příspěvek/nájemné/ | F39: 0 | G39: 0 | I39: =IF(F39=0,"nerozp.",G39/F39) -> nerozp.
A40: Odvody z investičního fondu /odpisy/ | F40: 1310039 | G40: 1310039 | I40: =IF(F40=0,"nerozp.",G40/F40) -> 1
A41: Odvody z investičního fondu /spolufin. akcí/ | F41: 0 | G41: 0 | I41: =IF(F41=0,"nerozp.",G41/F41) -> nerozp.
A42: Pozn. : | B42: Vynaložené odpisy nad stanovený limit byly finančně pokryty z provozních prostředků organizace-8 881,- Kč.
B43: Překročení limitu mzdových prostředků o 281 916,- Kč, jedná se o zapojení prostředků na mzdy, poskytnuté Úřadem práce ve výši 72 889,- Kč a prostředky poskytnuté v rámci projektu Operačního programu Lidské zdroje a zaměstnanost. ve výši 209 027,-Kč.
A44: d) | B44: Fondy | H44: jednotka - Kč na 2 des. místa
E45: Stav k 1.1.2011 | F45: Tvorba | G45: Čerpání | H45: Stav k | I45: Finanční krytí k
H46: 40908 | I46: 40908
C49: Fond odměn | E49: 39507 | F49: 0 | G49: 0 | H49: =E49+F49-G49 -> 39507 | I49: 39507
C50: FKSP | E50: 145389.74 | F50: 252778 | G50: 341607 | H50: =E50+F50-G50 -> 56560.74 | I50: 73479.98
C51: Fond rezervní | E51: 52685.59 | F51: 394455.18 | G51: 14299 | H51: =E51+F51-G51 -> 432841.77 | I51: 432841.77
C52: Investiční fond | E52: 17396.21 | F52: 1813159 | G52: 1808734 | H52: =E52+F52-G52 -> 21821.21 | I52: 21821.21
A53: celkem | E53: =SUM(E49:E52) -> 254978.54 | F53: =SUM(F49:F52) -> 2460392.2 | G53: =SUM(G49:G52) -> 2164640 | H53: =SUM(H49:H52) -> 550730.72 | I53: =SUM(I49:I52) -> 567649.96

Sheet CELKEM
A1: REKAPITULACE ZA ORGANIZACI : | I1: 2011
A2: Oblast : | E2: SOCIÁLNÍ
E3: ……………………………………….……..………………………………………..…………………………………
E11: Schválený | F11: Upravený | G11: Skutečnost | H11: z toho:
E12: rozpočet | F12: rozpočet | G12: celkem | H12: Hlavní činnost | I12: Doplňková činnost
E13: celkem | F13: celkem | H13: jednotka - Kč na 2 des. místa
A15: a) Náklady a výnosy
A16: Náklady | E16: =SUM('1. DD Javorník:32. Domov Na zámečku Rokytnice'!E16) -> 1121895000 | F16: =SUM('1. DD Javorník:32. Domov Na zámečku Rokytnice'!F16) -> 1.1137073e+09 | G16: =H16+I16 -> 1.1170405e+09 | H16: =SUM('1. DD Javorník:32. Domov Na zámečku Rokytnice'!H16) -> 1.1170405e+09 | I16: =SUM('1. DD Javorník:32. Domov Na zámečku Rokytnice'!I16) -> 0
A18: Výnosy | E18: =SUM('1. DD Javorník:32. Domov Na zámečku Rokytnice'!E18) -> 1037296000 | F18: =SUM('1. DD Javorník:32. Domov Na zámečku Rokytnice'!F18) -> 1.11306e+09 | G18: =H18+I18 -> 1.1180861e+09 | H18: =SUM('1. DD Javorník:32. Domov Na zámečku Rokytnice'!H18) -> 1.1180861e+09 | I18: =SUM('1. DD Javorník:32. Domov Na zámečku Rokytnice'!I18) -> 0
A21: Doplňující údaje :
C22: daň z příjmů,dodatečné odvody daně z příjmů (nákladová položka) | G22: =H22+I22 -> -197590 | H22: =SUM('1. DD Javorník:32. Domov Na zámečku Rokytnice'!H22) -> -197590 | I22: =SUM('1. DD Javorník:32. Domov Na zámečku Rokytnice'!I22) -> 0
A24: Výsledek hospodaření /po zdanění/ | G24: =ROUND(G18-G16-G22,2) -> 1243182.6 | H24: =H18-H16-H22 -> 1243182.6 | I24: =I18-I16-I22 -> 0
A28: b) | B28: Rozdělení výsledku hospodaření | G28: =SUM('1. DD Javorník:32. Domov Na zámečku Rokytnice'!G28) -> 1243182.6
C29: - Návrh na příděly do fondů: | F29: Fond odměn | G29: =SUM('1. DD Javorník:32. Domov Na zámečku Rokytnice'!G29) -> 0
F30: Fond rezervní | G30: =SUM('1. DD Javorník:32. Domov Na zámečku Rokytnice'!G30) -> 1087080.6
C31: - Způsob krytí ztráty : | F31: Ćástka | G31: =SUM('1. DD Javorník:32. Domov Na zámečku Rokytnice'!G31) -> 156102.03
A32: Příspěvkové organizaci DD Prostějov (poř.č.21) vznikla v roce 2009 ztráta ve výši 1 942 521,13 Kč a to z důvodu dluhu vůči VZP. Tato ztráta měla být uhrazena ze zisku příspěvkové organizace, v roce 2010 byla uhrazena částka 592 690,50 Kč, v roce 2011 byla uhrazena ztráta ve výši 156 102,03 Kč. Neuhrazená ztráta tedy činí 1 193 728,60 Kč.
A35: c) | B35: Závazné ukazatele
F36: Schválená částka | G36: Skutečnost | I36: % plnění
A37: Limit mzdových prostředků | F37: =SUM('1. DD Javorník:32. Domov Na zámečku Rokytnice'!F37) -> 560285000 | G37: =SUM('1. DD Javorník:32. Domov Na zámečku Rokytnice'!G37) -> 559782892 | I37: =IF(F37=0,"nerozp.",G37/F37) -> 0.99910383
A38: Neinvestiční příspěvek /odpisy/ | F38: =SUM('1. DD Javorník:32. Domov Na zámečku Rokytnice'!F38) -> 27064025 | G38: =SUM('1. DD Javorník:32. Domov Na zámečku Rokytnice'!G38) -> 27537748 | I38: =IF(F38=0,"nerozp.",G38/F38) -> 1.0175038
A39: Neinvestiční příspěvek/nájemné/ | F39: =SUM('1. DD Javorník:32. Domov Na zámečku Rokytnice'!F39) -> 0 | G39: =SUM('1. DD Javorník:32. Domov Na zámečku Rokytnice'!G39) -> 0 | I39: =IF(F39=0,"nerozp.",G39/F39) -> nerozp.
A40: Odvody z investičního fondu /odpisy/ | F40: =SUM('1. DD Javorník:32. Domov Na zámečku Rokytnice'!F40) -> 20896610 | G40: =SUM('1. DD Javorník:32. Domov Na zámečku Rokytnice'!G40) -> 20896610 | I40: =IF(F40=0,"nerozp.",G40/F40) -> 1
A41: Odvody z investičního fondu /spolufin. akcí/ | F41: =SUM('1. DD Javorník:32. Domov Na zámečku Rokytnice'!F41) -> 0 | G41: =SUM('1. DD Javorník:32. Domov Na zámečku Rokytnice'!G41) -> 0 | I41: =IF(F41=0,"nerozp.",G41/F41) -> nerozp.
A44: d) | B44: Fondy | H44: jednotka - Kč na 2 des. místa
E45: Stav k 1.1.2010 | F45: Tvorba | G45: Čerpání | H45: Stav k | I45: Finanční krytí k
H46: 40908 | I46: 40908
C49: Fond odměn | E49: =SUM('1. DD Javorník:32. Domov Na zámečku Rokytnice'!E49) -> 1362008.6 | F49: =SUM('1. DD Javorník:32. Domov Na zámečku Rokytnice'!F49) -> 0 | G49: =SUM('1. DD Javorník:32. Domov Na zámečku Rokytnice'!G49) -> 19916 | H49: =SUM('1. DD Javorník:32. Domov Na zámečku Rokytnice'!H49) -> 1342092.6 | I49: =SUM('1. DD Javorník:32. Domov Na zámečku Rokytnice'!I49) -> 1342092.6
C50: FKSP | E50: =SUM('1. DD Javorník:32. Domov Na zámečku Rokytnice'!E50) -> 7541773.2 | F50: =SUM('1. DD Javorník:32. Domov Na zámečku Rokytnice'!F50) -> 5810462.2 | G50: =SUM('1. DD Javorník:32. Domov Na zámečku Rokytnice'!G50) -> 7392039.5 | H50: =SUM('1. DD Javorník:32. Domov Na zámečku Rokytnice'!H50) -> 5960195.9 | I50: =SUM('1. DD Javorník:32. Domov Na zámečku Rokytnice'!I50) -> 5053910.2
C51: Fond rezervní | E51: =SUM('1. DD Javorník:32. Domov Na zámečku Rokytnice'!E51) -> 6362558.1 | F51: =SUM('1. DD Javorník:32. Domov Na zámečku Rokytnice'!F51) -> 5311698.9 | G51: =SUM('1. DD Javorník:32. Domov Na zámečku Rokytnice'!G51) -> 4737277.2 | H51: =SUM('1. DD Javorník:32. Domov Na zámečku Rokytnice'!H51) -> 6936979.7 | I51: =SUM('1. DD Javorník:32. Domov Na zámečku Rokytnice'!I51) -> 6936979.7
C52: Investiční fond | E52: =SUM('1. DD Javorník:32. Domov Na zámečku Rokytnice'!E52) -> 4867337.9 | F52: =SUM('1. DD Javorník:32. Domov Na zámečku Rokytnice'!F52) -> 51802086 | G52: =SUM('1. DD Javorník:32. Domov Na zámečku Rokytnice'!G52) -> 49942409 | H52: =SUM('1. DD Javorník:32. Domov Na zámečku Rokytnice'!H52) -> 6727014.4 | I52: =SUM('1. DD Javorník:32. Domov Na zámečku Rokytnice'!I52) -> 6621197.4
A53: celkem | E53: =SUM('1. DD Javorník:32. Domov Na zámečku Rokytnice'!E53) -> 20133678 | F53: =SUM('1. DD Javorník:32. Domov Na zámečku Rokytnice'!F53) -> 62924247 | G53: =SUM('1. DD Javorník:32. Domov Na zámečku Rokytnice'!G53) -> 62091642 | H53: =SUM('1. DD Javorník:32. Domov Na zámečku Rokytnice'!H53) -> 20966283 | I53: =SUM('1. DD Javorník:32. Domov Na zámečku Rokytnice'!I53) -> 19954180
H55: =E49+F49-G49 -> 1342092.6
H56: =E50+F50-G50 -> 5960195.9
H57: =E51+F51-G51 -> 6936979.7
H58: =E52+F52-G52 -> 6727014.4
H59: =E53+F53-G53 -> 20966283
