Workbook
Name __xlnm.Print_Area_14: '20. Duha Vikýřovice'!$A$1:$I$55

Sheet soc. oblast
A1: b) Příspěvkové organizace v oblasti sociálních věcí | R1: ORJ -11
A2: Správce : | C2: vedoucí odboru | D2: vedoucí odboru sociálních věcí
D3: PhDr. Markéta Čožíková
A4: Rekapitulace hospodaření /výsledek hospodaření -2011/ | Q4: v Kč
A7: ORG | B7: § | C7: PO | D7: Název zařízení | E7: Adresa | G7: Náklady | H7: Výnosy | I7: Dań | M7: Výsledek hospodaření | O7: Rozdělení do fondů - v Kč
I8: HV | J8: dań z příjmu | K8: Daň a dodatečné odvody daně z příjmů | L8: HV po zdanění | M8: zlepšený VH | N8: ztráta | O8: Fond odměn | P8: Fond rezervní | Q8: Pokrytí ztáty min. období | R8: Celkem
A9: 1631 | B9: § 4357 | C9: 1 | D9: Domov pro seniory Javorník, příspěvková organizace | E9: Školní 104 | F9: 790 70 Javorník | G9: 16132921 | H9: 16136987 | I9: =H9-G9 -> 4066.11 | J9: 0 | L9: =I9-K9-J9 -> 4066.11 | M9: =IF((L9<0),0,L9) -> 4066.11 | N9: =IF((L9<0),L9,0) -> 0 | O9: ='1. DD Javorník'!G29 -> 0 | P9: ='1. DD Javorník'!G30 -> 4066.11 | Q9: ='1. DD Javorník'!H30 -> 0 | R9: ='1. DD Javorník'!G28 -> 4066.11 | S9: =R9-M9 -> 5.9617378e-10
O10: ='1. DD Javorník'!G29 -> 0 | P10: =P9/$R9 -> 1 | R10: =Q10+P10+O10 -> 1
A11: 1632 | B11: § 4357 | C11: 1 | D11: Domov důchodců Kobylá, příspěvková organizace | E11: Kobylá nad Vidnavkou č. 153 | F11: 790 56 Kobylá nad Vidnavkou | G11: 27320295 | H11: 27322439 | I11: =H11-G11 -> 2143.79 | J11: 0 | L11: =I11-K11-J11 -> 2143.79 | M11: =IF((L11<0),0,L11) -> 2143.79 | N11: =IF((L11<0),L11,0) -> 0 | O11: ='2. DD Kobylá'!G29 -> 0 | P11: ='2. DD Kobylá'!G30 -> 2143.79 | Q11: ='2. DD Kobylá'!H30 -> 0 | R11: ='2. DD Kobylá'!G28 -> 2143.79 | S11: =R11-M11 -> 8.9403329e-10
O12: =O11/$R11 -> 0 | P12: =P11/$R11 -> 1 | R12: =Q12+P12+O12 -> 1
A13: 1633 | B13: § 4357 | C13: 1 | D13: Domov Sněženka Jeseník, příspěvková organizace | E13: Moravská 814/2 | F13: 790 01 Jeseník | G13: 29342093 | H13: 29351971 | I13: =H13-G13 -> 9877.46 | J13: 0 | L13: =I13-K13-J13 -> 9877.46 | M13: =IF((L13<0),0,L13) -> 9877.46 | N13: =IF((L13<0),L13,0) -> 0 | O13: ='3. Domov Sněženka Jeseník'!G29 -> 0 | P13: ='3. Domov Sněženka Jeseník'!G28 -> 9877.46 | Q13: ='3. Domov Sněženka Jeseník'!H28 -> 0 | R13: ='3. Domov Sněženka Jeseník'!G28 -> 9877.46 | S13: =R13-M13 -> -8.9494279e-10
O14: =O13/$R13 -> 0 | P14: =P13/$R13 -> 1 | R14: =Q14+P14+O14 -> 1
A15: 1634 | B15: § 4351 | C15: 1 | D15: Středisko pečovatelské služby Jeseník, příspěvková organizace | E15: O. Březiny 1370 | F15: 790 01 Jeseník | G15: 4237850.9 | H15: 4506850.9 | I15: =H15-G15 -> 269000.01 | J15: 0 | L15: =I15-K15-J15 -> 269000.01 | M15: =IF((L15<0),0,L15) -> 269000.01 | N15: =IF((L15<0),L15,0) -> 0 | O15: ='4. Středisko PS Jeseník'!G29 -> 0 | P15: ='4. Středisko PS Jeseník'!G30 -> 269000.01 | Q15: ='4. Středisko PS Jeseník'!H30 -> 0 | R15: ='4. Středisko PS Jeseník'!G28 -> 269000.01 | S15: =R15-M15 -> 0
O16: =O15/$R15 -> 0 | P16: =P15/$R15 -> 1 | R16: =Q16+P16+O16 -> 1
A17: 1635 | B17: § 4357 | C17: 1 | D17: Domov důchodců Červenka, příspěvková organizace | E17: Nádražní 105 | F17: 784 01 Litovel | G17: 49496498 | H17: 49496498 | I17: =H17-G17 -> 0 | J17: 0 | L17: =I17-K17-J17 -> 0 | M17: =IF((L17<0),0,L17) -> 0 | N17: =IF((L17<0),L17,0) -> 0 | O17: ='5. DD Červenka'!G29 -> 0 | P17: ='5. DD Červenka'!G30 -> 0 | Q17: ='5. DD Červenka'!H30 -> 0 | R17: ='5. DD Červenka'!G28 -> 0 | S17: =R17-M17 -> 0
A19: 1636 | B19: § 4357 | C19: 1 | D19: Dům seniorů FRANTIŠEK Náměšť na Hané, příspěvková organizace | E19: Komenského 291 | F19: 783 44 Náměšť na Hané | G19: 10744102 | H19: 10781778 | I19: =H19-G19 -> 37676.34 | J19: 0 | L19: =I19-K19-J19 -> 37676.34 | M19: =IF((L19<0),0,L19) -> 37676.34 | N19: =IF((L19<0),L19,0) -> 0 | O19: ='6.DD Náměšť na Hané'!G29 -> 0 | P19: ='6.DD Náměšť na Hané'!G30 -> 37676.34 | Q19: ='6.DD Náměšť na Hané'!H30 -> 0 | R19: ='6.DD Náměšť na Hané'!G28 -> 37676.34 | S19: =R19-M19 -> 1.4551915e-10
O20: =O19/$R19 -> 0 | P20: =P19/$R19 -> 1 | R20: =Q20+P20+O20 -> 1
A21: 1637 | B21: § 4357 | C21: 1 | D21: Domov důchodců Hrubá Voda,přísp.organizace | E21: Hlubočky 11 | F21: 783 61 Hlubočky | G21: 24812973 | H21: 24833548 | I21: =H21-G21 -> 20574.52 | J21: 0 | L21: =I21-K21-J21 -> 20574.52 | M21: =IF((L21<0),0,L21) -> 20574.52 | N21: =IF((L21<0),L21,0) -> 0 | O21: ='7. DD Hrubá Voda'!G29 -> 0 | P21: ='7. DD Hrubá Voda'!G30 -> 20574.52 | Q21: ='7. DD Hrubá Voda'!H30 -> 0 | R21: ='7. DD Hrubá Voda'!G28 -> 20574.52 | S21: =R21-M21 -> 4.4747139e-10
O22: =O21/$R21 -> 0 | P22: =P21/$R21 -> 1 | R22: =Q22+P22+O22 -> 1
A23: 1638 | B23: § 4357 | C23: 1 | D23: Domov seniorů POHODA Chválkovice, přísp. organizace | E23: Švabinského 3 | F23: 772 00 Olomouc - Chválkovice | G23: 83241855 | H23: 83251441 | I23: =H23-G23 -> 9585.85 | J23: 0 | L23: =I23-K23-J23 -> 9585.85 | M23: =IF((L23<0),0,L23) -> 9585.85 | N23: =IF((L23<0),L23,0) -> 0 | O23: ='8. Domov seniorů Chválkovice'!G29 -> 0 | P23: ='8. Domov seniorů Chválkovice'!G30 -> 9585.85 | Q23: ='8. Domov seniorů Chválkovice'!H30 -> 0 | R23: ='8. Domov seniorů Chválkovice'!G28 -> 9585.85 | S23: =R23-M23 -> -8.9403329e-09
O24: =O23/$R23 -> 0 | P24: =P23/$R23 -> 1 | R24: =Q24+P24+O24 -> 1
A25: 1639 | B25: § 4351 | C25: 1 | D25: Sociální služby pro seniory Olomouc, příspěvková organizace | E25: Zikova 14 | F25: 779 00 Olomouc | G25: 56329182 | H25: 56330774 | I25: =H25-G25 -> 1592.8 | J25: 0 | L25: =I25-K25-J25 -> 1592.8 | M25: =IF((L25<0),0,L25) -> 1592.8 | N25: =IF((L25<0),L25,0) -> 0 | O25: ='9. Sociální služby Olomouc'!G29 -> 0 | P25: ='9. Sociální služby Olomouc'!G30 -> 1592.8 | Q25: ='9. Sociální služby Olomouc'!H30 -> 0 | R25: ='9. Sociální služby Olomouc'!G28 -> 1592.8 | S25: =R25-M25 -> 2.9801868e-09
O26: =O25/$R25 -> 0 | P26: =P25/$R25 -> 1 | R26: =Q26+P26+O26 -> 1
A27: 1640 | B27: § 4357 | C27: 1 | D27: Vincentinum - poskytovatel sociálních služeb Šternberk, přísp. org. | E27: Sadová 7 | F27: 785 01 Šternberk | G27: 81992888 | H27: 81993107 | I27: =H27-G27 -> 218.84 | J27: 0 | L27: =I27-K27-J27 -> 218.84 | M27: =IF((L27<0),0,L27) -> 218.84 | N27: =IF((L27<0),L27,0) -> 0 | O27: ='10. Vincentinum'!G29 -> 0 | P27: ='10. Vincentinum'!G30 -> 218.84 | Q27: ='10. Vincentinum'!H30 -> 0 | R27: ='10. Vincentinum'!G28 -> 218.84 | S27: =R27-M27 -> -3.5762753e-09
O28: =O27/$R27 -> 0 | P28: =P27/$R27 -> 1 | R28: =Q28+P28+O28 -> 1
A29: 1641 | B29: § 4356 | C29: 1 | D29: Klíč - centrum sociálních služeb Olomouc, příspěvková organizace | E29: Dolní Hejčínská 28 | F29: 779 00 Olomouc | G29: 23331169 | H29: 23331556 | I29: =H29-G29 -> 386.89 | J29: 0 | L29: =I29-K29-J29 -> 386.89 | M29: =IF((L29<0),0,L29) -> 386.89 | N29: =IF((L29<0),L29,0) -> 0 | O29: ='11. Klíč'!G29 -> 0 | P29: ='11. Klíč'!G30 -> 386.89 | Q29: ='11. Klíč'!H30 -> 0 | R29: ='11. Klíč'!G28 -> 386.89 | S29: =R29-M29 -> -5.9606009e-10
O30: =O29/$R29 -> 0 | P30: =P29/$R29 -> 1 | R30: =Q30+P30+O30 -> 1
A31: 1642 | B31: § 4357 | C31: 1 | D31: Nové Zámky - poskytovatel sociálních služeb, příspěvková organizace | E31: Nové Zámky 2 | F31: 784 01 Litovel | G31: 68077684 | H31: 68077684 | I31: =H31-G31 -> 0 | J31: 0 | L31: =I31-K31-J31 -> 0 | M31: =IF((L31<0),0,L31) -> 0 | N31: =IF((L31<0),L31,0) -> 0 | O31: ='12. Nové Zámky'!G29 -> 0 | P31: ='12. Nové Zámky'!G30 -> 0 | Q31: ='12. Nové Zámky'!H30 -> 0 | R31: ='12. Nové Zámky'!G28 -> 0 | S31: =R31-M31 -> 0
A33: 1644 | B33: § 4372 | C33: 1 | D33: Středisko sociální prevence Olomouc, příspěvková organizace | E33: Na Vozovce 26 | F33: 772 00 Olomouc | G33: 19368443 | H33: 19664875 | I33: =H33-G33 -> 296431.74 | J33: 0 | K33: 7220 | L33: =I33-K33-J33 -> 289211.74 | M33: =IF((L33<0),0,L33) -> 289211.74 | N33: =IF((L33<0),L33,0) -> 0 | O33: ='13. Středisko soc. prevence'!G29 -> 0 | P33: ='13. Středisko soc. prevence'!G30 -> 289211.74 | Q33: ='13. Středisko soc. prevence'!H30 -> 0 | R33: ='13. Středisko soc. prevence'!G28 -> 289211.74 | S33: =R33-M33 -> 1.6298145e-09
O34: =O33/$R33 -> 0 | P34: =P33/$R33 -> 1 | R34: =Q34+P34+O34 -> 1
A35: 1645 | B35: § 4357 | C35: 1 | D35: Domov důchodců Šumperk,příspěvková organizace | E35: U Sanatoria 25 | F35: 787 01 Šumperk | G35: 57599558 | H35: 57637253 | I35: =H35-G35 -> 37694.68 | J35: 0 | L35: =I35-K35-J35 -> 37694.68 | M35: =IF((L35<0),0,L35) -> 37694.68 | N35: =IF((L35<0),L35,0) -> 0 | O35: ='14. DD Šumperk'!G29 -> 0 | P35: ='14. DD Šumperk'!G30 -> 37694.68 | Q35: ='14. DD Šumperk'!H30 -> 0 | R35: ='14. DD Šumperk'!G28 -> 37694.68 | S35: =R35-M35 -> 2.9831426e-10
O36: =O35/$R35 -> 0 | P36: =P35/$R35 -> 1 | R36: =Q36+P36+O36 -> 1
A37: 1646 | B37: § 4357 | C37: 1 | D37: Domov důchodců Libina, příspěvková organizace | E37: Libina 540 | F37: 788 05 Libina | G37: 22111559 | H37: 22140597 | I37: =H37-G37 -> 29037.67 | J37: 0 | L37: =I37-K37-J37 -> 29037.67 | M37: =IF((L37<0),0,L37) -> 29037.67 | N37: =IF((L37<0),L37,0) -> 0 | O37: ='15. DD Libina'!G29 -> 0 | P37: ='15. DD Libina'!G30 -> 29037.67 | Q37: ='15. DD Libina'!H30 -> 0 | R37: ='15. DD Libina'!G28 -> 29037.67 | S37: =R37-M37 -> 1.9354047e-09
O38: =O37/$R37 -> 0 | P38: =P37/$R37 -> 1 | R38: =Q38+P38+O38 -> 1
A39: 1647 | B39: § 4357 | C39: 1 | D39: Domov důchodců Štíty, příspěvková organizace | E39: Na Pilníku 222 | F39: 789 91 Štíty | G39: 40238609 | H39: 40238609 | I39: =H39-G39 -> 0 | J39: 0 | L39: =I39-K39-J39 -> 0 | M39: =IF((L39<0),0,L39) -> 0 | N39: =IF((L39<0),L39,0) -> 0 | O39: ='16. DD Štíty'!G29 -> 0 | P39: ='16. DD Štíty'!G30 -> 0 | Q39: ='16. DD Štíty'!H30 -> 0 | R39: ='16. DD Štíty'!G28 -> 0 | S39: =R39-M39 -> 0
A41: 1648 | B41: § 4354 | C41: 1 | D41: Sociální služby Šumperk, příspěvková organizace | E41: Vančurova 37 | F41: 787 01 Šumperk | G41: 14072342 | H41: 14072342 | I41: =H41-G41 -> 0 | J41: 0 | L41: =I41-K41-J41 -> 0 | M41: =IF((L41<0),0,L41) -> 0 | N41: =IF((L41<0),L41,0) -> 0 | O41: ='17. Soc. služby Šumperk'!G29 -> 0 | P41: ='17. Soc. služby Šumperk'!G30 -> 0 | Q41: ='17. Soc. služby Šumperk'!H30 -> 0 | R41: ='17. Soc. služby Šumperk'!G28 -> 0 | S41: =R41-M41 -> 0
A43: 1649 | B43: § 4354 | C43: 1 | D43: Penzion pro důchodce Loštice,příspěvková organizace | E43: Hradská 113 | F43: 789 83 Loštice | G43: 4850356.5 | H43: 4850356.5 | I43: =H43-G43 -> 0 | J43: 0 | L43: =I43-K43-J43 -> 0 | M43: =IF((L43<0),0,L43) -> 0 | N43: =IF((L43<0),L43,0) -> 0 | O43: ='18. Penzion Loštice'!G29 -> 0 | P43: ='18. Penzion Loštice'!G30 -> 0 | Q43: ='18. Penzion Loštice'!H30 -> 0 | R43: ='18. Penzion Loštice'!G28 -> 0 | S43: =R43-M43 -> 0
A45: 1650 | B45: § 4357 | C45: 1 | D45: Domov Paprsek Olšany, příspěvková organizace | E45: Olšany 105 | F45: 789 62 Olšany, Šumperk | G45: 21790828 | H45: 21798324 | I45: =H45-G45 -> 7495.59 | J45: 0 | L45: =I45-K45-J45 -> 7495.59 | M45: =IF((L45<0),0,L45) -> 7495.59 | N45: =IF((L45<0),L45,0) -> 0 | O45: ='19. Domov Paprsek Olšany'!G29 -> 0 | P45: ='19. Domov Paprsek Olšany'!G30 -> 7495.59 | Q45: ='19. Domov Paprsek Olšany'!H30 -> 0 | R45: ='19. Domov Paprsek Olšany'!G28 -> 7495.59 | S45: =R45-M45 -> 1.4915713e-10
O46: =O45/$R45 -> 0 | P46: =P45/$R45 -> 1 | R46: =Q46+P46+O46 -> 1
A47: 1651 | B47: § 4356 | C47: 1 | D47: Duha - centrum sociálních služeb Vikýřovice, příspěvková organizace | E47: Krenišovská 224 | F47: 788 13 Vikýřovice, Šumperk | G47: 5632424.7 | H47: 5632424.7 | I47: =H47-G47 -> 0 | J47: 0 | L47: =I47-K47-J47 -> 0 | M47: =IF((L47<0),0,L47) -> 0 | N47: =IF((L47<0),L47,0) -> 0 | O47: ='20. Duha Vikýřovice'!G29 -> 0 | P47: ='20. Duha Vikýřovice'!G30 -> 0 | Q47: ='20. Duha Vikýřovice'!H30 -> 0 | R47: ='20. Duha Vikýřovice'!G28 -> 0 | S47: =R47-M47 -> 0
...

Sheet 1. DD Javorník
A1: REKAPITULACE ZA ORGANIZACI :
A2: Název organizace : | E2: Domov pro seniory Javorník, příspěvková organizace
E3: ……………………………………….……..………………………………………..…………………………………
A4: Adresa : | E4: Školní 104 790 70 Javorník
E5: ……………………………………….……..………………………………………..…………………………………
A6: IĆ | E6: 75004101 | H6: ORG | I6: 1631
E7: ……………………………… ………….…..……………………………
E11: Schválený | F11: Upravený | G11: Skutečnost | H11: z toho:
E12: rozpočet | F12: rozpočet | G12: celkem | H12: Hlavní činnost | I12: Doplňková činnost
E13: celkem | F13: celkem | H13: jednotka - Kč na 2 des. místa
A15: a) Náklady a výnosy
A16: Náklady | E16: 15554000 | F16: 15554000 | G16: =H16+I16 -> 16132921 | H16: 16132921 | I16: 0
A18: Výnosy | E18: 14390000 | F18: 15554000 | G18: =H18+I18 -> 16136987 | H18: 16136987 | I18: 0
A21: Doplňující údaje :
C22: daň z příjmů,dodatečné odvody daně z příjmů (nákladová položka) | G22: =H22+I22 -> 0 | H22: 0 | I22: 0
A24: Výsledek hospodaření /po zdanění/ | G24: =ROUND(G18-G16-G22,2) -> 4066.11 | H24: =H18-H16-H22 -> 4066.11 | I24: =I18-I16-I22 -> 0
A28: b) | B28: Rozdělení výsledku hospodaření | G28: 4066.11
C29: - Návrh na příděly do fondů: | F29: Fond odměn | G29: 0
F30: Fond rezervní | G30: 4066.11
C31: - Způsob krytí ztráty : | F31: Ćástka | G31: 0
A35: c) | B35: Závazné ukazatele
F36: Schválená částka | G36: Skutečnost | I36: % plnění
A37: Limit mzdových prostředků | F37: 8344000 | G37: 8419003 | I37: =IF(F37=0,"nerozp.",G37/F37) -> 1.0089889
A38: Neinvestiční příspěvek /odpisy/ | F38: 335000 | G38: 333329 | I38: =IF(F38=0,"nerozp.",G38/F38) -> 0.99501194
A39: Neinvestiční příspěvek/nájemné/ | F39: 0 | G39: 0 | I39: =IF(F39=0,"nerozp.",G39/F39) -> nerozp.
A40: Odvody z investičního fondu /odpisy/ | F40: 269000 | G40: 269000 | I40: =IF(F40=0,"nerozp.",G40/F40) -> 1
A41: Odvody z investičního fondu /spolufin. akcí/ | F41: 0 | G41: 0 | I41: =IF(F41=0,"nerozp.",G41/F41) -> nerozp.
A42: Pozn. : | B42: Neinvestiční příspěvek - odpisy - příspěvková organizace vrátila částku 1 671,- Kč dne 10.1.2012 na účet Olom. kraje .
B43: Překročení limitu mzdových prostředků o 75 003,- Kč, jedná se o zapojení prostředků na mzdy, poskytnuté Úřadem práce a to ve výši 75 022 Kč ( 19,- Kč bylo nedočepáno z limitu mzdových prostředků).
A44: d) | B44: Fondy | H44: jednotka - Kč na 2 des. místa
E45: Stav k 1.1.2011 | F45: Tvorba | G45: Čerpání | H45: Stav k | I45: Finanční krytí k
H46: 40908 | I46: 40908
C49: Fond odměn | E49: 48600 | F49: 0 | G49: 0 | H49: =E49+F49-G49 -> 48600 | I49: 48600
C50: FKSP | E50: 163357.62 | F50: 83770 | G50: 161324 | H50: =E50+F50-G50 -> 85803.62 | I50: 54010.62
C51: Fond rezervní | E51: 157684.76 | F51: 503226.55 | G51: 657000 | H51: =E51+F51-G51 -> 3911.31 | I51: 3911.31
C52: Investiční fond | E52: 115914.8 | F52: 859329 | G52: 903629 | H52: =E52+F52-G52 -> 71614.8 | I52: 71614.8
A53: celkem | E53: =SUM(E49:E52) -> 485557.18 | F53: =SUM(F49:F52) -> 1446325.6 | G53: =SUM(G49:G52) -> 1721953 | H53: =SUM(H49:H52) -> 209929.73 | I53: =SUM(I49:I52) -> 178136.73

Sheet 2. DD Kobylá
A1: REKAPITULACE ZA ORGANIZACI :
A2: Název organizace : | E2: Domov důchodců Kobylá nad Vidnavkou, příspěvková organizace
E3: ……………………………………….……..………………………………………..…………………………………
A4: Adresa : | E4: Kobylá nad Vidnavkou 153, 790 65
E5: ……………………………………….……..………………………………………..…………………………………
A6: IĆ | E6: 75004127 | H6: ORG | I6: 1632
E7: ……………………………… ………….…..……………………………
E11: Schválený | F11: Upravený | G11: Skutečnost | H11: z toho:
E12: rozpočet | F12: rozpočet | G12: celkem | H12: Hlavní činnost | I12: Doplňková činnost
E13: celkem | F13: celkem | H13: jednotka - Kč na 2 des. místa
A15: a) Náklady a výnosy
A16: Náklady | E16: 26819000 | F16: 26837000 | G16: =H16+I16 -> 27320295 | H16: 27320295 | I16: 0
A18: Výnosy | E18: 24584000 | F18: 26837000 | G18: =H18+I18 -> 27322439 | H18: 27322439 | I18: 0
A21: Doplňující údaje :
C22: daň z příjmů,dodatečné odvody daně z příjmů (nákladová položka) | G22: =H22+I22 -> 0 | H22: 0 | I22: 0
A24: Výsledek hospodaření /po zdanění/ | G24: =ROUND(G18-G16-G22,2) -> 2143.79 | H24: =H18-H16-H22 -> 2143.79 | I24: =I18-I16-I22 -> 0
A28: b) | B28: Rozdělení výsledku hospodaření | G28: 2143.79
C29: - Návrh na příděly do fondů: | F29: Fond odměn | G29: 0
F30: Fond rezervní | G30: 2143.79
C31: - Způsob krytí ztráty : | F31: Ćástka | G31: 0
A35: c) | B35: Závazné ukazatele
F36: Schválená částka | G36: Skutečnost | I36: % plnění
A37: Limit mzdových prostředků | F37: 14455000 | G37: 14794939 | I37: =IF(F37=0,"nerozp.",G37/F37) -> 1.0235171
A38: Neinvestiční příspěvek /odpisy/ | F38: 313480 | G38: 316027 | I38: =IF(F38=0,"nerozp.",G38/F38) -> 1.0081249
A39: Neinvestiční příspěvek/nájemné/ | F39: 0 | G39: 0 | I39: =IF(F39=0,"nerozp.",G39/F39) -> nerozp.
A40: Odvody z investičního fondu /odpisy/ | F40: 250480 | G40: 250480 | I40: =IF(F40=0,"nerozp.",G40/F40) -> 1
A41: Odvody z investičního fondu /spolufin. akcí/ | F41: 0 | G41: 0 | I41: =IF(F41=0,"nerozp.",G41/F41) -> nerozp.
A42: Pozn. : | B42: Vynaložené odpisy nad stanovený limit byly finančně pokryty z provozních prostředků organizace-2 547,- Kč.
B43: Překročení limitu mzdových prostředků o 339 939,- Kč bylo způsobeno zapojením prostředků na mzdy, poskytnuté Úřadem práce v Olomouci na základě dohod o vyhrazení společensky účelného pracovního místa a o vytvoření pracovních příležitostí v rámci veřejně prospěšných prací.
A44: d) | B44: Fondy | H44: jednotka - Kč na 2 des. místa
E45: Stav k 1.1.2011 | F45: Tvorba | G45: Čerpání | H45: Stav k | I45: Finanční krytí k
H46: 40908 | I46: 40908
C49: Fond odměn | E49: 59270 | F49: 0 | G49: 0 | H49: =E49+F49-G49 -> 59270 | I49: 59270
C50: FKSP | E50: 137041.62 | F50: =0.32+151600 -> 151600.32 | G50: 207294 | H50: =E50+F50-G50 -> 81347.94 | I50: 41647.94
C51: Fond rezervní | E51: 86534.93 | F51: 63095.15 | G51: 92821 | H51: =E51+F51-G51 -> 56809.08 | I51: 56809.08
C52: Investiční fond | E52: 474254 | F52: 1664477 | G52: 1659251 | H52: =E52+F52-G52 -> 479480 | I52: 646980
A53: celkem | E53: =SUM(E49:E52) -> 757100.55 | F53: =SUM(F49:F52) -> 1879172.5 | G53: =SUM(G49:G52) -> 1959366 | H53: =SUM(H49:H52) -> 676907.02 | I53: =SUM(I49:I52) -> 804707.02

Sheet 3. Domov Sněženka Jeseník
A1: REKAPITULACE ZA ORGANIZACI :
A2: Název organizace : | E2: Domov Sněženka Jeseník, příspěvková organizace
E3: ……………………………………….……..………………………………………..…………………………………
A4: Adresa : | E4: Moravská 814/2, 790 01 Jeseník
E5: ……………………………………….……..………………………………………..…………………………………
A6: IĆ | E6: 75004097 | H6: ORG | I6: 1633
E7: ……………………………… ………….…..……………………………
E11: Schválený | F11: Upravený | G11: Skutečnost | H11: z toho:
E12: rozpočet | F12: rozpočet | G12: celkem | H12: Hlavní činnost | I12: Doplňková činnost
E13: celkem | F13: celkem | H13: jednotka - Kč na 2 des. místa
A15: a) Náklady a výnosy
A16: Náklady | E16: 29065000 | F16: 28966014 | G16: =H16+I16 -> 29342093 | H16: 29342093 | I16: 0
A18: Výnosy | E18: 27161000 | F18: 28966014 | G18: =H18+I18 -> 29351971 | H18: 29351971 | I18: 0
A21: Doplňující údaje :
C22: daň z příjmů,dodatečné odvody daně z příjmů (nákladová položka) | G22: =H22+I22 -> 0 | H22: 0 | I22: 0
A24: Výsledek hospodaření /po zdanění/ | G24: =ROUND(G18-G16-G22,2) -> 9877.46 | H24: =H18-H16-H22 -> 9877.46 | I24: =I18-I16-I22 -> 0
A28: b) | B28: Rozdělení výsledku hospodaření | G28: 9877.46
C29: - Návrh na příděly do fondů: | F29: Fond odměn | G29: 0
F30: Fond rezervní | G30: 9877.46
C31: - Způsob krytí ztráty : | F31: Ćástka | G31: 0
A35: c) | B35: Závazné ukazatele
F36: Schválená částka | G36: Skutečnost | I36: % plnění
A37: Limit mzdových prostředků | F37: 15160000 | G37: 15295243 | I37: =IF(F37=0,"nerozp.",G37/F37) -> 1.008921
A38: Neinvestiční příspěvek /odpisy/ | F38: 933458 | G38: 948551 | I38: =IF(F38=0,"nerozp.",G38/F38) -> 1.0161689
A39: Neinvestiční příspěvek/nájemné/ | F39: 0 | G39: 0 | I39: =IF(F39=0,"nerozp.",G39/F39) -> nerozp.
A40: Odvody z investičního fondu /odpisy/ | F40: 703458 | G40: 703458 | I40: =IF(F40=0,"nerozp.",G40/F40) -> 1
A41: Odvody z investičního fondu /spolufin. akcí/ | F41: 0 | G41: 0 | I41: =IF(F41=0,"nerozp.",G41/F41) -> nerozp.
A42: Pozn. : | B42: Vynaložené odpisy nad stanovený limit byly finančně pokryty z provozních prostředků organizace-15 093,- Kč.
B43: Překročení limitu mzdových prostředků o 135 243,- Kč, jedná se o zapojení prostředků na mzdy, poskytnuté Úřadem práce Jeseník a to ve výši 135 243,- Kč.
A44: d) | B44: Fondy | H44: jednotka - Kč na 2 des. místa
E45: Stav k 1.1.2011 | F45: Tvorba | G45: Čerpání | H45: Stav k | I45: Finanční krytí k
H46: 40908 | I46: 40908
C49: Fond odměn | E49: 2000.95 | F49: 0 | G49: 0 | H49: =E49+F49-G49 -> 2000.95 | I49: 2000.95
C50: FKSP | E50: 82054.44 | F50: 152667 | G50: 191369.35 | H50: =E50+F50-G50 -> 43352.09 | I50: 43352.09
C51: Fond rezervní | E51: 139264.5 | F51: 951144.55 | G51: 956723 | H51: =E51+F51-G51 -> 133686.05 | I51: 133686.05
C52: Investiční fond | E52: 250230.6 | F52: 2052551 | G52: 2287461 | H52: =E52+F52-G52 -> 15320.6 | I52: 15320.6
A53: celkem | E53: =SUM(E49:E52) -> 473550.49 | F53: =SUM(F49:F52) -> 3156362.5 | G53: =SUM(G49:G52) -> 3435553.4 | H53: =SUM(H49:H52) -> 194359.69 | I53: =SUM(I49:I52) -> 194359.69

Sheet 4. Středisko PS Jeseník
A1: REKAPITULACE ZA ORGANIZACI :
A2: Název organizace : | E2: Středisko pečovatelské služby Jeseník, , přísp. organizace
E3: ……………………………………….……..………………………………………..…………………………………
A4: Adresa : | E4: Otakara Březiny 1370/2c, 790 01 Jeseník
E5: ……………………………………….……..………………………………………..…………………………………
A6: IĆ | E6: 75004143 | H6: ORG | I6: 1634
E7: ……………………………… ………….…..……………………………
E11: Schválený | F11: Upravený | G11: Skutečnost | H11: z toho:
E12: rozpočet | F12: rozpočet | G12: celkem | H12: Hlavní činnost | I12: Doplňková činnost
E13: celkem | F13: celkem | H13: jednotka - Kč na 2 des. místa
A15: a) Náklady a výnosy
A16: Náklady | E16: 4262000 | F16: 4258022 | G16: =H16+I16 -> 4237850.9 | H16: 4237850.9 | I16: 0
A18: Výnosy | E18: 4262000 | F18: 4258022 | G18: =H18+I18 -> 4506850.9 | H18: 4506850.9 | I18: 0
A21: Doplňující údaje :
C22: daň z příjmů,dodatečné odvody daně z příjmů (nákladová položka) | G22: =H22+I22 -> 0 | H22: 0 | I22: 0
A24: Výsledek hospodaření /po zdanění/ | G24: =ROUND(G18-G16-G22,2) -> 269000.01 | H24: =H18-H16-H22 -> 269000.01 | I24: =I18-I16-I22 -> 0
A28: b) | B28: Rozdělení výsledku hospodaření | G28: 269000.01
C29: - Návrh na příděly do fondů: | F29: Fond odměn | G29: 0
F30: Fond rezervní | G30: 269000.01
C31: - Způsob krytí ztráty : | F31: Ćástka | G31: 0
A35: c) | B35: Závazné ukazatele
F36: Schválená částka | G36: Skutečnost | I36: % plnění
A37: Limit mzdových prostředků | F37: 2334000 | G37: 2387470 | I37: =IF(F37=0,"nerozp.",G37/F37) -> 1.0229092
A38: Neinvestiční příspěvek /odpisy/ | F38: 112000 | G38: 120623.1 | I38: =IF(F38=0,"nerozp.",G38/F38) -> 1.076992
A39: Neinvestiční příspěvek/nájemné/ | F39: 0 | G39: 0 | I39: =IF(F39=0,"nerozp.",G39/F39) -> nerozp.
A40: Odvody z investičního fondu /odpisy/ | F40: 84500 | G40: 84500 | I40: =IF(F40=0,"nerozp.",G40/F40) -> 1
A41: Odvody z investičního fondu /spolufin. akcí/ | F41: 0 | G41: 0 | I41: =IF(F41=0,"nerozp.",G41/F41) -> nerozp.
A42: Pozn. : | B42: Vynaložené odpisy nad stanovený limit byly finančně pokryty z provozních prostředků organizace-8 623,- Kč.
B43: Překročení limitu mzdových prostředků o 53 470 ,- Kč, jedná se o zapojení prostředků na mzdy, poskytnuté Úřadem práce Jeseník a to ve výši 53 129,- Kč a částka 341,- Kč byla čerpána z fondu odměn.
A44: d) | B44: Fondy | H44: jednotka - Kč na 2 des. místa
E45: Stav k 1.1.2011 | F45: Tvorba | G45: Čerpání | H45: Stav k | I45: Finanční krytí k
H46: 40908 | I46: 40908
C49: Fond odměn | E49: 59620 | F49: 0 | G49: 341 | H49: =E49+F49-G49 -> 59279 | I49: 59279
C50: FKSP | E50: 14506.4 | F50: 23974 | G50: 28508 | H50: =E50+F50-G50 -> 9972.4 | I50: 7332.52
C51: Fond rezervní | E51: 122875.24 | F51: 110767.53 | G51: 36090 | H51: =E51+F51-G51 -> 197552.77 | I51: 197552.77
C52: Investiční fond | E52: 103643.5 | F52: 120623.1 | G52: 157819 | H52: =E52+F52-G52 -> 66447.6 | I52: 66447.6
A53: celkem | E53: =SUM(E49:E52) -> 300645.14 | F53: =SUM(F49:F52) -> 255364.63 | G53: =SUM(G49:G52) -> 222758 | H53: =SUM(H49:H52) -> 333251.77 | I53: =SUM(I49:I52) -> 330611.89

Sheet 5. DD Červenka
A1: REKAPITULACE ZA ORGANIZACI :
A2: Název organizace : | E2: Domov důchodců Červenka, příspěvková organizace
E3: ……………………………………….……..………………………………………..…………………………………
A4: Adresa : | E4: Nádražní 105, Červenka
E5: ……………………………………….……..………………………………………..…………………………………
A6: IĆ | E6: 75004402 | H6: ORG | I6: 1635
E7: ……………………………… ………….…..……………………………
E11: Schválený | F11: Upravený | G11: Skutečnost | H11: z toho:
E12: rozpočet | F12: rozpočet | G12: celkem | H12: Hlavní činnost | I12: Doplňková činnost
E13: celkem | F13: celkem | H13: jednotka - Kč na 2 des. místa
A15: a) Náklady a výnosy
A16: Náklady | E16: 48773000 | F16: 49496498 | G16: =H16+I16 -> 49496498 | H16: 49496498 | I16: 0
A18: Výnosy | E18: 47140000 | F18: 49496498 | G18: =H18+I18 -> 49496498 | H18: 49496498 | I18: 0
A21: Doplňující údaje :
C22: daň z příjmů,dodatečné odvody daně z příjmů (nákladová položka) | G22: =H22+I22 -> 0 | H22: 0 | I22: 0
A24: Výsledek hospodaření /po zdanění/ | G24: =ROUND(G18-G16-G22,2) -> 0 | H24: =H18-H16-H22 -> 7.4505806e-09 | I24: =I18-I16-I22 -> 0
A28: b) | B28: Rozdělení výsledku hospodaření | G28: 0
C29: - Návrh na příděly do fondů: | F29: Fond odměn | G29: 0
F30: Fond rezervní | G30: 0
C31: - Způsob krytí ztráty : | F31: Ćástka | G31: 0
A35: c) | B35: Závazné ukazatele
F36: Schválená částka | G36: Skutečnost | I36: % plnění
A37: Limit mzdových prostředků | F37: 22274000 | G37: 22274000 | I37: =IF(F37=0,"nerozp.",G37/F37) -> 1
A38: Neinvestiční příspěvek /odpisy/ | F38: 826314 | G38: 841658 | I38: =IF(F38=0,"nerozp.",G38/F38) -> 1.0185692
A39: Neinvestiční příspěvek/nájemné/ | F39: 0 | G39: 0 | I39: =IF(F39=0,"nerozp.",G39/F39) -> nerozp.
A40: Odvody z investičního fondu /odpisy/ | F40: 647314 | G40: 647314 | I40: =IF(F40=0,"nerozp.",G40/F40) -> 1
A41: Odvody z investičního fondu /spolufin. akcí/ | F41: 0 | G41: 0 | I41: =IF(F41=0,"nerozp.",G41/F41) -> nerozp.
A42: Pozn. : | B42: Vynaložené odpisy nad stanovený limit byly finančně pokryty z provozních prostředků organizace-15 344,-Kč.
A44: d) | B44: Fondy | H44: jednotka - Kč na 2 des. místa
E45: Stav k 1.1.2011 | F45: Tvorba | G45: Čerpání | H45: Stav k | I45: Finanční krytí k
H46: 40908 | I46: 40908
C49: Fond odměn | E49: 1420 | F49: 0 | G49: 0 | H49: =E49+F49-G49 -> 1420 | I49: 1420
C50: FKSP | E50: 343367.32 | F50: 224176 | G50: 257372 | H50: =E50+F50-G50 -> 310171.32 | I50: 303445.58
C51: Fond rezervní | E51: 15586 | F51: 12000 | G51: 17291.5 | H51: =E51+F51-G51 -> 10294.5 | I51: 10294.5
C52: Investiční fond | E52: 2163.24 | F52: 1221708 | G52: 1223564 | H52: =E52+F52-G52 -> 307.24 | I52: 307.24
A53: celkem | E53: =SUM(E49:E52) -> 362536.56 | F53: =SUM(F49:F52) -> 1457884 | G53: =SUM(G49:G52) -> 1498227.5 | H53: =SUM(H49:H52) -> 322193.06 | I53: =SUM(I49:I52) -> 315467.32

Sheet 6.DD Náměšť na Hané
A1: REKAPITULACE ZA ORGANIZACI :
A2: Název organizace : | E2: Dům seniorů FRANTIŠEK Náměšť na Hané, , přísp. organizace
E3: ……………………………………….……..………………………………………..…………………………………
A4: Adresa : | E4: Komenského 291, 783 44 Náměšť na Hané
E5: ……………………………………….……..………………………………………..…………………………………
A6: IĆ | E6: 750 04 381 | H6: ORG | I6: 1636
E7: ……………………………… ………….…..……………………………
E11: Schválený | F11: Upravený | G11: Skutečnost | H11: z toho:
E12: rozpočet | F12: rozpočet | G12: celkem | H12: Hlavní činnost | I12: Doplňková činnost
E13: celkem | F13: celkem | H13: jednotka - Kč na 2 des. místa
A15: a) Náklady a výnosy
A16: Náklady | E16: 10768000 | F16: 10744102 | G16: =H16+I16 -> 10744102 | H16: 10744102 | I16: 0
A18: Výnosy | E18: 10288000 | F18: 10781778 | G18: =H18+I18 -> 10781778 | H18: 10781778 | I18: 0
A21: Doplňující údaje :
C22: daň z příjmů,dodatečné odvody daně z příjmů (nákladová položka) | G22: =H22+I22 -> 0 | H22: 0 | I22: 0
A24: Výsledek hospodaření /po zdanění/ | G24: =ROUND(G18-G16-G22,2) -> 37676.34 | H24: =H18-H16-H22 -> 37676.34 | I24: =I18-I16-I22 -> 0
A28: b) | B28: Rozdělení výsledku hospodaření | G28: 37676.34
C29: - Návrh na příděly do fondů: | F29: Fond odměn | G29: 0
F30: Fond rezervní | G30: 37676.34
C31: - Způsob krytí ztráty : | F31: Ćástka | G31: 0
A35: c) | B35: Závazné ukazatele
F36: Schválená částka | G36: Skutečnost | I36: % plnění
A37: Limit mzdových prostředků | F37: 5590000 | G37: 5590000 | I37: =IF(F37=0,"nerozp.",G37/F37) -> 1
A38: Neinvestiční příspěvek /odpisy/ | F38: 130563 | G38: 130563 | I38: =IF(F38=0,"nerozp.",G38/F38) -> 1
A39: Neinvestiční příspěvek/nájemné/ | F39: 0 | G39: 0 | I39: =IF(F39=0,"nerozp.",G39/F39) -> nerozp.
A40: Odvody z investičního fondu /odpisy/ | F40: 97923 | G40: 97923 | I40: =IF(F40=0,"nerozp.",G40/F40) -> 1
A41: Odvody z investičního fondu /spolufin. akcí/ | F41: 0 | G41: 0 | I41: =IF(F41=0,"nerozp.",G41/F41) -> nerozp.
A42: Pozn. :
A44: d) | B44: Fondy | H44: jednotka - Kč na 2 des. místa
E45: Stav k 1.1.2011 | F45: Tvorba | G45: Čerpání | H45: Stav k | I45: Finanční krytí k
H46: 40908 | I46: 40908
C49: Fond odměn | E49: 1556 | F49: 0 | G49: 0 | H49: =E49+F49-G49 -> 1556 | I49: 1556
C50: FKSP | E50: 63632.77 | F50: 55948 | G50: 82302 | H50: =E50+F50-G50 -> 37278.77 | I50: 35246.4
C51: Fond rezervní | E51: 154718.81 | F51: 185322.08 | G51: 307843 | H51: =E51+F51-G51 -> 32197.89 | I51: 32197.89
C52: Investiční fond | E52: 48948.7 | F52: 471563 | G52: 350823 | H52: =E52+F52-G52 -> 169688.7 | I52: 169688.7
A53: celkem | E53: =SUM(E49:E52) -> 268856.28 | F53: =SUM(F49:F52) -> 712833.08 | G53: =SUM(G49:G52) -> 740968 | H53: =SUM(H49:H52) -> 240721.36 | I53: =SUM(I49:I52) -> 238688.99

Sheet 7. DD Hrubá Voda
A1: REKAPITULACE ZA ORGANIZACI :
A2: Název organizace : | E2: Domov důchodců Hrubá Voda, přísp.organizace
E3: ……………………………………….……..………………………………………..…………………………………
A4: Adresa : | E4: Hrubá Voda 11. Hlubočky
E5: ……………………………………….……..………………………………………..…………………………………
A6: IĆ | E6: 75004399 | H6: ORG | I6: 1637
E7: ……………………………… ………….…..……………………………
E11: Schválený | F11: Upravený | G11: Skutečnost | H11: z toho:
E12: rozpočet | F12: rozpočet | G12: celkem | H12: Hlavní činnost | I12: Doplňková činnost
E13: celkem | F13: celkem | H13: jednotka - Kč na 2 des. místa
A15: a) Náklady a výnosy
A16: Náklady | E16: 23892000 | F16: 24659973 | G16: =H16+I16 -> 24812973 | H16: 24812973 | I16: 0
A18: Výnosy | E18: 21045000 | F18: 24680548 | G18: =H18+I18 -> 24833548 | H18: 24833548 | I18: 0
A21: Doplňující údaje :
C22: daň z příjmů,dodatečné odvody daně z příjmů (nákladová položka) | G22: =H22+I22 -> 0 | H22: 0 | I22: 0
A24: Výsledek hospodaření /po zdanění/ | G24: =ROUND(G18-G16-G22,2) -> 20574.52 | H24: =H18-H16-H22 -> 20574.52 | I24: =I18-I16-I22 -> 0
A28: b) | B28: Rozdělení výsledku hospodaření | G28: 20574.52
C29: - Návrh na příděly do fondů: | F29: Fond odměn | G29: 0
F30: Fond rezervní | G30: 20574.52
C31: - Způsob krytí ztráty : | F31: Ćástka | G31: 0
A35: c) | B35: Závazné ukazatele
F36: Schválená částka | G36: Skutečnost | I36: % plnění
A37: Limit mzdových prostředků | F37: 11856000 | G37: 12009000 | I37: =IF(F37=0,"nerozp.",G37/F37) -> 1.0129049
A38: Neinvestiční příspěvek /odpisy/ | F38: 867570 | G38: 903676 | I38: =IF(F38=0,"nerozp.",G38/F38) -> 1.0416174
A39: Neinvestiční příspěvek/nájemné/ | F39: 0 | G39: 0 | I39: =IF(F39=0,"nerozp.",G39/F39) -> nerozp.
A40: Odvody z investičního fondu /odpisy/ | F40: 675570 | G40: 675570 | I40: =IF(F40=0,"nerozp.",G40/F40) -> 1
A41: Odvody z investičního fondu /spolufin. akcí/ | F41: 0 | G41: 0 | I41: =IF(F41=0,"nerozp.",G41/F41) -> nerozp.
A42: Pozn. : | B42: Vynaložené odpisy nad stanovený limit byly finančně pokryty z provozních prostředků organizace-36 106,-Kč.
B43: Překročení limitu mzdových prostředků o 153 000,- Kč, což bylo způsobeno zapojením prostředků na mzdy poskytnuté Úřadem práce Olomouc.
A44: d) | B44: Fondy | H44: jednotka - Kč na 2 des. místa
E45: Stav k 1.1.2011 | F45: Tvorba | G45: Čerpání | H45: Stav k | I45: Finanční krytí k
H46: 40908 | I46: 40908
C49: Fond odměn | E49: 9960 | F49: 0 | G49: 0 | H49: =E49+F49-G49 -> 9960 | I49: 9960
C50: FKSP | E50: 642036.29 | F50: 329781 | G50: 421132 | H50: =E50+F50-G50 -> 550685.29 | I50: 239370.07
C51: Fond rezervní | E51: 69041.7 | F51: 118053.15 | G51: 12704 | H51: =E51+F51-G51 -> 174390.85 | I51: 174390.85
C52: Investiční fond | E52: =192700.3+0.4 -> 192700.7 | F52: =5644543 -> 5644543 | G52: 5516337 | H52: =E52+F52-G52 -> 320906.7 | I52: 320906.7
A53: celkem | E53: =SUM(E49:E52) -> 913738.69 | F53: =SUM(F49:F52) -> 6092377.2 | G53: =SUM(G49:G52) -> 5950173 | H53: =SUM(H49:H52) -> 1055942.8 | I53: =SUM(I49:I52) -> 744627.62

Sheet 8. Domov seniorů Chválkovice
A1: REKAPITULACE ZA ORGANIZACI :
A2: Název organizace : | E2: Domov seniorů POHODA Chválkovice, přísp. organizace
E3: ……………………………………….……..………………………………………..…………………………………
A4: Adresa : | E4: Švabinského 3, 772 00 Olomouc
E5: ……………………………………….……..………………………………………..…………………………………
A6: IĆ | E6: 75004372 | H6: ORG | I6: 1638
E7: ……………………………… ………….…..……………………………
E11: Schválený | F11: Upravený | G11: Skutečnost | H11: z toho:
E12: rozpočet | F12: rozpočet | G12: celkem | H12: Hlavní činnost | I12: Doplňková činnost
E13: celkem | F13: celkem | H13: jednotka - Kč na 2 des. místa
A15: a) Náklady a výnosy
A16: Náklady | E16: 87530000 | F16: 82462847 | G16: =H16+I16 -> 83241855 | H16: 83241855 | I16: 0
A18: Výnosy | E18: 80720000 | F18: 82462847 | G18: =H18+I18 -> 83251441 | H18: 83251441 | I18: 0
A21: Doplňující údaje :
C22: daň z příjmů,dodatečné odvody daně z příjmů (nákladová položka) | G22: =H22+I22 -> 0 | H22: 0 | I22: 0
A24: Výsledek hospodaření /po zdanění/ | G24: =ROUND(G18-G16-G22,2) -> 9585.85 | H24: =H18-H16-H22 -> 9585.85 | I24: =I18-I16-I22 -> 0
A28: b) | B28: Rozdělení výsledku hospodaření | G28: 9585.85
C29: - Návrh na příděly do fondů: | F29: Fond odměn | G29: 0
F30: Fond rezervní | G30: 9585.85
C31: - Způsob krytí ztráty : | F31: Ćástka | G31: 0
A35: c) | B35: Závazné ukazatele
F36: Schválená částka | G36: Skutečnost | I36: % plnění
A37: Limit mzdových prostředků | F37: 41203000 | G37: 41203000 | I37: =IF(F37=0,"nerozp.",G37/F37) -> 1
A38: Neinvestiční příspěvek /odpisy/ | F38: 1216000 | G38: 1374890 | I38: =IF(F38=0,"nerozp.",G38/F38) -> 1.1306661
A39: Neinvestiční příspěvek/nájemné/ | F39: 0 | G39: 0 | I39: =IF(F39=0,"nerozp.",G39/F39) -> nerozp.
A40: Odvody z investičního fondu /odpisy/ | F40: 980000 | G40: 980000 | I40: =IF(F40=0,"nerozp.",G40/F40) -> 1
A41: Odvody z investičního fondu /spolufin. akcí/ | F41: 0 | G41: 0 | I41: =IF(F41=0,"nerozp.",G41/F41) -> nerozp.
A42: Pozn. : | B42: Vynaložené odpisy nad stanovený limit byly finančně pokryty z provozních prostředků organizace-158 890,- Kč.
A44: d) | B44: Fondy | H44: jednotka - Kč na 2 des. místa
E45: Stav k 1.1.2011 | F45: Tvorba | G45: Čerpání | H45: Stav k | I45: Finanční krytí k
H46: 40908 | I46: 40908
C49: Fond odměn | E49: 29950 | F49: 0 | G49: 0 | H49: =E49+F49-G49 -> 29950 | I49: 29950
C50: FKSP | E50: 113656.79 | F50: 412375 | G50: 450035 | H50: =E50+F50-G50 -> 75996.79 | I50: 46679.37
C51: Fond rezervní | E51: 32082.85 | F51: 22416.94 | G51: 1000 | H51: =E51+F51-G51 -> 53499.79 | I51: 53499.79
C52: Investiční fond | E52: 287954.5 | F52: 1821390 | G52: 1613095.4 | H52: =E52+F52-G52 -> 496249.1 | I52: 176249.1
A53: celkem | E53: =SUM(E49:E52) -> 463644.14 | F53: =SUM(F49:F52) -> 2256181.9 | G53: =SUM(G49:G52) -> 2064130.4 | H53: =SUM(H49:H52) -> 655695.68 | I53: =SUM(I49:I52) -> 306378.26

Sheet 9. Sociální služby Olomouc
A1: REKAPITULACE ZA ORGANIZACI :
A2: Název organizace : | E2: Sociální služby pro seniory Olomouc, přísp. organizace
E3: ……………………………………….……..………………………………………..…………………………………
A4: Adresa : | E4: Zikova 618/14, 770 10 Olomouc
E5: ……………………………………….……..………………………………………..…………………………………
A6: IĆ | E6: 75004259 | H6: ORG | I6: 1639
E7: ……………………………… ………….…..……………………………
E11: Schválený | F11: Upravený | G11: Skutečnost | H11: z toho:
E12: rozpočet | F12: rozpočet | G12: celkem | H12: Hlavní činnost | I12: Doplňková činnost
E13: celkem | F13: celkem | H13: jednotka - Kč na 2 des. místa
A15: a) Náklady a výnosy
A16: Náklady | E16: 55730000 | F16: 56533269 | G16: =H16+I16 -> 56329182 | H16: 56329182 | I16: 0
A18: Výnosy | E18: 52127000 | F18: 56533269 | G18: =H18+I18 -> 56330774 | H18: 56330774 | I18: 0
A21: Doplňující údaje :
C22: daň z příjmů,dodatečné odvody daně z příjmů (nákladová položka) | G22: =H22+I22 -> 0 | H22: 0 | I22: 0
A24: Výsledek hospodaření /po zdanění/ | G24: =ROUND(G18-G16-G22,2) -> 1592.8 | H24: =H18-H16-H22 -> 1592.8 | I24: =I18-I16-I22 -> 0
A28: b) | B28: Rozdělení výsledku hospodaření | G28: 1592.8
C29: - Návrh na příděly do fondů: | F29: Fond odměn | G29: 0
F30: Fond rezervní | G30: 1592.8
C31: - Způsob krytí ztráty : | F31: Ćástka | G31: 0
A35: c) | B35: Závazné ukazatele
F36: Schválená částka | G36: Skutečnost | I36: % plnění
A37: Limit mzdových prostředků | F37: 27096000 | G37: 27096000 | I37: =IF(F37=0,"nerozp.",G37/F37) -> 1
A38: Neinvestiční příspěvek /odpisy/ | F38: 1458105 | G38: 1458105 | I38: =IF(F38=0,"nerozp.",G38/F38) -> 1
A39: Neinvestiční příspěvek/nájemné/ | F39: 0 | G39: 0 | I39: =IF(F39=0,"nerozp.",G39/F39) -> nerozp.
A40: Odvody z investičního fondu /odpisy/ | F40: 1168105 | G40: 1168105 | I40: =IF(F40=0,"nerozp.",G40/F40) -> 1
A41: Odvody z investičního fondu /spolufin. akcí/ | F41: 0 | G41: 0 | I41: =IF(F41=0,"nerozp.",G41/F41) -> nerozp.
A42: Pozn. :
A44: d) | B44: Fondy | H44: jednotka - Kč na 2 des. místa
E45: Stav k 1.1.2011 | F45: Tvorba | G45: Čerpání | H45: Stav k | I45: Finanční krytí k
H46: 40908 | I46: 40908
C49: Fond odměn | E49: 2565 | F49: 0 | G49: 0 | H49: =E49+F49-G49 -> 2565 | I49: 2565
C50: FKSP | E50: 55938.17 | F50: 267903 | G50: 249222 | H50: =E50+F50-G50 -> 74619.17 | I50: 60927.11
C51: Fond rezervní | E51: 7142.43 | F51: 16227.01 | G51: 16000 | H51: =E51+F51-G51 -> 7369.44 | I51: 7369.44
C52: Investiční fond | E52: 144613 | F52: 2735105 | G52: 2723409.4 | H52: =E52+F52-G52 -> 156308.6 | I52: 156308.6
A53: celkem | E53: =SUM(E49:E52) -> 210258.6 | F53: =SUM(F49:F52) -> 3019235 | G53: =SUM(G49:G52) -> 2988631.4 | H53: =SUM(H49:H52) -> 240862.21 | I53: =SUM(I49:I52) -> 227170.15

Sheet 10. Vincentinum
A1: REKAPITULACE ZA ORGANIZACI :
A2: Název organizace : | E2: Vincentinum - poskytovatel sociálních služeb Šternberk,p.o.
E3: ……………………………………….……..………………………………………..…………………………………
A4: Adresa : | E4: Sadová 7, 785 01 Šternberk
E5: ……………………………………….……..………………………………………..…………………………………
A6: IĆ | E6: 75004429 | H6: ORG | I6: 1640
E7: ……………………………… ………….…..……………………………
E11: Schválený | F11: Upravený | G11: Skutečnost | H11: z toho:
E12: rozpočet | F12: rozpočet | G12: celkem | H12: Hlavní činnost | I12: Doplňková činnost
E13: celkem | F13: celkem | H13: jednotka - Kč na 2 des. místa
A15: a) Náklady a výnosy
A16: Náklady | E16: 82428000 | F16: 81906102 | G16: =H16+I16 -> 81992888 | H16: 81992888 | I16: 0
A18: Výnosy | E18: 74971000 | F18: 81906102 | G18: =H18+I18 -> 81993107 | H18: 81993107 | I18: 0
A21: Doplňující údaje :
C22: daň z příjmů,dodatečné odvody daně z příjmů (nákladová položka) | G22: =H22+I22 -> 0 | H22: 0 | I22: 0
A24: Výsledek hospodaření /po zdanění/ | G24: =ROUND(G18-G16-G22,2) -> 218.84 | H24: =H18-H16-H22 -> 218.84 | I24: =I18-I16-I22 -> 0
A28: b) | B28: Rozdělení výsledku hospodaření | G28: 218.84
C29: - Návrh na příděly do fondů: | F29: Fond odměn | G29: 0
F30: Fond rezervní | G30: 218.84
C31: - Způsob krytí ztráty : | F31: Ćástka | G31: 0
A35: c) | B35: Závazné ukazatele
F36: Schválená částka | G36: Skutečnost | I36: % plnění
A37: Limit mzdových prostředků | F37: 42941000 | G37: 43904570 | I37: =IF(F37=0,"nerozp.",G37/F37) -> 1.0224394
A38: Neinvestiční příspěvek /odpisy/ | F38: 944102 | G38: 944102 | I38: =IF(F38=0,"nerozp.",G38/F38) -> 1
A39: Neinvestiční příspěvek/nájemné/ | F39: 0 | G39: 0 | I39: =IF(F39=0,"nerozp.",G39/F39) -> nerozp.
A40: Odvody z investičního fondu /odpisy/ | F40: 730102 | G40: 730102 | I40: =IF(F40=0,"nerozp.",G40/F40) -> 1
A41: Odvody z investičního fondu /spolufin. akcí/ | F41: 0 | G41: 0 | I41: =IF(F41=0,"nerozp.",G41/F41) -> nerozp.
A42: Pozn. :
B43: Překročení limitu mzdových prostředků o 963 570,- Kč. Z toho 960 048,- Kč bylo způsobeno zapojením prostředků na mzdy, poskytnuté Úřadem práce v Olomouci na základě dohod a 3 522,- Kč byly hrazeny z fondu odměn na odměny vyplacené zaměstnancům v prosinci 2011.
A44: d) | B44: Fondy | H44: jednotka - Kč na 2 des. místa
E45: Stav k 1.1.2011 | F45: Tvorba | G45: Čerpání | H45: Stav k | I45: Finanční krytí k
H46: 40908 | I46: 40908
C49: Fond odměn | E49: 22806 | F49: 0 | G49: 3522 | H49: =E49+F49-G49 -> 19284 | I49: 19284
C50: FKSP | E50: 317753.67 | F50: 440194.86 | G50: 655588 | H50: =E50+F50-G50 -> 102360.53 | I50: 120289.05
C51: Fond rezervní | E51: 579344.61 | F51: 10077.45 | G51: 443828.19 | H51: =E51+F51-G51 -> 145593.87 | I51: 145593.87
C52: Investiční fond | E52: 166085.4 | F52: 1445350 | G52: 1144102 | H52: =E52+F52-G52 -> 467333.4 | I52: 467333.4
A53: celkem | E53: =SUM(E49:E52) -> 1085989.7 | F53: =SUM(F49:F52) -> 1895622.3 | G53: =SUM(G49:G52) -> 2247040.2 | H53: =SUM(H49:H52) -> 734571.8 | I53: =SUM(I49:I52) -> 752500.32

Sheet 11. Klíč
A1: REKAPITULACE ZA ORGANIZACI :
A2: Název organizace : | E2: Klíč - centrum sociálních služeb Olomouc, přísp. organizace
E3: ……………………………………….……..………………………………………..…………………………………
A4: Adresa : | E4: Dolní Hejčínská 28, 779 00 Olomouc
E5: ……………………………………….……..………………………………………..…………………………………
A6: IĆ | E6: 70890595 | H6: ORG | I6: 1641
E7: ……………………………… ………….…..……………………………
E11: Schválený | F11: Upravený | G11: Skutečnost | H11: z toho:
E12: rozpočet | F12: rozpočet | G12: celkem | H12: Hlavní činnost | I12: Doplňková činnost
E13: celkem | F13: celkem | H13: jednotka - Kč na 2 des. místa
A15: a) Náklady a výnosy
A16: Náklady | E16: 23284000 | F16: 23107369 | G16: =H16+I16 -> 23331169 | H16: 23331169 | I16: 0
A18: Výnosy | E18: 20954000 | F18: 22527118 | G18: =H18+I18 -> 23331556 | H18: 23331556 | I18: 0
A21: Doplňující údaje :
C22: daň z příjmů,dodatečné odvody daně z příjmů (nákladová položka) | G22: =H22+I22 -> 0 | H22: 0 | I22: 0
A24: Výsledek hospodaření /po zdanění/ | G24: =ROUND(G18-G16-G22,2) -> 386.89 | H24: =H18-H16-H22 -> 386.89 | I24: =I18-I16-I22 -> 0
A28: b) | B28: Rozdělení výsledku hospodaření | G28: 386.89
C29: - Návrh na příděly do fondů: | F29: Fond odměn | G29: 0
F30: Fond rezervní | G30: 386.89
C31: - Způsob krytí ztráty : | F31: Ćástka | G31: 0
A35: c) | B35: Závazné ukazatele
F36: Schválená částka | G36: Skutečnost | I36: % plnění
A37: Limit mzdových prostředků | F37: 12865000 | G37: 12898254 | I37: =IF(F37=0,"nerozp.",G37/F37) -> 1.0025848
A38: Neinvestiční příspěvek /odpisy/ | F38: 672369 | G38: 674495 | I38: =IF(F38=0,"nerozp.",G38/F38) -> 1.003162
A39: Neinvestiční příspěvek/nájemné/ | F39: 0 | G39: 0 | I39: =IF(F39=0,"nerozp.",G39/F39) -> nerozp.
A40: Odvody z investičního fondu /odpisy/ | F40: 506369 | G40: 506369 | I40: =IF(F40=0,"nerozp.",G40/F40) -> 1
A41: Odvody z investičního fondu /spolufin. akcí/ | F41: 0 | G41: 0 | I41: =IF(F41=0,"nerozp.",G41/F41) -> nerozp.
A42: Pozn. : | B42: Vynaložené odpisy nad stanovený limit byly finančně pokryty z provozních prostředků organizace-2 126,- Kč.
B43: Překročení limitu mzdových prostředků o 33 254,- Kč., bylo způsobeno zapojením prostředků na mzdy, poskytnuté Úřadem práce v rámci dohody o vyhrazení společensky účelného pracovního místa (10 448,- Kč) a dohod o zabezpečení vzdělávacích aktivit zaměstnanců v rámci projektu „Vzdělávejte se pro růst“ (22 806,-Kč).
A44: d) | B44: Fondy | H44: jednotka - Kč na 2 des. místa
E45: Stav k 1.1.2011 | F45: Tvorba | G45: Čerpání | H45: Stav k | I45: Finanční krytí k
H46: 40908 | I46: 40908
C49: Fond odměn | E49: 14270 | F49: 0 | G49: 0 | H49: =E49+F49-G49 -> 14270 | I49: 14270
C50: FKSP | E50: 226043.89 | F50: 128611 | G50: 178027 | H50: =E50+F50-G50 -> 176627.89 | I50: 170765.7
C51: Fond rezervní | E51: 333475.45 | F51: 363312.3 | G51: 111275 | H51: =E51+F51-G51 -> 585512.75 | I51: 585512.75
C52: Investiční fond | E52: 207425.8 | F52: 1996180 | G52: 1863027 | H52: =E52+F52-G52 -> 340578.8 | I52: 340578.8
A53: celkem | E53: =SUM(E49:E52) -> 781215.14 | F53: =SUM(F49:F52) -> 2488103.3 | G53: =SUM(G49:G52) -> 2152329 | H53: =SUM(H49:H52) -> 1116989.4 | I53: =SUM(I49:I52) -> 1111127.2

Sheet 12. Nové Zámky
A1: REKAPITULACE ZA ORGANIZACI :
A2: Název organizace : | E2: Nové Zámky-poskytovatel sociálních služeb,přísp. organizace
E3: ……………………………………….……..………………………………………..…………………………………
A4: Adresa : | E4: Mladeč,Nové Zámky č.p.2,Litovel, 784 01
E5: ……………………………………….……..………………………………………..…………………………………
A6: IĆ | E6: 70890871 | H6: ORG | I6: 1642
E7: ……………………………… ………….…..……………………………
E11: Schválený | F11: Upravený | G11: Skutečnost | H11: z toho:
E12: rozpočet | F12: rozpočet | G12: celkem | H12: Hlavní činnost | I12: Doplňková činnost
E13: celkem | F13: celkem | H13: jednotka - Kč na 2 des. místa
A15: a) Náklady a výnosy
A16: Náklady | E16: 69351000 | F16: 68077684 | G16: =H16+I16 -> 68077684 | H16: 68077684 | I16: 0
A18: Výnosy | E18: 63191000 | F18: 68077684 | G18: =H18+I18 -> 68077684 | H18: 68077684 | I18: 0
A21: Doplňující údaje :
C22: daň z příjmů,dodatečné odvody daně z příjmů (nákladová položka) | G22: =H22+I22 -> 0 | H22: 0 | I22: 0
A24: Výsledek hospodaření /po zdanění/ | G24: =ROUND(G18-G16-G22,2) -> 0 | H24: =H18-H16-H22 -> -2.9802322e-08 | I24: =I18-I16-I22 -> 0
A28: b) | B28: Rozdělení výsledku hospodaření | G28: 0
C29: - Návrh na příděly do fondů: | F29: Fond odměn | G29: 0
F30: Fond rezervní | G30: 0
C31: - Způsob krytí ztráty : | F31: Ćástka | G31: 0
A35: c) | B35: Závazné ukazatele
F36: Schválená částka | G36: Skutečnost | I36: % plnění
A37: Limit mzdových prostředků | F37: 35128000 | G37: 35128000 | I37: =IF(F37=0,"nerozp.",G37/F37) -> 1
A38: Neinvestiční příspěvek /odpisy/ | F38: 2004664 | G38: 2004728.8 | I38: =IF(F38=0,"nerozp.",G38/F38) -> 1.0000323
A39: Neinvestiční příspěvek/nájemné/ | F39: 0 | G39: 0 | I39: =IF(F39=0,"nerozp.",G39/F39) -> nerozp.
A40: Odvody z investičního fondu /odpisy/ | F40: 1544664 | G40: 1544664 | I40: =IF(F40=0,"nerozp.",G40/F40) -> 1
A41: Odvody z investičního fondu /spolufin. akcí/ | F41: 0 | G41: 0 | I41: =IF(F41=0,"nerozp.",G41/F41) -> nerozp.
A42: Pozn. : | B42: Vynaložené odpisy nad stanovený limit byly finančně pokryty z provozních prostředků organizace-64,80 Kč.
A44: d) | B44: Fondy | H44: jednotka - Kč na 2 des. místa
E45: Stav k 1.1.2011 | F45: Tvorba | G45: Čerpání | H45: Stav k | I45: Finanční krytí k
H46: 40908 | I46: 40908
C49: Fond odměn | E49: 52000 | F49: 0 | G49: 0 | H49: =E49+F49-G49 -> 52000 | I49: 52000
C50: FKSP | E50: 1202456.3 | F50: 350510 | G50: 521801 | H50: =E50+F50-G50 -> 1031165.3 | I50: 954934.33
C51: Fond rezervní | E51: 105465.33 | F51: 144308.86 | G51: 111069.28 | H51: =E51+F51-G51 -> 138704.91 | I51: 138704.91
C52: Investiční fond | E52: 218533.58 | F52: 2603107.8 | G52: 2792529 | H52: =E52+F52-G52 -> 29112.38 | I52: 29112.38
A53: celkem | E53: =SUM(E49:E52) -> 1578455.2 | F53: =SUM(F49:F52) -> 3097926.7 | G53: =SUM(G49:G52) -> 3425399.3 | H53: =SUM(H49:H52) -> 1250982.6 | I53: =SUM(I49:I52) -> 1174751.6

Sheet 13. Středisko soc. prevence
A1: REKAPITULACE ZA ORGANIZACI :
A2: Název organizace : | E2: Středisko sociální prevence Olomouc, , přísp. organizace
E3: ……………………………………….……..………………………………………..…………………………………
A4: Adresa : | E4: Na Vozovce 26, 779 00 Olomouc
E5: ……………………………………….……..………………………………………..…………………………………
A6: IĆ | E6: 75004437 | H6: ORG | I6: 1644
E7: ……………………………… ………….…..……………………………
E11: Schválený | F11: Upravený | G11: Skutečnost | H11: z toho:
E12: rozpočet | F12: rozpočet | G12: celkem | H12: Hlavní činnost | I12: Doplňková činnost
E13: celkem | F13: celkem | H13: jednotka - Kč na 2 des. místa
A15: a) Náklady a výnosy
A16: Náklady | E16: 23097000 | F16: 20398009 | G16: =H16+I16 -> 19368443 | H16: 19368443 | I16: 0
A18: Výnosy | E18: 20916000 | F18: 20405229 | G18: =H18+I18 -> 19664875 | H18: 19664875 | I18: 0
A21: Doplňující údaje :
C22: daň z příjmů,dodatečné odvody daně z příjmů (nákladová položka) | G22: =H22+I22 -> 7220 | H22: 7220 | I22: 0
A24: Výsledek hospodaření /po zdanění/ | G24: =ROUND(G18-G16-G22,2) -> 289211.74 | H24: =H18-H16-H22 -> 289211.74 | I24: =I18-I16-I22 -> 0
A28: b) | B28: Rozdělení výsledku hospodaření | G28: 289211.74
C29: - Návrh na příděly do fondů: | F29: Fond odměn | G29: 0
F30: Fond rezervní | G30: 289211.74
C31: - Způsob krytí ztráty : | F31: Ćástka | G31: 0
A35: c) | B35: Závazné ukazatele
F36: Schválená částka | G36: Skutečnost | I36: % plnění
A37: Limit mzdových prostředků | F37: 13416000 | G37: 11266392 | I37: =IF(F37=0,"nerozp.",G37/F37) -> 0.83977281
A38: Neinvestiční příspěvek /odpisy/ | F38: 159490 | G38: 159639 | I38: =IF(F38=0,"nerozp.",G38/F38) -> 1.0009342
A39: Neinvestiční příspěvek/nájemné/ | F39: 0 | G39: 0 | I39: =IF(F39=0,"nerozp.",G39/F39) -> nerozp.
A40: Odvody z investičního fondu /odpisy/ | F40: 130490 | G40: 130490 | I40: =IF(F40=0,"nerozp.",G40/F40) -> 1
A41: Odvody z investičního fondu /spolufin. akcí/ | F41: 0 | G41: 0 | I41: =IF(F41=0,"nerozp.",G41/F41) -> nerozp.
A42: Pozn. : | B42: Vynaložené odpisy nad stanovený limit byly finančně pokryty z provozních prostředků organizace- 149,- Kč.
B43: Nedočerpání limitu mzdových prostředků o 2 149 608,- Kč., bylo způsobeno zrušením pracovních míst, změnami platových výměrů, nedočerpáním plánovaných fin. prostředků v poradnách pro rodinu. Další nedočerpání bylo způsobeno pracovní neschopností zaměstnanců, plánované pracovní místo sociální pracovník v Sociálně aktivizační službě pro rodiny s dětmi nebylo obsazeno z důvodu nižšího počtu klientů.
A44: d) | B44: Fondy | H44: jednotka - Kč na 2 des. místa
E45: Stav k 1.1.2011 | F45: Tvorba | G45: Čerpání | H45: Stav k | I45: Finanční krytí k
H46: 40908 | I46: 40908
C49: Fond odměn | E49: 7200 | F49: 0 | G49: 0 | H49: =E49+F49-G49 -> 7200 | I49: 7200
C50: FKSP | E50: 138111.2 | F50: 91547 | G50: 149625 | H50: =E50+F50-G50 -> 80033.2 | I50: 70857.44
C51: Fond rezervní | E51: 785471.76 | F51: 437186.3 | G51: 490000 | H51: =E51+F51-G51 -> 732658.06 | I51: 732658.06
C52: Investiční fond | E52: 38630.73 | F52: 649639 | G52: 608331 | H52: =E52+F52-G52 -> 79938.73 | I52: 126621.73
A53: celkem | E53: =SUM(E49:E52) -> 969413.69 | F53: =SUM(F49:F52) -> 1178372.3 | G53: =SUM(G49:G52) -> 1247956 | H53: =SUM(H49:H52) -> 899829.99 | I53: =SUM(I49:I52) -> 937337.23

Sheet 14. DD Šumperk
A1: REKAPITULACE ZA ORGANIZACI :
A2: Název organizace : | E2: Domov důchodců Šumperk, příspěvková organizace
E3: ……………………………………….……..………………………………………..…………………………………
A4: Adresa : | E4: Šumperk, U sanatoria 25
E5: ……………………………………….……..………………………………………..…………………………………
A6: IĆ | E6: 75004011 | H6: ORG | I6: 1645
E7: ……………………………… ………….…..……………………………
E11: Schválený | F11: Upravený | G11: Skutečnost | H11: z toho:
E12: rozpočet | F12: rozpočet | G12: celkem | H12: Hlavní činnost | I12: Doplňková činnost
E13: celkem | F13: celkem | H13: jednotka - Kč na 2 des. místa
A15: a) Náklady a výnosy
A16: Náklady | E16: 58858000 | F16: 57264001 | G16: =H16+I16 -> 57599558 | H16: 57599558 | I16: 0
A18: Výnosy | E18: 55417000 | F18: 57264001 | G18: =H18+I18 -> 57637253 | H18: 57637253 | I18: 0
A21: Doplňující údaje :
C22: daň z příjmů,dodatečné odvody daně z příjmů (nákladová položka) | G22: =H22+I22 -> 0 | H22: 0 | I22: 0
A24: Výsledek hospodaření /po zdanění/ | G24: =ROUND(G18-G16-G22,2) -> 37694.68 | H24: =H18-H16-H22 -> 37694.68 | I24: =I18-I16-I22 -> 0
A28: b) | B28: Rozdělení výsledku hospodaření | G28: 37694.68
C29: - Návrh na příděly do fondů: | F29: Fond odměn | G29: 0
F30: Fond rezervní | G30: 37694.68
C31: - Způsob krytí ztráty : | F31: Ćástka | G31: 0
A35: c) | B35: Závazné ukazatele
F36: Schválená částka | G36: Skutečnost | I36: % plnění
A37: Limit mzdových prostředků | F37: 29850000 | G37: 28952929 | I37: =IF(F37=0,"nerozp.",G37/F37) -> 0.96994737
A38: Neinvestiční příspěvek /odpisy/ | F38: 1389000 | G38: 1423075.1 | I38: =IF(F38=0,"nerozp.",G38/F38) -> 1.0245321
A39: Neinvestiční příspěvek/nájemné/ | F39: 0 | G39: 0 | I39: =IF(F39=0,"nerozp.",G39/F39) -> nerozp.
A40: Odvody z investičního fondu /odpisy/ | F40: 1070000 | G40: 1070000 | I40: =IF(F40=0,"nerozp.",G40/F40) -> 1
A41: Odvody z investičního fondu /spolufin. akcí/ | F41: 0 | G41: 0 | I41: =IF(F41=0,"nerozp.",G41/F41) -> nerozp.
A42: Pozn. : | B42: Vynaložené odpisy nad stanovený limit byly finančně pokryty z provozních prostředků organizace-34 075,14 Kč.
B43: Nedočerpání limitu mzdových prostředků o 897 071,- Kč., bylo způsobeno přijetím úsporných opatření v této oblasti. Další nedočerpání bylo způsobeno dlouhodobou pracovní neschopností zaměstnanců.
A44: d) | B44: Fondy | H44: jednotka - Kč na 2 des. místa
E45: Stav k 1.1.2011 | F45: Tvorba | G45: Čerpání | H45: Stav k | I45: Finanční krytí k
H46: 40908 | I46: 40908
C49: Fond odměn | E49: 116200 | F49: 0 | G49: 0 | H49: =E49+F49-G49 -> 116200 | I49: 116200
C50: FKSP | E50: 962382.33 | F50: 291504 | G50: 393883 | H50: =E50+F50-G50 -> 860003.33 | I50: 670572.55
C51: Fond rezervní | E51: 169898.28 | F51: 14589.23 | G51: 0 | H51: =E51+F51-G51 -> 184487.51 | I51: 184487.51
C52: Investiční fond | E52: 297323.76 | F52: 3654964.1 | G52: 3849185.6 | H52: =E52+F52-G52 -> 103102.3 | I52: 103102.3
A53: celkem | E53: =SUM(E49:E52) -> 1545804.4 | F53: =SUM(F49:F52) -> 3961057.4 | G53: =SUM(G49:G52) -> 4243068.6 | H53: =SUM(H49:H52) -> 1263793.1 | I53: =SUM(I49:I52) -> 1074362.4

Sheet 15. DD Libina
A1: REKAPITULACE ZA ORGANIZACI :
A2: Název organizace : | E2: Domov důchodců Libina, příspěvková organizace
E3: ……………………………………….……..………………………………………..…………………………………
A4: Adresa : | E4: Libina 540, 788 05 Libina
E5: ……………………………………….……..………………………………………..…………………………………
A6: IĆ | E6: 75003988 | H6: ORG | I6: 1646
E7: ……………………………… ………….…..……………………………
E11: Schválený | F11: Upravený | G11: Skutečnost | H11: z toho:
E12: rozpočet | F12: rozpočet | G12: celkem | H12: Hlavní činnost | I12: Doplňková činnost
E13: celkem | F13: celkem | H13: jednotka - Kč na 2 des. místa
A15: a) Náklady a výnosy
A16: Náklady | E16: 22109000 | F16: 22255061 | G16: =H16+I16 -> 22111559 | H16: 22111559 | I16: 0
A18: Výnosy | E18: 20105000 | F18: 22255061 | G18: =H18+I18 -> 22140597 | H18: 22140597 | I18: 0
A21: Doplňující údaje :
C22: daň z příjmů,dodatečné odvody daně z příjmů (nákladová položka) | G22: =H22+I22 -> 0 | H22: 0 | I22: 0
A24: Výsledek hospodaření /po zdanění/ | G24: =ROUND(G18-G16-G22,2) -> 29037.67 | H24: =H18-H16-H22 -> 29037.67 | I24: =I18-I16-I22 -> 0
A28: b) | B28: Rozdělení výsledku hospodaření | G28: 29037.67
C29: - Návrh na příděly do fondů: | F29: Fond odměn | G29: 0
F30: Fond rezervní | G30: 29037.67
C31: - Způsob krytí ztráty : | F31: Ćástka | G31: 0
A35: c) | B35: Závazné ukazatele
F36: Schválená částka | G36: Skutečnost | I36: % plnění
A37: Limit mzdových prostředků | F37: 10477000 | G37: 10477000 | I37: =IF(F37=0,"nerozp.",G37/F37) -> 1
A38: Neinvestiční příspěvek /odpisy/ | F38: 160879 | G38: 160879.14 | I38: =IF(F38=0,"nerozp.",G38/F38) -> 1.0000009
A39: Neinvestiční příspěvek/nájemné/ | F39: 0 | G39: 0 | I39: =IF(F39=0,"nerozp.",G39/F39) -> nerozp.
A40: Odvody z investičního fondu /odpisy/ | F40: 124879 | G40: 124879 | I40: =IF(F40=0,"nerozp.",G40/F40) -> 1
A41: Odvody z investičního fondu /spolufin. akcí/ | F41: 0 | G41: 0 | I41: =IF(F41=0,"nerozp.",G41/F41) -> nerozp.
A42: Pozn. : | B42: Vynaložené odpisy nad stanovený limit byly finančně pokryty z provozních prostředků organizace-0,14 Kč.
A44: d) | B44: Fondy | H44: jednotka - Kč na 2 des. místa
E45: Stav k 1.1.2011 | F45: Tvorba | G45: Čerpání | H45: Stav k | I45: Finanční krytí k
H46: 40908 | I46: 40908
C49: Fond odměn | E49: 25000 | F49: 0 | G49: 0 | H49: =E49+F49-G49 -> 25000 | I49: 25000
C50: FKSP | E50: 222306.09 | F50: 105206.92 | G50: 165040 | H50: =E50+F50-G50 -> 162473.01 | I50: 158453.74
C51: Fond rezervní | E51: 52936.59 | F51: 213618.14 | G51: 100000 | H51: =E51+F51-G51 -> 166554.73 | I51: 166554.73
C52: Investiční fond | E52: 43178.94 | F52: 500569.14 | G52: 471985 | H52: =E52+F52-G52 -> 71763.08 | I52: 71763.08
A53: celkem | E53: =SUM(E49:E52) -> 343421.62 | F53: =SUM(F49:F52) -> 819394.2 | G53: =SUM(G49:G52) -> 737025 | H53: =SUM(H49:H52) -> 425790.82 | I53: =SUM(I49:I52) -> 421771.55

Sheet 16. DD Štíty
A1: REKAPITULACE ZA ORGANIZACI :
A2: Název organizace : | E2: Domov důchodců Štíty, příspěvková organizace
E3: ……………………………………….……..………………………………………..…………………………………
A4: Adresa : | E4: Na Pilníku 222, 789 91 Štíty
E5: ……………………………………….……..………………………………………..…………………………………
A6: IĆ | E6: 750 04 003 | H6: ORG | I6: 1647
E7: ……………………………… ………….…..……………………………
E11: Schválený | F11: Upravený | G11: Skutečnost | H11: z toho:
E12: rozpočet | F12: rozpočet | G12: celkem | H12: Hlavní činnost | I12: Doplňková činnost
E13: celkem | F13: celkem | H13: jednotka - Kč na 2 des. místa
A15: a) Náklady a výnosy
A16: Náklady | E16: 40536000 | F16: 40468357 | G16: =H16+I16 -> 40238609 | H16: 40238609 | I16: 0
A18: Výnosy | E18: 37288000 | F18: 40468357 | G18: =H18+I18 -> 40238609 | H18: 40238609 | I18: 0
A21: Doplňující údaje :
C22: daň z příjmů,dodatečné odvody daně z příjmů (nákladová položka) | G22: =H22+I22 -> 0 | H22: 0 | I22: 0
A24: Výsledek hospodaření /po zdanění/ | G24: =ROUND(G18-G16-G22,2) -> 0 | H24: =H18-H16-H22 -> 0 | I24: =I18-I16-I22 -> 0
A28: b) | B28: Rozdělení výsledku hospodaření | G28: 0
C29: - Návrh na příděly do fondů: | F29: Fond odměn | G29: 0
F30: Fond rezervní | G30: 0
C31: - Způsob krytí ztráty : | F31: Ćástka | G31: 0
A35: c) | B35: Závazné ukazatele
F36: Schválená částka | G36: Skutečnost | I36: % plnění
A37: Limit mzdových prostředků | F37: 21630000 | G37: 21630000 | I37: =IF(F37=0,"nerozp.",G37/F37) -> 1
A38: Neinvestiční příspěvek /odpisy/ | F38: 1049230 | G38: 1062990.8 | I38: =IF(F38=0,"nerozp.",G38/F38) -> 1.0131151
A39: Neinvestiční příspěvek/nájemné/ | F39: 0 | G39: 0 | I39: =IF(F39=0,"nerozp.",G39/F39) -> nerozp.
A40: Odvody z investičního fondu /odpisy/ | F40: 786923 | G40: 786923 | I40: =IF(F40=0,"nerozp.",G40/F40) -> 1
A41: Odvody z investičního fondu /spolufin. akcí/ | F41: 0 | G41: 0 | I41: =IF(F41=0,"nerozp.",G41/F41) -> nerozp.
A42: Pozn. : | B42: Vynaložené odpisy nad stanovený limit byly finančně pokryty z provozních prostředků organizace-13 760,80 Kč.
A44: d) | B44: Fondy | H44: jednotka - Kč na 2 des. místa
E45: Stav k 1.1.2011 | F45: Tvorba | G45: Čerpání | H45: Stav k | I45: Finanční krytí k
H46: 40908 | I46: 40908
C49: Fond odměn | E49: 25800 | F49: 0 | G49: 0 | H49: =E49+F49-G49 -> 25800 | I49: 25800
C50: FKSP | E50: 52328.89 | F50: 209712 | G50: 212088 | H50: =E50+F50-G50 -> 49952.89 | I50: 43698.89
C51: Fond rezervní | E51: 176515.25 | F51: 84399.59 | G51: 158405.44 | H51: =E51+F51-G51 -> 102509.4 | I51: 102509.4
C52: Investiční fond | E52: 156237.5 | F52: 1062990.8 | G52: 1086301 | H52: =E52+F52-G52 -> 132927.3 | I52: 132927.3
A53: celkem | E53: =SUM(E49:E52) -> 410881.64 | F53: =SUM(F49:F52) -> 1357102.4 | G53: =SUM(G49:G52) -> 1456794.4 | H53: =SUM(H49:H52) -> 311189.59 | I53: =SUM(I49:I52) -> 304935.59

Sheet 17. Soc. služby Šumperk
A1: REKAPITULACE ZA ORGANIZACI :
A2: Název organizace : | E2: Sociální služby Šumperk, příspěvková organizace
E3: ……………………………………….……..………………………………………..…………………………………
A4: Adresa : | E4: Vančurova 37, 787 01 Šumperk
E5: ……………………………………….……..………………………………………..…………………………………
A6: IĆ | E6: 75004038 | H6: ORG | I6: 1648
E7: ……………………………… ………….…..……………………………
E11: Schválený | F11: Upravený | G11: Skutečnost | H11: z toho:
E12: rozpočet | F12: rozpočet | G12: celkem | H12: Hlavní činnost | I12: Doplňková činnost
E13: celkem | F13: celkem | H13: jednotka - Kč na 2 des. místa
A15: a) Náklady a výnosy
A16: Náklady | E16: 13798000 | F16: 13996337 | G16: =H16+I16 -> 14072342 | H16: 14072342 | I16: 0
A18: Výnosy | E18: 12522000 | F18: 13996337 | G18: =H18+I18 -> 14072342 | H18: 14072342 | I18: 0
A21: Doplňující údaje :
C22: daň z příjmů,dodatečné odvody daně z příjmů (nákladová položka) | G22: =H22+I22 -> 0 | H22: 0 | I22: 0
A24: Výsledek hospodaření /po zdanění/ | G24: =ROUND(G18-G16-G22,2) -> 0 | H24: =H18-H16-H22 -> 1.8626451e-09 | I24: =I18-I16-I22 -> 0
A28: b) | B28: Rozdělení výsledku hospodaření | G28: 0
C29: - Návrh na příděly do fondů: | F29: Fond odměn | G29: 0
F30: Fond rezervní | G30: 0
C31: - Způsob krytí ztráty : | F31: Ćástka | G31: 0
A35: c) | B35: Závazné ukazatele
