Workbook

Sheet Rekapitulace zdravotnictví
A1: d) Příspěvkové organizace v oblasti zdravotnictví | M1: ORJ -14 | Q1: ORJ -14
A2: Správce: vedoucí odboru zdravotnictví
C3: MUDr. Eva Štefková
A5: Rekapitulace hospodaření /výsledek hospodaření/ za rok 2011
J6: v Kč | M6: v tis - Kč | Q6: v Kč
A7: ORG | B7: § | C7: Název organizace | D7: Adresa | F7: Náklady | G7: Výnosy | H7: Daň | I7: Výsledek hospodaření | K7: Rozdělení do fondů - v Kč | N7: Rozdělení do fondů - v Kč | P7: Pokrytí ztráty z minulých období /v Kč/ | R7: Pozn. :
I8: zlepšený VH | J8: ztráta | K8: Fond rezervní | L8: Fond odměn | M8: Celkem | N8: Fond odměn | O8: Fond rezervní | Q8: Celkem /v Kč/
A9: 1700 | B9: 3523 | C9: Odborný léčebný ústav Paseka, příspěvková organizace | D9: Paseka 145 | E9: 783 97 Paseka | F9: ='1. OLU Paseka'!G16 -> 1.8094534e+08 | G9: ='1. OLU Paseka'!G18 -> 1.8228662e+08 | H9: ='1. OLU Paseka'!G22 -> 0 | I9: ='1. OLU Paseka'!G24 -> 1341282.1 | K9: 36.25 | L9: 145 | M9: 0 | N9: ='1. OLU Paseka'!G29 -> 0 | O9: ='1. OLU Paseka'!G30 -> 1341282.1 | Q9: ='1. OLU Paseka'!G28 -> 1341282.1 | R9: PO má doplňkovou činnost
N10: =N9/Q9 -> 0 | O10: =O9/Q9 -> 1 | P10: =P9/Q9 -> 0 | Q10: 1
A11: 1701 | B11: 3523 | C11: Odborný léčebný ústav neurolog.-geriatrický | D11: Masarykova 412 | E11: 793 05 Moravský Beroun | F11: ='2. OL Moravský Beroun'!G16 -> 66784841 | G11: ='2. OL Moravský Beroun'!G18 -> 66803900 | H11: ='2. OL Moravský Beroun'!G22 -> 8476 | I11: ='2. OL Moravský Beroun'!G24 -> 10582.86 | K11: 0 | L11: 0 | M11: 0 | N11: ='2. OL Moravský Beroun'!G29 -> 0 | O11: ='2. OL Moravský Beroun'!G30 -> 10582.86 | Q11: ='2. OL Moravský Beroun'!G28 -> 10582.86 | R11: PO má doplňkovou činnost
C12: Moravský Beroun, příspěvková organizace | N12: =N11/Q11 -> 0 | O12: =O11/Q11 -> 1 | P12: =P11/Q11 -> 0 | Q12: 1
A13: 1702 | B13: 3529 | C13: Sdružená zařízení pro péči o dítě v Olomouci, příspěvková organizace | D13: U Dět.domova 269 | E13: 779 00 Olomouc | F13: ='3. Sdružená zařízení Olomouc'!G16 -> 37600105 | G13: ='3. Sdružená zařízení Olomouc'!G18 -> 37626329 | H13: ='3. Sdružená zařízení Olomouc'!G22 -> 0 | I13: ='3. Sdružená zařízení Olomouc'!G24 -> 26223.74 | K13: 30.94 | L13: 32 | M13: 0 | N13: ='3. Sdružená zařízení Olomouc'!G29 -> 0 | O13: ='3. Sdružená zařízení Olomouc'!G30 -> 26223.74 | Q13: ='3. Sdružená zařízení Olomouc'!G28 -> 26223.74 | R13: PO má doplňkovou činnost
N14: =N13/Q13 -> 0 | O14: =O13/Q13 -> 1 | P14: =P13/Q13 -> 0 | Q14: 1
A15: 1703 | B15: 3529 | C15: Dětské centrum Pavučinka Šumperk, příspěvková organizace | D15: Dr. Beneše 13 | E15: 787 01 Šumperk | F15: ='4. Pavučinka'!G16 -> 25819556 | G15: ='4. Pavučinka'!G18 -> 25927658 | H15: ='4. Pavučinka'!G22 -> 0 | I15: ='4. Pavučinka'!G24 -> 108101.78 | K15: 127.46 | L15: 0 | M15: 14.15 | N15: ='4. Pavučinka'!G29 -> 0 | O15: ='4. Pavučinka'!G30 -> 108101.78 | Q15: ='4. Pavučinka'!G28 -> 108101.78 | R15: NEMÁ DOPL. ČINNOST
N16: =N15/Q15 -> 0 | O16: =O15/Q15 -> 1 | P16: =P15/Q15 -> 0 | Q16: 1
A17: 1704 | B17: 3533 | C17: Zdravotnická záchranná služba Olomouckého kraje, příspěvková organizace | D17: Aksamitova 8 | E17: 772 00 Olomouc | F17: ='5. ZZS Olomouc'!G16 -> 2.4744133e+08 | G17: ='5. ZZS Olomouc'!G18 -> 2.4776381e+08 | H17: ='5. ZZS Olomouc'!G22 -> -9424 | I17: ='5. ZZS Olomouc'!G24 -> 331899.41 | K17: 0 | L17: 0 | M17: 336.34 | N17: ='5. ZZS Olomouc'!G29 -> 0 | O17: ='5. ZZS Olomouc'!G30 -> 0 | P17: ='5. ZZS Olomouc'!G31 -> 331899.41 | Q17: ='5. ZZS Olomouc'!G28 -> 331899.41 | R17: PO má doplňkovou činnost
N18: 0 | O18: =O17/Q17 -> 0 | P18: =P17/Q17 -> 1 | Q18: 1
A19: CELKEM | F19: =SUM(F9:F17) -> 5.5859117e+08 | G19: =SUM(G9:G17) -> 5.6040832e+08 | H19: =SUM(H9:H17) -> -948 | I19: =ROUND(I9+I11+I13+I15+I17,2) -> 1818089.9 | J19: =SUM(J9:J17) -> 0 | K19: =SUM(K9:K17) -> 194.65 | L19: =SUM(L9:L17) -> 177 | M19: =SUM(M9:M17) -> 350.49 | N19: =+N9+N11+N13+N15+N17 -> 0 | O19: =+O9+O11+O13+O15+O17 -> 1486190.5 | P19: =+P9+P11+P13+P15+P17 -> 331899.41 | Q19: =+Q9+Q11+Q13+Q15+Q17 -> 1818089.9
I20: saldo | J20: =(J19+I19) -> 1818089.9 | M20: =K19+L19+M19 -> 722.14
A22: Komentář:
A25: Z celkového počtu 5 příspěvkových organizací skončilo:
C26: - 5 organizací se zlepšeným výsledkem hospodaření v celkové výši | F26: =I19 -> 1818089.9 | G26: v Kč | I26: =Q19 -> 1818089.9 | J26: Kč

Sheet 1. OLU Paseka
A1: REKAPITULACE ZA ORGANIZACI :
A2: Název organizace : | E2: Odborný léčebný ústav Paseka, příspěvková organizace
E3: ……………………………………….……..………………………………………..…………………………………
A4: Adresa : | E4: Paseka 145, 783 97 Paseka
E5: ……………………………………….……..………………………………………..…………………………………
A6: IĆ | E6: 00849081 | H6: ORG | I6: 1700
E7: ……………………………… ………….…..……………………………
E11: Schválený | F11: Upravený | G11: Skutečnost | H11: z toho:
E12: rozpočet | F12: rozpočet | G12: celkem | H12: Hlavní činnost | I12: Doplňková činnost
E13: celkem | F13: celkem | H13: jednotka - Kč na 2 des. místa
A15: a) Náklady a výnosy
A16: Náklady | E16: 176879000 | F16: 181303453 | G16: =H16+I16 -> 1.8094534e+08 | H16: 1.756156e+08 | I16: 5329739.8
A18: Výnosy | E18: 176879000 | F18: 181303453 | G18: =H18+I18 -> 1.8228662e+08 | H18: 1.7633135e+08 | I18: 5955265.8
A21: Doplňující údaje :
C22: daň z příjmů,dodatečné odvody daně z příjmů (nákladová položka) | G22: =H22+I22 -> 0 | H22: 0 | I22: 0
A24: Výsledek hospodaření /po zdanění/ | G24: =ROUND(G18-G16-G22,2) -> 1341282.1 | H24: =H18-H16-H22 -> 715756.07 | I24: =I18-I16-I22 -> 625526.04
A28: b) | B28: Rozdělení výsledku hospodaření | G28: 1341282.1
C29: - Návrh na příděly do fondů: | F29: Fond odměn | G29: 0
F30: Fond rezervní | G30: 1341282.1
C31: - Způsob krytí ztráty : | F31: Ćástka | G31: 0
A35: c) | B35: Závazné ukazatele
F36: Schválená částka | G36: Skutečnost | I36: % plnění
A37: Limit mzdových prostředků | F37: 87900000 | G37: 87743583 | I37: =IF(F37=0,"nerozp.",G37/F37) -> 0.99822051
A38: Neinvestiční příspěvek /odpisy/ | F38: 0 | G38: 3765024.6 | I38: =IF(F38=0,"nerozp.",G38/F38) -> nerozp.
A39: Neinvestiční příspěvek/nájemné/ | F39: 0 | G39: 0 | I39: =IF(F39=0,"nerozp.",G39/F39) -> nerozp.
A40: Odvody z investičního fondu /odpisy/ | F40: 0 | G40: 0 | I40: =IF(F40=0,"nerozp.",G40/F40) -> nerozp.
A41: Odvody z investičního fondu /spolufin. akcí/ | F41: 0 | G41: 0 | I41: =IF(F41=0,"nerozp.",G41/F41) -> nerozp.
A42: Pozn. : | B42: Příspěvková organizace si pokrývá odpisy z provozních prostředků organizace.
A44: d) | B44: Fondy | H44: jednotka - Kč na 2 des. místa
E45: Stav k 1.1.2011 | F45: Tvorba | G45: Čerpání | H45: Stav k | I45: Finanční krytí k
H46: 40543 | I46: 40543
C49: Fond odměn | E49: 214819 | F49: 0 | G49: 0 | H49: =E49+F49-G49 -> 214819 | I49: 214819
C50: FKSP | E50: 1902541.6 | F50: 861771.49 | G50: 2295769.4 | H50: =E50+F50-G50 -> 468543.78 | I50: 718315.47
C51: Fond rezervní | E51: 7355798.3 | F51: 1580534.5 | G51: 1618 | H51: =E51+F51-G51 -> 8934714.8 | I51: 8934714.8
C52: Investiční fond | E52: 7807401.1 | F52: 10429277 | G52: 15392424 | H52: =E52+F52-G52 -> 2844254.5 | I52: 2844254.5
A53: celkem | E53: =SUM(E49:E52) -> 17280560 | F53: =SUM(F49:F52) -> 12871583 | G53: =SUM(G49:G52) -> 17689811 | H53: =SUM(H49:H52) -> 12462332 | I53: =SUM(I49:I52) -> 12712104

Sheet 2. OL Moravský Beroun
A1: REKAPITULACE ZA ORGANIZACI :
A2: Název organizace : | E2: Odborný léčebný ústav neurologicko-geriatrický Moravský Beroun, p.o.
E3: ……………………………………….……..………………………………………..…………………………………
A4: Adresa : | E4: Masarykova 412, 793 05 Moravský Beroun
E5: ……………………………………….……..………………………………………..…………………………………
A6: IĆ | E6: 00600946 | H6: ORG | I6: 1701
E7: ……………………………… ………….…..……………………………
E11: Schválený | F11: Upravený | G11: Skutečnost | H11: z toho:
E12: rozpočet | F12: rozpočet | G12: celkem | H12: Hlavní činnost | I12: Doplňková činnost
E13: celkem | F13: celkem | H13: jednotka - Kč na 2 des. místa
A15: a) Náklady a výnosy
A16: Náklady | E16: 68230000 | F16: 68834000 | G16: =H16+I16 -> 66784841 | H16: 66468724 | I16: 316116.91
A18: Výnosy | E18: 68230000 | F18: 68834000 | G18: =H18+I18 -> 66803900 | H18: 66380539 | I18: 423361.4
A21: Doplňující údaje :
C22: daň z příjmů,dodatečné odvody daně z příjmů (nákladová položka) | G22: =H22+I22 -> 8476 | H22: 8476 | I22: 0
A24: Výsledek hospodaření /po zdanění/ | G24: =ROUND(G18-G16-G22,2) -> 10582.86 | H24: =H18-H16-H22 -> -96661.63 | I24: =I18-I16-I22 -> 107244.49
A28: b) | B28: Rozdělení výsledku hospodaření | G28: 10582.86
C29: - Návrh na příděly do fondů: | F29: Fond odměn | G29: 0
F30: Fond rezervní | G30: 10582.86
C31: - Způsob krytí ztráty : | F31: Ćástka | G31: 0
A35: c) | B35: Závazné ukazatele
F36: Schválená částka | G36: Skutečnost | I36: % plnění
A37: Limit mzdových prostředků | F37: 34500000 | G37: 33125116 | I37: =IF(F37=0,"nerozp.",G37/F37) -> 0.9601483
A38: Neinvestiční příspěvek /odpisy/ | F38: 0 | G38: 1426655.1 | I38: =IF(F38=0,"nerozp.",G38/F38) -> nerozp.
A39: Neinvestiční příspěvek/nájemné/ | F39: 0 | G39: 0 | I39: =IF(F39=0,"nerozp.",G39/F39) -> nerozp.
A40: Odvody z investičního fondu /odpisy/ | F40: 0 | G40: 0 | I40: =IF(F40=0,"nerozp.",G40/F40) -> nerozp.
A41: Odvody z investičního fondu /spolufin. akcí/ | F41: 900000 | G41: 900000 | I41: =IF(F41=0,"nerozp.",G41/F41) -> 1
A42: Pozn. : | B42: Příspěvková organizace si pokrývá odpisy z provozních prostředků organizace.
A44: d) | B44: Fondy | H44: jednotka - Kč na 2 des. místa
E45: Stav k 1.1.2011 | F45: Tvorba | G45: Čerpání | H45: Stav k | I45: Finanční krytí k
H46: 40543 | I46: 40543
C49: Fond odměn | E49: 3000 | F49: 0 | G49: 0 | H49: =E49+F49-G49 -> 3000 | I49: 3000
C50: FKSP | E50: 56415.54 | F50: 319130.32 | G50: 358939.04 | H50: =E50+F50-G50 -> 16606.82 | I50: 5441.88
C51: Fond rezervní | E51: 395192.1 | F51: 1101069.1 | G51: 1092834.8 | H51: =E51+F51-G51 -> 403426.43 | I51: 403426.43
C52: Investiční fond | E52: 599793.92 | F52: 3123299.3 | G52: 1377861.8 | H52: =E52+F52-G52 -> 2345231.4 | I52: 2345231.4
A53: celkem | E53: =SUM(E49:E52) -> 1054401.6 | F53: =SUM(F49:F52) -> 4543498.8 | G53: =SUM(G49:G52) -> 2829635.6 | H53: =SUM(H49:H52) -> 2768264.7 | I53: =SUM(I49:I52) -> 2757099.7

Sheet 3. Sdružená zařízení Olomouc
A1: REKAPITULACE ZA ORGANIZACI :
A2: Název organizace : | E2: Sdružená zařízení pro péči o dítě v Olomouci, přísp. organizace
E3: ……………………………………….……..………………………………………..…………………………………
A4: Adresa : | E4: U Dětského domova 269, Olomouc
E5: ……………………………………….……..………………………………………..…………………………………
A6: IĆ | E6: 00849197 | H6: ORG | I6: 1702
E7: ……………………………… ………….…..……………………………
E11: Schválený | F11: Upravený | G11: Skutečnost | H11: z toho:
E12: rozpočet | F12: rozpočet | G12: celkem | H12: Hlavní činnost | I12: Doplňková činnost
E13: celkem | F13: celkem | H13: jednotka - Kč na 2 des. místa
A15: a) Náklady a výnosy
A16: Náklady | E16: 38334000 | F16: 38553464 | G16: =H16+I16 -> 37600105 | H16: 37552229 | I16: 47876
A18: Výnosy | E18: 38334000 | F18: 38553464 | G18: =H18+I18 -> 37626329 | H18: 37565098 | I18: 61231
A21: Doplňující údaje :
C22: daň z příjmů,dodatečné odvody daně z příjmů (nákladová položka) | G22: =H22+I22 -> 0 | H22: 0 | I22: 0
A24: Výsledek hospodaření /po zdanění/ | G24: =ROUND(G18-G16-G22,2) -> 26223.74 | H24: =H18-H16-H22 -> 12868.74 | I24: =I18-I16-I22 -> 13355
A28: b) | B28: Rozdělení výsledku hospodaření | G28: 26223.74
C29: - Návrh na příděly do fondů: | F29: Fond odměn | G29: 0
F30: Fond rezervní | G30: 26223.74
C31: - Způsob krytí ztráty : | F31: Ćástka | G31: 0
A35: c) | B35: Závazné ukazatele
F36: Schválená částka | G36: Skutečnost | I36: % plnění
A37: Limit mzdových prostředků | F37: 22200000 | G37: 22030048 | I37: =IF(F37=0,"nerozp.",G37/F37) -> 0.9923445
A38: Neinvestiční příspěvek /odpisy/ | F38: 1400000 | G38: 1472176 | I38: =IF(F38=0,"nerozp.",G38/F38) -> 1.0515543
A39: Neinvestiční příspěvek/nájemné/ | F39: 0 | G39: 0 | I39: =IF(F39=0,"nerozp.",G39/F39) -> nerozp.
A40: Odvody z investičního fondu /odpisy/ | F40: 1050000 | G40: 1050000 | I40: =IF(F40=0,"nerozp.",G40/F40) -> 1
A41: Odvody z investičního fondu /spolufin. akcí/ | F41: 0 | G41: 0 | I41: =IF(F41=0,"nerozp.",G41/F41) -> nerozp.
A42: Pozn. : | B42: Vynaložené odpisy nad stanovený limit byly finančně pokryty z provozních prostředků organizace - 72 176,- Kč.
A44: d) | B44: Fondy | H44: jednotka - Kč na 2 des. místa
E45: Stav k 1.1.2011 | F45: Tvorba | G45: Čerpání | H45: Stav k | I45: Finanční krytí k
H46: 40543 | I46: 40543
C49: Fond odměn | E49: 61830 | F49: 0 | G49: 0 | H49: =E49+F49-G49 -> 61830 | I49: 61830
C50: FKSP | E50: 79150.62 | F50: 216546.72 | G50: 254352.9 | H50: =E50+F50-G50 -> 41344.44 | I50: 24019.71
C51: Fond rezervní | E51: 1947686.5 | F51: 344731.54 | G51: 394337 | H51: =E51+F51-G51 -> 1898081.1 | I51: 1898081.1
C52: Investiční fond | E52: 1077520.2 | F52: 1472176 | G52: 1969718.6 | H52: =E52+F52-G52 -> 579977.56 | I52: 579977.56
A53: celkem | E53: =SUM(E49:E52) -> 3166187.3 | F53: =SUM(F49:F52) -> 2033454.3 | G53: =SUM(G49:G52) -> 2618408.5 | H53: =SUM(H49:H52) -> 2581233.1 | I53: =SUM(I49:I52) -> 2563908.3

Sheet 4. Pavučinka
A1: REKAPITULACE ZA ORGANIZACI :
A2: Název organizace : | E2: Dětské centrum Pavučinka Šumperk,příspěvková organizace
E3: ……………………………………….……..………………………………………..…………………………………
A4: Adresa : | E4: Dr. E. Beneše 13, Šumperk
E5: ……………………………………….……..………………………………………..…………………………………
A6: IĆ | E6: 75010984 | H6: ORG | I6: 1703
E7: ……………………………… ………….…..……………………………
E11: Schválený | F11: Upravený | G11: Skutečnost | H11: z toho:
E12: rozpočet | F12: rozpočet | G12: celkem | H12: Hlavní činnost | I12: Doplňková činnost
E13: celkem | F13: celkem | H13: jednotka - Kč na 2 des. místa
A15: a) Náklady a výnosy
A16: Náklady | E16: 25397000 | F16: 25385912 | G16: =H16+I16 -> 25819556 | H16: 25819556 | I16: 0
A18: Výnosy | E18: 25397000 | F18: 25385912 | G18: =H18+I18 -> 25927658 | H18: 25927658 | I18: 0
A21: Doplňující údaje :
C22: daň z příjmů,dodatečné odvody daně z příjmů (nákladová položka) | G22: =H22+I22 -> 0 | H22: 0 | I22: 0
A24: Výsledek hospodaření /po zdanění/ | G24: =ROUND(G18-G16-G22,2) -> 108101.78 | H24: =H18-H16-H22 -> 108101.78 | I24: =I18-I16-I22 -> 0
A28: b) | B28: Rozdělení výsledku hospodaření | G28: 108101.78
C29: - Návrh na příděly do fondů: | F29: Fond odměn | G29: 0
F30: Fond rezervní | G30: 108101.78
C31: - Způsob krytí ztráty : | F31: Ćástka | G31: 0
A35: c) | B35: Závazné ukazatele
F36: Schválená částka | G36: Skutečnost | I36: % plnění
A37: Limit mzdových prostředků | F37: 15387000 | G37: 15387000 | I37: =IF(F37=0,"nerozp.",G37/F37) -> 1
A38: Neinvestiční příspěvek /odpisy/ | F38: 343000 | G38: 343357.9 | I38: =IF(F38=0,"nerozp.",G38/F38) -> 1.0010434
A39: Neinvestiční příspěvek/nájemné/ | F39: 0 | G39: 0 | I39: =IF(F39=0,"nerozp.",G39/F39) -> nerozp.
A40: Odvody z investičního fondu /odpisy/ | F40: 257000 | G40: 257000 | I40: =IF(F40=0,"nerozp.",G40/F40) -> 1
A41: Odvody z investičního fondu /spolufin. akcí/ | F41: 0 | G41: 0 | I41: =IF(F41=0,"nerozp.",G41/F41) -> nerozp.
A42: Pozn. : | B42: Vynaložené odpisy nad stanovený limit byly finančně pokryty z provozních prostředků organizace-357,90 Kč.
A44: d) | B44: Fondy | H44: jednotka - Kč na 2 des. místa
E45: Stav k 1.1.2011 | F45: Tvorba | G45: Čerpání | H45: Stav k | I45: Finanční krytí k
H46: 40543 | I46: 40543
C49: Fond odměn | E49: 10100 | F49: 0 | G49: 0 | H49: =E49+F49-G49 -> 10100 | I49: 10100
C50: FKSP | E50: 620152.97 | F50: 152364 | G50: 246489.8 | H50: =E50+F50-G50 -> 526027.17 | I50: 398504.91
C51: Fond rezervní | E51: 1819954.9 | F51: 93946.64 | G51: 27289 | H51: =E51+F51-G51 -> 1886612.6 | I51: 1886519.1
C52: Investiční fond | E52: 310354.77 | F52: 343357.9 | G52: 257000 | H52: =E52+F52-G52 -> 396712.67 | I52: 396712.67
A53: celkem | E53: =SUM(E49:E52) -> 2760562.7 | F53: =SUM(F49:F52) -> 589668.54 | G53: =SUM(G49:G52) -> 530778.8 | H53: =SUM(H49:H52) -> 2819452.4 | I53: =SUM(I49:I52) -> 2691836.7

Sheet 5. ZZS Olomouc
A1: REKAPITULACE ZA ORGANIZACI :
A2: Název organizace : | E2: Zdravotnická záchranná služba Ol.kraje, příspěvková organizace
E3: ……………………………………….……..………………………………………..…………………………………
A4: Adresa : | E4: Aksamitova 8, 772 00 Olomouc
E5: ……………………………………….……..………………………………………..…………………………………
A6: IĆ | E6: 00849103 | H6: ORG | I6: 1704
E7: ……………………………… ………….…..……………………………
E11: Schválený | F11: Upravený | G11: Skutečnost | H11: z toho:
E12: rozpočet | F12: rozpočet | G12: celkem | H12: Hlavní činnost | I12: Doplňková činnost
E13: celkem | F13: celkem | H13: jednotka - Kč na 2 des. místa
A15: a) Náklady a výnosy
A16: Náklady | E16: 245260000 | F16: 2.4932958e+08 | G16: =H16+I16 -> 2.4744133e+08 | H16: 2.4688221e+08 | I16: 559120.81
A18: Výnosy | E18: 245260000 | F18: 2.4932958e+08 | G18: =H18+I18 -> 2.4776381e+08 | H18: 2.463642e+08 | I18: 1399606.4
A21: Doplňující údaje :
C22: daň z příjmů,dodatečné odvody daně z příjmů (nákladová položka) | G22: =H22+I22 -> -9424 | H22: -9424 | I22: 0
A24: Výsledek hospodaření /po zdanění/ | G24: =ROUND(G18-G16-G22,2) -> 331899.41 | H24: =H18-H16-H22 -> -508586.16 | I24: =I18-I16-I22 -> 840485.57
A28: b) | B28: Rozdělení výsledku hospodaření | G28: =G29+G30+G31 -> 331899.41
C29: - Návrh na příděly do fondů: | F29: Fond odměn | G29: 0
F30: Fond rezervní | G30: 0
C31: - Způsob krytí ztráty : | F31: Ćástka | G31: 331899.41
A32: Zlepšený výsledek hospodaření za rok 2011 ve výši 331 899,41 Kč bude použit k úhradě ztráty minulých let, která je k 31.12.2011 ve výši 1 058 470,25 Kč. Zbylá část (-726 570,84 Kč) bude uhrazena ze zlepšeného výsledku hospodaření v následujících letech.
A35: c) | B35: Závazné ukazatele
F36: Schválená částka | G36: Skutečnost | I36: % plnění
A37: Limit mzdových prostředků | F37: 140500000 | G37: 138959078 | I37: =IF(F37=0,"nerozp.",G37/F37) -> 0.98903258
A38: Neinvestiční příspěvek /odpisy/ | F38: 14500000 | G38: 14539815 | I38: =IF(F38=0,"nerozp.",G38/F38) -> 1.0027459
A39: Neinvestiční příspěvek/nájemné/ | F39: 0 | G39: 0 | I39: =IF(F39=0,"nerozp.",G39/F39) -> nerozp.
A40: Odvody z investičního fondu /odpisy/ | F40: 10875000 | G40: 10875000 | I40: =IF(F40=0,"nerozp.",G40/F40) -> 1
A41: Odvody z investičního fondu /spolufin. akcí/ | F41: 1400000 | G41: 1400000 | I41: =IF(F41=0,"nerozp.",G41/F41) -> 1
A42: Pozn. : | B42: Vynaložené odpisy nad stanovený limit byly finančně pokryty z provozních prostředků organizace-39 815,45 Kč.
A44: d) | B44: Fondy | H44: jednotka - Kč na 2 des. místa
E45: Stav k 1.1.2011 | F45: Tvorba | G45: Čerpání | H45: Stav k | I45: Finanční krytí k
H46: 40543 | I46: 40543
C49: Fond odměn | E49: 992189.44 | F49: 0 | G49: 0 | H49: =E49+F49-G49 -> 992189.44 | I49: 922189.44
C50: FKSP | E50: 898459.18 | F50: 1314144.3 | G50: 1969016 | H50: =E50+F50-G50 -> 243587.51 | I50: 247367.94
C51: Fond rezervní | E51: 35359.29 | F51: 63000 | G51: 97800 | H51: =E51+F51-G51 -> 559.29 | I51: 559.29
C52: Investiční fond | E52: 9191675.6 | F52: 20594768 | G52: 23654151 | H52: =E52+F52-G52 -> 6132292.8 | I52: 6132292.8
A53: celkem | E53: =SUM(E49:E52) -> 11117683 | F53: =SUM(F49:F52) -> 21971913 | G53: =SUM(G49:G52) -> 25720967 | H53: =SUM(H49:H52) -> 7368629 | I53: =SUM(I49:I52) -> 7302409.5

Sheet CELKEM
A1: REKAPITULACE ZA ORGANIZACI : Zdravotnictví
E11: Schválený | F11: Upravený | G11: Skutečnost | H11: z toho:
E12: rozpočet | F12: rozpočet | G12: celkem | H12: Hlavní činnost | I12: Doplňková činnost
E13: celkem | F13: celkem | H13: jednotka - Kč na 2 des. místa
A15: a) Náklady a výnosy
A16: Náklady | E16: =SUM('1. OLU Paseka:5. ZZS Olomouc'!E16) -> 554100000 | F16: =SUM('1. OLU Paseka:5. ZZS Olomouc'!F16) -> 5.6340641e+08 | G16: =H16+I16 -> 5.5859117e+08 | H16: =SUM('1. OLU Paseka:5. ZZS Olomouc'!H16) -> 5.5233832e+08 | I16: =SUM('1. OLU Paseka:5. ZZS Olomouc'!I16) -> 6252853.5
A18: Výnosy | E18: =SUM('1. OLU Paseka:5. ZZS Olomouc'!E18) -> 554100000 | F18: =SUM('1. OLU Paseka:5. ZZS Olomouc'!F18) -> 5.6340641e+08 | G18: =H18+I18 -> 5.6040832e+08 | H18: =SUM('1. OLU Paseka:5. ZZS Olomouc'!H18) -> 5.5256885e+08 | I18: =SUM('1. OLU Paseka:5. ZZS Olomouc'!I18) -> 7839464.6
A21: Doplňující údaje :
C22: daň z příjmů,dodatečné odvody daně z příjmů (nákladová položka) | G22: =H22+I22 -> -948 | H22: =SUM('1. OLU Paseka:5. ZZS Olomouc'!H22) -> -948 | I22: =SUM('1. OLU Paseka:5. ZZS Olomouc'!I22) -> 0
A24: Výsledek hospodaření /po zdanění/ | G24: =ROUND(G18-G16-G22,2) -> 1818089.9 | H24: =H18-H16-H22 -> 231478.8 | I24: =I18-I16-I22 -> 1586611.1
A28: b) | B28: Rozdělení výsledku hospodaření | G28: =G29+G30+G31 -> 1818089.9 | K28: =G30+G31 -> 1818089.9
C29: - Návrh na příděly do fondů: | F29: Fond odměn | G29: =SUM('1. OLU Paseka:5. ZZS Olomouc'!G29) -> 0
F30: Fond rezervní | G30: =SUM('1. OLU Paseka:5. ZZS Olomouc'!G30) -> 1486190.5
C31: - Způsob krytí ztráty : | F31: Ćástka | G31: =SUM('1. OLU Paseka:5. ZZS Olomouc'!G31) -> 331899.41
A32: Záchranka : Zlepšený výsledek hospodaření za rok 2011 ve výši 331 899,41 Kč bude použit k úhradě ztráty z minulých let, která je ve výši - 1 058 470,,25 Kč. Zbývající část tj. -726 570,84 Kč bude uhrazena ze zlepšeného výsledku hospodaření v následujících letech .
A35: c) | B35: Závazné ukazatele
F36: Schválená částka | G36: Skutečnost | I36: % plnění
A37: Limit mzdových prostředků | F37: =SUM('1. OLU Paseka:5. ZZS Olomouc'!F37) -> 300487000 | G37: =SUM('1. OLU Paseka:5. ZZS Olomouc'!G37) -> 2.9724483e+08 | I37: =IF(F37=0,"nerozp.",G37/F37) -> 0.98921027 | K37: =F37-G37 -> 3242174.4
A38: Neinvestiční příspěvek /odpisy/ | F38: =SUM('1. OLU Paseka:5. ZZS Olomouc'!F38) -> 16243000 | G38: =SUM('1. OLU Paseka:5. ZZS Olomouc'!G38) -> 21547029 | I38: =IF(F38=0,"nerozp.",G38/F38) -> 1.3265425 | K38: =F38-G38 -> -5304029.1
A39: Neinvestiční příspěvek/nájemné/ | F39: =SUM('1. OLU Paseka:5. ZZS Olomouc'!F39) -> 0 | G39: =SUM('1. OLU Paseka:5. ZZS Olomouc'!G39) -> 0 | I39: =IF(F39=0,"nerozp.",G39/F39) -> nerozp.
A40: Odvody z investičního fondu /odpisy/ | F40: =SUM('1. OLU Paseka:5. ZZS Olomouc'!F40) -> 12182000 | G40: =SUM('1. OLU Paseka:5. ZZS Olomouc'!G40) -> 12182000 | I40: =IF(F40=0,"nerozp.",G40/F40) -> 1
A41: Odvody z investičního fondu /spolufin. akcí/ | F41: =SUM('1. OLU Paseka:5. ZZS Olomouc'!F41) -> 2300000 | G41: =SUM('1. OLU Paseka:5. ZZS Olomouc'!G41) -> 2300000 | I41: =IF(F41=0,"nerozp.",G41/F41) -> 1
A42: Pozn. :
A44: d) | B44: Fondy | H44: jednotka - Kč na 2 des. místa
E45: Stav k 1.1.2011 | F45: Tvorba | G45: Čerpání | H45: Stav k | I45: Finanční krytí k
H46: 40543 | I46: 40543
C49: Fond odměn | E49: =SUM('1. OLU Paseka:5. ZZS Olomouc'!E49) -> 1281938.4 | F49: =SUM('1. OLU Paseka:5. ZZS Olomouc'!F49) -> 0 | G49: =SUM('1. OLU Paseka:5. ZZS Olomouc'!G49) -> 0 | H49: =SUM('1. OLU Paseka:5. ZZS Olomouc'!H49) -> 1281938.4 | I49: =SUM('1. OLU Paseka:5. ZZS Olomouc'!I49) -> 1211938.4
C50: FKSP | E50: =SUM('1. OLU Paseka:5. ZZS Olomouc'!E50) -> 3556720 | F50: =SUM('1. OLU Paseka:5. ZZS Olomouc'!F50) -> 2863956.9 | G50: =SUM('1. OLU Paseka:5. ZZS Olomouc'!G50) -> 5124567.1 | H50: =SUM('1. OLU Paseka:5. ZZS Olomouc'!H50) -> 1296109.7 | I50: =SUM('1. OLU Paseka:5. ZZS Olomouc'!I50) -> 1393649.9
C51: Fond rezervní | E51: =SUM('1. OLU Paseka:5. ZZS Olomouc'!E51) -> 11553991 | F51: =SUM('1. OLU Paseka:5. ZZS Olomouc'!F51) -> 3183281.8 | G51: =SUM('1. OLU Paseka:5. ZZS Olomouc'!G51) -> 1613878.8 | H51: =SUM('1. OLU Paseka:5. ZZS Olomouc'!H51) -> 13123394 | I51: =SUM('1. OLU Paseka:5. ZZS Olomouc'!I51) -> 13123301
C52: Investiční fond | E52: =SUM('1. OLU Paseka:5. ZZS Olomouc'!E52) -> 18986746 | F52: =SUM('1. OLU Paseka:5. ZZS Olomouc'!F52) -> 35962879 | G52: =SUM('1. OLU Paseka:5. ZZS Olomouc'!G52) -> 42651156 | H52: =SUM('1. OLU Paseka:5. ZZS Olomouc'!H52) -> 12298469 | I52: =SUM('1. OLU Paseka:5. ZZS Olomouc'!I52) -> 12298469
A53: celkem | E53: =SUM(E49:E52) -> 35379395 | F53: =SUM(F49:F52) -> 42010118 | G53: =SUM(G49:G52) -> 49389602 | H53: =SUM(H49:H52) -> 27999911 | I53: =SUM(I49:I52) -> 28027358
