Workbook

Sheet celkem
A1: 3. Výdaje Olomouckého kraje na rok 2012
A3: a) Odbory (kanceláře) Krajského úřadu Olomouckého kraje
H4: v tis.Kč
A5: Odbor (kancelář) | C5: ORJ | D5: schválený rozpočet 2011 | E5: upravený rozpočet k 30.9.2011 | F5: skutečnost k 30.9.2011 | G5: návrh rozpočtu na rok 2012 | H5: % | J5: ROK 8.11.2011 | K5: rozdíl
A6: 1 | C6: 2 | D6: 3 | E6: 4 | F6: 5 | G6: 6 | H6: 7=6/3 | J6: 8 | K6: 9=6-8
A7: Zastupitelé | C7: 1 | D7: =SUM('ORJ - 01'!G45) -> 39088 | E7: =SUM('ORJ - 01'!H45) -> 38388 | F7: =SUM('ORJ - 01'!I45) -> 17828.25 | G7: =SUM('ORJ - 01'!J45) -> 37238 | H7: =G7/D7*100 -> 95.26709 | J7: 38588 | K7: =G7-J7 -> -1350
A8: Kancelář hejtmana | C8: 2 | D8: =SUM('ORJ - 02'!G79) -> 67241 | E8: =SUM('ORJ - 02'!H79) -> 72492.94 | F8: =SUM('ORJ - 02'!I79) -> 45309.69 | G8: =SUM('ORJ - 02'!J79) -> 51891 | H8: =G8/D8*100 -> 77.171666 | J8: 59341 | K8: =G8-J8 -> -7450
A9: Kancelář ředitele | C9: 3 | D9: =SUM('ORJ - 03'!G51) -> 303250 | E9: =SUM('ORJ - 03'!H51) -> 300213.05 | F9: =SUM('ORJ - 03'!I51) -> 188063.47 | G9: =SUM('ORJ - 03'!J51) -> 297031 | H9: =G9/D9*100 -> 97.949217 | J9: 302250 | K9: =G9-J9 -> -5219
A10: Odbor majetkový a právní | C10: 4 | D10: =SUM('ORJ - 04'!G26) -> 34765 | E10: =SUM('ORJ - 04'!H26) -> 25054.65 | F10: =SUM('ORJ - 04'!I26) -> 17183.43 | G10: =SUM('ORJ - 04'!J26) -> 24165 | H10: =G10/D10*100 -> 69.509564 | J10: 24165 | K10: =G10-J10 -> 0
A11: Odbor správní a legislativní | C11: 5 | D11: =SUM('ORJ - 05'!G12) -> 50 | E11: =SUM('ORJ - 05'!H12) -> 50 | F11: =SUM('ORJ - 05'!I12) -> 2.4 | G11: =SUM('ORJ - 05'!J12) -> 80 | H11: =G11/D11*100 -> 160 | J11: 80 | K11: =G11-J11 -> 0
A12: Odbor informačních technologií | C12: 6 | D12: =SUM('ORJ - 06'!G19) -> 23969 | E12: =SUM('ORJ - 06'!H19) -> 23069 | F12: =SUM('ORJ - 06'!I19) -> 9871.87 | G12: =SUM('ORJ - 06'!J19) -> 23369 | H12: =G12/D12*100 -> 97.496767 | J12: 23969 | K12: =G12-J12 -> -600
A13: Odbor ekonomický | C13: 7 | D13: =SUM('ORJ - 07'!G27) -> 155978 | E13: =SUM('ORJ - 07'!H27) -> 174965.55 | F13: =SUM('ORJ - 07'!I27) -> 37123.86 | G13: =SUM('ORJ - 07'!J27) -> 175134 | H13: =G13/D13*100 -> 112.28122 | J13: 186098 | K13: =G13-J13 -> -10964
A14: Odbor strategického rozvoje kraje | C14: 8 | D14: =SUM('ORJ - 08'!G82) -> 79494 | E14: =SUM('ORJ - 08'!H82) -> 83053.2 | F14: =SUM('ORJ - 08'!I82) -> 71182.95 | G14: =SUM('ORJ - 08'!J82) -> 96295 | H14: =G14/D14*100 -> 121.13493 | J14: 115005 | K14: =G14-J14 -> -18710
A15: Odbor životního prostředí a zemědělství | C15: 9 | D15: =SUM('ORJ - 09'!G51) -> 25202 | E15: =SUM('ORJ - 09'!H51) -> 31267.82 | F15: =SUM('ORJ - 09'!I51) -> 16077 | G15: =SUM('ORJ - 09'!J51) -> 23357 | H15: =G15/D15*100 -> 92.679152 | J15: 27857 | K15: =G15-J15 -> -4500
A16: Odbor školství, mládeže a tělovýchovy | C16: 10 | D16: =SUM('ORJ - 10'!G81) -> 77076 | E16: =SUM('ORJ - 10'!H81) -> 82313.11 | F16: =SUM('ORJ - 10'!I81) -> 71853.22 | G16: =SUM('ORJ - 10'!J81) -> 79246 | H16: =G16/D16*100 -> 102.8154 | J16: 92496 | K16: =G16-J16 -> -13250
A17: Odbor sociálních věcí | C17: 11 | D17: =SUM('ORJ - 11'!G67) -> 9968 | E17: =SUM('ORJ - 11'!H67) -> 12396.78 | F17: =SUM('ORJ - 11'!I67) -> 6573.12 | G17: =SUM('ORJ - 11'!J67) -> 9583 | H17: =G17/D17*100 -> 96.13764 | J17: 9789 | K17: =G17-J17 -> -206
A18: Odbor dopravy a silničního hospodářství | C18: 12 | D18: =SUM('ORJ - 12'!G39) -> 781160 | E18: =SUM('ORJ - 12'!H39) -> 781610 | F18: =SUM('ORJ - 12'!I39) -> 577900.71 | G18: =SUM('ORJ - 12'!J39) -> 788594 | H18: =G18/D18*100 -> 100.95166 | J18: 800194 | K18: =G18-J18 -> -11600
A19: Odbor kultury a památkové péče | C19: 13 | D19: =SUM('ORJ - 13'!G44) -> 67700 | E19: =SUM('ORJ - 13'!H44) -> 68750 | F19: =SUM('ORJ - 13'!I44) -> 48206.15 | G19: =SUM('ORJ - 13'!J44) -> 67080.1 | H19: =G19/D19*100 -> 99.084343 | J19: 67480 | K19: =G19-J19 -> -399.9
A20: Odbor zdravotnictví | C20: 14 | D20: =SUM('ORJ - 14'!G43) -> 29748 | E20: =SUM('ORJ - 14'!H43) -> 30419.38 | F20: =SUM('ORJ - 14'!I43) -> 23092.53 | G20: =SUM('ORJ - 14'!J43) -> 27308 | H20: =G20/D20*100 -> 91.797768 | J20: 27308 | K20: =G20-J20 -> 0
A21: Odbor Krajský živnostenský úřad | C21: 15 | D21: =SUM('ORJ - 15'!G12) -> 40 | E21: =SUM('ORJ - 15'!H12) -> 20 | F21: =SUM('ORJ - 15'!I12) -> 0 | G21: =SUM('ORJ - 15'!J12) -> 20 | H21: =G21/D21*100 -> 50 | J21: 20 | K21: =G21-J21 -> 0
A22: Útvar interního auditu | C22: 16 | D22: =SUM('ORJ - 16'!G11) -> 20 | E22: =SUM('ORJ - 16'!H11) -> 0 | F22: =SUM('ORJ - 16'!I11) -> 0 | G22: =SUM('ORJ - 16'!J11) -> 20 | H22: =G22/D22*100 -> 100 | J22: 20 | K22: =G22-J22 -> 0
A23: Oddělení investic a evropských programů | C23: 17 | D23: =SUM('ORJ - 17'!G15) -> 1600 | E23: =SUM('ORJ - 17'!H15) -> 3711.5 | F23: =SUM('ORJ - 17'!I15) -> 133.9 | G23: =SUM('ORJ - 17'!J15) -> 1750 | H23: =G23/D23*100 -> 109.375 | J23: 1750 | K23: =G23-J23 -> 0
A24: Celkem | D24: =SUM(D7:D13,D14,D15,D16,D17,D18,D19,D20,D21,D22,D23) -> 1696349 | E24: =SUM(E7:E13,E14,E15,E16,E17,E18,E19,E20,E21,E22,E23) -> 1727775 | F24: =SUM(F7:F13,F14,F15,F16,F17,F18,F19,F20,F21,F22,F23) -> 1130402.5 | G24: =SUM(G7:G13,G14,G15,G16,G17,G18,G19,G20,G21,G22,G23) -> 1702161.1 | H24: =G24/D24*100 -> 100.34262 | J24: =SUM(J7:J13,J14,J15,J16,J17,J18,J19,J20,J21,J22,J23) -> 1776410 | K24: =SUM(K7:K13,K14,K15,K16,K17,K18,K19,K20,K21,K22,K23) -> -74248.9

Sheet ORJ - 01
B2: Zastupitelé | K2: ORJ - 01
B5: Správce: | D5: Ing. Luděk Niče
D6: vedoucí kanceláře
K7: v tis. Kč
B8: § | C8: pol. | D8: UZ | E8: ORG | F8: název položky | G8: schválený rozpočet 2011 | H8: upravený rozpočet k 30.9.2011 | I8: skutečnost k 30.9.2011 | J8: návrh rozpočtu na rok 2012 | K8: %
B9: 1 | C9: 2 | D9: 3 | E9: 4 | F9: 5 | G9: 6 | H9: 7 | I9: 8 | J9: 9 | K9: 10=9/6
B10: 6113 | C10: 5019 | D10: 0 | E10: 11000000000 | F10: Ostatní platy | G10: 200 | H10: 175 | I10: =2405/100 -> 24.05 | J10: 200 | K10: =J10/G10*100 -> 100
B11: 6113 | C11: 5021 | D11: 0 | E11: 11000000000 | F11: Ostatní osobní výdaje | G11: 4400 | H11: 4200 | I11: 0 | J11: 4400 | K11: =J11/G11*100 -> 100
B12: 6113 | C12: 5023 | D12: 0 | E12: 11000000000 | F12: Odměny členů zastupitelstva obcí a krajů | G12: 11800 | H12: 11800 | I12: =765602/100 -> 7656.02 | J12: 11800 | K12: =J12/G12*100 -> 100
B13: 6113 | C13: 5031 | D13: 0 | E13: 11000000000 | F13: Povinné poj.na soc.zab.a přísp.na st.pol.zaměstnan | G13: 1950 | H13: 1950 | I13: =126638/100 -> 1266.38 | J13: 1950 | K13: =J13/G13*100 -> 100
B14: 6113 | C14: 5032 | D14: 0 | E14: 11000000000 | F14: Povinné poj.na veřejné zdravotní pojištění | G14: 1500 | H14: 1500 | I14: =70039/100 -> 700.39 | J14: 1500 | K14: =J14/G14*100 -> 100
B15: 6113 | C15: 5039 | D15: 0 | E15: 11000000000 | F15: Ostatní povinné pojistné placené zaměstnavatelem | G15: 50 | H15: 50 | I15: =819/100 -> 8.19 | J15: 50 | K15: =J15/G15*100 -> 100
B16: 6113 | C16: 5136 | D16: 0 | E16: 11000000000 | F16: Knihy, učební pomůcky a tisk | G16: 50 | H16: 50 | I16: 0 | J16: 50 | K16: =J16/G16*100 -> 100
B17: 6113 | C17: 5137 | D17: 0 | E17: 11000000000 | F17: Drobný hmotný dlouhodobý majetek | G17: 1160 | H17: 830 | I17: =16618/100 -> 166.18 | J17: 700 | K17: =J17/G17*100 -> 60.344828
B18: 6113 | C18: 5139 | D18: 0 | E18: 11000000000 | F18: Nákup materiálu j.n. | G18: 1050 | H18: 1050 | I18: =56406/100 -> 564.06 | J18: 1000 | K18: =J18/G18*100 -> 95.238095
B19: 6113 | C19: 5142 | D19: 0 | E19: 11000000000 | F19: Realizované kurzové ztráty | G19: 20 | H19: 20 | I19: =17/100 -> 0.17 | J19: 20 | K19: =J19/G19*100 -> 100
B20: 6113 | C20: 5151 | D20: 0 | E20: 11000000000 | F20: Studená voda | G20: 30 | H20: 30 | I20: =2762/100 -> 27.62 | J20: 40 | K20: =J20/G20*100 -> 133.33333
B21: 6113 | C21: 5152 | D21: 0 | E21: 11000000000 | F21: Teplo | G21: 170 | H21: 370 | I21: =18032/100 -> 180.32 | J21: 300 | K21: =J21/G21*100 -> 176.47059
B22: 6113 | C22: 5154 | D22: 0 | E22: 11000000000 | F22: Elektrická energie | G22: 330 | H22: 330 | I22: =24171/100 -> 241.71 | J22: 330 | K22: =J22/G22*100 -> 100
B23: 6113 | C23: 5156 | D23: 0 | E23: 11000000000 | F23: Pohonné hmoty a maziva | G23: 450 | H23: 450 | I23: =30008/100 -> 300.08 | J23: 500 | K23: =J23/G23*100 -> 111.11111
B24: 6113 | C24: 5161 | D24: 0 | E24: 11000000000 | F24: Služby pošt | G24: 10 | H24: 10 | I24: 0 | J24: 10 | K24: =J24/G24*100 -> 100
B25: 6113 | C25: 5162 | D25: 0 | E25: 11000000000 | F25: Služby telekomunikací a radiokomunikací | G25: 500 | H25: 450 | I25: =19374/100 -> 193.74 | J25: 300 | K25: =J25/G25*100 -> 60
B26: 6113 | C26: 5163 | D26: 0 | F26: Služby peněžních ústavů | G26: 80 | H26: 65 | I26: 29 | J26: 50 | K26: =J26/G26*100 -> 62.5
B27: 6113 | C27: 5164 | D27: 0 | E27: 11000000000 | F27: Nájemné | G27: 200 | H27: 200 | I27: =14467/100 -> 144.67 | J27: 200 | K27: =J27/G27*100 -> 100
B28: 6113 | C28: 5166 | D28: 0 | E28: 11000000000 | F28: Konzultační, poradenské a právní služby | G28: 1100 | H28: 1050 | I28: =61720/100 -> 617.2 | J28: 920 | K28: =J28/G28*100 -> 83.636364
B29: 6113 | C29: 5167 | D29: 0 | E29: 11000000000 | F29: Služby školení a vzdělávání | G29: 100 | H29: 100 | I29: 0 | J29: 100 | K29: =J29/G29*100 -> 100
B30: 6113 | C30: 5169 | D30: 0 | E30: 11000000000 | F30: Nákup ostatních služeb | G30: 8900 | H30: 8550 | I30: =280506/100 -> 2805.06 | J30: 8000 | K30: =J30/G30*100 -> 89.88764
B31: 6113 | C31: 5171 | D31: 0 | E31: 11000000000 | F31: Opravy a udržování | G31: 200 | H31: 170 | I31: =368/100 -> 3.68 | J31: 100 | K31: =J31/G31*100 -> 50
B32: 6113 | C32: 5172 | D32: 0 | E32: 11000000000 | F32: Programové vybavení | G32: 100 | H32: 100 | I32: 0 | J32: 100 | K32: =J32/G32*100 -> 100
B33: 6113 | C33: 5173 | D33: 0 | F33: Cestovné (tuzemské i zahraniční) | G33: 1600 | H33: =1200+335 -> 1535 | I33: =58399/100+154 -> 737.99 | J33: 1600 | K33: =J33/G33*100 -> 100
B34: 6113 | C34: 5175 | D34: 0 | F34: Pohoštění | G34: =100+100+100+800+100+100+100+100 -> 1500 | H34: =100+100+100+1000+100+100+100+100 -> 1700 | I34: =2671/100+24+26+727+35+43+26+46 -> 953.71 | J34: =100+100+100+800+100+100+100+100 -> 1500 | K34: =J34/G34*100 -> 100
B35: 6113 | C35: 5176 | D35: 0 | E35: 11000000000 | F35: Účastnické poplatky na konference | G35: 50 | H35: 65 | I35: =4923/100 -> 49.23 | J35: 50 | K35: =J35/G35*100 -> 100
B36: 6113 | C36: 5182 | D36: 0 | E36: 0 | F36: Poskytované zálohy vlastní pokladně | G36: 20 | H36: 20 | I36: 0 | J36: 0 | K36: =J36/G36*100 -> 0
B37: 6113 | C37: 5189 | D37: 0 | E37: 0 | F37: Ostatní poskytované zálohy a jistiny | G37: 70 | H37: 70 | I37: 271 | J37: 70 | K37: =J37/G37*100 -> 100
B38: 6113 | C38: 5194 | D38: 0 | E38: 11000000000 | F38: Věcné dary | G38: 100 | H38: 100 | I38: 0 | J38: 50 | K38: =J38/G38*100 -> 50
B39: 6113 | C39: 5229 | D39: 0 | E39: 30101000000 | F39: Ostatní neinv.transfery nezisk.a podob.organizacím | G39: 1000 | H39: 1000 | I39: 700 | J39: 1000 | K39: =J39/G39*100 -> 100
B40: 6113 | C40: 5361 | D40: 0 | E40: 11000000000 | F40: Nákup kolků | G40: 5 | H40: 5 | I40: 0 | J40: 5 | K40: =J40/G40*100 -> 100
B41: 6113 | C41: 5362 | D41: 0 | E41: 11000000000 | F41: Platby daní a poplatků státnímu rozpočtu | G41: 5 | H41: 5 | I41: 0 | J41: 5 | K41: =J41/G41*100 -> 100
B42: 6113 | C42: 5424 | D42: 0 | E42: 11000000000 | F42: Náhrady mezd v době nemoci | G42: 100 | H42: 100 | I42: 0 | J42: 50 | K42: =J42/G42*100 -> 50
B43: 6113 | C43: 5492 | D43: 0 | E43: 30102000000 | F43: Dary obyvatelstvu | G43: 15 | H43: 15 | I43: 15 | J43: 15 | K43: =J43/G43*100 -> 100
...

Sheet ORJ - 02
B2: Kancelář hejtmana | K2: ORJ - 02
B4: Správce: | D4: Ing. Luděk Niče
D5: vedoucí kanceláře
K6: v tis. Kč
B7: § | C7: pol. | D7: UZ | E7: ORG | F7: název položky | G7: schválený rozpočet 2011 | H7: upravený rozpočet k 30.9.2011 | I7: skutečnost k 30.9.2011 | J7: návrh rozpočtu na rok 2012 | K7: %
B8: 1 | C8: 2 | D8: 3 | E8: 4 | F8: 5 | G8: 6 | H8: 7 | I8: 8 | J8: 9 | K8: 10=9/6
B9: 2143 | C9: 5139 | D9: 500 | E9: 20001000000 | F9: Nákup materiálu j.n. | G9: 300 | H9: 300 | I9: =9581/100 -> 95.81 | J9: 300 | K9: =J9/G9*100 -> 100
B10: 2143 | C10: 5166 | D10: 0 | E10: 60007000000 | F10: Konzultační, poradenské a právní služby | G10: 0 | H10: 60 | I10: 0 | J10: 0
B11: 2143 | C11: 5166 | D11: 500 | E11: 20000000000 | F11: Konzultační, poradenské a právní služby | G11: 0 | H11: 500 | I11: 0 | J11: 475
B12: 2143 | C12: 5169 | D12: 24 | E12: 20001000000 | F12: Nákup ostatních služeb | G12: 0 | H12: 315 | I12: 0 | J12: 0
B13: 2143 | C13: 5169 | D13: 500 | E13: 20001000000 | F13: Nákup ostatních služeb | G13: 6670 | H13: =429264/100 -> 4292.64 | I13: =180470/100 -> 1804.7 | J13: 5235 | K13: =J13/G13*100 -> 78.485757
B14: 2143 | C14: 5175 | D14: 500 | E14: 20001000000 | F14: Pohoštění | G14: 15 | H14: 15 | I14: =882/100 -> 8.82 | J14: 15 | K14: =J14/G14*100 -> 100
B15: 2143 | C15: 5212 | D15: 500 | E15: 30102000000 | F15: Neinv.transfery nefin.podnik.subjektům-fyz.osobám | G15: 0 | H15: 230 | I15: 230 | J15: 0
B16: 2143 | C16: 5212 | D16: 505 | E16: 30102000000 | F16: Neinv.transfery nefin.podnik.subjektům-fyz.osobám | G16: 311 | H16: 311 | I16: =31070/100 -> 310.7 | J16: 350 | K16: =J16/G16*100 -> 112.54019
B17: 2143 | C17: 5213 | D17: 500 | E17: 30102000000 | F17: Neinv.transfery nefin.podnik.subjektům-práv.osobám | G17: 0 | H17: =21970/100 -> 219.7 | I17: =21970/100 -> 219.7 | J17: 0
B18: 2143 | C18: 5221 | D18: 500 | E18: 30101003022 | F18: Neinvestiční transf.obecně prospěšným společnostem | G18: 0 | H18: 35 | I18: 35 | J18: 0
B19: 2143 | C19: 5222 | D19: 500 | E19: 30101000000 | F19: Neinvestiční transfery občanským sdružením | G19: 0 | H19: 680 | I19: 680 | J19: 0
B20: 2143 | C20: 5222 | D20: 503 | E20: 30101000000 | F20: Neinvestiční transfery občanským sdružením | G20: 600 | H20: 400 | I20: 400 | J20: 400 | K20: =J20/G20*100 -> 66.666667
B21: 2143 | C21: 5229 | D21: 16 | F21: Ostatní neinv.transfery nezisk.a podob.organizacím | G21: 2388 | H21: 0 | I21: 0 | J21: 0 | K21: =J21/G21*100 -> 0
B22: 2143 | C22: 5229 | D22: 500 | E22: 30101000000 | F22: Ostatní neinv.transfery nezisk.a podob.organizacím | G22: 75 | H22: 75 | I22: 0 | J22: 0 | K22: =J22/G22*100 -> 0
B23: 2143 | C23: 5229 | D23: 504 | F23: Ostatní neinv.transfery nezisk.a podob.organizacím | G23: 3500 | H23: 5888 | I23: 4449 | J23: 4449 | K23: =J23/G23*100 -> 127.11429
B24: 2143 | C24: 5321 | D24: 500 | E24: 30100000000 | F24: Neinvestiční transfery obcím | G24: 600 | H24: 869 | I24: 789 | J24: 800 | K24: =J24/G24*100 -> 133.33333
B25: 2143 | C25: 5323 | D25: 500 | E25: 30104000000 | F25: Neinvestiční transfery krajům | G25: 300 | H25: 300 | I25: 0 | J25: 0 | K25: =J25/G25*100 -> 0
B26: 2143 | C26: 5329 | D26: 500 | E26: 30100008571 | F26: Ostatní neinv.transfery veř.rozp.územní úrovně | G26: 0 | H26: 50 | I26: 50 | J26: 0
B27: 2143 | C27: 5331 | D27: 500 | E27: 30003001606 | F27: Neinvestiční příspěvky zřízeným příspěvkovým organ | G27: 0 | H27: 150 | I27: 150 | J27: 0
B28: 2143 | C28: 5629 | D28: 504 | F28: Ostatní neinv.půjčené prostř.nezisk.a podob.organ. | G28: 8925 | H28: 8925 | I28: 3794 | J28: 3795 | K28: =J28/G28*100 -> 42.521008
B29: 2144 | C29: 5169 | D29: 0 | E29: 20002000000 | F29: Nákup ostatních služeb | G29: 1400 | H29: =80250/100 -> 802.5 | I29: =35994/100 -> 359.94 | J29: 1100 | K29: =J29/G29*100 -> 78.571429
B30: 2144 | C30: 5221 | D30: 16 | E30: 30101000000 | F30: Neinvestiční transf.obecně prospěšným společnostem | G30: 0 | H30: 30 | I30: 30 | J30: 0
B31: 2144 | C31: 5222 | D31: 16 | E31: 30101000000 | F31: Neinvestiční transfery občanským sdružením | G31: 0 | H31: 176 | I31: 176 | J31: 0
B32: 2144 | C32: 5321 | D32: 16 | E32: 30100000000 | F32: Neinvestiční transfery obcím | G32: 0 | H32: 128 | I32: 128 | J32: 0
B33: 2144 | C33: 5321 | D33: 501 | E33: 30100008357 | F33: Neinvestiční transfery obcím | G33: 350 | H33: 350 | I33: 350 | J33: 350 | K33: =J33/G33*100 -> 100
B34: 2144 | C34: 5329 | D34: 16 | E34: 30100008552 | F34: Ostatní neinv.transfery veř.rozp.územní úrovně | G34: 0 | H34: 30 | I34: 30 | J34: 0
B35: 2144 | C35: 5331 | D35: 16 | F35: Neinvestiční příspěvky zřízeným příspěvkovým organ | G35: 0 | H35: 124 | I35: 124 | J35: 0
B36: 2144 | C36: 5499 | D36: 0 | E36: 30102000000 | F36: Ostatní neinvestiční transfery obyvatelstvu | G36: 50 | H36: 50 | I36: =2320/100 -> 23.2 | J36: 50 | K36: =J36/G36*100 -> 100
B37: 2144 | C37: 5532 | D37: 16 | E37: 30106000000 | F37: Ostatní neinvestiční transfery do zahraničí | G37: 0 | H37: 60 | I37: 60 | J37: 0
B38: 3326 | C38: 6341 | D38: 0 | F38: Investiční transfery obcím | G38: 0 | H38: 0 | I38: 0 | J38: 1500
B39: 3341 | C39: 5169 | D39: 510 | E39: 20001000000 | F39: Nákup ostatních služeb | G39: 3900 | H39: 3900 | I39: =248181/100 -> 2481.81 | J39: 3900 | K39: =J39/G39*100 -> 100
B40: 3349 | C40: 5169 | D40: 510 | E40: 20001000000 | F40: Nákup ostatních služeb | G40: 0 | H40: 6900 | I40: =459912/100 -> 4599.12 | J40: 6900
B41: 3349 | C41: 5341 | D41: 510 | E41: 20001000000 | F41: Převody vlast. fondům hospodářské(podnikat.)činnos | G41: 6900 | H41: 0 | I41: 0 | J41: 0 | K41: =J41/G41*100 -> 0
B42: 5272 | C42: 5168 | D42: 0 | E42: 20000000000 | F42: Služby zpracování dat | G42: 200 | H42: 200 | I42: 200 | J42: 100 | K42: =J42/G42*100 -> 50
...

Sheet ORJ - 03
B2: Kancelář ředitele | K2: ORJ - 03
B5: Správce: | D5: Mgr. Lenka Doleželová
D6: vedoucí kanceláře
K7: v tis. Kč
B8: § | C8: pol. | D8: UZ | E8: ORG | F8: název položky | G8: schválený rozpočet 2011 | H8: upravený rozpočet k 30.9.2011 | I8: skutečnost k 30.9.2011 | J8: návrh rozpočtu na rok 2012 | K8: %
B9: 1 | C9: 2 | D9: 3 | E9: 4 | F9: 5 | G9: 6 | H9: 7 | I9: 8 | J9: 9 | K9: 10=9/6
B10: 6172 | C10: 5011 | D10: 0 | E10: 12000000000 | F10: Platy zaměstnanců v pracovním poměru | G10: 173887 | H10: =17428251/100 -> 174282.51 | I10: =10709723/100 -> 107097.23 | J10: 170000 | K10: =J10/G10*100 -> 97.76464
B11: 6172 | C11: 5021 | D11: 0 | E11: 12000000000 | F11: Ostatní osobní výdaje | G11: 1500 | H11: 1515 | I11: =101438/100 -> 1014.38 | J11: 1500 | K11: =J11/G11*100 -> 100
B12: 6172 | C12: 5024 | D12: 0 | E12: 12000000000 | F12: Odstupné | G12: 300 | H12: 300 | I12: 0 | J12: 300 | K12: =J12/G12*100 -> 100
B13: 6172 | C13: 5029 | D13: 0 | E13: 12000000000 | F13: Ostatní platby za provedenou práci jinde nezařazen | G13: 100 | H13: 100 | I13: 0 | J13: 100 | K13: =J13/G13*100 -> 100
B14: 6172 | C14: 5031 | D14: 0 | E14: 12000000000 | F14: Povinné poj.na soc.zab.a přísp.na st.pol.zaměstnan | G14: 43472 | H14: =4354458/100 -> 43544.58 | I14: =2695635/100 -> 26956.35 | J14: 42500 | K14: =J14/G14*100 -> 97.764078
B15: 6172 | C15: 5031 | D15: 0 | E15: 12000100345 | F15: Povinné poj.na soc.zab.a přísp.na st.pol.zaměstnan | G15: 0 | H15: =4045/100 -> 40.45 | I15: =1045/100 -> 10.45 | J15: 0
B16: 6172 | C16: 5032 | D16: 0 | E16: 12000000000 | F16: Povinné poj.na veřejné zdravotní pojištění | G16: 15650 | H16: =1569009/100 -> 15690.09 | I16: =970390/100 -> 9703.9 | J16: 15300 | K16: =J16/G16*100 -> 97.763578
B17: 6172 | C17: 5032 | D17: 0 | E17: 12000100345 | F17: Povinné poj.na veřejné zdravotní pojištění | G17: 0 | H17: =1376/100 -> 13.76 | I17: =376/100 -> 3.76 | J17: 0
B18: 6172 | C18: 5038 | D18: 0 | E18: 20003000000 | F18: Povinné pojistné na úrazové pojištění | G18: 730 | H18: 750 | I18: =55480/100 -> 554.8 | J18: 750 | K18: =J18/G18*100 -> 102.73973
B19: 6172 | C19: 5039 | D19: 0 | E19: 12000000000 | F19: Ostatní povinné pojistné placené zaměstnavatelem | G19: 50 | H19: 50 | I19: 0 | J19: 50 | K19: =J19/G19*100 -> 100
B20: 6172 | C20: 5134 | D20: 0 | E20: 12000000000 | F20: Prádlo, oděv a obuv | G20: 50 | H20: 55 | I20: =3752/100 -> 37.52 | J20: 46 | K20: =J20/G20*100 -> 92
B21: 6172 | C21: 5136 | D21: 0 | E21: 12005000000 | F21: Knihy, učební pomůcky a tisk | G21: 300 | H21: 550 | I21: =62+163 -> 225 | J21: 500 | K21: =J21/G21*100 -> 166.66667
B22: 6172 | C22: 5137 | D22: 0 | E22: 12000000000 | F22: Drobný hmotný dlouhodobý majetek | G22: 600 | H22: 600 | I22: =40431/100 -> 404.31 | J22: 600 | K22: =J22/G22*100 -> 100
B23: 6172 | C23: 5139 | D23: 0 | F23: Nákup materiálu j.n. | G23: =570+750+700+480 -> 2500 | H23: =915+750+700+480 -> 2845 | I23: =72768/100+447+300+205 -> 1679.68 | J23: =1000+750+700+480 -> 2930 | K23: =J23/G23*100 -> 117.2
B24: 6172 | C24: 5151 | D24: 0 | F24: Studená voda | G24: =15+200+150+25 -> 390 | H24: 390 | I24: =-3+156+139+18 -> 310 | J24: 477 | K24: =J24/G24*100 -> 122.30769
B25: 6172 | C25: 5152 | D25: 0 | F25: Teplo | G25: 2900 | H25: 2900 | I25: =977+861 -> 1838 | J25: 3201 | K25: =J25/G25*100 -> 110.37931
B26: 6172 | C26: 5153 | D26: 0 | F26: Plyn | G26: =150+250 -> 400 | H26: =70+176+10 -> 256 | I26: =43+118 -> 161 | J26: 292 | K26: =J26/G26*100 -> 73
B27: 6172 | C27: 5154 | D27: 0 | F27: Elektrická energie | G27: =157+2300+1600+50+93 -> 4200 | H27: =157+1900+1600+50+93 -> 3800 | I27: =-12+1295+977+28+62 -> 2350 | J27: =6+2000+1500+100+94 -> 3700 | K27: =J27/G27*100 -> 88.095238
B28: 6172 | C28: 5156 | D28: 0 | E28: 12000000000 | F28: Pohonné hmoty a maziva | G28: 1250 | H28: 1450 | I28: =89828/100 -> 898.28 | J28: 1300 | K28: =J28/G28*100 -> 104
B29: 6172 | C29: 5157 | D29: 0 | E29: 12008000000 | F29: Teplá voda | G29: 100 | H29: 100 | I29: =8587/100 -> 85.87 | J29: 110 | K29: =J29/G29*100 -> 110
B30: 6172 | C30: 5159 | D30: 0 | E30: 12000000000 | F30: Nákup ostatních paliv a energie | G30: 20 | H30: 5 | I30: =71/100 -> 0.71 | J30: 5 | K30: =J30/G30*100 -> 25
B31: 6172 | C31: 5161 | D31: 0 | E31: 12000000000 | F31: Služby pošt | G31: 2000 | H31: 1600 | I31: =120485/100 -> 1204.85 | J31: 1600 | K31: =J31/G31*100 -> 80
B32: 6172 | C32: 5162 | D32: 0 | E32: 12000000000 | F32: Služby telekomunikací a radiokomunikací | G32: 2780 | H32: 1930 | I32: =137923/100 -> 1379.23 | J32: 2500 | K32: =J32/G32*100 -> 89.928058
B33: 6172 | C33: 5163 | D33: 0 | E33: 20003000000 | F33: Služby peněžních ústavů | G33: 400 | H33: 360 | I33: =21475/100 -> 214.75 | J33: 400 | K33: =J33/G33*100 -> 100
B34: 6172 | C34: 5164 | D34: 0 | F34: Nájemné | G34: =1500+16000 -> 17500 | H34: =98266/100+15917+217 -> 17116.66 | I34: =51460/100+11938+163 -> 12615.6 | J34: =1282+16000+218 -> 17500 | K34: =J34/G34*100 -> 100
B35: 6172 | C35: 5166 | D35: 0 | E35: 12000000000 | F35: Konzultační, poradenské a právní služby | G35: 200 | H35: 200 | I35: =9541/100 -> 95.41 | J35: 200 | K35: =J35/G35*100 -> 100
B36: 6172 | C36: 5167 | D36: 0 | E36: 12000000000 | F36: Služby školení a vzdělávání | G36: 3000 | H36: 2950 | I36: =170324/100 -> 1703.24 | J36: 2500 | K36: =J36/G36*100 -> 83.333333
B37: 6172 | C37: 5169 | D37: 0 | F37: Nákup ostatních služeb | G37: =11687+1584+189 -> 13460 | H37: =11090+1584+189 -> 12863 | I37: =809759/100+1181+113 -> 9391.59 | J37: =11994+1620+126 -> 13740 | K37: =J37/G37*100 -> 102.08024
B38: 6172 | C38: 5171 | D38: 0 | F38: Opravy a udržování | G38: 4000 | H38: 2600 | I38: =1147+259 -> 1406 | J38: 4000 | K38: =J38/G38*100 -> 100
B39: 6172 | C39: 5173 | D39: 0 | F39: Cestovné (tuzemské i zahraniční) | G39: 3500 | H39: 3260 | I39: =1163+200 -> 1363 | J39: 3000 | K39: =J39/G39*100 -> 85.714286
B40: 6172 | C40: 5175 | D40: 0 | E40: 12000000000 | F40: Pohoštění | G40: 500 | H40: 500 | I40: =22738/100 -> 227.38 | J40: 500 | K40: =J40/G40*100 -> 100
B41: 6172 | C41: 5176 | D41: 0 | E41: 12000000000 | F41: Účastnické poplatky na konference | G41: 150 | H41: 200 | I41: =18428/100 -> 184.28 | J41: 200 | K41: =J41/G41*100 -> 133.33333
B42: 6172 | C42: 5182 | D42: 0 | E42: 0 | F42: Poskytované zálohy vlastní pokladně | G42: 0 | H42: 0 | I42: =73+2+36 -> 111 | J42: 0
B43: 6172 | C43: 5189 | D43: 0 | E43: 0 | F43: Ostatní poskytované zálohy a jistiny | G43: 20 | H43: 0 | I43: 115 | J43: 20 | K43: =J43/G43*100 -> 100
...

Sheet ORJ - 04
B2: Odbor majetkový a právní | K2: ORJ - 04
B5: Správce: | D5: Mgr. Hana Kamasová
D6: vedoucí odboru
K7: v tis. Kč
B8: § | C8: pol. | D8: UZ | E8: ORG | F8: název položky | G8: schválený rozpočet 2011 | H8: upravený rozpočet k 30.9.2011 | I8: skutečnost k 30.9.2011 | J8: návrh rozpočtu na rok 2012 | K8: %
B9: 1 | C9: 2 | D9: 3 | E9: 4 | F9: 5 | G9: 6 | H9: 7 | I9: 8 | J9: 9 | K9: 10=9/6
B10: 6172 | C10: 5163 | D10: 0 | E10: 20003000000 | F10: Služby peněžních ústavů | G10: 20908 | H10: 20408 | I10: =1465878/100 -> 14658.78 | J10: 20908 | K10: =J10/G10*100 -> 100
B11: 6172 | C11: 5164 | D11: 0 | E11: 20000000000 | F11: Nájemné | G11: 70 | H11: =1141/100 -> 11.41 | I11: =932/100 -> 9.32 | J11: 70 | K11: =J11/G11*100 -> 100
B12: 6172 | C12: 5164 | D12: 0 | E12: 60004100022 | F12: Nájemné | G12: 0 | H12: =6059/100 -> 60.59 | I12: =6059/100 -> 60.59 | J12: 0
B13: 6172 | C13: 5166 | D13: 0 | E13: 20000000000 | F13: Konzultační, poradenské a právní služby | G13: 600 | H13: =153990/100 -> 1539.9 | I13: =87147/100 -> 871.47 | J13: 1800 | K13: =J13/G13*100 -> 300
B14: 6172 | C14: 5166 | D14: 0 | E14: 20000009000 | F14: Konzultační, poradenské a právní služby | G14: 1200 | H14: =12810/100 -> 128.1 | I14: =3938/100 -> 39.38 | J14: 0 | K14: =J14/G14*100 -> 0
B15: 6172 | C15: 5166 | D15: 12 | E15: 60004100130 | F15: Konzultační, poradenské a právní služby | G15: 0 | H15: 50 | I15: =1055/100 -> 10.55 | J15: 0
B16: 6172 | C16: 5169 | D16: 0 | E16: 20000000000 | F16: Nákup ostatních služeb | G16: 24 | H16: 44 | I16: =1253/100 -> 12.53 | J16: 24 | K16: =J16/G16*100 -> 100
B17: 6172 | C17: 5169 | D17: 12 | E17: 60004100130 | F17: Nákup ostatních služeb | G17: 0 | H17: 50 | I17: =2392/100 -> 23.92 | J17: 0
B18: 6172 | C18: 5192 | D18: 0 | E18: 20000000000 | F18: Poskytnuté neinvestiční příspěvky a náhrady (část) | G18: 1 | H18: 1 | I18: 0 | J18: 1 | K18: =J18/G18*100 -> 100
B19: 6172 | C19: 5362 | D19: 0 | E19: 20000000000 | F19: Platby daní a poplatků státnímu rozpočtu | G19: 2 | H19: 12 | I19: =150/100 -> 1.5 | J19: 2 | K19: =J19/G19*100 -> 100
B20: 6172 | C20: 5499 | D20: 0 | E20: 30102000000 | F20: Ostatní neinvestiční transfery obyvatelstvu | G20: 2 | H20: 2 | I20: =27/100 -> 0.27 | J20: 2 | K20: =J20/G20*100 -> 100
B21: 6172 | C21: 6121 | D21: 0 | E21: 60004000000 | F21: Budovy, haly a stavby | G21: 0 | H21: 20 | I21: =543/100 -> 5.43 | J21: 0
B22: 6172 | C22: 6130 | D22: 0 | E22: 60001000000 | F22: Pozemky | G22: 0 | H22: =5965/100 -> 59.65 | I22: 0 | J22: 0
B23: 6172 | C23: 6130 | D23: 0 | E23: 60004000000 | F23: Pozemky | G23: 11958 | H23: =193721/100 -> 1937.21 | I23: =110931/100 -> 1109.31 | J23: 1358 | K23: =J23/G23*100 -> 11.356414
B24: 6172 | C24: 6130 | D24: 12 | E24: 60004100022 | F24: Pozemky | G24: 0 | H24: =79/100 -> 0.79 | I24: =79/100 -> 0.79 | J24: 0
B25: 6172 | C25: 6130 | D25: 12 | E25: 60004100130 | F25: Pozemky | G25: 0 | H25: 730 | I25: =37959/100 -> 379.59 | J25: 0
B26: Celkem | G26: =SUM(G10:G25) -> 34765 | H26: =SUM(H10:H25) -> 25054.65 | I26: =SUM(I10:I25) -> 17183.43 | J26: =SUM(J10:J25) -> 24165 | K26: =J26/G26*100 -> 69.509564
B30: § 6172, POL 5163 - Služby peněžních ústavů | J30: 20908 | K30: tis.Kč
B31: Výše výdajů ja navrhována v souladu se současnou Pojistnou smlouvou č. 772009814, ve znění dodatků s Kooperativou, pojišťovnou, a.s., s tím, že odbor majetkový a právní předpokládá, že v roce 2012 bude vysoutěžena vyší částka na pojištění majetku Olomouckého kraje.
B32: § 6172, POL 5164 - Nájemné | J32: 70 | K32: tis.Kč
B33: Tato položka je zřízena pro úhradu nájemného , a to zejména za pronájem pozemků do ČR - Pozemkového fondu ČR a třetích osob v souvislosti s majetkoprávním vypořádáním investičních akcí olomouckého kraje.
B34: § 6172, POL 5166 - Konzultační, poradenské a právní služby | J34: 1800 | K34: tis.Kč
B35: Tyto výdaje v majetkoprávních a jiných záležitostech pro Olomoucký kraj a Krajský úřad Olomouckého kraje zahrnují výdaje na základě uzavřené smlouvy s AK Ritter-Šťastný, výdaje na vyhotovení znaleckých posudků a geometrických plánů. Podstatnou část těchto výdajů představují výdaje na vyhotovování geometrických plánů v souvislosti s převody silničních pozemků mezi Olomouckým krajem, městy a obcemi Olomouckého kraje a náklady na vyhotovení znaleckých posudků pro výkupy silničních pozemků z vlastnictví třetích osob.
B36: § 6172, POL 5169 - Nákup ostatních služeb | J36: 24 | K36: tis.Kč
B37: Tato položka zahrnuje zejména výdaje za jednorázové úhrady v souvislosti se zřizováním věcných břemen ve prospěch Olomouckého kraje, resp. ve prospěch nemovitostí ve vlastnictví Olomouckého kraje, a dále výdaje na pořízení kopií geometrických plánů, fotodokumentace, uveřejnění informací o veřejných zakázkách na centrální adrese, inzercí záměrů Olomouckého kraje v tisku, případně další služby.
B38: § 6172, POL 5192 - Poskytnuté neinvestiční příspěvky a náhrady (část) | J38: 1 | K38: tis.Kč
B39: Tato položka je zřizována pro úhradu poplatků za ověřování listin, podpisů, případně poštovních poplatků organizacím v souvislosti s pořizováním nemovitého majetku.
B40: § 6172, POL 5362 - Platby daní a poplatků státnímu rozpočtu | J40: 2 | K40: tis.Kč
B41: Tato položka je zřízena pro úhradu poplatků v souvislosti s pořizováním nemovitého majetku.
B42: § 6172, POL 5499 - Ostatní neinvestiční transfery obyvatelstvu | J42: 2 | K42: tis.Kč
B43: Tyto výdaje zahrnují úhradu poplatků třetím osobám za ověřování podpisů, ověřování listin a na úhradu poštovních poplatků v souvislosti s uzavíranými kupními smlouvami na výkupy pozemků zastavěných silnicemi II. a III. třídy.
B44: § 6172, POL 6130 - Pozemky | J44: 1358 | K44: tis.Kč
B45: Tyto výdaje budou použity zejména na majetkoprávní vypořádání odkupu pozemků pod silnicemi II. a III. třídy z vlastnictví třetích osob do vlastnictví Olomouckého kraje, popřípadě na pořízení pozemků potřebných pro činnost příspěvkových organizací Olomouckého kraje.

Sheet ORJ - 05
B2: Odbor správní a legislativní | K2: ORJ - 05
B5: Správce: | D5: JUDr. Marie Mazánková
D6: vedoucí odboru
K7: v tis. Kč
B8: § | C8: pol. | D8: UZ | E8: ORG | F8: název položky | G8: schválený rozpočet 2011 | H8: upravený rozpočet k 30.9.2011 | I8: skutečnost k 30.9.2011 | J8: návrh rozpočtu na rok 2012 | K8: %
B9: 1 | C9: 2 | D9: 3 | E9: 4 | F9: 5 | G9: 6 | H9: 7 | I9: 8 | J9: 9 | K9: 10=9/6
B10: 6172 | C10: 5166 | D10: 0 | E10: 20000000000 | F10: Konzultační, poradenské a právní služby | G10: 10 | H10: 10 | I10: 0 | J10: 10 | K10: =J10/G10*100 -> 100
B11: 6172 | C11: 5192 | D11: 0 | E11: 20000000000 | F11: Poskytnuté neinvestiční příspěvky a náhrady (část) | G11: 40 | H11: 40 | I11: =240/100 -> 2.4 | J11: 70 | K11: =J11/G11*100 -> 175
B12: Celkem | G12: =SUM(G10:G11) -> 50 | H12: =SUM(H10:H11) -> 50 | I12: =SUM(I10:I11) -> 2.4 | J12: =SUM(J10:J11) -> 80 | K12: =J12/G12*100 -> 160
B16: § 6172, POL 5166 - Konzultační, poradenské a právní služby | J16: 10 | K16: tis.Kč
B17: Výdaje související s právním poradenstvím.
B18: § 6172, POL 5192 - Poskytnuté neinvestiční příspěvky a náhrady (část) | J18: 70 | K18: tis.Kč
B19: Výdaje za soudní poplatky. S účinností od 1.4.2011 bylo ředitelem KÚOK rozhodnuto o převedení části agend z ODSH na OSL, která se týká rozhodování v odvolacím řízení o záznamu bodů v registru řidičů v důsledku porušení povinnosti stanovené zákonem o provozu na pozemních komunikacích. Vzhledem k tomu, že dosažení 12 bodů v registru řidičů znamená pro řidiče, je-li to jeho povolání, ztrátu změstnání, jsou ve velkém rozsahu proti našim rozhodnutím podávány žaloby ke správnímu soudu. S podanou žalobou je nutné provést úhradu soudních poplatků v případě, kdy námi rozhodovaná věc je vrácena k novému projednání a rozhodnutí.

Sheet ORJ - 06
B2: Odbor informačních technologií | K2: ORJ - 06
B5: Správce: | D5: Mgr. Jiří Šafránek
D6: vedoucí odboru
K7: v tis. Kč
B8: § | C8: pol. | D8: UZ | E8: ORG | F8: název položky | G8: schválený rozpočet 2011 | H8: upravený rozpočet k 30.9.2011 | I8: skutečnost k 30.9.2011 | J8: návrh rozpočtu na rok 2012 | K8: %
B9: 1 | C9: 2 | D9: 3 | E9: 4 | F9: 5 | G9: 6 | H9: 7 | I9: 8 | J9: 9 | K9: 10=9/6
B10: 6172 | C10: 5137 | D10: 0 | E10: 20000000000 | F10: Drobný hmotný dlouhodobý majetek | G10: 2000 | H10: 2000 | I10: =19413/100 -> 194.13 | J10: 1420 | K10: =J10/G10*100 -> 71
B11: 6172 | C11: 5139 | D11: 0 | E11: 20000000000 | F11: Nákup materiálu j.n. | G11: 400 | H11: 400 | I11: =4677/100 -> 46.77 | J11: 400 | K11: =J11/G11*100 -> 100
B12: 6172 | C12: 5164 | D12: 0 | E12: 20000000000 | F12: Nájemné | G12: 1700 | H12: 1700 | I12: =141891/100 -> 1418.91 | J12: 2203 | K12: =J12/G12*100 -> 129.58824
B13: 6172 | C13: 5164 | D13: 9 | E13: 20000000000 | F13: Nájemné | G13: 569 | H13: 569 | I13: =42660/100 -> 426.6 | J13: 0 | K13: =J13/G13*100 -> 0
B14: 6172 | C14: 5166 | D14: 0 | E14: 20000000000 | F14: Konzultační, poradenské a právní služby | G14: 100 | H14: 100 | I14: =3360/100 -> 33.6 | J14: 250 | K14: =J14/G14*100 -> 250
B15: 6172 | C15: 5168 | D15: 0 | E15: 20000000000 | F15: Služby zpracování dat | G15: 2100 | H15: 1200 | I15: 0 | J15: 280 | K15: =J15/G15*100 -> 13.333333
B16: 6172 | C16: 5169 | D16: 0 | E16: 20000000000 | F16: Nákup ostatních služeb | G16: 15700 | H16: 15700 | I16: =702384/100 -> 7023.84 | J16: 12916 | K16: =J16/G16*100 -> 82.267516
B17: 6172 | C17: 5171 | D17: 0 | E17: 20000000000 | F17: Opravy a udržování | G17: 1200 | H17: 1200 | I17: =70119/100 -> 701.19 | J17: 5700 | K17: =J17/G17*100 -> 475
B18: 6172 | C18: 5172 | D18: 0 | E18: 20000000000 | F18: Programové vybavení | G18: 200 | H18: 200 | I18: =2683/100 -> 26.83 | J18: 200 | K18: =J18/G18*100 -> 100
B19: Celkem | G19: =SUM(G10:G18) -> 23969 | H19: =SUM(H10:H18) -> 23069 | I19: =SUM(I10:I18) -> 9871.87 | J19: =SUM(J10:J18) -> 23369 | K19: =J19/G19*100 -> 97.496767
B24: § 6172, POL 5137 - Drobný hmotný dlouhodobý majetek | J24: 1420 | K24: tis.Kč
B25: Obměna pracovních stanic zaměstnanců KÚOK v souvislosti s přechodem na Office 2010 a operační systém Windows 7 a další nákupy v rámci obměny ostatních zařízení. 1. Monitory - 100 ks, PC - 100 ks - celkem 1 300 tis.Kč 2. Provozní spotřeba - čtečky, čtečky s pamětí, čipové karty - celkem 120 tis.Kč
B26: § 6172, POL 5139 - Nákup materiálu j.n. | J26: 400 | K26: tis.Kč
B27: Materiál na opravy prováděné svépomocí.
B28: § 6172, POL 5164 - Nájemné | J28: 2203 | K28: tis.Kč
B29: Zahrnuje: 1. Nájemné na 35 ks multifunkčních zařízení (multifunkční zařízení je tiskárna kombinovaná s kopírkou, případně skenerem a faxem). Podle nové smlouvy se společností IMPROMAT (smlouva č. 2011/02888/OIT/DSM) je pronájem zařízení levnější než v minulých letech, v této částce je nájem, opravy a tonery - celkem 1 650 tis.Kč 2. Pronájem optických tras mezi sídlem OK, HZS a ZZS OK (smlouva č. 2005/088/OIT) - celkem 553 tis.Kč
B30: § 6172, POL 5166 - Konzultační, poradenské a právní služby | J30: 250 | K30: tis.Kč
B31: Zahrnuje: 1. Konzultace firmy ANET - rozvoj a údržba docházkového systému KÚOK - 20 tis.Kč 2. Konzultace DTG - rozvoj a údržba ekonomických informačních systémů a spisových služeb KÚOK - 20 tis.Kč 3. Konzultace firmy GORDIC v rámci nových modulů pro administrátory OIT - rozvoj a údržba mzdového a personálního informačního systému KÚOK - 20 tis.Kč 4. Konzultace Marbes consulting s.r.o. - rozvoj a údržba SW pro evidenci nemovitostí a majetku příspěvkových organizací KÚOK- 20 tis.Kč 5. Konzultace TESCOSW - rozvoj a údržba SW pro evidenci pasportizace budov KÚOK - 20 tis.Kč 6. Analýza výkonu a fungování, správa databází firmou ORACLE - databáze Oracle je používána pro informační systém GINIS (spisové služby a ekonomické moduly) a DC2 (mzdy a personalistika) - 150 tis.Kč
B32: § 6172, POL 5168 - Služby zpracování dat | J32: 280 | K32: tis.Kč
B33: Zahrnuje: 1. Integrace uživatelů AD-Kevis, Marbes consulting s.r.o. - celkem 100 tis.Kč 2. Rozvoj a údržba mzdového a personálního informačních systému KÚOK - převody dat v rámci DC2 (vzdělávání apod.), DTG - celkem 60 tis.Kč 3. Rozvoj a údržba SW pro evidenci nemovitostí a majetku příspěvkových organizací KÚOK - převod dat majetku (věcný) PO do SW PROXIO ENO, Marbes consulting s.r.o. - celkem 50tis.Kč 4. Rozvoj a údržba SW pro evidenci pasportizace budov KÚOK - plnění dat do FAMA+ - technické a stavební součásti budov z excelovských tabulek, TESCOSW - celkem 70 tis.Kč
B36: § 6172, POL 5169 - Nákup ostatních služeb | J36: 12916 | K36: tis.Kč
B37: Servisní smlouvy, systémové podpory, úpravy a rozvoj SW, aktualizace SW 1. BMI SYSTEM CZECH, a.s - CLIX - REGISTR OZNÁMENÍ, oznámení o příjmech veřejných činitelů (smlouva č. 2010/01860/OIT/DSM) - celkem 30 tis.Kč 2. ANET - služby v rámci rozvojea údržby docházkového systému KÚOK - celkem 80 tis.Kč 3. ANET - servisní smlouva, upgrade a update SW - údržba a podpora docházkového systému KÚOK (smlouva č.2008/1476/OIT/DSM) - celkem 38 tis.Kč 4. ArcData Praha - systémová podpora ESRI, podpora produktů firmy ESRI řady ArcGIS (4x ArcView, 2x ArcInfo, ArcGIS servery ...) objednávka) - celkem 450 tis.Kč 5. ASD - úpravy a rozvoj SW DIS a ISOP, služby v rámci rozvoje a údržby evidenčního systému pro veřejné zakázky a dotace KÚOK - celkem 150 tis.Kč 6. ASD - servisní smlouva, upgrade a update SW - údržba a podpora evidenčního systému pro veřejné zakázky, dotace KÚOK (smlouva č. 2003/0721/OIT/DSM) - celkem 217 tis.Kč 7. ASPI - servisní smlouva, upgrade a update SW - údržba a podpora právního informačního systému KÚOK (smlouva č. 2006/1298/OIT/DSM) - celkem 244 tis.Kč 8. C4U - servisní smlouva, upgrade a update ekonomického informačního systému SAP pro ZZS OK (smlouva č. 2007/2329/OIT/DSM) - celkem 173 tis.Kč 9. C4U -servisní smlouva, údržba ekonomického informačního systému SAP pro ZZS OK (smlouva č. 2005/0292/OIT/DSM) - celkem 255 tis.Kč 10. Central European Data - servisní smlouva, pravidelná aktualizace dat StreetNetu (smlouva č. 2006/0042/OIT/DSM + dodatek 2011) - celkem 65 tis. Kč 11. DTG - servisní smlouva, upgrade a update SW - údržba a podpora mzdového a personálního informačního systému KÚOK (smlouva č. 2003/0284/OIT/DSM) - celkem 121 tis. Kč 12. Foresta - servisní smlouva, podpora SW Dotacena OŽPZ pro st. správu lesů (smlouva č. 2008/0730/OIT/DSM) - celkem 39 tis.Kč 13. Prostředky na nákup služeb a dat pro GIS - aktualizace mapových podkladů atd. (objednávky) - celkem 500 tis.Kč 14. Pořízení ortofotomapy v 3 leté periodě s lepší rozlišovací schopností (pro kraj, obce a složky IZS) - celkem 1 500 tis.Kč 15. Georeal - podpora nadstavby ArcGIS Desktop pro oblast ÚAP na OSR (objednávka) - celkem 15 tis.Kč 16. GORDIC - rozvoj GINIS, služby v rámci rozvoje a údržby ekonomického systému a spisových služeb KÚOK - celkem 2 300 tis.Kč 17. GORDIC - servisní smlouva, upgrade a update SW - údržba a podpora ekonomických informačních systémů a spisových služeb KÚOK (smlouva č.2003/0765/OIT/DSM) - celkem 2 150 tis.Kč 18. I.CA - obnova certifikátů + nové certifikáty a služby, certifikáty pro elektronický podpis zaměstnanců KÚOK - celkem 85 ks (smlouva č. 2005/0320/OIT/DSM) - celkem 100 tis.Kč 19. INISOFT - servisní smlouva, upgrade a update SW - údržba a podpora SW - WebSouhlasy internetové rozhraní - informace o vydaných souhlasech se zařízeními pro odpady pro OŽPZ (smlouva č. 2004/0283/OIT/DSM) - celkem 78 tis.Kč 20. KVASAR - servisní smlouva, upgrade a update SW - údržba a podpora softwarového systému OVZDUŠÍ určeného k podpoře výkonu agendy ochrany ovzduší (smlouva č. 2003/0717/OIT/DSM) - celkem 17 tis.Kč 21. Marbes consulting s.r.o. - rozvoj SW PROXIO, služby spojené s údržbou a podporou SW pro evidenci nemovitostí a majetku příspěvkových organizací KÚOK - celkem 50 tis.Kč 22. Marbes consulting s.r.o. - servisní smlouva SW PROXIO, upgrade a update SW - údržba a podpora SW pro evidenci nemovitostí a majetku příspěvkových organizací (smlouva č. 2007/0673/OIT/DSM) - celkem 364 tis.Kč 23. MP ORGA -servisní smlouva, upgrade a update SW - údržba a podpora SW pro evidenci a výpočty státního příspěvku pro zřizovatele zařízení pro děti vyžadující okamžitou pomoc - MPOVSP (smlouva č. 2006/1749/OIT/DSM) celkem 27 tis.Kč 24. MUZO - servisní smlouva, upgrade a update SW - údržba a podpora SW pro tvorbu ekonomických výkazů u školských příspěvkových organizací (smlouva č. 2005/0272/OIT/DSM) - celkem 9 tis.Kč 25. SENTINET s.r.o. - servisní smlouva, upgrade a update SW - údržba a podpora SW eAukce - PROe.biz PARK - elektronické aukce (smlouva č. 2006/0726/OIT/DSM) - celkem 5 tis.Kč 26. SW602 - rozvoj form 602, služby spojené s údržbou a podporou SW pro tvorbu podpůrných inteligentních formulářů pro zaměstnance KÚOK (formuláře typu dovolenka, služební cesty, apod.) - celkem 150 tis.Kč 27. SW602 - servisní smlouva, upgrade a update SW FormServer pro tvorbu podpůrných inteligentních formulářů pro zaměstnance KÚOK - formuláře typu dovolenka, služební cesty apod. (smlouva č. 2005/1231/OIT/DSM) - celkem 48 tis. Kč 28. TESCOSW - servisní smlouva, upgrade a update SW pro evidenci pasportizace budov KÚOK (smlouva č. 2007/0434/OIT/DSM) - celkem 202 tis.Kč 29. T-MAPY - servisní smlouva, upgrade a update SW pro evidenci nestátních zdravotních organizací (smlouva č. 2007/2190/OIT/DSM) - celkem 31 tis. Kč 30. URS - aktualizace SW KROS, upgrade a update SW pro výpočty rozpočtů na investiční stavební záměry Olomouckého kraje (objednávka) - celkem 11 tis.Kč 31. YAMACO - servisní smlouva, upgrade a update SW pro evidenci dopravních agend KÚOK (smlouva č. 2003/1108/OIT/DSM) - celkem 52 tis. Kč 32. IMPROMAT CZ s.r.o. - multifunkce - tisky nad limity (odhad podle dnešních dat a nových limitů), ve smlouvě se společností jsou stanoveny limity tisků, které jsou pokryty v rámci smlouvy. Pokud tyto limity překročíme, platíme za každou vytištěnou stránku částku, která pokrývá zvýšenou spotřebu tonerů a náklady opotřebení stroje (smlouva č. 2011/02888/OIT/DSM) - celkem 1100 tis.Kč
B43: 33. INVEA-TECH a.s. - podpora FlowMon s nárokem na upgrade sondy pro virtuální prostředí, pro sledování provozu a zatížení sítě používáme zařízení FlowMon, které dokáže odhalovat výkyvy a nestandardní chování počítačů. S pokračující virtualizací prostředků sítě je nutná nová verze, která s těmito virtuálními zařízeními umí pracovat - celkem 650 tis.Kč 34. MERIT GROUP a.s. - DATACENTRUM, v DATACENTRU MORAVIA máme umístěné servery pro přístup našich příspěvkových organizací k poskytované SSL. Důvodem umístění je přístup k páteřní optické trase a tudíž komfortnější přístup pro uživatele (smlouva č. 2010/00151/OIT/DSM) - celkem 283 tis.Kč 35. Symantec mail security SMS Gateway 2 roky - se šířením stále dokonalejších způsobů napadení počítačů a sítí je nutná dokonalejší ochrana proti "škůdcům" šířeným elektronickou poštou - celkem 50 tis.Kč 36. SODAT - Optim Access, AuditPro "audit pro" pro 700 PC cca 750 000 by šlo na položku 6111, aktualizace a podpora softwaru pro sledování vytíženosti pracovních stanic - celkem 462 tis.Kč 37. Symantec licence 2012-2013 - se šířením stále dokonalejších způsobů napadení počítačů a sítí je nutná dokonalejší ochrana pracovních stanic před útoky z internetu viry škodlivýmsoftwarem - celkem 600 tis.Kč 38. Podpora CISCO - podpora CISCO produktů - přepínače, routery, jejich vzdálená správa a odstranění poruch - celkem 300 tis.Kč
B44: § 6172, POL 5171 - Opravy a udržování | J44: 5700 | K44: tis.Kč
B45: Zahrnuje: 1. ICZ a.s. - vzdálená správa centrálního přepínače a nastavení síťových pravidel (smlouva č. 2003/0984/OIT) - celkem 600 tis.Kč 2. Infinity a.s. - Microsoft Enterprise Agreement - smlouva o podpoře a aktualizacích kancelářského softwareoffice (smlouva č. 2010/00939/OIT/DSM) - celkem 3 600 tis.Kč 3. MERIT GROUP a.s. - opravy, paušální platba za přítomnost technika na opravy výpočetní techniky (smlouva č. 2007/1877/OIT) - celkem 377 tis. Kč 4. MERIT GROUP a.s. - profylaxe, paušální platba za provádění profylaxe - kontrola výpočetní techniky, revize (smlouva č. 2004/0107/OIT) - celkem 400 tis.Kč 5. ORBIT s.r.o. - CITRIX, podpora software pro vzdálený přístup do informačního systému Olomouckého kraje - detašovaná pracoviště (smlouva č. 2009/03907/OIT/DSM) - celkem 460 tis.Kč 6. opravy rezerva - celkem 263 tis. Kč
B46: § 6172, POL 5172 - Programové vybavení | J46: 200 | K46: tis.Kč
B47: Nákup drobného SW od stávajících i nových firem.

Sheet ORJ - 07
B2: Odbor ekonomický | K2: ORJ - 07
B5: Správce: | D5: Ing. Jiří Juřena
D6: vedoucí odboru
K7: v tis. Kč
B8: § | C8: pol. | D8: UZ | E8: ORG | F8: název položky | G8: schválený rozpočet 2011 | H8: upravený rozpočet k 30.9.2011 | I8: skutečnost k 30.9.2011 | J8: návrh rozpočtu na rok 2012 | K8: %
B9: 1 | C9: 2 | D9: 3 | E9: 4 | F9: 5 | G9: 6 | H9: 7 | I9: 8 | J9: 9 | K9: 10=9/6
B10: 3636 | C10: 5325 | D10: 0 | E10: 30104000000 | F10: Neinvestiční transfery regionálním radám | G10: 500 | H10: 500 | I10: 500 | J10: 500 | K10: =J10/G10*100 -> 100
B11: 6172 | C11: 5141 | D11: 0 | E11: 20000000000 | F11: Úroky vlastní | G11: 9556 | H11: 56 | I11: 21 | J11: 0 | K11: =J11/G11*100 -> 0
B12: 6172 | C12: 5141 | D12: 804 | E12: 20000000000 | F12: Úroky vlastní | G12: 26000 | H12: 26000 | I12: =780569/100 -> 7805.69 | J12: =SUM(J33) -> 25127 | K12: =J12/G12*100 -> 96.642308
B13: 6172 | C13: 5141 | D13: 813 | E13: 20000000000 | F13: Úroky vlastní | G13: 43000 | H13: 41083 | I13: =1431344/100 -> 14313.44 | J13: =SUM(J35) -> 47711 | K13: =J13/G13*100 -> 110.95581
B14: 6172 | C14: 5141 | D14: 887 | E14: 20000000000 | F14: Úroky vlastní | G14: 0 | H14: =915799/100 -> 9157.99 | I14: =394757/100 -> 3947.57 | J14: 20344
B15: 6172 | C15: 5142 | D15: 0 | E15: 20000000000 | F15: Realizované kurzové ztráty | G15: 3000 | H15: 3000 | I15: =628/100 -> 6.28 | J15: 3000 | K15: =J15/G15*100 -> 100
B16: 6172 | C16: 5163 | D16: 0 | E16: 20000000000 | F16: Služby peněžních ústavů | G16: 594 | H16: 594 | I16: 319 | J16: 594 | K16: =J16/G16*100 -> 100
B17: 6172 | C17: 5163 | D17: 0 | E17: 20003000000 | F17: Služby peněžních ústavů | G17: 6 | H17: 6 | I17: =529/100 -> 5.29 | J17: 6 | K17: =J17/G17*100 -> 100
B18: 6172 | C18: 5164 | D18: 0 | E18: 20000000000 | F18: Nájemné | G18: 2 | H18: =537/100 -> 5.37 | I18: =459/100 -> 4.59 | J18: 5 | K18: =J18/G18*100 -> 250
B19: 6172 | C19: 5166 | D19: 0 | E19: 20000000000 | F19: Konzultační, poradenské a právní služby | G19: 2000 | H19: 2000 | I19: 1032 | J19: 2000 | K19: =J19/G19*100 -> 100
B20: 6172 | C20: 5169 | D20: 0 | E20: 20000000000 | F20: Nákup ostatních služeb | G20: 400 | H20: 440 | I20: 40 | J20: 400 | K20: =J20/G20*100 -> 100
B21: 6172 | C21: 5362 | D21: 0 | E21: 20000000000 | F21: Platby daní a poplatků státnímu rozpočtu | G21: 4000 | H21: =1261897/100 -> 12618.97 | I21: 8929 | J21: 8647 | K21: =J21/G21*100 -> 216.175
B22: 6172 | C22: 5901 | D22: 0 | E22: 0 | F22: Nespecifikované rezervy | G22: 120 | H22: 59984 | I22: 0 | J22: 0 | K22: =J22/G22*100 -> 0
B23: 6221 | C23: 5531 | D23: 16 | E23: 30106000000 | F23: Peněžní dary do zahraničí | G23: 0 | H23: 200 | I23: 200 | J23: 0
B24: 6409 | C24: 5229 | D24: 1 | E24: 30102000000 | F24: Ostatní neinv.transfery nezisk.a podob.organizacím | G24: 26000 | H24: 0 | I24: 0 | J24: 26000 | K24: =J24/G24*100 -> 100
B25: 6409 | C25: 5229 | D25: 2 | E25: 30102000000 | F25: Ostatní neinv.transfery nezisk.a podob.organizacím | G25: 10800 | H25: 68 | I25: 0 | J25: 10800 | K25: =J25/G25*100 -> 100
B26: 6409 | C26: 5901 | D26: 0 | E26: 20000000000 | F26: Nespecifikované rezervy | G26: 30000 | H26: =1925222/100 -> 19252.22 | I26: 0 | J26: 30000 | K26: =J26/G26*100 -> 100
B27: Celkem | G27: =SUM(G10:G26) -> 155978 | H27: =SUM(H10:H26) -> 174965.55 | I27: =SUM(I10:I26) -> 37123.86 | J27: =SUM(J10:J26) -> 175134 | K27: =J27/G27*100 -> 112.28122
B31: § 3636, POL 5325 - Neinvestiční transfery regionálním radám | J31: 500 | K31: tis.Kč
B32: Neinvestiční dotace pro Úřad regonální rady regionu soudržnosti Střední Morava na základě Smlouvy o zajištění financování regionálního operačního programu Střední Morava.
B33: § 6172, POL 5141 - Úroky vlastní | J33: =25127 -> 25127 | K33: tis.Kč
B34: Smlouva o úvěru ve výši 900 mil. Kč s Evropskou investiční bankou na projekt "Modernizace silnic II. a III. třídy v Olomouckém kraji. Úvěr je ve fázi splácení.
B35: § 6172, POL 5141 - Úroky vlastní | J35: =47678+33 -> 47711 | K35: tis.Kč
B36: Smlouva o úvěrovém rámci ve výši 3 000 mil. Kč s Evropskou investiční bankou na spolufinancování evropských programů a financování vlastních investičních akcí. Smlouva je ve fázi čerpání i splácení. Úroky jsou vypočítány s předpokladem čerpání další tranše ve výši 500 mil. Kč v lednu 2012.
B37: § 6172, POL 5141 - Úroky vlastní | J37: 20344 | K37: tis.Kč
B38: Smlouva o úvěrovém rámci ve výši 700 mil. Kč s Komerční bankou, a.s. Úroky jsou vypočítány s předpokladem čerpání 4. tranše ve výši 200 mil. Kč v lednu 2012.
B39: § 6172, POL 5142 - Realizované kurzové ztráty | J39: 3000 | K39: tis.Kč
B40: Kurzové ztráty týkající se pohybu finančních prostředků na bankovních účtech vedených v EUR.
B41: § 6172, POL 5163 - Služby peněžních ústavů | J41: 594 | K41: tis.Kč
B42: Jedná se o služby spojené s vedením bankovních účtů - za vedení účtů, poplatky za položky apod.
B43: § 6172, POL 5163 - Služby peněžních ústavů | J43: 6 | K43: tis.Kč
B44: Jedná se o pojištění platebních karet.
B45: § 6172, POL 5164 - Nájemné | J45: 5 | K45: tis.Kč
B46: Jedná se o výdaje na úhradu nákladů na bezpečnostní schránky zřízené u Komerční banky, a.s. 1. schránka - akcie Regionálního letiště Přerov a.s. - 1020 Kč/rok + DPH 2. schránka - akcie Středomoravské nemocniční a.s. - 2 805 Kč/ rok + DPH
...

Sheet ORJ - 08
B2: Odbor strategického rozvoje kraje | K2: ORJ - 08
B5: Správce: | D5: Ing. Michaela Pruknerová
D6: vedoucí odboru
K7: v tis. Kč
B8: § | C8: pol. | D8: UZ | E8: ORG | F8: název položky | G8: schválený rozpočet 2011 | H8: upravený rozpočet k 30.9.2011 | I8: skutečnost k 30.9.2011 | J8: návrh rozpočtu na rok 2012 | K8: %
B9: 1 | C9: 2 | D9: 3 | E9: 4 | F9: 5 | G9: 6 | H9: 7 | I9: 8 | J9: 9 | K9: 10=9/6
B10: 2251 | C10: 5213 | D10: 16 | E10: 30102003008 | F10: Neinv.transfery nefin.podnik.subjektům-práv.osobám | G10: 3000 | H10: 3000 | I10: 3000 | J10: 3000 | K10: =J10/G10*100 -> 100
B11: 2251 | C11: 6313 | D11: 16 | E11: 30102003008 | F11: Inv.transfery nefinančním podnik.subj.-právn.osob | G11: 10000 | H11: 10000 | I11: 10000 | J11: 5000 | K11: =J11/G11*100 -> 50
B12: 3299 | C12: 5213 | D12: 16 | E12: 30102003028 | F12: Neinv.transfery nefin.podnik.subjektům-práv.osobám | G12: 2000 | H12: 2000 | I12: 2000 | J12: 2000 | K12: =J12/G12*100 -> 100
F13: Regionální inovační strategie Olomouckého kraje
B14: 3349 | C14: 5213 | D14: 35 | E14: 30102000000 | F14: Neinv.transfery nefin.podnik.subjektům-práv.osobám | G14: 300 | H14: 300 | I14: 300 | J14: 280 | K14: =J14/G14*100 -> 93.333333
B15: 3639 | C15: 5164 | D15: 35 | E15: 20001000000 | F15: Nájemné | G15: 0 | H15: 0 | I15: 0 | J15: 0
B16: 3639 | C16: 5169 | D16: 35 | E16: 20000000000 | F16: Nákup ostatních služeb | G16: 0 | H16: 0 | I16: 0 | J16: 750
B17: 3639 | C17: 5169 | D17: 35 | E17: 20001000000 | F17: Nákup ostatních služeb | G17: 0 | H17: 0 | I17: 0 | J17: 580
B18: 3639 | C18: 5212 | D18: 35 | E18: 30102000000 | F18: Neinv.transfery nefin.podnik.subjektům-fyz.osobám | G18: 100 | H18: 100 | I18: 100 | J18: 50 | K18: =J18/G18*100 -> 50
B19: 3639 | C19: 5213 | D19: 35 | E19: 30102000000 | F19: Neinv.transfery nefin.podnik.subjektům-práv.osobám | G19: 300 | H19: 190 | I19: 0 | J19: 200 | K19: =J19/G19*100 -> 66.666667
B20: 3639 | C20: 5229 | D20: 35 | E20: 30101000000 | F20: Ostatní neinv.transfery nezisk.a podob.organizacím | G20: 0 | H20: 0 | I20: 0 | J20: 7200
G21: =SUM(G14:G20) -> 700 | H21: =SUM(H14:H20) -> 590 | I21: =SUM(I14:I20) -> 400 | J21: =SUM(J14:J20) -> 9060
B22: 3635 | C22: 5166 | D22: 0 | E22: 20004000000 | F22: Konzultační, poradenské a právní služby | G22: 3100 | H22: 2500 | I22: =26780/100 -> 267.8 | J22: 3250 | K22: =J22/G22*100 -> 104.83871
B23: 3635 | C23: 5169 | D23: 0 | E23: 20000000000 | F23: Nákup ostatních služeb | G23: 300 | H23: 300 | I23: =12821/100 -> 128.21 | J23: 700 | K23: =J23/G23*100 -> 233.33333
B24: 3635 | C24: 5192 | D24: 0 | E24: 20000000000 | F24: Poskytnuté neinvestiční příspěvky a náhrady (část) | G24: 250 | H24: 250 | I24: =3814/100 -> 38.14 | J24: 250 | K24: =J24/G24*100 -> 100
B25: 3636 | C25: 5175 | D25: 0 | E25: 20000000000 | F25: Pohoštění | G25: 80 | H25: 80 | I25: =2673/100 -> 26.73 | J25: 55 | K25: =J25/G25*100 -> 68.75
B26: 3636 | C26: 5175 | D26: 0 | E26: 20001000000 | F26: Pohoštění | G26: 60 | H26: 60 | I26: =2593/100 -> 25.93 | J26: 30 | K26: =J26/G26*100 -> 50
B27: 3636 | C27: 5229 | D27: 16 | E27: 30101003007 | F27: Ostatní neinv.transfery nezisk.a podob.organizacím | G27: 70 | H27: 70 | I27: 70 | J27: 70 | K27: =J27/G27*100 -> 100
B28: 3636 | C28: 5229 | D28: 16 | E28: 30101003015 | F28: Ostatní neinv.transfery nezisk.a podob.organizacím | G28: 280 | H28: 280 | I28: 280 | J28: 280 | K28: =J28/G28*100 -> 100
B29: 3639 | C29: 5164 | D29: 0 | E29: 20001000000 | F29: Nájemné | G29: 0 | H29: 50 | I29: =192/100 -> 1.92 | J29: 25
B30: 3639 | C30: 5166 | D30: 0 | E30: 20004000000 | F30: Konzultační, poradenské a právní služby | G30: 2800 | H30: =124620/100 -> 1246.2 | I30: 210 | J30: 2100 | K30: =J30/G30*100 -> 75
B31: 3639 | C31: 5166 | D31: 0 | E31: 20004100022 | F31: Konzultační, poradenské a právní služby | G31: 5000 | H31: 2000 | I31: 939 | J31: 3000 | K31: =J31/G31*100 -> 60
B32: 3639 | C32: 5169 | D32: 0 | E32: 20000000000 | F32: Nákup ostatních služeb | G32: 2270 | H32: 1370 | I32: =68959/100 -> 689.59 | J32: 970 | K32: =J32/G32*100 -> 42.731278
B33: 3639 | C33: 5169 | D33: 0 | E33: 20001000000 | F33: Nákup ostatních služeb | G33: 900 | H33: 850 | I33: =46473/100 -> 464.73 | J33: 0 | K33: =J33/G33*100 -> 0
B34: 3639 | C34: 5169 | D34: 0 | E34: 20002000000 | F34: Nákup ostatních služeb | G34: 60 | H34: 60 | I34: 0 | J34: 60 | K34: =J34/G34*100 -> 100
B35: 3639 | C35: 5221 | D35: 16 | E35: 30101000000 | F35: Neinvestiční transf.obecně prospěšným společnostem | G35: 0 | H35: 50 | I35: 50 | J35: 50
B36: 3639 | C36: 5222 | D36: 16 | E36: 30101000000 | F36: Neinvestiční transfery občanským sdružením | G36: 50 | H36: 50 | I36: 50 | J36: 0 | K36: =J36/G36*100 -> 0
B37: 3639 | C37: 5229 | D37: 16 | E37: 30101000000 | F37: Ostatní neinv.transfery nezisk.a podob.organizacím | G37: 0 | H37: 60 | I37: 60 | J37: 0
B38: 3639 | C38: 5229 | D38: 508 | E38: 30101000000 | F38: Ostatní neinv.transfery nezisk.a podob.organizacím | G38: 3700 | H38: 3620 | I38: 0 | J38: 2500 | K38: =J38/G38*100 -> 67.567568
B39: 3639 | C39: 5321 | D39: 16 | E39: 30100000000 | F39: Neinvestiční transfery obcím | G39: 500 | H39: 500 | I39: 0 | J39: 500 | K39: =J39/G39*100 -> 100
F40: Program obnovy venkova
B41: 3639 | C41: 5321 | D41: 17 | E41: 30100000000 | F41: Neinvestiční transfery obcím | G41: 40500 | H41: 201 | I41: 0 | J41: 60000 | K41: =J41/G41*100 -> 148.14815
B42: 2115 | C42: 5321 | D42: 17 | E42: 30100008183 | F42: Neinvestiční transfery obcím | G42: 0 | H42: 229 | I42: 229 | J42: 0
B43: 2115 | C43: 6341 | D43: 17 | E43: 30100008183 | F43: Investiční transfery obcím | G43: 0 | H43: 70 | I43: 70 | J43: 0
...

Sheet ORJ - 09
B2: Odbor životního prostředí a zemědělství | K2: ORJ - 09
B5: Správce: | D5: Ing. Josef Veselský
D6: vedoucí odboru
K7: v tis. Kč
B8: § | C8: pol. | D8: UZ | E8: ORG | F8: název položky | G8: schválený rozpočet 2011 | H8: upravený rozpočet k 30.9.2011 | I8: skutečnost k 30.9.2011 | J8: návrh rozpočtu na rok 2012 | K8: %
B9: 1 | C9: 2 | D9: 3 | E9: 4 | F9: 5 | G9: 6 | H9: 7 | I9: 8 | J9: 9 | K9: 10=9/6
B10: 1014 | C10: 5321 | D10: 0 | E10: 30100000000 | F10: Neinvestiční transfery obcím | G10: 0 | H10: 0 | I10: 0 | J10: 200 | K10: 0
B11: 1019 | C11: 5169 | D11: 0 | E11: 20000000000 | F11: Nákup ostatních služeb | G11: 0 | H11: 0 | I11: 0 | J11: 150 | K11: 0
B12: 1032 | C12: 5165 | D12: 0 | E12: 20000000000 | F12: Nájemné za půdu | G12: 2 | H12: 2 | I12: =120/100 -> 1.2 | J12: 2 | K12: =J12/G12*100 -> 100
B13: 1036 | C13: 5134 | D13: 0 | E13: 20000000000 | F13: Prádlo, oděv a obuv | G13: 60 | H13: 60 | I13: =5291/100 -> 52.91 | J13: 60 | K13: =J13/G13*100 -> 100
B14: 1036 | C14: 5169 | D14: 0 | E14: 20000000000 | F14: Nákup ostatních služeb | G14: 40 | H14: 30 | I14: 25 | J14: 45 | K14: =J14/G14*100 -> 112.5
B15: 1037 | C15: 5169 | D15: 0 | E15: 20000000000 | F15: Nákup ostatních služeb | G15: 0 | H15: 0 | I15: 0 | J15: 150
F16: Příspěvky na hospodaření v lesích na území Olomouckého kraje
B17: 1037 | C17: 5212 | D17: 550 | E17: 30102000000 | F17: Neinv.transfery nefin.podnik.subjektům-fyz.osobám | G17: 0 | H17: =31497/100 -> 314.97 | I17: =31497/100 -> 314.97 | J17: 0
B18: 1037 | C18: 5213 | D18: 550 | E18: 30102000000 | F18: Neinv.transfery nefin.podnik.subjektům-práv.osobám | G18: 13500 | H18: =867273/100 -> 8672.73 | I18: =825371/100 -> 8253.71 | J18: 10000 | K18: =J18/G18*100 -> 74.074074
B19: 1037 | C19: 5223 | D19: 550 | E19: 30101000000 | F19: Neinv.transfery církvím a naboženským společnostem | G19: 0 | H19: =30234/100 -> 302.34 | I19: =30234/100 -> 302.34 | J19: 0
B20: 1037 | C20: 5321 | D20: 550 | F20: Neinvestiční transfery obcím | G20: 0 | H20: 3123 | I20: 3123 | J20: 0
B21: 1037 | C21: 5331 | D21: 550 | E21: 30001001132 | F21: Neinvestiční příspěvky zřízeným příspěvkovým organ | G21: 0 | H21: =52533/100 -> 525.33 | I21: =52533/100 -> 525.33 | J21: 0
B22: 1037 | C22: 5493 | D22: 550 | E22: 30102000000 | F22: Účelové neinvest. transf. nepodnikajícím fyz. osob | G22: 0 | H22: =56145/100 -> 561.45 | I22: =50295/100 -> 502.95 | J22: 0
G23: =SUM(G17:G22) -> 13500 | H23: =SUM(H17:H22) -> 13499.82 | I23: =SUM(I17:I22) -> 13022.3 | J23: =SUM(J17:J22) -> 10000 | K23: =J23/G23*100 -> 74.074074
B24: 1039 | C24: 5169 | D24: 0 | E24: 20000000000 | F24: Nákup ostatních služeb | G24: 0 | H24: 50 | I24: 0 | J24: 0
B25: 1099 | C25: 5166 | D25: 0 | E25: 20004000000 | F25: Konzultační, poradenské a právní služby | G25: 0 | H25: 0 | I25: 0 | J25: 100
B26: 1099 | C26: 5192 | D26: 0 | E26: 20000000000 | F26: Poskytnuté neinvestiční příspěvky a náhrady (část) | G26: 50 | H26: 50 | I26: 0 | J26: 400 | K26: =J26/G26*100 -> 800
F27: Program na podporu začínajících včelařů na území Olomouckého kraje
B28: 1099 | C28: 5493 | D28: 553 | E28: 30102000000 | F28: Účelové neinvest. transf. nepodnikajícím fyz. osob | G28: 0 | H28: 400 | I28: =39550/100 -> 395.5 | J28: 400
G29: =SUM(G28) -> 0 | H29: =SUM(H28) -> 400 | I29: =SUM(I28) -> 395.5 | J29: =SUM(J28) -> 400
B30: 2369 | C30: 5166 | D30: 0 | E30: 20004000000 | F30: Konzultační, poradenské a právní služby | G30: 50 | H30: 25 | I30: 0 | J30: 50 | K30: =J30/G30*100 -> 100
F31: Příspěvky obcím Olomouckého kraje na řešení mimořádných událostí
B32: 2310 | C32: 5321 | D32: 552 | E32: 30100000000 | F32: Neinvestiční transfery obcím | G32: 6300 | H32: 4600 | I32: 83 | J32: 5300 | K32: =J32/G32*100 -> 84.126984
B33: 2321 | C33: 5321 | D33: 552 | F33: Neinvestiční transfery obcím | G33: 0 | H33: 350 | I33: 50 | J33: 0
B34: 2321 | C34: 6341 | D34: 552 | E34: 30100008426 | F34: Investiční transfery obcím | G34: 0 | H34: 350 | I34: 350 | J34: 0
B35: 3739 | C35: 6341 | D35: 552 | E35: 30100008154 | F35: Investiční transfery obcím | G35: 0 | H35: 1000 | I35: 1000 | J35: 0
G36: =SUM(G32:G35) -> 6300 | H36: =SUM(H32:H35) -> 6300 | I36: =SUM(I32:I35) -> 1483 | J36: =SUM(J32:J35) -> 5300 | K36: =J36/G36*100 -> 84.126984
B37: 2321 | C37: 6313 | D37: 24 | E37: 30102000000 | F37: Inv.transfery nefinančním podnik.subj.-právn.osob | G37: 0 | H37: 5766 | I37: 0 | J37: 0
B38: 2399 | C38: 6313 | D38: 0 | E38: 30102000000 | F38: Inv.transfery nefinančním podnik.subj.-právn.osob | G38: 0 | H38: 0 | I38: 0 | J38: 1000
B39: 3719 | C39: 5166 | D39: 0 | E39: 20004000000 | F39: Konzultační, poradenské a právní služby | G39: 50 | H39: 50 | I39: 0 | J39: 400 | K39: =J39/G39*100 -> 800
B40: 3719 | C40: 5168 | D40: 0 | E40: 20004000000 | F40: Služby zpracování dat | G40: 100 | H40: 100 | I40: 0 | J40: 100 | K40: =J40/G40*100 -> 100
B41: 3725 | C41: 5169 | D41: 0 | E41: 20000000000 | F41: Nákup ostatních služeb | G41: 900 | H41: 900 | I41: 0 | J41: 700 | K41: =J41/G41*100 -> 77.777778
B42: 3729 | C42: 5166 | D42: 0 | E42: 20004000000 | F42: Konzultační, poradenské a právní služby | G42: 300 | H42: 300 | I42: 0 | J42: 450 | K42: =J42/G42*100 -> 150
B43: 3741 | C43: 5164 | D43: 0 | E43: 20000000000 | F43: Nájemné | G43: 0 | H43: =250/100 -> 2.5 | I43: =250/100 -> 2.5 | J43: 0
...

Sheet ORJ - 10
B2: Odbor školství, mládeže a tělovýchovy | K2: ORJ - 10
B5: Správce: | D5: Mgr. Miroslav Gajdůšek, MBA
D6: vedoucí odboru
K7: v tis. Kč
