Workbook

Sheet celkem
A1: 3. Výdaje Olomouckého kraje na rok 2012
A3: a) Odbory (kanceláře) Krajského úřadu Olomouckého kraje
H4: v tis.Kč
A5: Odbor (kancelář) | C5: ORJ | D5: schválený rozpočet 2011 | E5: upravený rozpočet k 30.9.2011 | F5: skutečnost k 30.9.2011 | G5: návrh rozpočtu na rok 2012 | H5: % | J5: ROK 8.11.2011 | K5: rozdíl
A6: 1 | C6: 2 | D6: 3 | E6: 4 | F6: 5 | G6: 6 | H6: 7=6/3 | J6: 8 | K6: 9=6-8
A7: Zastupitelé | C7: 1 | D7: =SUM('ORJ - 01'!G45) -> 39088 | E7: =SUM('ORJ - 01'!H45) -> 38388 | F7: =SUM('ORJ - 01'!I45) -> 17828.25 | G7: =SUM('ORJ - 01'!J45) -> 37238 | H7: =G7/D7*100 -> 95.26709 | J7: 38588 | K7: =G7-J7 -> -1350
A8: Kancelář hejtmana | C8: 2 | D8: =SUM('ORJ - 02'!G79) -> 67241 | E8: =SUM('ORJ - 02'!H79) -> 72492.94 | F8: =SUM('ORJ - 02'!I79) -> 45309.69 | G8: =SUM('ORJ - 02'!J79) -> 51891 | H8: =G8/D8*100 -> 77.171666 | J8: 59341 | K8: =G8-J8 -> -7450
A9: Kancelář ředitele | C9: 3 | D9: =SUM('ORJ - 03'!G51) -> 303250 | E9: =SUM('ORJ - 03'!H51) -> 300213.05 | F9: =SUM('ORJ - 03'!I51) -> 188063.47 | G9: =SUM('ORJ - 03'!J51) -> 297031 | H9: =G9/D9*100 -> 97.949217 | J9: 302250 | K9: =G9-J9 -> -5219
A10: Odbor majetkový a právní | C10: 4 | D10: =SUM('ORJ - 04'!G26) -> 34765 | E10: =SUM('ORJ - 04'!H26) -> 25054.65 | F10: =SUM('ORJ - 04'!I26) -> 17183.43 | G10: =SUM('ORJ - 04'!J26) -> 24165 | H10: =G10/D10*100 -> 69.509564 | J10: 24165 | K10: =G10-J10 -> 0
A11: Odbor správní a legislativní | C11: 5 | D11: =SUM('ORJ - 05'!G12) -> 50 | E11: =SUM('ORJ - 05'!H12) -> 50 | F11: =SUM('ORJ - 05'!I12) -> 2.4 | G11: =SUM('ORJ - 05'!J12) -> 80 | H11: =G11/D11*100 -> 160 | J11: 80 | K11: =G11-J11 -> 0
A12: Odbor informačních technologií | C12: 6 | D12: =SUM('ORJ - 06'!G19) -> 23969 | E12: =SUM('ORJ - 06'!H19) -> 23069 | F12: =SUM('ORJ - 06'!I19) -> 9871.87 | G12: =SUM('ORJ - 06'!J19) -> 23369 | H12: =G12/D12*100 -> 97.496767 | J12: 23969 | K12: =G12-J12 -> -600
A13: Odbor ekonomický | C13: 7 | D13: =SUM('ORJ - 07'!G27) -> 155978 | E13: =SUM('ORJ - 07'!H27) -> 174965.55 | F13: =SUM('ORJ - 07'!I27) -> 37123.86 | G13: =SUM('ORJ - 07'!J27) -> 175134 | H13: =G13/D13*100 -> 112.28122 | J13: 186098 | K13: =G13-J13 -> -10964
A14: Odbor strategického rozvoje kraje | C14: 8 | D14: =SUM('ORJ - 08'!G82) -> 79494 | E14: =SUM('ORJ - 08'!H82) -> 83053.2 | F14: =SUM('ORJ - 08'!I82) -> 71182.95 | G14: =SUM('ORJ - 08'!J82) -> 96295 | H14: =G14/D14*100 -> 121.13493 | J14: 115005 | K14: =G14-J14 -> -18710
A15: Odbor životního prostředí a zemědělství | C15: 9 | D15: =SUM('ORJ - 09'!G51) -> 25202 | E15: =SUM('ORJ - 09'!H51) -> 31267.82 | F15: =SUM('ORJ - 09'!I51) -> 16077 | G15: =SUM('ORJ - 09'!J51) -> 23357 | H15: =G15/D15*100 -> 92.679152 | J15: 27857 | K15: =G15-J15 -> -4500
A16: Odbor školství, mládeže a tělovýchovy | C16: 10 | D16: =SUM('ORJ - 10'!G81) -> 77076 | E16: =SUM('ORJ - 10'!H81) -> 82313.11 | F16: =SUM('ORJ - 10'!I81) -> 71853.22 | G16: =SUM('ORJ - 10'!J81) -> 79246 | H16: =G16/D16*100 -> 102.8154 | J16: 92496 | K16: =G16-J16 -> -13250
A17: Odbor sociálních věcí | C17: 11 | D17: =SUM('ORJ - 11'!G67) -> 9968 | E17: =SUM('ORJ - 11'!H67) -> 12396.78 | F17: =SUM('ORJ - 11'!I67) -> 6573.12 | G17: =SUM('ORJ - 11'!J67) -> 9583 | H17: =G17/D17*100 -> 96.13764 | J17: 9789 | K17: =G17-J17 -> -206
A18: Odbor dopravy a silničního hospodářství | C18: 12 | D18: =SUM('ORJ - 12'!G39) -> 781160 | E18: =SUM('ORJ - 12'!H39) -> 781610 | F18: =SUM('ORJ - 12'!I39) -> 577900.71 | G18: =SUM('ORJ - 12'!J39) -> 788594 | H18: =G18/D18*100 -> 100.95166 | J18: 800194 | K18: =G18-J18 -> -11600
A19: Odbor kultury a památkové péče | C19: 13 | D19: =SUM('ORJ - 13'!G44) -> 67700 | E19: =SUM('ORJ - 13'!H44) -> 68750 | F19: =SUM('ORJ - 13'!I44) -> 48206.15 | G19: =SUM('ORJ - 13'!J44) -> 67080.1 | H19: =G19/D19*100 -> 99.084343 | J19: 67480 | K19: =G19-J19 -> -399.9
A20: Odbor zdravotnictví | C20: 14 | D20: =SUM('ORJ - 14'!G43) -> 29748 | E20: =SUM('ORJ - 14'!H43) -> 30419.38 | F20: =SUM('ORJ - 14'!I43) -> 23092.53 | G20: =SUM('ORJ - 14'!J43) -> 27308 | H20: =G20/D20*100 -> 91.797768 | J20: 27308 | K20: =G20-J20 -> 0
A21: Odbor Krajský živnostenský úřad | C21: 15 | D21: =SUM('ORJ - 15'!G12) -> 40 | E21: =SUM('ORJ - 15'!H12) -> 20 | F21: =SUM('ORJ - 15'!I12) -> 0 | G21: =SUM('ORJ - 15'!J12) -> 20 | H21: =G21/D21*100 -> 50 | J21: 20 | K21: =G21-J21 -> 0
A22: Útvar interního auditu | C22: 16 | D22: =SUM('ORJ - 16'!G11) -> 20 | E22: =SUM('ORJ - 16'!H11) -> 0 | F22: =SUM('ORJ - 16'!I11) -> 0 | G22: =SUM('ORJ - 16'!J11) -> 20 | H22: =G22/D22*100 -> 100 | J22: 20 | K22: =G22-J22 -> 0
A23: Oddělení investic a evropských programů | C23: 17 | D23: =SUM('ORJ - 17'!G15) -> 1600 | E23: =SUM('ORJ - 17'!H15) -> 3711.5 | F23: =SUM('ORJ - 17'!I15) -> 133.9 | G23: =SUM('ORJ - 17'!J15) -> 1750 | H23: =G23/D23*100 -> 109.375 | J23: 1750 | K23: =G23-J23 -> 0
A24: Celkem | D24: =SUM(D7:D13,D14,D15,D16,D17,D18,D19,D20,D21,D22,D23) -> 1696349 | E24: =SUM(E7:E13,E14,E15,E16,E17,E18,E19,E20,E21,E22,E23) -> 1727775 | F24: =SUM(F7:F13,F14,F15,F16,F17,F18,F19,F20,F21,F22,F23) -> 1130402.5 | G24: =SUM(G7:G13,G14,G15,G16,G17,G18,G19,G20,G21,G22,G23) -> 1702161.1 | H24: =G24/D24*100 -> 100.34262 | J24: =SUM(J7:J13,J14,J15,J16,J17,J18,J19,J20,J21,J22,J23) -> 1776410 | K24: =SUM(K7:K13,K14,K15,K16,K17,K18,K19,K20,K21,K22,K23) -> -74248.9

Sheet ORJ - 01
B2: Zastupitelé | K2: ORJ - 01
B5: Správce: | D5: Ing. Luděk Niče
D6: vedoucí kanceláře
K7: v tis. Kč
B8: § | C8: pol. | D8: UZ | E8: ORG | F8: název položky | G8: schválený rozpočet 2011 | H8: upravený rozpočet k 30.9.2011 | I8: skutečnost k 30.9.2011 | J8: návrh rozpočtu na rok 2012 | K8: %
B9: 1 | C9: 2 | D9: 3 | E9: 4 | F9: 5 | G9: 6 | H9: 7 | I9: 8 | J9: 9 | K9: 10=9/6
B10: 6113 | C10: 5019 | D10: 0 | E10: 11000000000 | F10: Ostatní platy | G10: 200 | H10: 175 | I10: =2405/100 -> 24.05 | J10: 200 | K10: =J10/G10*100 -> 100
B11: 6113 | C11: 5021 | D11: 0 | E11: 11000000000 | F11: Ostatní osobní výdaje | G11: 4400 | H11: 4200 | I11: 0 | J11: 4400 | K11: =J11/G11*100 -> 100
B12: 6113 | C12: 5023 | D12: 0 | E12: 11000000000 | F12: Odměny členů zastupitelstva obcí a krajů | G12: 11800 | H12: 11800 | I12: =765602/100 -> 7656.02 | J12: 11800 | K12: =J12/G12*100 -> 100
B13: 6113 | C13: 5031 | D13: 0 | E13: 11000000000 | F13: Povinné poj.na soc.zab.a přísp.na st.pol.zaměstnan | G13: 1950 | H13: 1950 | I13: =126638/100 -> 1266.38 | J13: 1950 | K13: =J13/G13*100 -> 100
B14: 6113 | C14: 5032 | D14: 0 | E14: 11000000000 | F14: Povinné poj.na veřejné zdravotní pojištění | G14: 1500 | H14: 1500 | I14: =70039/100 -> 700.39 | J14: 1500 | K14: =J14/G14*100 -> 100
B15: 6113 | C15: 5039 | D15: 0 | E15: 11000000000 | F15: Ostatní povinné pojistné placené zaměstnavatelem | G15: 50 | H15: 50 | I15: =819/100 -> 8.19 | J15: 50 | K15: =J15/G15*100 -> 100
B16: 6113 | C16: 5136 | D16: 0 | E16: 11000000000 | F16: Knihy, učební pomůcky a tisk | G16: 50 | H16: 50 | I16: 0 | J16: 50 | K16: =J16/G16*100 -> 100
B17: 6113 | C17: 5137 | D17: 0 | E17: 11000000000 | F17: Drobný hmotný dlouhodobý majetek | G17: 1160 | H17: 830 | I17: =16618/100 -> 166.18 | J17: 700 | K17: =J17/G17*100 -> 60.344828
B18: 6113 | C18: 5139 | D18: 0 | E18: 11000000000 | F18: Nákup materiálu j.n. | G18: 1050 | H18: 1050 | I18: =56406/100 -> 564.06 | J18: 1000 | K18: =J18/G18*100 -> 95.238095
B19: 6113 | C19: 5142 | D19: 0 | E19: 11000000000 | F19: Realizované kurzové ztráty | G19: 20 | H19: 20 | I19: =17/100 -> 0.17 | J19: 20 | K19: =J19/G19*100 -> 100
B20: 6113 | C20: 5151 | D20: 0 | E20: 11000000000 | F20: Studená voda | G20: 30 | H20: 30 | I20: =2762/100 -> 27.62 | J20: 40 | K20: =J20/G20*100 -> 133.33333
B21: 6113 | C21: 5152 | D21: 0 | E21: 11000000000 | F21: Teplo | G21: 170 | H21: 370 | I21: =18032/100 -> 180.32 | J21: 300 | K21: =J21/G21*100 -> 176.47059
B22: 6113 | C22: 5154 | D22: 0 | E22: 11000000000 | F22: Elektrická energie | G22: 330 | H22: 330 | I22: =24171/100 -> 241.71 | J22: 330 | K22: =J22/G22*100 -> 100
B23: 6113 | C23: 5156 | D23: 0 | E23: 11000000000 | F23: Pohonné hmoty a maziva | G23: 450 | H23: 450 | I23: =30008/100 -> 300.08 | J23: 500 | K23: =J23/G23*100 -> 111.11111
B24: 6113 | C24: 5161 | D24: 0 | E24: 11000000000 | F24: Služby pošt | G24: 10 | H24: 10 | I24: 0 | J24: 10 | K24: =J24/G24*100 -> 100
B25: 6113 | C25: 5162 | D25: 0 | E25: 11000000000 | F25: Služby telekomunikací a radiokomunikací | G25: 500 | H25: 450 | I25: =19374/100 -> 193.74 | J25: 300 | K25: =J25/G25*100 -> 60
B26: 6113 | C26: 5163 | D26: 0 | F26: Služby peněžních ústavů | G26: 80 | H26: 65 | I26: 29 | J26: 50 | K26: =J26/G26*100 -> 62.5
B27: 6113 | C27: 5164 | D27: 0 | E27: 11000000000 | F27: Nájemné | G27: 200 | H27: 200 | I27: =14467/100 -> 144.67 | J27: 200 | K27: =J27/G27*100 -> 100
B28: 6113 | C28: 5166 | D28: 0 | E28: 11000000000 | F28: Konzultační, poradenské a právní služby | G28: 1100 | H28: 1050 | I28: =61720/100 -> 617.2 | J28: 920 | K28: =J28/G28*100 -> 83.636364
B29: 6113 | C29: 5167 | D29: 0 | E29: 11000000000 | F29: Služby školení a vzdělávání | G29: 100 | H29: 100 | I29: 0 | J29: 100 | K29: =J29/G29*100 -> 100
B30: 6113 | C30: 5169 | D30: 0 | E30: 11000000000 | F30: Nákup ostatních služeb | G30: 8900 | H30: 8550 | I30: =280506/100 -> 2805.06 | J30: 8000 | K30: =J30/G30*100 -> 89.88764
B31: 6113 | C31: 5171 | D31: 0 | E31: 11000000000 | F31: Opravy a udržování | G31: 200 | H31: 170 | I31: =368/100 -> 3.68 | J31: 100 | K31: =J31/G31*100 -> 50
B32: 6113 | C32: 5172 | D32: 0 | E32: 11000000000 | F32: Programové vybavení | G32: 100 | H32: 100 | I32: 0 | J32: 100 | K32: =J32/G32*100 -> 100
B33: 6113 | C33: 5173 | D33: 0 | F33: Cestovné (tuzemské i zahraniční) | G33: 1600 | H33: =1200+335 -> 1535 | I33: =58399/100+154 -> 737.99 | J33: 1600 | K33: =J33/G33*100 -> 100
B34: 6113 | C34: 5175 | D34: 0 | F34: Pohoštění | G34: =100+100+100+800+100+100+100+100 -> 1500 | H34: =100+100+100+1000+100+100+100+100 -> 1700 | I34: =2671/100+24+26+727+35+43+26+46 -> 953.71 | J34: =100+100+100+800+100+100+100+100 -> 1500 | K34: =J34/G34*100 -> 100
B35: 6113 | C35: 5176 | D35: 0 | E35: 11000000000 | F35: Účastnické poplatky na konference | G35: 50 | H35: 65 | I35: =4923/100 -> 49.23 | J35: 50 | K35: =J35/G35*100 -> 100
B36: 6113 | C36: 5182 | D36: 0 | E36: 0 | F36: Poskytované zálohy vlastní pokladně | G36: 20 | H36: 20 | I36: 0 | J36: 0 | K36: =J36/G36*100 -> 0
B37: 6113 | C37: 5189 | D37: 0 | E37: 0 | F37: Ostatní poskytované zálohy a jistiny | G37: 70 | H37: 70 | I37: 271 | J37: 70 | K37: =J37/G37*100 -> 100
B38: 6113 | C38: 5194 | D38: 0 | E38: 11000000000 | F38: Věcné dary | G38: 100 | H38: 100 | I38: 0 | J38: 50 | K38: =J38/G38*100 -> 50
B39: 6113 | C39: 5229 | D39: 0 | E39: 30101000000 | F39: Ostatní neinv.transfery nezisk.a podob.organizacím | G39: 1000 | H39: 1000 | I39: 700 | J39: 1000 | K39: =J39/G39*100 -> 100
B40: 6113 | C40: 5361 | D40: 0 | E40: 11000000000 | F40: Nákup kolků | G40: 5 | H40: 5 | I40: 0 | J40: 5 | K40: =J40/G40*100 -> 100
B41: 6113 | C41: 5362 | D41: 0 | E41: 11000000000 | F41: Platby daní a poplatků státnímu rozpočtu | G41: 5 | H41: 5 | I41: 0 | J41: 5 | K41: =J41/G41*100 -> 100
B42: 6113 | C42: 5424 | D42: 0 | E42: 11000000000 | F42: Náhrady mezd v době nemoci | G42: 100 | H42: 100 | I42: 0 | J42: 50 | K42: =J42/G42*100 -> 50
B43: 6113 | C43: 5492 | D43: 0 | E43: 30102000000 | F43: Dary obyvatelstvu | G43: 15 | H43: 15 | I43: 15 | J43: 15 | K43: =J43/G43*100 -> 100
B44: 6330 | C44: 5342 | D44: 0 | E44: 11000000000 | F44: Převody FKSP a sociálnímu fondu obcí a krajů | G44: 273 | H44: 273 | I44: =17280/100 -> 172.8 | J44: 273 | K44: =J44/G44*100 -> 100
B45: Celkem | G45: =SUM(G10:G44) -> 39088 | H45: =SUM(H10:H44) -> 38388 | I45: =SUM(I10:I44) -> 17828.25 | J45: =SUM(J10:J44) -> 37238 | K45: =J45/G45*100 -> 95.26709
B47: § 6113, POL 5019 - Ostatní platy | J47: 200 | K47: tis.Kč
B48: Jedná se o refundace mzdy neuvolněných členů ZOK (při účasti členů na zasedáních ROK/ZOK,...). Výše položky byla stanovena s přihlédnutím ke skutečnosti let 2002-2011.
B49: § 6113, POL 5021 - Ostatní osobní výdaje | J49: 4400 | K49: tis.Kč
B50: Výdaje položky tvoří především odměny členům Výborů Zastupitelstva Olomouckého kraje a Komisí Rady Olomouckého kraje. Celkem 280 osob v komisích a výborech, z toho: 43 zastupitelů a 237 občanů. V roce 2012 pokračuje činnost Poradního sboru pro náhradní rodinnou péči, zvláštního orgánu kraje, který svou činnost zahájil dne 1. 6. 2006. Odměňování členů Poradního sboru pro náhradní rodinnou péči je vhodné finančně zajistit z rozpočtu kanceláře hejtmana, odkud jsou finančně zajištěny také komise, výbory a zvláštní orgány kraje. Odměny, které vyplácí Olomoucký kraj členům komisí, výborů a zvláštních orgánů, jsou výdajem v samostatné působnosti.Pro rok 2012 navrhujeme přiřadit k položce 5021 i částku 128.730 Kč (11/7 členů a předseda Poradního sboru pro náhradní rodinnou péči - z toho jsou 4 zaměstnanci Olomouckého kraje /včetně předsedy/ a 7 odborníků z jiných institucí) pro zajištění odměn členům poradního sboru.
B52: § 6113, POL 5023 - Odměny členů zastupitelstva obcí a krajů | J52: 11800 | K52: tis.Kč
B53: Náklady na vyplacení odměn členům Zastupitelstva Olomouckého kraje , a to uvolněným i neuvolněným, (členové ZOK - předsedové výborů, komisí, členové výborů a komisí, členové ROK). V souvislosti s ukončením volebního období 2008-2012 lze předpokládat v roce 2012 i úhradu odstupného pro uvolněné členy Rady Olomouckého kraje dle platné právní legislativy. V současné době však nelze tuto částku stanovit, proto v průběhu roku 2012 budeme na aktuální situaci reagovat žádostí o rozpočtovou změnuna odbor ekonomický.
B54: § 6113, POL 5031 - Povinné poj.na soc.zab.a přísp.na st.pol.zaměstnan | J54: 1950 | K54: tis.Kč
B55: Výše výdajů této položky je stanovena výpočtem z položky 5023 – uvolnění (25%).
B56: § 6113, POL 5032 - Povinné poj.na veřejné zdravotní pojištění | J56: 1500 | K56: tis.Kč
B57: Výše výdajů této položky je stanovena výpočtem z položky 5023 a 5021 (9%). Pojistné je odváděno z odměn uvolněných i neuvolněných členů zastupitelstva.
B58: § 6113, POL 5039 - Ostatní povinné pojistné placené zaměstnavatelem | J58: 50 | K58: tis.Kč
B59: Jedná se o refundace pojistného (při účasti členů na zasedáních ROK/ZOK,...). Výše položky byla stanovena s přihlédnutím ke skutečnosti let 2002-2011.
B60: § 6113, POL 5136 - Knihy, učební pomůcky a tisk | J60: 50 | K60: tis.Kč
B61: Na této položce jsou plánovány výdaje za nákup knih a mapových podkladů pro členy zastupitelstva včetně nákupu knih souvisejících se zahraničními aktivitami Olomouckého kraje. Vzhledem k nízkému čerpání v letech 2002 až 2011 navrhujeme uvedenou částku.
B62: § 6113, POL 5137 - Drobný hmotný dlouhodobý majetek | J62: 700 | K62: tis.Kč
B63: Na této výdajové položce jsou rozpočtovány prostředky pro možnost pořízení DHM do kanceláří uvolněných členů zastupitelstva, politických klubů, doplnění výbavy služebních vozidel zastupitelů, apod.
B64: § 6113, POL 5139 - Nákup materiálu j.n. | J64: 1000 | K64: tis.Kč
B65: Prostředky rozpočtované na této položce jsou určeny pro úhradu výdajů za kancelářské potřeby členů zastupitelstva (včetně uvolněných členů, vybavení klubů) - pera, zvýrazňovače, samolepící etikety, spotřební materiál do vazačů, potřeby pro vybaveníkuchyněk členů vedení (přípravky, ubrousky,...), PF, malé kalendáříky, tisk prvků grafického manuálu (hlavičkové papíry, obálky, vizitky..). Do této položky patří i nákup materiálu pro zahraniční prezentace. Tato položka zahrnuje i náklady na dárkové předměty v pořizovací ceně do 3 000,- Kč (v jednotlivých případech), které jsou určeny k propagačním účelům Olomouckého kraje (na základě požadavků hejtmana).
B66: § 6113, POL 5142 - Realizované kurzové ztráty | J66: 20 | K66: tis.Kč
B67: Prostředky na úhradu kurzových rozdílů při vyúčtování zahraničních pracovních cest členů zastupitelstva.
B68: § 6113, POL 5151 - Studená voda | J68: 40 | K68: tis.Kč
B69: Na základě výpočtu poměru podlahové plochy kanceláří zastupitelů a poslaneckých klubů z celkové plochy kanceláří KÚOK (15,69%) byla stanovena výše nákladů za vodné a stočné pro rok 2012 (2003/0645/KŘ/DSM).
B70: § 6113, POL 5152 - Teplo | J70: 300 | K70: tis.Kč
B71: Na základě výpočtu poměru podlahové plochy kanceláří zastupitelů a poslaneckých klubů z celkové plochy kanceláří KÚOK (15,69%) byla stanovena výše nákladů za úhradu dálkově dodávané tepelné energie pro rok 2012 (2010/03881/KŘ/DSM).
B72: § 6113, POL 5154 - Elektrická energie | J72: 330 | K72: tis.Kč
B73: Na základě výpočtu poměru podlahové plochy kanceláří zastupitelů a poslaneckých klubů z celkové plochy kanceláří KÚOK (15,69%) byla stanovena výše nákladů za elektrickou energii i pro rok 2012. Při stanovení výše položky vycházíme z uzavřených smluv (nyní smlouva 2010/05409/KŘ/DSM), o nichž nás informuje oddělení hospodářské správy kanceláře ředitele.
B74: § 6113, POL 5156 - Pohonné hmoty a maziva | J74: 500 | K74: tis.Kč
B75: Podle vývoje čerpání této výdajové položky v roce 2002-2010 a dle rozboru průměru měsíčně ujetých kilometrů a spotřeb jednotlivých vozidel užívaných členy zastupitelstva (Škoda Superb 4M1 2126, Škoda Octavia 3M9 3370, Škoda Octavia 3M9 3360, ŠkodaOctavia 4M0 3536 a Toyota 4MO 9767) za dosavadní období roku 2011 byla stanovena předpokládaná výše čerpání dané položky pro rok 2012.
B76: § 6113, POL 5161 - Služby pošt | J76: 10 | K76: tis.Kč
B77: Výše této položky je stanovena s přihlédnutím k nízkému čerpání v roce 2003-2011, kdy se v minulosti na dané položce čerpaly prostředky především v souvislosti s mimořádným odesíláním materiálů členům ZOK (při předání poště mimo podatelnu).
B78: § 6113, POL 5162 - Služby telekomunikací a radiokomunikací | J78: 300 | K78: tis.Kč
B79: Na této položce jsou čerpány výdaje za tel. služby (GTS Czech) pro členy zastupitelstva a poslanecké kluby (pevné linky) a dále provoz mobilních telefonů (Telefónica O2) členů zastupitelstva (vedení) včetně poplatků za internetového připojení.
B80: § 6113, POL 5163 - Služby peněžních ústavů | J80: 50 | K80: tis.Kč
B81: 1. Čerpání na této položce představují výdaje za roční poplatky za platební karty, příp. poplatky za vyřízení víza při zahraničních cestách, ORG 1100000000000 - 40 tis.Kč. 2. Čerpání na této položce představují výdaje za pojištění členů zastupitelstva při zahraničních pracovních cestách, ORG 20003000000 - 10 tis.Kč.
B83: § 6113, POL 5164 - Nájemné | J83: 200 | K83: tis.Kč
B84: Výdaje této položky tvoří v převážné většině úhrady pronájmu prostor pro jednání, konference, při zasedáních či setkáních mimo sídlo kraje (výjezdní zasedání ROK, konference samospráv,..). Rovněž jsou na této položce plánovány výdaje za nájemné prostor pro akce související se zahraničními aktivitami OK (oficiální návštěvy,..).
B85: § 6113, POL 5166 - Konzultační, poradenské a právní služby | J85: 920 | K85: tis.Kč
B86: Na této položce jsou rozpočtovány prostředky pro možnost čerpání výdajů za služby tajemníků klubů. V roce 2011 bylo na této položce čerpáno za služby spojené s činností poslaneckých klubů (ODS, KDU-ČSL, ČSSD a KSČM). Částka požadovaná do rozpočtu počítá s pokračováním smluv. Dále jsou na položce nárokovány finanční prostředky na úhradu uzavřených mandátních smluv.
B87: § 6113, POL 5167 - Služby školení a vzdělávání | J87: 100 | K87: tis.Kč
B88: Výdaje této rozpočtové položky tvoří úhrady nákladů za školení a semináře absolvované členy Zastupitelstva a Rady Olomouckého kraje. Návrh vychází ze skutečnosti čerpání položky v roce 2003-2011.
B89: § 6113, POL 5169 - Nákup ostatních služeb | J89: 8000 | K89: tis.Kč
B90: Zahrnuje výdaje za: - ubytování oficiálních návštěv Olomouckého kraje (pozvaní hosté), - za zajištění překladatelských služeb při zahraničních návštěvách včetně překladu písemných materiálů, - úhradu průvodcovských služeb při organizaci a zajištění programu oficiálních návštěv kraje, - zahraniční prezentace a propagaci v zahraničí, - propagace webu kraje, aplikace loga, grafické práce, - vydání výroční zprávy za rok 2011 (cca 100 tis. Kč), - čištění a mytí vozidel využívaných a přidělených uvolněným členům zastupitelstva, - úhradu poplatků za rozhlasové(5x) a televizní přijímače(7x) užívané v rámci kanceláří uvolněnými členy zastupitelstva (135,- Kč/TV/měsíc a 45,- Kč/rádio/měsíc), - úhrady dle smlouvy o zajištění zpravodajského servisu (ČTK 2007/0250/KH/DSM, Annopress 2008/0426/KH/DSM), - úhradu podílu za zajištění úklidu budovy (Jeremenkova 40a) - podíl podlahové plochy zaujímané kancelářemi uvolněných členů vedení a polit. klubů 15,69 % (2002/0232/SŘ/DSM/D6) = cca 272 tis. Kč/rok. Z této položky jsou hrazeny i fotopráce, kopírování materiálů pro orgány kraje (podklady pro jednání při nefunkčnosti kopírek KÚ) a knihařské práce (archivace materiálů ze zastupitelstva a rady r. 2011 - předpoklad je max. do 50tis. Kč). V rámci této položky je hrazen i poplatek za licenční smlouvu org. OSA (úhrada 2011=500 317 Kč). Na položce je nárokován i členský poplatek Olomouckého kraje v Čs. ústav zahraniční 5 tis. Kč. Na této položce jsou rozpočtovány i fin. prostředky na krytí tradičních i nových akcí Olomouckého kraje organizovaných kanceláří hejtmana. Jedná se především o tyto akce: Konference samospráv, setkání se starostkami obcí Olomouckého kraje, setkání se starosty obcí Olomouckého kraje, Stavba roku, III. setkání Hanáků, setkání tiskových mluvčích ORP, Dožínky Olomouckého kraje, ples Olomouckého kraje, akce pro válečné veterány, poděkování hejtmana dárcům krve, Vánoce Olomouckého kraje. Další akce nejsou rozpočtově kryty a v případě, kdy vedení kraje rozhodne o realizaci dalších akcí popř. o změně formátu akce, bude třeba řešit fin. krytí rozpočtu akcí v závislosti na vývoji hospodaření kraje.
B91: § 6113, POL 5171 - Opravy a udržování | J91: 100 | K91: tis.Kč
B92: Zahrnuje výdaje za: - opravy vozidel zastupitelů - Auto Hégr (Škoda Superb 4M1 2126, Škoda Octavia 3M9 3370, Škoda Octavia 3M9 3360, Škoda Octavia 4M0 3536 a Toyota 4M0 9767). - opravy a servis kávovarů (2., 3., 4., 6., 8., 9. a 10. NP).
B93: § 6113, POL 5172 - Programové vybavení | J93: 100 | K93: tis.Kč
B94: Výdaje této položky jsou tvořeny především upgradem SW Ekus pro potřeby členů rady, zastupitelstva, politických klubů a zpracovatelů podkladových materiálů ROK a ZOK.
B95: § 6113, POL 5173 - Cestovné (tuzemské i zahraniční) | J95: 1600 | K95: tis.Kč
B96: Návrh rozpočtu této výdajové položky zpracovaný personálním oddělením KŘ vychází z předpokladu existence systému paušálních plateb i v roce 2012. Mimo úhradu „paušálů“ jsou na této položce čerpány výdaje za proplácení cestovních výdajů nárokovaných prostřednictvím klasických cestovních příkazů. Jen velmi obtížně lze přesně určit vývoj v oblasti cestovného u členů výborů a komisí, nicméně na základě čerpání v roce 2011navrhujeme částku na proplácení tuzemského cestovného ve výši 1 200 tis.Kč - ORG 11 000 000 000 a zahraničního cestovného ve výši 400 tis.Kč - ORG 11 000 000 099.
B97: § 6113, POL 5175 - Pohoštění | J97: 1500 | K97: tis.Kč
B98: Výdaje na pohoštění (ZOK-Hynaisova, ROK, výborů a vybraných komisí + režie vlastních návštěv včetně zahraničních, občerstvení na různé akce Olomouckého kraje, výjezdní zasedání ROK apod.)
B99: § 6113, POL 5176 - Účastnické poplatky na konference | J99: 50 | K99: tis.Kč
B100: Požadavek do rozpočtu u této položky vychází z rozpočtu roku 2002-2011 při praktické nemožnosti stanovení přesné výše této položky pro rok 2012. Na položce jsou nárokovány i prostředky pro možnou úhrady konferenčních poplatků zástupců Olomouckého kraje na zahraničních konferencích.
B101: § 6113, POL 5189 - Ostatní poskytované zálohy a jistiny | J101: 70 | K101: tis.Kč
B102: Požadavek vychází z výše skutečně čerpaných výdajů na této položce v průběhu roku 2011.
B104: § 6113, POL 5194 - Věcné dary | J104: 50 | K104: tis.Kč
B105: Jedná se o nákup hodnotných dárkových předmětů (v pořizovací ceně nad 3 000,- Kč u jednotlivých případů) typických pro Českou republiku a Olomoucký kraj (sklo, grafické listy apod.), které budou použity jako dary pro oficiální zahraniční návštěvy Olomouckého kraje a jako dary pro významné představitele partnerských regionů.
B106: § 6113, POL 5229 - Ostatní neinv.transfery nezisk.a podob.organizacím | J106: 1000 | K106: tis.Kč
B107: Do rozpočtu této položky byl zařazen plánovaný členský příspěvek v Asociaci krajů ČR.
...

Sheet ORJ - 02
B2: Kancelář hejtmana | K2: ORJ - 02
B4: Správce: | D4: Ing. Luděk Niče
D5: vedoucí kanceláře
K6: v tis. Kč
B7: § | C7: pol. | D7: UZ | E7: ORG | F7: název položky | G7: schválený rozpočet 2011 | H7: upravený rozpočet k 30.9.2011 | I7: skutečnost k 30.9.2011 | J7: návrh rozpočtu na rok 2012 | K7: %
B8: 1 | C8: 2 | D8: 3 | E8: 4 | F8: 5 | G8: 6 | H8: 7 | I8: 8 | J8: 9 | K8: 10=9/6
B9: 2143 | C9: 5139 | D9: 500 | E9: 20001000000 | F9: Nákup materiálu j.n. | G9: 300 | H9: 300 | I9: =9581/100 -> 95.81 | J9: 300 | K9: =J9/G9*100 -> 100
B10: 2143 | C10: 5166 | D10: 0 | E10: 60007000000 | F10: Konzultační, poradenské a právní služby | G10: 0 | H10: 60 | I10: 0 | J10: 0
B11: 2143 | C11: 5166 | D11: 500 | E11: 20000000000 | F11: Konzultační, poradenské a právní služby | G11: 0 | H11: 500 | I11: 0 | J11: 475
B12: 2143 | C12: 5169 | D12: 24 | E12: 20001000000 | F12: Nákup ostatních služeb | G12: 0 | H12: 315 | I12: 0 | J12: 0
B13: 2143 | C13: 5169 | D13: 500 | E13: 20001000000 | F13: Nákup ostatních služeb | G13: 6670 | H13: =429264/100 -> 4292.64 | I13: =180470/100 -> 1804.7 | J13: 5235 | K13: =J13/G13*100 -> 78.485757
B14: 2143 | C14: 5175 | D14: 500 | E14: 20001000000 | F14: Pohoštění | G14: 15 | H14: 15 | I14: =882/100 -> 8.82 | J14: 15 | K14: =J14/G14*100 -> 100
B15: 2143 | C15: 5212 | D15: 500 | E15: 30102000000 | F15: Neinv.transfery nefin.podnik.subjektům-fyz.osobám | G15: 0 | H15: 230 | I15: 230 | J15: 0
B16: 2143 | C16: 5212 | D16: 505 | E16: 30102000000 | F16: Neinv.transfery nefin.podnik.subjektům-fyz.osobám | G16: 311 | H16: 311 | I16: =31070/100 -> 310.7 | J16: 350 | K16: =J16/G16*100 -> 112.54019
B17: 2143 | C17: 5213 | D17: 500 | E17: 30102000000 | F17: Neinv.transfery nefin.podnik.subjektům-práv.osobám | G17: 0 | H17: =21970/100 -> 219.7 | I17: =21970/100 -> 219.7 | J17: 0
B18: 2143 | C18: 5221 | D18: 500 | E18: 30101003022 | F18: Neinvestiční transf.obecně prospěšným společnostem | G18: 0 | H18: 35 | I18: 35 | J18: 0
B19: 2143 | C19: 5222 | D19: 500 | E19: 30101000000 | F19: Neinvestiční transfery občanským sdružením | G19: 0 | H19: 680 | I19: 680 | J19: 0
B20: 2143 | C20: 5222 | D20: 503 | E20: 30101000000 | F20: Neinvestiční transfery občanským sdružením | G20: 600 | H20: 400 | I20: 400 | J20: 400 | K20: =J20/G20*100 -> 66.666667
B21: 2143 | C21: 5229 | D21: 16 | F21: Ostatní neinv.transfery nezisk.a podob.organizacím | G21: 2388 | H21: 0 | I21: 0 | J21: 0 | K21: =J21/G21*100 -> 0
B22: 2143 | C22: 5229 | D22: 500 | E22: 30101000000 | F22: Ostatní neinv.transfery nezisk.a podob.organizacím | G22: 75 | H22: 75 | I22: 0 | J22: 0 | K22: =J22/G22*100 -> 0
B23: 2143 | C23: 5229 | D23: 504 | F23: Ostatní neinv.transfery nezisk.a podob.organizacím | G23: 3500 | H23: 5888 | I23: 4449 | J23: 4449 | K23: =J23/G23*100 -> 127.11429
B24: 2143 | C24: 5321 | D24: 500 | E24: 30100000000 | F24: Neinvestiční transfery obcím | G24: 600 | H24: 869 | I24: 789 | J24: 800 | K24: =J24/G24*100 -> 133.33333
B25: 2143 | C25: 5323 | D25: 500 | E25: 30104000000 | F25: Neinvestiční transfery krajům | G25: 300 | H25: 300 | I25: 0 | J25: 0 | K25: =J25/G25*100 -> 0
B26: 2143 | C26: 5329 | D26: 500 | E26: 30100008571 | F26: Ostatní neinv.transfery veř.rozp.územní úrovně | G26: 0 | H26: 50 | I26: 50 | J26: 0
B27: 2143 | C27: 5331 | D27: 500 | E27: 30003001606 | F27: Neinvestiční příspěvky zřízeným příspěvkovým organ | G27: 0 | H27: 150 | I27: 150 | J27: 0
B28: 2143 | C28: 5629 | D28: 504 | F28: Ostatní neinv.půjčené prostř.nezisk.a podob.organ. | G28: 8925 | H28: 8925 | I28: 3794 | J28: 3795 | K28: =J28/G28*100 -> 42.521008
B29: 2144 | C29: 5169 | D29: 0 | E29: 20002000000 | F29: Nákup ostatních služeb | G29: 1400 | H29: =80250/100 -> 802.5 | I29: =35994/100 -> 359.94 | J29: 1100 | K29: =J29/G29*100 -> 78.571429
B30: 2144 | C30: 5221 | D30: 16 | E30: 30101000000 | F30: Neinvestiční transf.obecně prospěšným společnostem | G30: 0 | H30: 30 | I30: 30 | J30: 0
B31: 2144 | C31: 5222 | D31: 16 | E31: 30101000000 | F31: Neinvestiční transfery občanským sdružením | G31: 0 | H31: 176 | I31: 176 | J31: 0
B32: 2144 | C32: 5321 | D32: 16 | E32: 30100000000 | F32: Neinvestiční transfery obcím | G32: 0 | H32: 128 | I32: 128 | J32: 0
B33: 2144 | C33: 5321 | D33: 501 | E33: 30100008357 | F33: Neinvestiční transfery obcím | G33: 350 | H33: 350 | I33: 350 | J33: 350 | K33: =J33/G33*100 -> 100
B34: 2144 | C34: 5329 | D34: 16 | E34: 30100008552 | F34: Ostatní neinv.transfery veř.rozp.územní úrovně | G34: 0 | H34: 30 | I34: 30 | J34: 0
B35: 2144 | C35: 5331 | D35: 16 | F35: Neinvestiční příspěvky zřízeným příspěvkovým organ | G35: 0 | H35: 124 | I35: 124 | J35: 0
B36: 2144 | C36: 5499 | D36: 0 | E36: 30102000000 | F36: Ostatní neinvestiční transfery obyvatelstvu | G36: 50 | H36: 50 | I36: =2320/100 -> 23.2 | J36: 50 | K36: =J36/G36*100 -> 100
B37: 2144 | C37: 5532 | D37: 16 | E37: 30106000000 | F37: Ostatní neinvestiční transfery do zahraničí | G37: 0 | H37: 60 | I37: 60 | J37: 0
B38: 3326 | C38: 6341 | D38: 0 | F38: Investiční transfery obcím | G38: 0 | H38: 0 | I38: 0 | J38: 1500
B39: 3341 | C39: 5169 | D39: 510 | E39: 20001000000 | F39: Nákup ostatních služeb | G39: 3900 | H39: 3900 | I39: =248181/100 -> 2481.81 | J39: 3900 | K39: =J39/G39*100 -> 100
B40: 3349 | C40: 5169 | D40: 510 | E40: 20001000000 | F40: Nákup ostatních služeb | G40: 0 | H40: 6900 | I40: =459912/100 -> 4599.12 | J40: 6900
B41: 3349 | C41: 5341 | D41: 510 | E41: 20001000000 | F41: Převody vlast. fondům hospodářské(podnikat.)činnos | G41: 6900 | H41: 0 | I41: 0 | J41: 0 | K41: =J41/G41*100 -> 0
B42: 5272 | C42: 5168 | D42: 0 | E42: 20000000000 | F42: Služby zpracování dat | G42: 200 | H42: 200 | I42: 200 | J42: 100 | K42: =J42/G42*100 -> 50
B43: 5273 | C43: 5134 | D43: 0 | E43: 20000000000 | F43: Prádlo, oděv a obuv | G43: 5 | H43: 5 | I43: 0 | J43: 5 | K43: =J43/G43*100 -> 100
B44: 5273 | C44: 5136 | D44: 0 | E44: 20000000000 | F44: Knihy, učební pomůcky a tisk | G44: 2 | H44: 2 | I44: =128/100 -> 1.28 | J44: 2 | K44: =J44/G44*100 -> 100
B45: 5273 | C45: 5137 | D45: 0 | E45: 20000000000 | F45: Drobný hmotný dlouhodobý majetek | G45: 5 | H45: 5 | I45: =310/100 -> 3.1 | J45: 5 | K45: =J45/G45*100 -> 100
B46: 5273 | C46: 5139 | D46: 0 | E46: 20001000000 | F46: Nákup materiálu j.n. | G46: 310 | H46: 310 | I46: =25363/100 -> 253.63 | J46: 210 | K46: =J46/G46*100 -> 67.741935
B47: 5273 | C47: 5164 | D47: 0 | E47: 20000000000 | F47: Nájemné | G47: 75 | H47: 75 | I47: 7 | J47: 30 | K47: =J47/G47*100 -> 40
B48: 5273 | C48: 5169 | D48: 0 | E48: 20000000000 | F48: Nákup ostatních služeb | G48: 350 | H48: 350 | I48: =16143/100 -> 161.43 | J48: 250 | K48: =J48/G48*100 -> 71.428571
B49: 5273 | C49: 5169 | D49: 9 | E49: 20000000000 | F49: Nákup ostatních služeb | G49: 0 | H49: 80 | I49: 0 | J49: 0
B50: 5273 | C50: 5175 | D50: 0 | E50: 20000000000 | F50: Pohoštění | G50: 175 | H50: 175 | I50: =13440/100 -> 134.4 | J50: 170 | K50: =J50/G50*100 -> 97.142857
B51: 5273 | C51: 5222 | D51: 16 | E51: 30101000000 | F51: Neinvestiční transfery občanským sdružením | G51: 200 | H51: 200 | I51: 200 | J51: 200 | K51: =J51/G51*100 -> 100
K53: v tis. Kč
B54: § | C54: pol. | D54: UZ | E54: ORG | F54: název položky | G54: schválený rozpočet 2011 | H54: upravený rozpočet k 30.9.2011 | I54: skutečnost k 30.9.2011 | J54: návrh rozpočtu na rok 2012 | K54: %
B55: 1 | C55: 2 | D55: 3 | E55: 4 | F55: 5 | G55: 6 | H55: 7 | I55: 8 | J55: 9 | K55: 10=9/6
F56: Financování základních složek IZS - rezerva hejtmana na krizové řízení
B57: 5273 | C57: 5901 | D57: 9 | E57: 20000000000 | F57: Nespecifikované rezervy | G57: 7500 | H57: 0 | I57: 0 | J57: 6000 | K57: =J57/G57*100 -> 80
B58: 5273 | C58: 5901 | D58: 24 | E58: 20000000000 | F58: Nespecifikované rezervy | G58: 0 | H58: =761241/100 -> 7612.41 | I58: 0 | J58: 0
B59: 5511 | C59: 5311 | D59: 9 | E59: 30103003012 | F59: Neinv.transfery státnímu rozpočtu | G59: 0 | H59: 1175 | I59: 1175 | J59: 0
B60: 5511 | C60: 6123 | D60: 9 | E60: 60008000000 | F60: Dopravní prostředky | G60: 0 | H60: =295319/100 -> 2953.19 | I60: =295319/100 -> 2953.19 | J60: 0
B61: 5512 | C61: 5222 | D61: 9 | E61: 30101003013 | F61: Neinvestiční transfery občanským sdružením | G61: 0 | H61: 600 | I61: 600 | J61: 0
B62: 5599 | C62: 5221 | D62: 9 | E62: 30101000000 | F62: Neinvestiční transf.obecně prospěšným společnostem | G62: 0 | H62: 150 | I62: 150 | J62: 0
G63: =SUM(G57:G62) -> 7500 | H63: =SUM(H57:H62) -> 12490.6 | I63: =SUM(I57:I62) -> 4878.19 | J63: =SUM(J57:J62) -> 6000 | K63: =J63/G63*100 -> 80
B64: 5273 | C64: 6441 | D64: 0 | E64: 72000008020 | F64: Investiční půjčené prostředky obcím | G64: 6200 | H64: 6200 | I64: 6200 | J64: 0 | K64: =J64/G64*100 -> 0
F65: Dotace na jednotlky sborů dobrovolných hasičů - z rozpočtu kraje
B66: 5512 | C66: 5321 | D66: 8 | E66: 30100000000 | F66: Neinvestiční transfery obcím | G66: 6000 | H66: 3059.5 | I66: 2973.5 | J66: 6000 | K66: =J66/G66*100 -> 100
B67: 5512 | C67: 6341 | D67: 8 | E67: 30100000000 | F67: Investiční transfery obcím | H67: 3240 | I67: 3116 | J67: 0
G68: =SUM(G66:G67) -> 6000 | H68: =SUM(H66:H67) -> 6299.5 | I68: =SUM(I66:I67) -> 6089.5 | J68: =SUM(J66:J67) -> 6000 | K68: =J68/G68*100 -> 100
B69: 5529 | C69: 5169 | D69: 0 | E69: 20000000000 | F69: Nákup ostatních služeb | G69: 100 | H69: 100 | I69: 0 | J69: 100 | K69: =J69/G69*100 -> 100
B70: 6172 | C70: 5139 | D70: 506 | E70: 20001000000 | F70: Nákup materiálu j.n. | G70: 1000 | H70: 1000 | I70: =41977/100 -> 419.77 | J70: 0 | K70: =J70/G70*100 -> 0
B71: 6172 | C71: 5139 | D71: 507 | E71: 20001000000 | F71: Nákup materiálu j.n. | G71: 1500 | H71: 1500 | I71: =113615/100 -> 1136.15 | J71: 0 | K71: =J71/G71*100 -> 0
B72: 6172 | C72: 5139 | D72: 510 | E72: 20001000000 | F72: Nákup materiálu j.n. | G72: 0 | H72: 0 | I72: 0 | J72: 2300
B73: 6172 | C73: 5168 | D73: 510 | E73: 20000000000 | F73: Služby zpracování dat | G73: 100 | H73: 100 | I73: =4313/100 -> 43.13 | J73: 100 | K73: =J73/G73*100 -> 100
B74: 6172 | C74: 5169 | D74: 0 | E74: 20000000000 | F74: Nákup ostatních služeb | G74: 200 | H74: 200 | I74: =783/100 -> 7.83 | J74: 100 | K74: =J74/G74*100 -> 50
B75: 6172 | C75: 5169 | D75: 510 | E75: 20001000000 | F75: Nákup ostatních služeb | G75: 1500 | H75: 1500 | I75: =13818/100 -> 138.18 | J75: 1200 | K75: =J75/G75*100 -> 80
B76: 6172 | C76: 5175 | D76: 510 | E76: 20000000000 | F76: Pohoštění | G76: 100 | H76: 100 | I76: =730/100 -> 7.3 | J76: 100 | K76: =J76/G76*100 -> 100
B77: 6172 | C77: 5901 | D77: 0 | E77: 20000000000 | F77: Nespecifikované rezervy | G77: 35 | H77: 35 | I77: 0 | J77: 0 | K77: =J77/G77*100 -> 0
B78: 6409 | C78: 5169 | D78: 0 | E78: 20001000000 | F78: Nákup ostatních služeb | G78: 5400 | H78: 5400 | I78: 4050 | J78: 5400 | K78: =J78/G78*100 -> 100
B79: Celkem | G79: =SUM(G69:G78,G68,G63,G9:G51,G64) -> 67241 | H79: =SUM(H69:H78,H68,H63,H9:H51,H64) -> 72492.94 | I79: =SUM(I69:I78,I68,I63,I9:I51,I64) -> 45309.69 | J79: =SUM(J69:J78,J68,J63,J9:J51,J64) -> 51891 | K79: =J79/G79*100 -> 77.171666
B84: § 2143, POL 5139 - Nákup materiálu j.n. | J84: 300 | K84: tis.Kč
B85: Položka zahrnuje náklady na dotisk stávajících propagačních materiálů např. turistických a cykloturistických map. V této položce je zahrnuta i částka na nákup drobného materiálu (drobný mobiliář na dovybavení stánku na výstavách cestovního ruchu) a na propagační předměty pro prezentaci kraje na veletrzích cestovního ruchu. Uvedená aktivita vychází z Akčního plánu Marketingové studie cestovního ruchu Olomouckého kraje na období 2011 - 2013 (výhled do roku 2016).
B86: § 2143, POL 5166 - Konzultační, poradenské a právní služby | J86: 475 | K86: tis.Kč
B87: Výdaje na aktualizaci PRCR a zpracování Marketingové studie, které bude prováděno v letech 2012 -2013 - předpoklad celkových nákladů díla cca 950 tis. Kč. V případě nutnosti provedení SEA hodnocení II. stupně bude nutno v roce 2013 nárokovat mimo zbývajících 475 tis. Kč nákladů na aktualizaci i cca 100 tis. Kč navíc. Navržené aktivity včetně finanční náročnosti vychází z Akčního plánu PRCR na období 2011-2013 (výhled do roku 2016) - č. UR/39/42/2010, č. UZ/20/42/2011. Jak vyplývá z navržené částky na této položce nejsou nárokovány finanční prostředky na rozvoj organizace řízení kvality cestovního ruchu v OK ve výši 500 tis. Kč. Navržená aktivita včetně finanční náročnosti vychází z Akčního plánu PRCR na období 2011-2013 (výhled do roku 2016) - č. UR/39/42/2010, č. UZ/20/42/2011. Celkové náklady projektu jsou ve výši cca 1 mil. Kč s termínem realizace v letech 2012 - 2013. Cílem je revize současné organizace cestovního ruchu v rámci Olomouckého kraje a návrh jejího fungování do budoucna. Obsahem projektu bude provedení analýzy organizace CR na úrovni Olomouckého kraje, inovace procesu kvality destinačního managementu, vytvoření funkční komunikační sítě včetně vzdělávání pracovníků a subjektů CR a monitoringu návštěvníků pod odborným a metodickým vedením poradenské společnosti. Cílová skupina projektu: pracovníci destinačního managementu, poskytovatelé služeb a podnikatelé v CR, vybraná města a obce, NNO z různých oblastí cestovního ruchu. Vzhledem k obsahu uvedené aktivity doporučujeme jeho realizaci až v souvislosti s dokončením a schválením Zákona o cestovním ruchu.
B88: § 2143, POL 5169 - Nákup ostatních služeb | J88: 5235 | K88: tis.Kč
B89: Zahrnuje výdaje na tyto činnosti: 1. Prezentace OK v publikacích, časopisech, médiích (260 tis. Kč) - Prezentace o turistických atraktivitách kraje a obou turistických regionů v turistických katalozích, časopisech zaměřených na cestovní ruch i v denním tisku.
B95: 2. Výstavy domácí i zahraniční, prezentace turistické (200 tis. Kč) - nabídky kraje ve spolupráci s dalšími subjekty - v roce 2012 budou náklady na veletrhy (pronájem prostor a sektorů vč. grafického zpracování, technické přípojky …) hrazeny z projektu "Marketingové aktivity Olomouckého kraje". Nad rámec veletrhů z projektu je třeba zajistit další aktivity, které vychází z nabídek ostatních subjektů CR, např. statutárního města Olomouc (v r. 2011 společná prezentace ve Vídni aBratislavě) a rozhodnutí vedení, či pana hejtmana. Dále se jedná také o zabezpečení akcí ve spolupráci s moravskými kraji v rámci projektu "Významné turistické akce a cíle východní části České republiky" (do jehož realizace jsme zapojeni - č. UR/47/53/2010) v důležitých zdrojových trzích - ČR, Slovensko, Polsko, Německo, Rakousko, Itálie, východní trhy apod. 3. Zhotovení nových propagačních materiálů OK (100 tis. Kč) - zhotovení nového katalogu naučných stezek kraje včetně jeho provedeníformou CD, pohlednice Olomouckého kraje s turistickou tématikou. 4. Zajištění provozu Turistického informačního portálu Olomouckého kraje - provozní a obsahový servis ( 1.500 tis. Kč) - z této částky je určeno 860 tis. Kč na sdružení cestovního ruchu (J-SCR:430 tis. Kč a SM-SCR:430 tis. Kč), která budou provádět obsahovou správu portálu a 640 tis.Kč na technickou správu portálu (navržená částka za technickou správu portálu vychází z cenové kalkulace zpracované společností WINTERNET s.r.o., která realizovala projekt "Rozšíření aplikací turistického portálu Olomouckého kraje"). 5. Rozvoj Turistického informačního portálu Olomouckého kraje (260 tis. Kč) - zajištění technologické aktuálnosti portálu a jeho průběžný rozvoj s ohledemna aktuální vývoj v oblasti internetu (např. nové grafické prvky, flash animace, tag cloud, připojení web. kamer). Uvedená aktivita vychází z Akčního plánu PRCR na období 2011-2013 (výhled do roku 2016) č. UR/39/42/2010, č. UZ/20/42/2011 a dále vychází z cenové kalkulace zpracované společností WINTERNET s.r.o., která realizovala projekt "Rozšíření aplikací turistického portálu Olomouckého kraje". Cílem je, aby portál po ukončení projektu technologicky a vývojově nestagnoval. 6. Zajištěníprovozu Rezervačního systému Olomouckého kraje - technická podpora systému (215 tis. Kč) - navržená částka vychází z cenové kalkulace společnosti WINTERNET s.r.o., která vyhrála výběrové řízení na realizaci rezervačního systému Olomouckého kraje. 7. Zajištění nebo podpora vybraných akcí s perspektivou národního nebo mezinárodního významu v Olomouckém kraji (1.500 tis. Kč) - každoroční podpora vybraných významných akcí cestovního ruchu v Jeseníkách a na Střední Moravě. V roce 2011 bylo podpořeno 11 nadregionálních akcí v celkové částce 1.380 tis. Kč. 8. Seniorské cestování (900 tis. Kč) - uvedená aktivita na podporu domácího cestovního ruchu úspěšně proběhla v letech 2008, 2010 a 2011. V roce 2011 se uskuteční celkem cca 35 zájezdů za účasti cca 1600 seniorů. Náklady Olomouckého kraje v roce 2011 činí 846 760,- Kč. Doručujeme tedy navýšení o 50 tis. Kč v souvislosti s plánovanou úpravou DPH.
B97: 9. Společná tvorba propagačních materiálů se sousedními kraji (300 tis. Kč) - pokračování spolupráce mezi moravskými kraji (OK, ZK, MSK a JMK) z let 2005 - 2011. V roce 2012 je nositelem projektu Olomoucký kraj. Veškeré navržené aktivity vychází z Akčního plánu Marketingové studie cestovního ruchu Olomouckého kraje na období 2011-2013 (výhled do roku 2016) a z Akčního plánu PRCR na období 2011-2013 (výhled do roku 2016).
B98: § 2143, POL 5175 - Pohoštění | J98: 15 | K98: tis.Kč
B99: Nákup pohoštění pro pracovní partnery při jednáních v expozici Olomouckého kraje v době konání veletrhů a výstav cestovního ruchu.
B100: § 2143, POL 5212 - Neinv.transfery nefin.podnik.subjektům-fyz.osobám | J100: 350 | K100: tis.Kč
B101: Jedná se o 2/3 finančních nákladů (1/3 hradí st. město Olomouc) na zabezpečení fungování Olomouc region Card (provozní náklady + administrace).
B102: § 2143, POL 5222 - Neinvestiční transfery občanským sdružením | J102: 400 | K102: tis.Kč
B103: Příspěvek KČT - oblast Olomoucký kraj na podporu údržby a obnovy značení turistických, cykloturistických a lyžařských tras na území Olomouckého kraje. Navržená částka v Akčním plánu PRCR na období 2011-2013 (výhled do roku 2016) - č. UR/39/42/2010,č. UZ/20/42/2011 je ve výši 400 tis. Kč. Požadavek na zvýšení příspěvku ve výši 600 tis. Kč je z důvodu zajišťování aktualizace pasportu cyklotras Olomouckého kraje, který bude dokončen v roce 2011.
B104: § 2143, POL 5229 - Ostatní neinv.transfery nezisk.a podob.organizacím | J104: 4449 | K104: tis.Kč
B105: Položka zahrnuje následující údaje: 2.000 tis. Kč - členský příspěvek pro sdružení Jeseníky - Sdružení cestovního ruchu na rok 2012. 1.500 tis. Kč - členský příspěvek pro sdružení Střední Morava - Sdružení cestovního ruchu na rok 2012. Obě navržené částky vychází z Akčního plánu PRCR na období 2011-2013 (výhled do roku 2016) - č. UR/39/42/2010, č. UZ/20/42/2011.Vazba na "Projekt organizace cestovního ruchu (destinačního managementu) v Olomouckém kraji" (schváleno usnesením ROK č. UR/25/76/2005 a usnesením ZOK č.UZ/7/56/2005).
B107: 949 tis. Kč - na základě rozhodnutí ZOK č. UZ/19/8/2011 ze dne 22. 4. 2011 zařazujeme do rozpočtu na rok 2012 příspěvek pro sdružení Střední Morava - Sdružení cestovního ruchu na zajištění kofinancování marketingového projektu "Střední Morava - turistická destinace II, poznání a pohoda".
B108: § 2143, POL 5321 - Neinvestiční transfery obcím | J108: 800 | K108: tis.Kč
B109: Podpora činnosti turistických informačních center v Olomouckém kraji ve vybraných aktivitách jako je např. podpora standardizace, zkvalitňování a rozšiřování informačních služeb v oblasti cestovního ruchu v kraji a zahájení zajištění systematické součinnosti a spolupráce TIC na marketingových aktivitách kraje. Navržená částka vychází z Akčního plánu PRCR na období 2011-2013 (výhled do roku 2016) - č. UR/39/42/2010, č. UZ/20/42/2011. V roce 2011 bylo podpořeno 21 informačních center v celkové částce 853 700,- Kč.
B110: § 2143, POL 5629 - Ostatní neinv.půjčené prostř.nezisk.a podob.organ. | J110: 3795 | K110: tis.Kč
B111: Na základě rozhodnutí ZOK č. UZ/19/8/2011 ze dne 22. 4. 2011 zařazujeme do rozpočtu na rok 2012 půjčku pro sdružení Střední Morava - Sdružení cestovního ruchu na zajištění kofinancování marketingového projektu "Střední Morava - turistická destinace,poznání a pohoda".
B112: § 2144, POL 5169 - Nákup ostatních služeb | J112: 1100 | K112: tis.Kč
B113: Na této položce jsou rozpočtovány prostředky související s činností oddělení vnějších vztahů. Jedná se o prostředky na podporu spolupráce se zahraničními regiony včetně zajišťování prezentací Olomouckého kraje v zahraničí v rámci uzavřených smluv o spolupráci atd. Dále jsou na položce rozpočtovány prostředky na Letní školu AER a členský příspěvek AER (S-2004/0273/KH), dotační titul Olomouckého kraje na podporu zahraničních aktivit (450 tis. Kč), prostředky na cenu GOAL (150 tis. Kč - UR č.UR/71/53/2011, a na spolufinancování projektu "Otevřené sousedství - 70 tis. Kč - UR č. UR/71/51/2011).
B114: § 2144, POL 5321 - Neinvestiční transfery obcím | J114: 350 | K114: tis.Kč
...

Sheet ORJ - 03
B2: Kancelář ředitele | K2: ORJ - 03
B5: Správce: | D5: Mgr. Lenka Doleželová
D6: vedoucí kanceláře
K7: v tis. Kč
B8: § | C8: pol. | D8: UZ | E8: ORG | F8: název položky | G8: schválený rozpočet 2011 | H8: upravený rozpočet k 30.9.2011 | I8: skutečnost k 30.9.2011 | J8: návrh rozpočtu na rok 2012 | K8: %
B9: 1 | C9: 2 | D9: 3 | E9: 4 | F9: 5 | G9: 6 | H9: 7 | I9: 8 | J9: 9 | K9: 10=9/6
B10: 6172 | C10: 5011 | D10: 0 | E10: 12000000000 | F10: Platy zaměstnanců v pracovním poměru | G10: 173887 | H10: =17428251/100 -> 174282.51 | I10: =10709723/100 -> 107097.23 | J10: 170000 | K10: =J10/G10*100 -> 97.76464
B11: 6172 | C11: 5021 | D11: 0 | E11: 12000000000 | F11: Ostatní osobní výdaje | G11: 1500 | H11: 1515 | I11: =101438/100 -> 1014.38 | J11: 1500 | K11: =J11/G11*100 -> 100
B12: 6172 | C12: 5024 | D12: 0 | E12: 12000000000 | F12: Odstupné | G12: 300 | H12: 300 | I12: 0 | J12: 300 | K12: =J12/G12*100 -> 100
B13: 6172 | C13: 5029 | D13: 0 | E13: 12000000000 | F13: Ostatní platby za provedenou práci jinde nezařazen | G13: 100 | H13: 100 | I13: 0 | J13: 100 | K13: =J13/G13*100 -> 100
B14: 6172 | C14: 5031 | D14: 0 | E14: 12000000000 | F14: Povinné poj.na soc.zab.a přísp.na st.pol.zaměstnan | G14: 43472 | H14: =4354458/100 -> 43544.58 | I14: =2695635/100 -> 26956.35 | J14: 42500 | K14: =J14/G14*100 -> 97.764078
B15: 6172 | C15: 5031 | D15: 0 | E15: 12000100345 | F15: Povinné poj.na soc.zab.a přísp.na st.pol.zaměstnan | G15: 0 | H15: =4045/100 -> 40.45 | I15: =1045/100 -> 10.45 | J15: 0
B16: 6172 | C16: 5032 | D16: 0 | E16: 12000000000 | F16: Povinné poj.na veřejné zdravotní pojištění | G16: 15650 | H16: =1569009/100 -> 15690.09 | I16: =970390/100 -> 9703.9 | J16: 15300 | K16: =J16/G16*100 -> 97.763578
B17: 6172 | C17: 5032 | D17: 0 | E17: 12000100345 | F17: Povinné poj.na veřejné zdravotní pojištění | G17: 0 | H17: =1376/100 -> 13.76 | I17: =376/100 -> 3.76 | J17: 0
B18: 6172 | C18: 5038 | D18: 0 | E18: 20003000000 | F18: Povinné pojistné na úrazové pojištění | G18: 730 | H18: 750 | I18: =55480/100 -> 554.8 | J18: 750 | K18: =J18/G18*100 -> 102.73973
B19: 6172 | C19: 5039 | D19: 0 | E19: 12000000000 | F19: Ostatní povinné pojistné placené zaměstnavatelem | G19: 50 | H19: 50 | I19: 0 | J19: 50 | K19: =J19/G19*100 -> 100
B20: 6172 | C20: 5134 | D20: 0 | E20: 12000000000 | F20: Prádlo, oděv a obuv | G20: 50 | H20: 55 | I20: =3752/100 -> 37.52 | J20: 46 | K20: =J20/G20*100 -> 92
B21: 6172 | C21: 5136 | D21: 0 | E21: 12005000000 | F21: Knihy, učební pomůcky a tisk | G21: 300 | H21: 550 | I21: =62+163 -> 225 | J21: 500 | K21: =J21/G21*100 -> 166.66667
B22: 6172 | C22: 5137 | D22: 0 | E22: 12000000000 | F22: Drobný hmotný dlouhodobý majetek | G22: 600 | H22: 600 | I22: =40431/100 -> 404.31 | J22: 600 | K22: =J22/G22*100 -> 100
B23: 6172 | C23: 5139 | D23: 0 | F23: Nákup materiálu j.n. | G23: =570+750+700+480 -> 2500 | H23: =915+750+700+480 -> 2845 | I23: =72768/100+447+300+205 -> 1679.68 | J23: =1000+750+700+480 -> 2930 | K23: =J23/G23*100 -> 117.2
B24: 6172 | C24: 5151 | D24: 0 | F24: Studená voda | G24: =15+200+150+25 -> 390 | H24: 390 | I24: =-3+156+139+18 -> 310 | J24: 477 | K24: =J24/G24*100 -> 122.30769
B25: 6172 | C25: 5152 | D25: 0 | F25: Teplo | G25: 2900 | H25: 2900 | I25: =977+861 -> 1838 | J25: 3201 | K25: =J25/G25*100 -> 110.37931
B26: 6172 | C26: 5153 | D26: 0 | F26: Plyn | G26: =150+250 -> 400 | H26: =70+176+10 -> 256 | I26: =43+118 -> 161 | J26: 292 | K26: =J26/G26*100 -> 73
B27: 6172 | C27: 5154 | D27: 0 | F27: Elektrická energie | G27: =157+2300+1600+50+93 -> 4200 | H27: =157+1900+1600+50+93 -> 3800 | I27: =-12+1295+977+28+62 -> 2350 | J27: =6+2000+1500+100+94 -> 3700 | K27: =J27/G27*100 -> 88.095238
B28: 6172 | C28: 5156 | D28: 0 | E28: 12000000000 | F28: Pohonné hmoty a maziva | G28: 1250 | H28: 1450 | I28: =89828/100 -> 898.28 | J28: 1300 | K28: =J28/G28*100 -> 104
B29: 6172 | C29: 5157 | D29: 0 | E29: 12008000000 | F29: Teplá voda | G29: 100 | H29: 100 | I29: =8587/100 -> 85.87 | J29: 110 | K29: =J29/G29*100 -> 110
B30: 6172 | C30: 5159 | D30: 0 | E30: 12000000000 | F30: Nákup ostatních paliv a energie | G30: 20 | H30: 5 | I30: =71/100 -> 0.71 | J30: 5 | K30: =J30/G30*100 -> 25
B31: 6172 | C31: 5161 | D31: 0 | E31: 12000000000 | F31: Služby pošt | G31: 2000 | H31: 1600 | I31: =120485/100 -> 1204.85 | J31: 1600 | K31: =J31/G31*100 -> 80
B32: 6172 | C32: 5162 | D32: 0 | E32: 12000000000 | F32: Služby telekomunikací a radiokomunikací | G32: 2780 | H32: 1930 | I32: =137923/100 -> 1379.23 | J32: 2500 | K32: =J32/G32*100 -> 89.928058
B33: 6172 | C33: 5163 | D33: 0 | E33: 20003000000 | F33: Služby peněžních ústavů | G33: 400 | H33: 360 | I33: =21475/100 -> 214.75 | J33: 400 | K33: =J33/G33*100 -> 100
B34: 6172 | C34: 5164 | D34: 0 | F34: Nájemné | G34: =1500+16000 -> 17500 | H34: =98266/100+15917+217 -> 17116.66 | I34: =51460/100+11938+163 -> 12615.6 | J34: =1282+16000+218 -> 17500 | K34: =J34/G34*100 -> 100
B35: 6172 | C35: 5166 | D35: 0 | E35: 12000000000 | F35: Konzultační, poradenské a právní služby | G35: 200 | H35: 200 | I35: =9541/100 -> 95.41 | J35: 200 | K35: =J35/G35*100 -> 100
B36: 6172 | C36: 5167 | D36: 0 | E36: 12000000000 | F36: Služby školení a vzdělávání | G36: 3000 | H36: 2950 | I36: =170324/100 -> 1703.24 | J36: 2500 | K36: =J36/G36*100 -> 83.333333
B37: 6172 | C37: 5169 | D37: 0 | F37: Nákup ostatních služeb | G37: =11687+1584+189 -> 13460 | H37: =11090+1584+189 -> 12863 | I37: =809759/100+1181+113 -> 9391.59 | J37: =11994+1620+126 -> 13740 | K37: =J37/G37*100 -> 102.08024
B38: 6172 | C38: 5171 | D38: 0 | F38: Opravy a udržování | G38: 4000 | H38: 2600 | I38: =1147+259 -> 1406 | J38: 4000 | K38: =J38/G38*100 -> 100
B39: 6172 | C39: 5173 | D39: 0 | F39: Cestovné (tuzemské i zahraniční) | G39: 3500 | H39: 3260 | I39: =1163+200 -> 1363 | J39: 3000 | K39: =J39/G39*100 -> 85.714286
B40: 6172 | C40: 5175 | D40: 0 | E40: 12000000000 | F40: Pohoštění | G40: 500 | H40: 500 | I40: =22738/100 -> 227.38 | J40: 500 | K40: =J40/G40*100 -> 100
B41: 6172 | C41: 5176 | D41: 0 | E41: 12000000000 | F41: Účastnické poplatky na konference | G41: 150 | H41: 200 | I41: =18428/100 -> 184.28 | J41: 200 | K41: =J41/G41*100 -> 133.33333
B42: 6172 | C42: 5182 | D42: 0 | E42: 0 | F42: Poskytované zálohy vlastní pokladně | G42: 0 | H42: 0 | I42: =73+2+36 -> 111 | J42: 0
B43: 6172 | C43: 5189 | D43: 0 | E43: 0 | F43: Ostatní poskytované zálohy a jistiny | G43: 20 | H43: 0 | I43: 115 | J43: 20 | K43: =J43/G43*100 -> 100
B44: 6172 | C44: 5192 | D44: 0 | E44: 12000000000 | F44: Poskytnuté neinvestiční příspěvky a náhrady (část) | G44: 20 | H44: 120 | I44: 49 | J44: 20 | K44: =J44/G44*100 -> 100
B45: 6172 | C45: 5194 | D45: 0 | E45: 12000000000 | F45: Věcné dary | G45: 20 | H45: 0 | I45: 0 | J45: 20 | K45: =J45/G45*100 -> 100
B46: 6172 | C46: 5323 | D46: 0 | E46: 30104000000 | F46: Neinvestiční transfery krajům | G46: 65 | H46: 40 | I46: =3930/100 -> 39.3 | J46: 70 | K46: =J46/G46*100 -> 107.69231
B47: 6172 | C47: 5361 | D47: 0 | E47: 12000000000 | F47: Nákup kolků | G47: 100 | H47: 100 | I47: 59 | J47: 100 | K47: =J47/G47*100 -> 100
B48: 6172 | C48: 5362 | D48: 0 | E48: 12000000000 | F48: Platby daní a poplatků státnímu rozpočtu | G48: 50 | H48: 50 | I48: =795/100 -> 7.95 | J48: 50 | K48: =J48/G48*100 -> 100
B49: 6172 | C49: 5424 | D49: 0 | E49: 12000000000 | F49: Náhrady mezd v době nemoci | G49: 1000 | H49: 1000 | I49: =66915/100 -> 669.15 | J49: 1000 | K49: =J49/G49*100 -> 100
B50: 6330 | C50: 5342 | D50: 0 | E50: 12000000000 | F50: Převody FKSP a sociálnímu fondu obcí a krajů | G50: 6086 | H50: 6086 | I50: =389650/100 -> 3896.5 | J50: 5950 | K50: =J50/G50*100 -> 97.765363
B51: Celkem | G51: =SUM(G10:G50) -> 303250 | H51: =SUM(H10:H50) -> 300213.05 | I51: =SUM(I10:I50) -> 188063.47 | J51: =SUM(J10:J50) -> 297031 | K51: =J51/G51*100 -> 97.949217
B53: § 6172, POL 5011 - Platy zaměstnanců v pracovním poměru | J53: 170000 | K53: tis.Kč
B54: Limit zaměstnanců KÚOK je 524 pracovních míst, k 1.1.2012 bude na nově vzniklou příspěvkovou organizaci kraje delimitováno 5 zaměstnanců ODSH, na MPSV a Úřad práce – krajskou pobočku v Olomouci celkem 8 zaměstnanců, na OSR zaniknou 2 pracovní pozice zřízené na dobu určitou. K 1. 7 2012 vznikne v souvislosti s realizací projektu „ rozvoj služeb e-Governmentu v OK“ 5 nových pracovních míst.
B59: § 6172, POL 5021 - Ostatní osobní výdaje | J59: 1500 | K59: tis.Kč
B60: Jedná se o výdaje na provádění kontrol v souladu se zákonem č. 167/1998 Sb., o návykových látkách ve vybraných lékárnách a zdravotnických zařízeních, výběrová řízení na uzavírání smluv mezi zdravotními pojišťovnami a zdravotnickými zařízeními, posuzování zdravotního stavu žadatelů o náhradní rodinnou péči, posuzování dětí k osvojení a pěstounské péči, vyhodnocení podaných projektů v rámci programů, kontrolní činnosti na vyúčtování projektů a dotací, posuzování správnosti poskytované zdravotní péče (znalecké komise).
B61: § 6172, POL 5024 - Odstupné | J61: 300 | K61: tis.Kč
B63: § 6172, POL 5029 - Ostatní platby za provedenou práci jinde nezařazen | J63: 100 | K63: tis.Kč
B65: § 6172, POL 5031 - Povinné poj.na soc.zab.a přísp.na st.pol.zaměstnan | J65: 42500 | K65: tis.Kč
B66: Dle zákona č. 589/1992 Sb., o pojistném na sociální zabezpečení a příspěvku na státní politiku zaměstnanosti, ve znění pozdějších předpisů (25%).
B67: § 6172, POL 5032 - Povinné poj.na veřejné zdravotní pojištění | J67: 15300 | K67: tis.Kč
B68: Dle zákona č. 48/1997 Sb., o veřejném zdravotním pojištění a o změně a doplnění některých souvisejících zákonů, ve znění pozdějších předpisů (9%).
B69: § 6172, POL 5038 - Povinné pojistné na úrazové pojištění | J69: 750 | K69: tis.Kč
B70: Dle vyhlášky č. 125/1993 Sb., kterou se stanoví podmínky a sazby zákonného pojištění odpovědnosti zaměstnavatele za škodu při pracovním úraze nebo nemoci z povolání, ve znění pozdějších předpisů (4,2‰). Pro rok 2012 navrhujeme zvýšení finančních prostředků vzhledem k čerpání v roce 2011.
B71: § 6172, POL 5039 - Ostatní povinné pojistné placené zaměstnavatelem | J71: 50 | K71: tis.Kč
B73: § 6172, POL 5134 - Prádlo, oděv a obuv | J73: 46 | K73: tis.Kč
B74: Nákup ochranných pracovních pomůcek podle pracovněprávních předpisů a Vnitřního předpisu Krajského úřadu Olomouckého kraje č.2/2008 platného od 1. 5. 2008 - oděvy, ochranné pracovní obuv pro zaměstnance odborů OŽPZ, ODSH, KŘ, OIEP, EO, OSR.
B75: § 6172, POL 5136 - Knihy, učební pomůcky a tisk | J75: 500 | K75: tis.Kč
B76: 1. Předplatné novin a odborných časopisů, jiných nosičů, ORG 12005000000 - 400 tis.Kč 2. Nákup odborných publikací, odborných knih pro potřeby zaměstnanců, ORG 12006000000 - 100 tis. Kč
B77: § 6172, POL 5137 - Drobný hmotný dlouhodobý majetek | J77: 600 | K77: tis.Kč
B78: Nákup a výměna opotřebovaného nefunkčního vybavení v kancelářích (výměna nefunkčních skartovače, nákup kancelářských židlí - nutná výměna za opotřebované, nákup regálů do archviu, další nákupy za opotřebované nefunkční vybavení
B79: § 6172, POL 5139 - Nákup materiálu j.n. | J79: 2930 | K79: tis.Kč
B80: 1. Z položky 5169 jsou hrazeny veškeré nákupy spotřebního materiálu - elektromateriál, razítka, polymery, sanitární prostředky aj. nárůst rozpočtu kopíruje návrh rozpočtu roku 2010, ORG 12000000000 ve výši 1 000 tis.Kč 2. Nákup materiálu - tonery pro odbory, ORG 12001000000 - 750 tis. kč 3. Nákup materiálu - kancelářské potřeby, ORG 12002000000 - 700 tis. Kč 4. Nákup materiálu - kancelářský papír, ORG 12003000000 - 480 tis. Kč
B81: § 6172, POL 5151 - Studená voda | J81: 477 | K81: tis.Kč
B82: 1. Středomoravská vodárenská, a.s. Olomouc - Smlouva o odvádění odpadních vod č. 103-16179/5, Smlouva o dodávce vody č. 103-16178/2, vč. Dodatku č. 1, ORG 0012007000000 - 250 tis. Kč 2. Regionální centrum Olomouc, s. r .o., Olomouc - Smlouva o zajištění služeb č. R2/S/2008/001, ORG 0012008000000 - 190 tis. Kč 3.ÚZSVM Šumperk, Smlouva o nájmu nebytových prostor č. UZSVM/OSU/5034/2010-OSUH, ORG 12010000000 - vodné. 37 tis.Kč
B83: § 6172, POL 5152 - Teplo | J83: 3201 | K83: tis.Kč
B84: 1. Dalkia ČR, a.s. Ostrava - Kupní smlouva na dodávku a odběr tepelné energie ORG 0012007000000 - 2 000 tis. Kč 2. Regionální centrum Olomouc, s. r. o., Olomouc - Smlouva o zajištění služeb č. R2/S/2008/001, ORG 0012008000000 - 1 200 tis. Kč 3. Nemocnice Šternberk - Dohoda o užívání nebytových prostor a úhradách za služby ORG 0012000000000 - 1 tis. Kč
B85: § 6172, POL 5153 - Plyn | J85: 292 | K85: tis.Kč
B86: 1. United Energy Trading, a.s. Praha, Smlouva o sdružených službách dodávky zemního plynu - měsíční zálohy na dodávku plynu pro pracoviště OSV, Žilinská 7, Olomouc včetně vyúčtování ORG 0012009000000 - 100 tis. Kč 2. ÚZSVM Šumperk, Smlouva o nájmu nebytových prostor č. UZSVN/OSU/5034/2010-OSUH, ORG 12010000000 - 192 tis.Kč
B90: § 6172, POL 5154 - Elektrická energie | J90: 3700 | K90: tis.Kč
B91: 1. CENTROPOL ENERGY, a.s. Ústí nad Labem - Smlouva o sdružených službách dodávky elektřiny (platnost smlouvy končí 31. 12. 2011) ORG 0012007000000- 2 000 tis.Kč 2. Regionální centrum Olomouc, s. r. o. Olomouc - Smlouva o zajištění služeb č. R2/2008/001, ORG 001200800000 -1 500 tis. Kč 3. CENTROPOL ENERGY, a.s. Ústí nad Labem, Smlouva o sdružených službách dodávky elektřiny (platnost smlouvy končí 31. 12. 2011), ORG 0012009000000 - 100 tis. Kč 4. Nemocnice Šternberk - Dohoda o užívání nebytových prostor a úhradách za služby (archiv), ORG 0012000000000 - 6 tis. Kč 5. ÚZSVM Šumperk, Smlouva o nájmu nebytových prostor č. UZSVM/OSU/5034/2010-OSUH - elektrická energie, ORG 12010000000 - 94 tis.Kč.
B92: § 6172, POL 5156 - Pohonné hmoty a maziva | J92: 1300 | K92: tis.Kč
B93: Pohonné hmoty jsou čerpány prostřednictvím karet CCS. Návrh rozpočtu vychází z reality roku 2011.
B94: § 6172, POL 5157 - Teplá voda | J94: 110 | K94: tis.Kč
B95: Regionální centrum Olomouc, s. r. o., Olomouc - Smlouva o zajištění služeb č. R/S/2008/001, na položce 5157 - jsou účtovány úhrady dle skutečně odebraných jednotek dle uzavřené smlouvy.
B96: § 6172, POL 5159 - Nákup ostatních paliv a energie | J96: 5 | K96: tis.Kč
B97: Nafta do náhradního zdroje elektrické energie. - 5 tis. Kč
B98: § 6172, POL 5161 - Služby pošt | J98: 1600 | K98: tis.Kč
B99: Hrazení poštovného. - 1 500 tis. Kč
B100: § 6172, POL 5162 - Služby telekomunikací a radiokomunikací | J100: 2500 | K100: tis.Kč
B101: 1.Telefónica 02 Czech Republic, a.s. Praha - Smlouva o poskytování telekomunikačních služeb (mobilní hovory, služby IP VPN, refereční čísla za služby ISDN) - 1 600 tis. Kč 2. MERIT Group, a.s. Olomouc - Smlouva o poskytování telekomunikačních služeb, Smlouva o připojování , údržbě a provozování zařízení, úhrady za připojení, udržování a provozování telekomunikačních zařízení - INTERNET - 555 tis. Kč 3. GTS NOVERA, s. r. o. Praha - Smlouva o poskytování veřejně dostupné služby elektronických komunikací (pevné linky) - 300 tis. Kč 4. LARGO KAB s. r. o., Olomouc - Smlouva č. 02272/2007 - přenos poplachový zpráv - 44 tis. Kč 5. První kapitálová společnost, a.s. Přerov - Smlouva o pronájmu nebytových prostor (archiv OSL - matriky) - 1 tis. Kč
B102: § 6172, POL 5163 - Služby peněžních ústavů | J102: 400 | K102: tis.Kč
B103: 1. Česká pojišťovna, a.s. Praha - Pojistná smlouva o pojištění vozidel č. 5347498810. Havarijní pojištění vozidel, úhrady čtvrtletní dle stanovených splátek. - 230 tis. Kč 2. Allianz pojišťovna, a.s. Praha - skupinová pojistná smlouva AUTOFLOTILY2006. Skupinová pojistná smlouva pro pojištění odpovědnosti za škodu způsobenou provozem vozidel č. 898188314. - 110 tis. Kč 3. Kooperativa, pojišťovna, a.s. Praha - Rámcová pojistná smlouva - cestovní pojištění zaměstnancnů KÚOK. - 50tis. Kč 4. Pojištění platebních karet MERLIN - 10 tis. Kč
B104: § 6172, POL 5164 - Nájemné | J104: 17500 | K104: tis.Kč
B105: 1. Regionální centrum Olomouc, s. r. o., Olomouc - Smlouva o nájmu nebytových prostor č. R2/N/2008/001 vč. Dodatku č. 1 ke Smlouvě - nájem nebytových prostor. (ORG 0012008000000) - 16 000 tis. Kč 2. První kapitálová společnost, a.s. Přerov - Smlouva o nájmu nebytových prostor AB/2004/430, ORG 12000000000 - 356 tis. Kč 3. Výdaje na pronájem kanceláře Brusel na základě uzavřené smlouvy č. 2010/03757/OSR/DSM, ORG 12000000000 - 300 tis.Kč 4. První kapitálová společnost, a.s. Přerov - Smlouva o nájmu nebytových prostor AB/2011/599, ORG 12000000000 - 125 tis. Kč 5. V návrhu rozpočtu na rok 2012 je ponechána částka , která bude použita na případné zvýšení nájmů a zajištění školení, seminářů, metodické pomoci atd., ORG 12000000000 - 501 tis. Kč 6. ÚZSVM Šumperk, Smlouva o nájmu nebytových prostor č. UZSVM/OSU/5034/2010-OSUH - nájemné, ORG 12010000000 - 218 tis.Kč
B106: § 6172, POL 5166 - Konzultační, poradenské a právní služby | J106: 200 | K106: tis.Kč
B107: 1. Ing. Klimíček, Olomouc - Smlouva o poskytování poraneství a služeb v oblasti bezpečnosti práce a požární ochrany, ve znění pozdějších dodatků. - 90 tis. Kč 2. Ostatní platby na základě uzavřených objednávek - posuzování neopravitelnosti DHIM před pořízením nových předmětů, revizní zprávy vyplývající z revizí technologických zařízení, ostatní konzultace a poradenství, znalecké posudky. - 110 tis. kč
B108: § 6172, POL 5167 - Služby školení a vzdělávání | J108: 2500 | K108: tis.Kč
B109: Povinné vzdělávání zaměstnanců dle zákona č. 312/2002 Sb., o úřednících ÚSC a o změně některých zákonů, ve znění pozdějších předpisů, (vstupní vzdělávání, průběžné vzdělávání, ZOZ). Další vzdělávání dle plánu vzdělávání zaměstnanců krajského úřadu. Vzhledem k delimitaci zaměstnanců OSV a ODSH navrhujeme pro rok 2012 nižší čerpání finanních prostředků.
B116: § 6172, POL 5169 - Nákup ostatních služeb | J116: 13740 | K116: tis.Kč
B117: 1. SodexoPass, s. r. o. Praha - Smlouva o odběru poukázek, ORG 12000000000- 2 600 tis. Kč 2. Jan Grézl, Sylva Grézlová - HARYSERVIS II., Olomouc - Smlouva o zabezpečení úklidových prací č. 231/II ve znění dodatků - úklid v budově RCO, ORG 12000000000 - 1 794 tis. Kč 3. Jan Grézl,Sylva Grézlová - HARYSERVIS II., Olomouc - Smmlouva o zabezpečení úklidových prací č. 165/I., ve znění dodatků - úklid v budově KÚOKORG 12000000000 - 1 462 tis. Kč 4. Statutární město Olomouc - Dohoda o užívání podzemního pakroviště, ORG 12000000000 - 1 300 tis. Kč 5. S.O.S. akciová společnost, Olomouc - Smlouva o poskytování bezpečnostních služeb, ORG 12000000000 - 797 tis. Kč 6. GRASO a.s., Olomouc - Smlouva o střežení objektu ve znění dodatků - ostraha obejtku RCO, ORG 12000000000 - 640 tis. Kč 7. ZELOS spol. s.r.o., Praha - Smlouva o odběrupokrmů3 ORG 12000000000 - 360 tis. Kč 8. Revize - klimatice, UPS, hasicí zařízení s argonitem, ruční hasicí přístroje, hydranty, suchovod, EZS Žilinská, EZS přenos, rozvaděče, nouzové osvětlení, diesel, hromosvod a elektroinstalace Žilinská, elektroinstalace - bufet, elektroinstalace, venkovní šachta,sprinklery, vzduchotechnika, ORG 12000000000 - 327 tis. Kč 9. Česká pošta, s. p. Praha - Smlouva o svozu a rozvozu poštovních zásilek, ORG 12000000000 - 185 tis. Kč 10. Jan Grézl, Sylva Grézlová - HARYSERVIS II., Olomouc - Smlouva o zabezpečení úklidových prací č. 280/IV., ve znění dodatků - úklid v budově RCO, ORG 12000000000 - 171 tis. Kč 11. Česká tisková kancelář, Praha - Smlouva o dodávání zpravodajského servisu ČT, ORG 12000000000 - 156 tis. Kč 12. Střední odborná škola a Střední odborné učiliště strojírenské a stavební Jeseník - pracoviště Jeseník, Dohoda o užívání nebytových prostor a úhrada za služby, ORG 12000000000 - 150 tis. Kč 13. Technické služby města Olomouce, a.s. - Smlouva o odvozu a zneškodňování odpadů, ORG 12000000000 - 150 tis. Kč 14. ANOPRESS Praha - Smlouva /monitoring zpravodajský servis, ORG 12000000000 - 76 tis. Kč 15. Dopravní zdravotnictví a.s. Třinec - Smlouva o závodní preventivní péči, ORG 12000000000 - 50 tis. Kč 16. Časové razítko, ROG 12000000000 - 600 tis. Kč 17. Ostatní úhrady nasmlouvané na objednávky - inzerce, poplatky za televizory, rádia, mytí oken v budovách KÚOK a RCO, mytí garáží, čištění fontány, úklid kancelářských prostor nad rámec uzavřených smluv, kurýrní služba, mytí žaluzií, výroba informačního systému, zhotovení vizitek, aj., ROG 12000000000 - 1 176 tis. Kč. 18. Regionální centrum Olomouc, s. r. o., - Smlouva o zajištění služeb č. R2/S/2008/001, ORG 0012008000000 - 1 620 tis. Kč 19. ÚZSVM Šumperk, Smlouva o nájmu nebytových prostor č. UZSVM/OSU/5034/2010-OSUH - služby, ORG 12010000000- 126 tis.Kč
B118: § 6172, POL 5171 - Opravy a udržování | J118: 4000 | K118: tis.Kč
B119: 1. Servis, pozáruční a záruční opravy, roční prohlídky vozidel OK, ORG 0012004000000 - 500 tis. Kč 2. DIGITAL TELECOMMUNICATIONS, spol. s r.o. Ostrava - Smlouva č. 087/2005 o údržbě komunikačního zařízení včetně dodatku (telefonní ústředna), ORG 12000000000 - 152 tis. Kč 3. JOHNSON CONTROLS INTERNATIONAL, spol. s r.o. Praha - Smlouva o poskytování služeb (pravidelné preventivní prohlídky, pravidlené údržby, servisní práce), ORG 12000000000 - 150 tis. Kč 4. SITEL, spol. s r.o., Praha - Smlouva o dílo č. 8888/38 o provádění servisních služeb na slaboprodých včetně dodatků, ORG 12000000000 - 120 tis. Kč 5. Schindler Moravia, s. r.o. Olomouc- Smlouva o dílo č. V305/1/01 ve znění dodatků, servis a údržba výtahů v budově KÚOK, ORG 12000000000 - 100 tis. Kč 6. Oprava podzemního parkoviště před nádražím, výměna parkovacího systému, ORG 12000000000 - 500 tis. Kč 7. Výměna žaluzií, ORG 12000000000 - 200 tis. Kč 8. Oprava dlažby, ORG 12000000000 - 100 tis. Kč 9. Nátěr oken, ORG 12000000000 - 400 tis. Kč 10. Dále jsou z položky 5171 hrazeny ostatní opravy a údržba: opravy závor, garážových vrat, opravy frankovacích strojů, opravy zámků, dveří, veškeré opravy a údržba na budovách KÚOK, na pronajatém objektu budovy RCO,výměna podlahové krytiny, ORG 12000000000 - 1 778 tis. Kč
B120: § 6172, POL 5173 - Cestovné (tuzemské i zahraniční) | J120: 3000 | K120: tis.Kč
...

Sheet ORJ - 04
B2: Odbor majetkový a právní | K2: ORJ - 04
B5: Správce: | D5: Mgr. Hana Kamasová
D6: vedoucí odboru
K7: v tis. Kč
B8: § | C8: pol. | D8: UZ | E8: ORG | F8: název položky | G8: schválený rozpočet 2011 | H8: upravený rozpočet k 30.9.2011 | I8: skutečnost k 30.9.2011 | J8: návrh rozpočtu na rok 2012 | K8: %
B9: 1 | C9: 2 | D9: 3 | E9: 4 | F9: 5 | G9: 6 | H9: 7 | I9: 8 | J9: 9 | K9: 10=9/6
B10: 6172 | C10: 5163 | D10: 0 | E10: 20003000000 | F10: Služby peněžních ústavů | G10: 20908 | H10: 20408 | I10: =1465878/100 -> 14658.78 | J10: 20908 | K10: =J10/G10*100 -> 100
B11: 6172 | C11: 5164 | D11: 0 | E11: 20000000000 | F11: Nájemné | G11: 70 | H11: =1141/100 -> 11.41 | I11: =932/100 -> 9.32 | J11: 70 | K11: =J11/G11*100 -> 100
B12: 6172 | C12: 5164 | D12: 0 | E12: 60004100022 | F12: Nájemné | G12: 0 | H12: =6059/100 -> 60.59 | I12: =6059/100 -> 60.59 | J12: 0
B13: 6172 | C13: 5166 | D13: 0 | E13: 20000000000 | F13: Konzultační, poradenské a právní služby | G13: 600 | H13: =153990/100 -> 1539.9 | I13: =87147/100 -> 871.47 | J13: 1800 | K13: =J13/G13*100 -> 300
B14: 6172 | C14: 5166 | D14: 0 | E14: 20000009000 | F14: Konzultační, poradenské a právní služby | G14: 1200 | H14: =12810/100 -> 128.1 | I14: =3938/100 -> 39.38 | J14: 0 | K14: =J14/G14*100 -> 0
B15: 6172 | C15: 5166 | D15: 12 | E15: 60004100130 | F15: Konzultační, poradenské a právní služby | G15: 0 | H15: 50 | I15: =1055/100 -> 10.55 | J15: 0
B16: 6172 | C16: 5169 | D16: 0 | E16: 20000000000 | F16: Nákup ostatních služeb | G16: 24 | H16: 44 | I16: =1253/100 -> 12.53 | J16: 24 | K16: =J16/G16*100 -> 100
B17: 6172 | C17: 5169 | D17: 12 | E17: 60004100130 | F17: Nákup ostatních služeb | G17: 0 | H17: 50 | I17: =2392/100 -> 23.92 | J17: 0
B18: 6172 | C18: 5192 | D18: 0 | E18: 20000000000 | F18: Poskytnuté neinvestiční příspěvky a náhrady (část) | G18: 1 | H18: 1 | I18: 0 | J18: 1 | K18: =J18/G18*100 -> 100
B19: 6172 | C19: 5362 | D19: 0 | E19: 20000000000 | F19: Platby daní a poplatků státnímu rozpočtu | G19: 2 | H19: 12 | I19: =150/100 -> 1.5 | J19: 2 | K19: =J19/G19*100 -> 100
B20: 6172 | C20: 5499 | D20: 0 | E20: 30102000000 | F20: Ostatní neinvestiční transfery obyvatelstvu | G20: 2 | H20: 2 | I20: =27/100 -> 0.27 | J20: 2 | K20: =J20/G20*100 -> 100
B21: 6172 | C21: 6121 | D21: 0 | E21: 60004000000 | F21: Budovy, haly a stavby | G21: 0 | H21: 20 | I21: =543/100 -> 5.43 | J21: 0
B22: 6172 | C22: 6130 | D22: 0 | E22: 60001000000 | F22: Pozemky | G22: 0 | H22: =5965/100 -> 59.65 | I22: 0 | J22: 0
B23: 6172 | C23: 6130 | D23: 0 | E23: 60004000000 | F23: Pozemky | G23: 11958 | H23: =193721/100 -> 1937.21 | I23: =110931/100 -> 1109.31 | J23: 1358 | K23: =J23/G23*100 -> 11.356414
B24: 6172 | C24: 6130 | D24: 12 | E24: 60004100022 | F24: Pozemky | G24: 0 | H24: =79/100 -> 0.79 | I24: =79/100 -> 0.79 | J24: 0
B25: 6172 | C25: 6130 | D25: 12 | E25: 60004100130 | F25: Pozemky | G25: 0 | H25: 730 | I25: =37959/100 -> 379.59 | J25: 0
B26: Celkem | G26: =SUM(G10:G25) -> 34765 | H26: =SUM(H10:H25) -> 25054.65 | I26: =SUM(I10:I25) -> 17183.43 | J26: =SUM(J10:J25) -> 24165 | K26: =J26/G26*100 -> 69.509564
B30: § 6172, POL 5163 - Služby peněžních ústavů | J30: 20908 | K30: tis.Kč
B31: Výše výdajů ja navrhována v souladu se současnou Pojistnou smlouvou č. 772009814, ve znění dodatků s Kooperativou, pojišťovnou, a.s., s tím, že odbor majetkový a právní předpokládá, že v roce 2012 bude vysoutěžena vyší částka na pojištění majetku Olomouckého kraje.
B32: § 6172, POL 5164 - Nájemné | J32: 70 | K32: tis.Kč
B33: Tato položka je zřízena pro úhradu nájemného , a to zejména za pronájem pozemků do ČR - Pozemkového fondu ČR a třetích osob v souvislosti s majetkoprávním vypořádáním investičních akcí olomouckého kraje.
B34: § 6172, POL 5166 - Konzultační, poradenské a právní služby | J34: 1800 | K34: tis.Kč
B35: Tyto výdaje v majetkoprávních a jiných záležitostech pro Olomoucký kraj a Krajský úřad Olomouckého kraje zahrnují výdaje na základě uzavřené smlouvy s AK Ritter-Šťastný, výdaje na vyhotovení znaleckých posudků a geometrických plánů. Podstatnou část těchto výdajů představují výdaje na vyhotovování geometrických plánů v souvislosti s převody silničních pozemků mezi Olomouckým krajem, městy a obcemi Olomouckého kraje a náklady na vyhotovení znaleckých posudků pro výkupy silničních pozemků z vlastnictví třetích osob.
B36: § 6172, POL 5169 - Nákup ostatních služeb | J36: 24 | K36: tis.Kč
B37: Tato položka zahrnuje zejména výdaje za jednorázové úhrady v souvislosti se zřizováním věcných břemen ve prospěch Olomouckého kraje, resp. ve prospěch nemovitostí ve vlastnictví Olomouckého kraje, a dále výdaje na pořízení kopií geometrických plánů, fotodokumentace, uveřejnění informací o veřejných zakázkách na centrální adrese, inzercí záměrů Olomouckého kraje v tisku, případně další služby.
B38: § 6172, POL 5192 - Poskytnuté neinvestiční příspěvky a náhrady (část) | J38: 1 | K38: tis.Kč
B39: Tato položka je zřizována pro úhradu poplatků za ověřování listin, podpisů, případně poštovních poplatků organizacím v souvislosti s pořizováním nemovitého majetku.
B40: § 6172, POL 5362 - Platby daní a poplatků státnímu rozpočtu | J40: 2 | K40: tis.Kč
B41: Tato položka je zřízena pro úhradu poplatků v souvislosti s pořizováním nemovitého majetku.
B42: § 6172, POL 5499 - Ostatní neinvestiční transfery obyvatelstvu | J42: 2 | K42: tis.Kč
B43: Tyto výdaje zahrnují úhradu poplatků třetím osobám za ověřování podpisů, ověřování listin a na úhradu poštovních poplatků v souvislosti s uzavíranými kupními smlouvami na výkupy pozemků zastavěných silnicemi II. a III. třídy.
B44: § 6172, POL 6130 - Pozemky | J44: 1358 | K44: tis.Kč
B45: Tyto výdaje budou použity zejména na majetkoprávní vypořádání odkupu pozemků pod silnicemi II. a III. třídy z vlastnictví třetích osob do vlastnictví Olomouckého kraje, popřípadě na pořízení pozemků potřebných pro činnost příspěvkových organizací Olomouckého kraje.

Sheet ORJ - 05
B2: Odbor správní a legislativní | K2: ORJ - 05
B5: Správce: | D5: JUDr. Marie Mazánková
D6: vedoucí odboru
K7: v tis. Kč
B8: § | C8: pol. | D8: UZ | E8: ORG | F8: název položky | G8: schválený rozpočet 2011 | H8: upravený rozpočet k 30.9.2011 | I8: skutečnost k 30.9.2011 | J8: návrh rozpočtu na rok 2012 | K8: %
B9: 1 | C9: 2 | D9: 3 | E9: 4 | F9: 5 | G9: 6 | H9: 7 | I9: 8 | J9: 9 | K9: 10=9/6
B10: 6172 | C10: 5166 | D10: 0 | E10: 20000000000 | F10: Konzultační, poradenské a právní služby | G10: 10 | H10: 10 | I10: 0 | J10: 10 | K10: =J10/G10*100 -> 100
B11: 6172 | C11: 5192 | D11: 0 | E11: 20000000000 | F11: Poskytnuté neinvestiční příspěvky a náhrady (část) | G11: 40 | H11: 40 | I11: =240/100 -> 2.4 | J11: 70 | K11: =J11/G11*100 -> 175
B12: Celkem | G12: =SUM(G10:G11) -> 50 | H12: =SUM(H10:H11) -> 50 | I12: =SUM(I10:I11) -> 2.4 | J12: =SUM(J10:J11) -> 80 | K12: =J12/G12*100 -> 160
B16: § 6172, POL 5166 - Konzultační, poradenské a právní služby | J16: 10 | K16: tis.Kč
B17: Výdaje související s právním poradenstvím.
B18: § 6172, POL 5192 - Poskytnuté neinvestiční příspěvky a náhrady (část) | J18: 70 | K18: tis.Kč
B19: Výdaje za soudní poplatky. S účinností od 1.4.2011 bylo ředitelem KÚOK rozhodnuto o převedení části agend z ODSH na OSL, která se týká rozhodování v odvolacím řízení o záznamu bodů v registru řidičů v důsledku porušení povinnosti stanovené zákonem o provozu na pozemních komunikacích. Vzhledem k tomu, že dosažení 12 bodů v registru řidičů znamená pro řidiče, je-li to jeho povolání, ztrátu změstnání, jsou ve velkém rozsahu proti našim rozhodnutím podávány žaloby ke správnímu soudu. S podanou žalobou je nutné provést úhradu soudních poplatků v případě, kdy námi rozhodovaná věc je vrácena k novému projednání a rozhodnutí.

Sheet ORJ - 06
B2: Odbor informačních technologií | K2: ORJ - 06
B5: Správce: | D5: Mgr. Jiří Šafránek
D6: vedoucí odboru
K7: v tis. Kč
B8: § | C8: pol. | D8: UZ | E8: ORG | F8: název položky | G8: schválený rozpočet 2011 | H8: upravený rozpočet k 30.9.2011 | I8: skutečnost k 30.9.2011 | J8: návrh rozpočtu na rok 2012 | K8: %
B9: 1 | C9: 2 | D9: 3 | E9: 4 | F9: 5 | G9: 6 | H9: 7 | I9: 8 | J9: 9 | K9: 10=9/6
B10: 6172 | C10: 5137 | D10: 0 | E10: 20000000000 | F10: Drobný hmotný dlouhodobý majetek | G10: 2000 | H10: 2000 | I10: =19413/100 -> 194.13 | J10: 1420 | K10: =J10/G10*100 -> 71
B11: 6172 | C11: 5139 | D11: 0 | E11: 20000000000 | F11: Nákup materiálu j.n. | G11: 400 | H11: 400 | I11: =4677/100 -> 46.77 | J11: 400 | K11: =J11/G11*100 -> 100
B12: 6172 | C12: 5164 | D12: 0 | E12: 20000000000 | F12: Nájemné | G12: 1700 | H12: 1700 | I12: =141891/100 -> 1418.91 | J12: 2203 | K12: =J12/G12*100 -> 129.58824
B13: 6172 | C13: 5164 | D13: 9 | E13: 20000000000 | F13: Nájemné | G13: 569 | H13: 569 | I13: =42660/100 -> 426.6 | J13: 0 | K13: =J13/G13*100 -> 0
B14: 6172 | C14: 5166 | D14: 0 | E14: 20000000000 | F14: Konzultační, poradenské a právní služby | G14: 100 | H14: 100 | I14: =3360/100 -> 33.6 | J14: 250 | K14: =J14/G14*100 -> 250
B15: 6172 | C15: 5168 | D15: 0 | E15: 20000000000 | F15: Služby zpracování dat | G15: 2100 | H15: 1200 | I15: 0 | J15: 280 | K15: =J15/G15*100 -> 13.333333
B16: 6172 | C16: 5169 | D16: 0 | E16: 20000000000 | F16: Nákup ostatních služeb | G16: 15700 | H16: 15700 | I16: =702384/100 -> 7023.84 | J16: 12916 | K16: =J16/G16*100 -> 82.267516
B17: 6172 | C17: 5171 | D17: 0 | E17: 20000000000 | F17: Opravy a udržování | G17: 1200 | H17: 1200 | I17: =70119/100 -> 701.19 | J17: 5700 | K17: =J17/G17*100 -> 475
B18: 6172 | C18: 5172 | D18: 0 | E18: 20000000000 | F18: Programové vybavení | G18: 200 | H18: 200 | I18: =2683/100 -> 26.83 | J18: 200 | K18: =J18/G18*100 -> 100
B19: Celkem | G19: =SUM(G10:G18) -> 23969 | H19: =SUM(H10:H18) -> 23069 | I19: =SUM(I10:I18) -> 9871.87 | J19: =SUM(J10:J18) -> 23369 | K19: =J19/G19*100 -> 97.496767
B24: § 6172, POL 5137 - Drobný hmotný dlouhodobý majetek | J24: 1420 | K24: tis.Kč
B25: Obměna pracovních stanic zaměstnanců KÚOK v souvislosti s přechodem na Office 2010 a operační systém Windows 7 a další nákupy v rámci obměny ostatních zařízení. 1. Monitory - 100 ks, PC - 100 ks - celkem 1 300 tis.Kč 2. Provozní spotřeba - čtečky, čtečky s pamětí, čipové karty - celkem 120 tis.Kč
B26: § 6172, POL 5139 - Nákup materiálu j.n. | J26: 400 | K26: tis.Kč
B27: Materiál na opravy prováděné svépomocí.
B28: § 6172, POL 5164 - Nájemné | J28: 2203 | K28: tis.Kč
B29: Zahrnuje: 1. Nájemné na 35 ks multifunkčních zařízení (multifunkční zařízení je tiskárna kombinovaná s kopírkou, případně skenerem a faxem). Podle nové smlouvy se společností IMPROMAT (smlouva č. 2011/02888/OIT/DSM) je pronájem zařízení levnější než v minulých letech, v této částce je nájem, opravy a tonery - celkem 1 650 tis.Kč 2. Pronájem optických tras mezi sídlem OK, HZS a ZZS OK (smlouva č. 2005/088/OIT) - celkem 553 tis.Kč
B30: § 6172, POL 5166 - Konzultační, poradenské a právní služby | J30: 250 | K30: tis.Kč
B31: Zahrnuje: 1. Konzultace firmy ANET - rozvoj a údržba docházkového systému KÚOK - 20 tis.Kč 2. Konzultace DTG - rozvoj a údržba ekonomických informačních systémů a spisových služeb KÚOK - 20 tis.Kč 3. Konzultace firmy GORDIC v rámci nových modulů pro administrátory OIT - rozvoj a údržba mzdového a personálního informačního systému KÚOK - 20 tis.Kč 4. Konzultace Marbes consulting s.r.o. - rozvoj a údržba SW pro evidenci nemovitostí a majetku příspěvkových organizací KÚOK- 20 tis.Kč 5. Konzultace TESCOSW - rozvoj a údržba SW pro evidenci pasportizace budov KÚOK - 20 tis.Kč 6. Analýza výkonu a fungování, správa databází firmou ORACLE - databáze Oracle je používána pro informační systém GINIS (spisové služby a ekonomické moduly) a DC2 (mzdy a personalistika) - 150 tis.Kč
B32: § 6172, POL 5168 - Služby zpracování dat | J32: 280 | K32: tis.Kč
B33: Zahrnuje: 1. Integrace uživatelů AD-Kevis, Marbes consulting s.r.o. - celkem 100 tis.Kč 2. Rozvoj a údržba mzdového a personálního informačních systému KÚOK - převody dat v rámci DC2 (vzdělávání apod.), DTG - celkem 60 tis.Kč 3. Rozvoj a údržba SW pro evidenci nemovitostí a majetku příspěvkových organizací KÚOK - převod dat majetku (věcný) PO do SW PROXIO ENO, Marbes consulting s.r.o. - celkem 50tis.Kč 4. Rozvoj a údržba SW pro evidenci pasportizace budov KÚOK - plnění dat do FAMA+ - technické a stavební součásti budov z excelovských tabulek, TESCOSW - celkem 70 tis.Kč
B36: § 6172, POL 5169 - Nákup ostatních služeb | J36: 12916 | K36: tis.Kč
B37: Servisní smlouvy, systémové podpory, úpravy a rozvoj SW, aktualizace SW 1. BMI SYSTEM CZECH, a.s - CLIX - REGISTR OZNÁMENÍ, oznámení o příjmech veřejných činitelů (smlouva č. 2010/01860/OIT/DSM) - celkem 30 tis.Kč 2. ANET - služby v rámci rozvojea údržby docházkového systému KÚOK - celkem 80 tis.Kč 3. ANET - servisní smlouva, upgrade a update SW - údržba a podpora docházkového systému KÚOK (smlouva č.2008/1476/OIT/DSM) - celkem 38 tis.Kč 4. ArcData Praha - systémová podpora ESRI, podpora produktů firmy ESRI řady ArcGIS (4x ArcView, 2x ArcInfo, ArcGIS servery ...) objednávka) - celkem 450 tis.Kč 5. ASD - úpravy a rozvoj SW DIS a ISOP, služby v rámci rozvoje a údržby evidenčního systému pro veřejné zakázky a dotace KÚOK - celkem 150 tis.Kč 6. ASD - servisní smlouva, upgrade a update SW - údržba a podpora evidenčního systému pro veřejné zakázky, dotace KÚOK (smlouva č. 2003/0721/OIT/DSM) - celkem 217 tis.Kč 7. ASPI - servisní smlouva, upgrade a update SW - údržba a podpora právního informačního systému KÚOK (smlouva č. 2006/1298/OIT/DSM) - celkem 244 tis.Kč 8. C4U - servisní smlouva, upgrade a update ekonomického informačního systému SAP pro ZZS OK (smlouva č. 2007/2329/OIT/DSM) - celkem 173 tis.Kč 9. C4U -servisní smlouva, údržba ekonomického informačního systému SAP pro ZZS OK (smlouva č. 2005/0292/OIT/DSM) - celkem 255 tis.Kč 10. Central European Data - servisní smlouva, pravidelná aktualizace dat StreetNetu (smlouva č. 2006/0042/OIT/DSM + dodatek 2011) - celkem 65 tis. Kč 11. DTG - servisní smlouva, upgrade a update SW - údržba a podpora mzdového a personálního informačního systému KÚOK (smlouva č. 2003/0284/OIT/DSM) - celkem 121 tis. Kč 12. Foresta - servisní smlouva, podpora SW Dotacena OŽPZ pro st. správu lesů (smlouva č. 2008/0730/OIT/DSM) - celkem 39 tis.Kč 13. Prostředky na nákup služeb a dat pro GIS - aktualizace mapových podkladů atd. (objednávky) - celkem 500 tis.Kč 14. Pořízení ortofotomapy v 3 leté periodě s lepší rozlišovací schopností (pro kraj, obce a složky IZS) - celkem 1 500 tis.Kč 15. Georeal - podpora nadstavby ArcGIS Desktop pro oblast ÚAP na OSR (objednávka) - celkem 15 tis.Kč 16. GORDIC - rozvoj GINIS, služby v rámci rozvoje a údržby ekonomického systému a spisových služeb KÚOK - celkem 2 300 tis.Kč 17. GORDIC - servisní smlouva, upgrade a update SW - údržba a podpora ekonomických informačních systémů a spisových služeb KÚOK (smlouva č.2003/0765/OIT/DSM) - celkem 2 150 tis.Kč 18. I.CA - obnova certifikátů + nové certifikáty a služby, certifikáty pro elektronický podpis zaměstnanců KÚOK - celkem 85 ks (smlouva č. 2005/0320/OIT/DSM) - celkem 100 tis.Kč 19. INISOFT - servisní smlouva, upgrade a update SW - údržba a podpora SW - WebSouhlasy internetové rozhraní - informace o vydaných souhlasech se zařízeními pro odpady pro OŽPZ (smlouva č. 2004/0283/OIT/DSM) - celkem 78 tis.Kč 20. KVASAR - servisní smlouva, upgrade a update SW - údržba a podpora softwarového systému OVZDUŠÍ určeného k podpoře výkonu agendy ochrany ovzduší (smlouva č. 2003/0717/OIT/DSM) - celkem 17 tis.Kč 21. Marbes consulting s.r.o. - rozvoj SW PROXIO, služby spojené s údržbou a podporou SW pro evidenci nemovitostí a majetku příspěvkových organizací KÚOK - celkem 50 tis.Kč 22. Marbes consulting s.r.o. - servisní smlouva SW PROXIO, upgrade a update SW - údržba a podpora SW pro evidenci nemovitostí a majetku příspěvkových organizací (smlouva č. 2007/0673/OIT/DSM) - celkem 364 tis.Kč 23. MP ORGA -servisní smlouva, upgrade a update SW - údržba a podpora SW pro evidenci a výpočty státního příspěvku pro zřizovatele zařízení pro děti vyžadující okamžitou pomoc - MPOVSP (smlouva č. 2006/1749/OIT/DSM) celkem 27 tis.Kč 24. MUZO - servisní smlouva, upgrade a update SW - údržba a podpora SW pro tvorbu ekonomických výkazů u školských příspěvkových organizací (smlouva č. 2005/0272/OIT/DSM) - celkem 9 tis.Kč 25. SENTINET s.r.o. - servisní smlouva, upgrade a update SW - údržba a podpora SW eAukce - PROe.biz PARK - elektronické aukce (smlouva č. 2006/0726/OIT/DSM) - celkem 5 tis.Kč 26. SW602 - rozvoj form 602, služby spojené s údržbou a podporou SW pro tvorbu podpůrných inteligentních formulářů pro zaměstnance KÚOK (formuláře typu dovolenka, služební cesty, apod.) - celkem 150 tis.Kč 27. SW602 - servisní smlouva, upgrade a update SW FormServer pro tvorbu podpůrných inteligentních formulářů pro zaměstnance KÚOK - formuláře typu dovolenka, služební cesty apod. (smlouva č. 2005/1231/OIT/DSM) - celkem 48 tis. Kč 28. TESCOSW - servisní smlouva, upgrade a update SW pro evidenci pasportizace budov KÚOK (smlouva č. 2007/0434/OIT/DSM) - celkem 202 tis.Kč 29. T-MAPY - servisní smlouva, upgrade a update SW pro evidenci nestátních zdravotních organizací (smlouva č. 2007/2190/OIT/DSM) - celkem 31 tis. Kč 30. URS - aktualizace SW KROS, upgrade a update SW pro výpočty rozpočtů na investiční stavební záměry Olomouckého kraje (objednávka) - celkem 11 tis.Kč 31. YAMACO - servisní smlouva, upgrade a update SW pro evidenci dopravních agend KÚOK (smlouva č. 2003/1108/OIT/DSM) - celkem 52 tis. Kč 32. IMPROMAT CZ s.r.o. - multifunkce - tisky nad limity (odhad podle dnešních dat a nových limitů), ve smlouvě se společností jsou stanoveny limity tisků, které jsou pokryty v rámci smlouvy. Pokud tyto limity překročíme, platíme za každou vytištěnou stránku částku, která pokrývá zvýšenou spotřebu tonerů a náklady opotřebení stroje (smlouva č. 2011/02888/OIT/DSM) - celkem 1100 tis.Kč
B43: 33. INVEA-TECH a.s. - podpora FlowMon s nárokem na upgrade sondy pro virtuální prostředí, pro sledování provozu a zatížení sítě používáme zařízení FlowMon, které dokáže odhalovat výkyvy a nestandardní chování počítačů. S pokračující virtualizací prostředků sítě je nutná nová verze, která s těmito virtuálními zařízeními umí pracovat - celkem 650 tis.Kč 34. MERIT GROUP a.s. - DATACENTRUM, v DATACENTRU MORAVIA máme umístěné servery pro přístup našich příspěvkových organizací k poskytované SSL. Důvodem umístění je přístup k páteřní optické trase a tudíž komfortnější přístup pro uživatele (smlouva č. 2010/00151/OIT/DSM) - celkem 283 tis.Kč 35. Symantec mail security SMS Gateway 2 roky - se šířením stále dokonalejších způsobů napadení počítačů a sítí je nutná dokonalejší ochrana proti "škůdcům" šířeným elektronickou poštou - celkem 50 tis.Kč 36. SODAT - Optim Access, AuditPro "audit pro" pro 700 PC cca 750 000 by šlo na položku 6111, aktualizace a podpora softwaru pro sledování vytíženosti pracovních stanic - celkem 462 tis.Kč 37. Symantec licence 2012-2013 - se šířením stále dokonalejších způsobů napadení počítačů a sítí je nutná dokonalejší ochrana pracovních stanic před útoky z internetu viry škodlivýmsoftwarem - celkem 600 tis.Kč 38. Podpora CISCO - podpora CISCO produktů - přepínače, routery, jejich vzdálená správa a odstranění poruch - celkem 300 tis.Kč
B44: § 6172, POL 5171 - Opravy a udržování | J44: 5700 | K44: tis.Kč
B45: Zahrnuje: 1. ICZ a.s. - vzdálená správa centrálního přepínače a nastavení síťových pravidel (smlouva č. 2003/0984/OIT) - celkem 600 tis.Kč 2. Infinity a.s. - Microsoft Enterprise Agreement - smlouva o podpoře a aktualizacích kancelářského softwareoffice (smlouva č. 2010/00939/OIT/DSM) - celkem 3 600 tis.Kč 3. MERIT GROUP a.s. - opravy, paušální platba za přítomnost technika na opravy výpočetní techniky (smlouva č. 2007/1877/OIT) - celkem 377 tis. Kč 4. MERIT GROUP a.s. - profylaxe, paušální platba za provádění profylaxe - kontrola výpočetní techniky, revize (smlouva č. 2004/0107/OIT) - celkem 400 tis.Kč 5. ORBIT s.r.o. - CITRIX, podpora software pro vzdálený přístup do informačního systému Olomouckého kraje - detašovaná pracoviště (smlouva č. 2009/03907/OIT/DSM) - celkem 460 tis.Kč 6. opravy rezerva - celkem 263 tis. Kč
B46: § 6172, POL 5172 - Programové vybavení | J46: 200 | K46: tis.Kč
B47: Nákup drobného SW od stávajících i nových firem.

Sheet ORJ - 07
B2: Odbor ekonomický | K2: ORJ - 07
B5: Správce: | D5: Ing. Jiří Juřena
D6: vedoucí odboru
K7: v tis. Kč
B8: § | C8: pol. | D8: UZ | E8: ORG | F8: název položky | G8: schválený rozpočet 2011 | H8: upravený rozpočet k 30.9.2011 | I8: skutečnost k 30.9.2011 | J8: návrh rozpočtu na rok 2012 | K8: %
B9: 1 | C9: 2 | D9: 3 | E9: 4 | F9: 5 | G9: 6 | H9: 7 | I9: 8 | J9: 9 | K9: 10=9/6
B10: 3636 | C10: 5325 | D10: 0 | E10: 30104000000 | F10: Neinvestiční transfery regionálním radám | G10: 500 | H10: 500 | I10: 500 | J10: 500 | K10: =J10/G10*100 -> 100
B11: 6172 | C11: 5141 | D11: 0 | E11: 20000000000 | F11: Úroky vlastní | G11: 9556 | H11: 56 | I11: 21 | J11: 0 | K11: =J11/G11*100 -> 0
B12: 6172 | C12: 5141 | D12: 804 | E12: 20000000000 | F12: Úroky vlastní | G12: 26000 | H12: 26000 | I12: =780569/100 -> 7805.69 | J12: =SUM(J33) -> 25127 | K12: =J12/G12*100 -> 96.642308
B13: 6172 | C13: 5141 | D13: 813 | E13: 20000000000 | F13: Úroky vlastní | G13: 43000 | H13: 41083 | I13: =1431344/100 -> 14313.44 | J13: =SUM(J35) -> 47711 | K13: =J13/G13*100 -> 110.95581
B14: 6172 | C14: 5141 | D14: 887 | E14: 20000000000 | F14: Úroky vlastní | G14: 0 | H14: =915799/100 -> 9157.99 | I14: =394757/100 -> 3947.57 | J14: 20344
B15: 6172 | C15: 5142 | D15: 0 | E15: 20000000000 | F15: Realizované kurzové ztráty | G15: 3000 | H15: 3000 | I15: =628/100 -> 6.28 | J15: 3000 | K15: =J15/G15*100 -> 100
B16: 6172 | C16: 5163 | D16: 0 | E16: 20000000000 | F16: Služby peněžních ústavů | G16: 594 | H16: 594 | I16: 319 | J16: 594 | K16: =J16/G16*100 -> 100
B17: 6172 | C17: 5163 | D17: 0 | E17: 20003000000 | F17: Služby peněžních ústavů | G17: 6 | H17: 6 | I17: =529/100 -> 5.29 | J17: 6 | K17: =J17/G17*100 -> 100
B18: 6172 | C18: 5164 | D18: 0 | E18: 20000000000 | F18: Nájemné | G18: 2 | H18: =537/100 -> 5.37 | I18: =459/100 -> 4.59 | J18: 5 | K18: =J18/G18*100 -> 250
B19: 6172 | C19: 5166 | D19: 0 | E19: 20000000000 | F19: Konzultační, poradenské a právní služby | G19: 2000 | H19: 2000 | I19: 1032 | J19: 2000 | K19: =J19/G19*100 -> 100
B20: 6172 | C20: 5169 | D20: 0 | E20: 20000000000 | F20: Nákup ostatních služeb | G20: 400 | H20: 440 | I20: 40 | J20: 400 | K20: =J20/G20*100 -> 100
B21: 6172 | C21: 5362 | D21: 0 | E21: 20000000000 | F21: Platby daní a poplatků státnímu rozpočtu | G21: 4000 | H21: =1261897/100 -> 12618.97 | I21: 8929 | J21: 8647 | K21: =J21/G21*100 -> 216.175
B22: 6172 | C22: 5901 | D22: 0 | E22: 0 | F22: Nespecifikované rezervy | G22: 120 | H22: 59984 | I22: 0 | J22: 0 | K22: =J22/G22*100 -> 0
B23: 6221 | C23: 5531 | D23: 16 | E23: 30106000000 | F23: Peněžní dary do zahraničí | G23: 0 | H23: 200 | I23: 200 | J23: 0
B24: 6409 | C24: 5229 | D24: 1 | E24: 30102000000 | F24: Ostatní neinv.transfery nezisk.a podob.organizacím | G24: 26000 | H24: 0 | I24: 0 | J24: 26000 | K24: =J24/G24*100 -> 100
B25: 6409 | C25: 5229 | D25: 2 | E25: 30102000000 | F25: Ostatní neinv.transfery nezisk.a podob.organizacím | G25: 10800 | H25: 68 | I25: 0 | J25: 10800 | K25: =J25/G25*100 -> 100
B26: 6409 | C26: 5901 | D26: 0 | E26: 20000000000 | F26: Nespecifikované rezervy | G26: 30000 | H26: =1925222/100 -> 19252.22 | I26: 0 | J26: 30000 | K26: =J26/G26*100 -> 100
B27: Celkem | G27: =SUM(G10:G26) -> 155978 | H27: =SUM(H10:H26) -> 174965.55 | I27: =SUM(I10:I26) -> 37123.86 | J27: =SUM(J10:J26) -> 175134 | K27: =J27/G27*100 -> 112.28122
B31: § 3636, POL 5325 - Neinvestiční transfery regionálním radám | J31: 500 | K31: tis.Kč
B32: Neinvestiční dotace pro Úřad regonální rady regionu soudržnosti Střední Morava na základě Smlouvy o zajištění financování regionálního operačního programu Střední Morava.
B33: § 6172, POL 5141 - Úroky vlastní | J33: =25127 -> 25127 | K33: tis.Kč
B34: Smlouva o úvěru ve výši 900 mil. Kč s Evropskou investiční bankou na projekt "Modernizace silnic II. a III. třídy v Olomouckém kraji. Úvěr je ve fázi splácení.
B35: § 6172, POL 5141 - Úroky vlastní | J35: =47678+33 -> 47711 | K35: tis.Kč
B36: Smlouva o úvěrovém rámci ve výši 3 000 mil. Kč s Evropskou investiční bankou na spolufinancování evropských programů a financování vlastních investičních akcí. Smlouva je ve fázi čerpání i splácení. Úroky jsou vypočítány s předpokladem čerpání další tranše ve výši 500 mil. Kč v lednu 2012.
B37: § 6172, POL 5141 - Úroky vlastní | J37: 20344 | K37: tis.Kč
B38: Smlouva o úvěrovém rámci ve výši 700 mil. Kč s Komerční bankou, a.s. Úroky jsou vypočítány s předpokladem čerpání 4. tranše ve výši 200 mil. Kč v lednu 2012.
B39: § 6172, POL 5142 - Realizované kurzové ztráty | J39: 3000 | K39: tis.Kč
B40: Kurzové ztráty týkající se pohybu finančních prostředků na bankovních účtech vedených v EUR.
B41: § 6172, POL 5163 - Služby peněžních ústavů | J41: 594 | K41: tis.Kč
B42: Jedná se o služby spojené s vedením bankovních účtů - za vedení účtů, poplatky za položky apod.
B43: § 6172, POL 5163 - Služby peněžních ústavů | J43: 6 | K43: tis.Kč
B44: Jedná se o pojištění platebních karet.
B45: § 6172, POL 5164 - Nájemné | J45: 5 | K45: tis.Kč
B46: Jedná se o výdaje na úhradu nákladů na bezpečnostní schránky zřízené u Komerční banky, a.s. 1. schránka - akcie Regionálního letiště Přerov a.s. - 1020 Kč/rok + DPH 2. schránka - akcie Středomoravské nemocniční a.s. - 2 805 Kč/ rok + DPH
B47: § 6172, POL 5166 - Konzultační, poradenské a právní služby | J47: 2000 | K47: tis.Kč
B48: Výdaje na úhradu nákladů za daňové poradenství a konzulatační činnosti v oblasti účetnictví na základě uzavřených smluv.
B49: § 6172, POL 5169 - Nákup ostatních služeb | J49: 400 | K49: tis.Kč
B51: § 6172, POL 5362 - Platby daní a poplatků státnímu rozpočtu | J51: 8647 | K51: tis.Kč
B52: Výdaje na úhradu daní z nemovitostí a daní z převodu nemovitostí a daně z přidané hodnoty na základě daňového přiznání . DPH je odváděno za krátkodobé nájmy (do 48 hod.) včetně vybavení (např. pronájem kongresového sálu), pronájem nebytových prostor a motivých věcí - kantýna, nájem parkovacích míst, úplata za poskytnutí věcného břemene, nájem honebních pozemků, stravovací služby ZELOS, EKO-KOM (zajištění informační kampaně v oblasti vzdělávání a osvěty obyvatel s odpady), a další.
B53: § 6409, POL 5229 - Ostatní neinv.transfery nezisk.a podob.organizacím | J53: 26000 | K53: tis.Kč
B54: Významné projekty - UZ 001. Upravený rozpočet a čerpání probíhá na všech odborech - údaje uvedeny pro informaci
B55: § 6409, POL 5229 - Ostatní neinv.transfery nezisk.a podob.organizacím | J55: 10800 | K55: tis.Kč
B56: Příspěvky do 30 tis.Kč - UZ 002. Upravený rozpočet a čerpání probíhá na všech odborech - údaje uvedeny pro informaci
B57: § 6409, POL 5901 - Nespecifikované rezervy | J57: 30000 | K57: tis.Kč
B58: Rezerva na neplnění daňových příjmů

Sheet ORJ - 08
B2: Odbor strategického rozvoje kraje | K2: ORJ - 08
B5: Správce: | D5: Ing. Michaela Pruknerová
D6: vedoucí odboru
K7: v tis. Kč
B8: § | C8: pol. | D8: UZ | E8: ORG | F8: název položky | G8: schválený rozpočet 2011 | H8: upravený rozpočet k 30.9.2011 | I8: skutečnost k 30.9.2011 | J8: návrh rozpočtu na rok 2012 | K8: %
B9: 1 | C9: 2 | D9: 3 | E9: 4 | F9: 5 | G9: 6 | H9: 7 | I9: 8 | J9: 9 | K9: 10=9/6
B10: 2251 | C10: 5213 | D10: 16 | E10: 30102003008 | F10: Neinv.transfery nefin.podnik.subjektům-práv.osobám | G10: 3000 | H10: 3000 | I10: 3000 | J10: 3000 | K10: =J10/G10*100 -> 100
B11: 2251 | C11: 6313 | D11: 16 | E11: 30102003008 | F11: Inv.transfery nefinančním podnik.subj.-právn.osob | G11: 10000 | H11: 10000 | I11: 10000 | J11: 5000 | K11: =J11/G11*100 -> 50
B12: 3299 | C12: 5213 | D12: 16 | E12: 30102003028 | F12: Neinv.transfery nefin.podnik.subjektům-práv.osobám | G12: 2000 | H12: 2000 | I12: 2000 | J12: 2000 | K12: =J12/G12*100 -> 100
F13: Regionální inovační strategie Olomouckého kraje
B14: 3349 | C14: 5213 | D14: 35 | E14: 30102000000 | F14: Neinv.transfery nefin.podnik.subjektům-práv.osobám | G14: 300 | H14: 300 | I14: 300 | J14: 280 | K14: =J14/G14*100 -> 93.333333
B15: 3639 | C15: 5164 | D15: 35 | E15: 20001000000 | F15: Nájemné | G15: 0 | H15: 0 | I15: 0 | J15: 0
B16: 3639 | C16: 5169 | D16: 35 | E16: 20000000000 | F16: Nákup ostatních služeb | G16: 0 | H16: 0 | I16: 0 | J16: 750
B17: 3639 | C17: 5169 | D17: 35 | E17: 20001000000 | F17: Nákup ostatních služeb | G17: 0 | H17: 0 | I17: 0 | J17: 580
B18: 3639 | C18: 5212 | D18: 35 | E18: 30102000000 | F18: Neinv.transfery nefin.podnik.subjektům-fyz.osobám | G18: 100 | H18: 100 | I18: 100 | J18: 50 | K18: =J18/G18*100 -> 50
B19: 3639 | C19: 5213 | D19: 35 | E19: 30102000000 | F19: Neinv.transfery nefin.podnik.subjektům-práv.osobám | G19: 300 | H19: 190 | I19: 0 | J19: 200 | K19: =J19/G19*100 -> 66.666667
B20: 3639 | C20: 5229 | D20: 35 | E20: 30101000000 | F20: Ostatní neinv.transfery nezisk.a podob.organizacím | G20: 0 | H20: 0 | I20: 0 | J20: 7200
G21: =SUM(G14:G20) -> 700 | H21: =SUM(H14:H20) -> 590 | I21: =SUM(I14:I20) -> 400 | J21: =SUM(J14:J20) -> 9060
B22: 3635 | C22: 5166 | D22: 0 | E22: 20004000000 | F22: Konzultační, poradenské a právní služby | G22: 3100 | H22: 2500 | I22: =26780/100 -> 267.8 | J22: 3250 | K22: =J22/G22*100 -> 104.83871
B23: 3635 | C23: 5169 | D23: 0 | E23: 20000000000 | F23: Nákup ostatních služeb | G23: 300 | H23: 300 | I23: =12821/100 -> 128.21 | J23: 700 | K23: =J23/G23*100 -> 233.33333
B24: 3635 | C24: 5192 | D24: 0 | E24: 20000000000 | F24: Poskytnuté neinvestiční příspěvky a náhrady (část) | G24: 250 | H24: 250 | I24: =3814/100 -> 38.14 | J24: 250 | K24: =J24/G24*100 -> 100
B25: 3636 | C25: 5175 | D25: 0 | E25: 20000000000 | F25: Pohoštění | G25: 80 | H25: 80 | I25: =2673/100 -> 26.73 | J25: 55 | K25: =J25/G25*100 -> 68.75
B26: 3636 | C26: 5175 | D26: 0 | E26: 20001000000 | F26: Pohoštění | G26: 60 | H26: 60 | I26: =2593/100 -> 25.93 | J26: 30 | K26: =J26/G26*100 -> 50
B27: 3636 | C27: 5229 | D27: 16 | E27: 30101003007 | F27: Ostatní neinv.transfery nezisk.a podob.organizacím | G27: 70 | H27: 70 | I27: 70 | J27: 70 | K27: =J27/G27*100 -> 100
B28: 3636 | C28: 5229 | D28: 16 | E28: 30101003015 | F28: Ostatní neinv.transfery nezisk.a podob.organizacím | G28: 280 | H28: 280 | I28: 280 | J28: 280 | K28: =J28/G28*100 -> 100
B29: 3639 | C29: 5164 | D29: 0 | E29: 20001000000 | F29: Nájemné | G29: 0 | H29: 50 | I29: =192/100 -> 1.92 | J29: 25
B30: 3639 | C30: 5166 | D30: 0 | E30: 20004000000 | F30: Konzultační, poradenské a právní služby | G30: 2800 | H30: =124620/100 -> 1246.2 | I30: 210 | J30: 2100 | K30: =J30/G30*100 -> 75
B31: 3639 | C31: 5166 | D31: 0 | E31: 20004100022 | F31: Konzultační, poradenské a právní služby | G31: 5000 | H31: 2000 | I31: 939 | J31: 3000 | K31: =J31/G31*100 -> 60
B32: 3639 | C32: 5169 | D32: 0 | E32: 20000000000 | F32: Nákup ostatních služeb | G32: 2270 | H32: 1370 | I32: =68959/100 -> 689.59 | J32: 970 | K32: =J32/G32*100 -> 42.731278
B33: 3639 | C33: 5169 | D33: 0 | E33: 20001000000 | F33: Nákup ostatních služeb | G33: 900 | H33: 850 | I33: =46473/100 -> 464.73 | J33: 0 | K33: =J33/G33*100 -> 0
B34: 3639 | C34: 5169 | D34: 0 | E34: 20002000000 | F34: Nákup ostatních služeb | G34: 60 | H34: 60 | I34: 0 | J34: 60 | K34: =J34/G34*100 -> 100
B35: 3639 | C35: 5221 | D35: 16 | E35: 30101000000 | F35: Neinvestiční transf.obecně prospěšným společnostem | G35: 0 | H35: 50 | I35: 50 | J35: 50
B36: 3639 | C36: 5222 | D36: 16 | E36: 30101000000 | F36: Neinvestiční transfery občanským sdružením | G36: 50 | H36: 50 | I36: 50 | J36: 0 | K36: =J36/G36*100 -> 0
B37: 3639 | C37: 5229 | D37: 16 | E37: 30101000000 | F37: Ostatní neinv.transfery nezisk.a podob.organizacím | G37: 0 | H37: 60 | I37: 60 | J37: 0
B38: 3639 | C38: 5229 | D38: 508 | E38: 30101000000 | F38: Ostatní neinv.transfery nezisk.a podob.organizacím | G38: 3700 | H38: 3620 | I38: 0 | J38: 2500 | K38: =J38/G38*100 -> 67.567568
B39: 3639 | C39: 5321 | D39: 16 | E39: 30100000000 | F39: Neinvestiční transfery obcím | G39: 500 | H39: 500 | I39: 0 | J39: 500 | K39: =J39/G39*100 -> 100
F40: Program obnovy venkova
B41: 3639 | C41: 5321 | D41: 17 | E41: 30100000000 | F41: Neinvestiční transfery obcím | G41: 40500 | H41: 201 | I41: 0 | J41: 60000 | K41: =J41/G41*100 -> 148.14815
B42: 2115 | C42: 5321 | D42: 17 | E42: 30100008183 | F42: Neinvestiční transfery obcím | G42: 0 | H42: 229 | I42: 229 | J42: 0
B43: 2115 | C43: 6341 | D43: 17 | E43: 30100008183 | F43: Investiční transfery obcím | G43: 0 | H43: 70 | I43: 70 | J43: 0
B44: 2212 | C44: 5321 | D44: 17 | F44: Neinvestiční transfery obcím | H44: 3130 | I44: 3072
B45: 2212 | C45: 6341 | D45: 17 | F45: Investiční transfery obcím | G45: 0 | H45: 4464 | I45: 4464 | J45: 0
B46: 2219 | C46: 5321 | D46: 17 | F46: Neinvestiční transfery obcím | G46: 0 | H46: 2503 | I46: 2503 | J46: 0
B47: 2219 | C47: 6341 | D47: 17 | F47: Investiční transfery obcím | G47: 0 | H47: 1822 | I47: 1822 | J47: 0
B48: 3322 | C48: 5321 | D48: 17 | E48: 30100008335 | F48: Neinvestiční transfery obcím | G48: 0 | H48: 54 | I48: 54 | J48: 0
B49: 3399 | C49: 6322 | D49: 17 | E49: 30101003024 | F49: Investiční transfery občanským sdružením | G49: 0 | H49: 325 | I49: 325 | J49: 0
B50: 3399 | C50: 6349 | D50: 17 | F50: Ostatní invest. transf.veř.rozpočtům územní úrovně | G50: 0 | H50: 1358 | I50: 1358 | J50: 0
B51: 3419 | C51: 6349 | D51: 17 | F51: Ostatní invest. transf.veř.rozpočtům územní úrovně | G51: 0 | H51: 551 | I51: 551 | J51: 0
B52: 3429 | C52: 6321 | D52: 17 | E52: 30101003021 | F52: Investiční transf.obecně prospěšným společnostem | G52: 0 | H52: 252 | I52: 252 | J52: 0
B53: 3429 | C53: 6349 | D53: 17 | F53: Ostatní invest. transf.veř.rozpočtům územní úrovně | G53: 0 | H53: 342 | I53: 337 | J53: 0
B54: 3631 | C54: 5321 | D54: 17 | F54: Neinvestiční transfery obcím | G54: 0 | H54: 1925 | I54: 1925 | J54: 0
B55: 3631 | C55: 6341 | D55: 17 | F55: Investiční transfery obcím | G55: 0 | H55: 1333 | I55: 1333 | J55: 0
K57: v tis. Kč
B58: § | C58: pol. | D58: UZ | E58: ORG | F58: název položky | G58: schválený rozpočet 2011 | H58: upravený rozpočet k 30.9.2011 | I58: skutečnost k 30.9.2011 | J58: návrh rozpočtu na rok 2012 | K58: %
B59: 1 | C59: 2 | D59: 3 | E59: 4 | F59: 5 | G59: 6 | H59: 7 | I59: 8 | J59: 9 | K59: 10=9/6
B60: 3636 | C60: 5321 | D60: 17 | F60: Neinvestiční transfery obcím | H60: 10795 | I60: 10795 | J60: 0
B61: 3636 | C61: 6341 | D61: 17 | F61: Investiční transfery obcím | H61: 10032 | I61: 10032
B62: 3636 | C62: 6349 | D62: 17 | F62: Ostatní invest. transf.veř.rozpočtům územní úrovně | G62: 0 | H62: 3709 | I62: 3709 | J62: 0
B63: 5519 | C63: 5321 | D63: 17 | E63: 30100008166 | F63: Neinvestiční transfery obcím | G63: 0 | H63: 425 | I63: 425 | J63: 0
B64: 5519 | C64: 6341 | D64: 17 | F64: Investiční transfery obcím | G64: 0 | H64: 1480 | I64: 1480 | J64: 0
G65: =SUM(G41:G55,G60:G64) -> 40500 | H65: =SUM(H41:H55,H60:H64) -> 45000 | I65: =SUM(I41:I55,I60:I64) -> 44736 | J65: =SUM(J41:J55,J60:J64) -> 60000 | K65: =J65/G65*100 -> 148.14815
F66: Plán Olomouckého kraje na zmírnění dopadů hospodářské krize - příspěvek na zateplení, výměna otvorových výplní
B67: 3699 | C67: 5169 | D67: 29 | E67: 20000000000 | F67: Nákup ostatních služeb | G67: 0 | H67: 112 | I67: 112 | J67: 0
B68: 3699 | C68: 6313 | D68: 24 | E68: 30102000000 | F68: Inv.transfery nefinančním podnik.subj.-právn.osob | G68: 0 | H68: =13023/100 -> 130.23 | I68: =13023/100 -> 130.23 | J68: 0
B69: 3699 | C69: 6313 | D69: 29 | E69: 30102000000 | F69: Inv.transfery nefinančním podnik.subj.-právn.osob | G69: 0 | H69: =79809/100 -> 798.09 | I69: =79809/100 -> 798.09 | J69: 0
B70: 3699 | C70: 6324 | D70: 24 | E70: 30102000000 | F70: Invest. transf.společenstvím vlastníků jednotek | G70: 0 | H70: =186977/100 -> 1869.77 | I70: =177478/100 -> 1774.78 | J70: 0
B71: 3699 | C71: 6324 | D71: 29 | E71: 30102000000 | F71: Invest. transf.společenstvím vlastníků jednotek | G71: 0 | H71: =3361/100 -> 33.61 | I71: =3361/100 -> 33.61 | J71: 0
B72: 3699 | C72: 6341 | D72: 29 | E72: 30100008362 | F72: Investiční transfery obcím | G72: 0 | H72: =1981/100 -> 19.81 | I72: =1981/100 -> 19.81 | J72: 0
B73: 3699 | C73: 6371 | D73: 29 | E73: 30102000000 | F73: Účelové invest. transfery nepodnikajícím fyz. osob | G73: 0 | H73: =346195/100 -> 3461.95 | I73: =343620/100 -> 3436.2 | J73: 0
G74: =SUM(G67:G73) -> 0 | H74: =SUM(H67:H73) -> 6425.46 | I74: =SUM(I67:I73) -> 6304.72 | J74: =SUM(J67:J73) -> 0
B75: 3713 | C75: 5169 | D75: 0 | E75: 20000000000 | F75: Nákup ostatních služeb | G75: 247 | H75: 247 | I75: =13905/100 -> 139.05 | J75: 1602 | K75: =J75/G75*100 -> 648.583
B76: 3713 | C76: 6122 | D76: 0 | E76: 20000000000 | F76: Stroje, přístroje a zařízení | G76: 2000 | H76: =57454/100 -> 574.54 | I76: 0 | J76: 0 | K76: =J76/G76*100 -> 0
B77: 3713 | C77: 6122 | D77: 0 | E77: 60001000000 | F77: Stroje, přístroje a zařízení | G77: 1371 | H77: 1371 | I77: =102706/100 -> 1027.06 | J77: 1371 | K77: =J77/G77*100 -> 100
B78: 3713 | C78: 6122 | D78: 0 | E78: 60002000000 | F78: Stroje, přístroje a zařízení | G78: 256 | H78: 256 | I78: =19137/100 -> 191.37 | J78: 256 | K78: =J78/G78*100 -> 100
B79: 6222 | C79: 5169 | D79: 0 | E79: 60010100668 | F79: Nákup ostatních služeb | G79: 0 | H79: 118 | I79: =770/100 -> 7.7 | J79: 0
B80: 6223 | C80: 5169 | D80: 0 | E80: 20000000000 | F80: Nákup ostatních služeb | G80: 0 | H80: 0 | I80: 0 | J80: 166
B81: 6223 | C81: 5169 | D81: 508 | E81: 20001000000 | F81: Nákup ostatních služeb | G81: 0 | H81: 75 | I81: 75 | J81: 0
B82: Celkem | G82: =SUM(G75:G81,G74,G65,G22:G39,G21,G10:G12) -> 79494 | H82: =SUM(H75:H81,H74,H65,H22:H39,H21,H10:H12) -> 83053.2 | I82: =SUM(I75:I81,I74,I65,I22:I39,I21,I10:I12) -> 71182.95 | J82: =SUM(J75:J81,J74,J65,J22:J39,J21,J10:J12) -> 96295 | K82: =J82/G82*100 -> 121.13493
B87: § 2251, POL 5213 - Neinv.transfery nefin.podnik.subjektům-práv.osobám | J87: 3000 | K87: tis.Kč
B88: Neinvestiční příspěvek na provoz - Letiště Přerov a.s. Jedná se o finanční prostředky spojené s činností akciové společnosti Letiště Přerov, případně nákladů na pořízení a pronájem hmotného majetku. Příspěvek bude poskytnut na základě smlouvy mezi krajem a akciovou společností Letiště Přerov a částka bude odpovídat podílu Olomouckého kraje ve společnosti. Financování provozu Letiště Přerov a.s. vychází z Memoranda o spolupráci při rozvoji a provozu letiště (schváleno ZOK č. UZ/6/42/2009 ze dne 29. 6. 2009).
B89: § 2251, POL 6313 - Inv.transfery nefinančním podnik.subj.-právn.osob | J89: 5000 | K89: tis.Kč
B90: Investiční příspěvek - Letiště Přerov a.s. "Jedná se o finanční prostředky na investiční výdaje akciové společnosti Letiště Přerov, které vychází z Memoranda o spolupráci při rozvoji a provozu letiště (schváleno ZOK č. UZ/6/42/2009 ze dne 29. 6. 2009)." V případě zvýšené potřeby bude řešeno v rámci přebytku hospodaření za rok 2011.
B91: § 3299, POL 5213 - Neinv.transfery nefin.podnik.subjektům-práv.osobám | J91: 2000 | K91: tis.Kč
B92: Neinvestiční příspěvek - Regionální agentura pro rozvoje Střední Moravy Neinvestiční příspěvek je poskytován na základě smlouvy č. 2009/02640/OSR/DSM a jeho poskytnutí bylo schváleno usnesením ROK č. UR/13/66/2007 dne 4. 6. 2009a usnesením ZOK č. UZ/6/3/38/2009 dne 29. 6. 2009. Smlouva přechází do roku 2012.
B93: Regionální inovační strategie Olomouckého kraje
B94: § 3349, POL 5213 - Neinv.transfery nefin.podnik.subjektům-práv.osobám | J94: 280 | K94: tis.Kč
B95: KHK OK - Časopis podnikatelů Částečně plnění Akčního plánu č.1 RIS. Příspěvek Olomouckého kraje Krajské hospodářské komoře Olomouckého kraje na Časopis podnikatelů, který od roku 2007 vychází v obnoveném vydání za podpory a finanční spoluúčasti Olomouckého kraje ve výši 300tis.Kč. Schválení aktivity pro rok 2012 půjde ke schválení do ROK v prosinci 2011.
B96: § 3639, POL 5169 - Nákup ostatních služeb | J96: 750 | K96: tis.Kč
B97: 1. Spolupráce s Krajskou hospodářskou komorou Olomouckého kraje - podnikatelská mise - 250 tis.Kč Částečně plnění Akčního plánu č.1 RIS.Finanční spoluúčast Olomouckého kraje ve výši 250 tis. Kč na přípravě kulatých stolů pro podnikatele a realizaci obchodní mise. 2. Projekt Business Point - 500 tis.Kč (vytvoření informační a poradenské sítě „BusinessPoint“ pro podnikatelské subjekty působící v Olomouckém kraji prostřednictvím fungující sítě hospodářských komor v Olomouckém kraji. Informace a poradenství bude zaměřeno na podporu mezinárodního obchodu, podporu inovací výrobků a technologií a informační podporu drobného a malého podnikání).
B100: § 3639, POL 5169 - Nákup ostatních služeb | J100: 580 | K100: tis.Kč | L100: =200+150+180+50 -> 580
B101: 1. Prezentace kraje na konferencích a veletrzích za účelem propagace investičních příležitostí, rozvojových ploch, průmyslových zón apod. - 200 tis.Kč Částečně plnění Akčního plánu č.1 RIS. Jedná se o účast na dvou tuzemských veletrzích URBIS INVEST v Brně a REGIONINVEST v Olomouci a účast na 1 zahraničním veletrhu (např. REAL VIENNA ve Vídni, nebo EXPO REAL v Mnichově). Z této položky bude placen úklid a další služby spojené s grafickým návrhem, stavbou, demontáží stánku na veletrhu, včetně vybavení potřebným nábytkem a dalším zařízením. Schválení aktivity pro rok 2012 půjde do ROK v prosinci 2011. 2. Propagační a prezentační materiály kraje v oblasti podnikání, obchodu, průmyslu, průmyslových zón, rozvojových ploch a krajské databáze podnikatelských nemovitostí - 150 tis.Kč Částečně plnění Akčního plánu č.1 RIS. Propagace investičních příležitostí Olomouckého kraje v tisku, provozování online databáze podnikatelských nemovitostí. Vydávání prezentačních materiálů, nákup a výroba propagačních předmětů na veletrhy, konference či jiné prezentační akce, dále grafická příprava těchto materiálů a inzerce. Schválení aktivit pro rok 2012 půjde do prosincové ROK v prosinci 2011.
B102: 3. Služby spojené s organizací soutěže Podnikatel roku 2011 - 180 tis.Kč Částečně plnění Akčního plánu č.1 RIS.Organizace a zajištění krajského kola soutěže Podnikatel roku 2011 Olomouckého kraje (kulturní program, moderátor večera, zvukař,výroba šeku). Příprava tiskových zpráv, zveřejnění v regionálním tisku a TV. Příprava vyhlášení dalšího ročníku soutěže. Schválení aktivity pro rok 2012 půjde do ROK v prosinci 2011. 4. Podpora Vědeckotechnického parku Univerzity Palackého v Olomouci - 50 tis.Kč Částečně plnění Akčního plánu č.1 RIS. Nákup služeb - komplexní zajištění služeb: Podpora Vědeckotechnického parku Univerzity Palackého v projektech směrovaných na podporu podnikání (např. soutěž Podnikavá hlava). Schválení aktivity pro rok 2012 půjde do ROK v prosinci 2011.
B103: § 3639, POL 5212 - Neinv.transfery nefin.podnik.subjektům-fyz.osobám | J103: 50 | K103: tis.Kč
B104: Soutěž Podnikatel roku 2011 - ocenění vítěze Částečně plnění Akčního plánu č.1 RIS. Darovací smlouva o převedení finančních prostředků pro vítěze soutěže Podnikatel roku 2011 Olomouckého kraje. Schválení aktivity pro rok 2012 půjde ke schválení do ROK v prosinci 2011.
B105: § 3639, POL 5213 - Neinv.transfery nefin.podnik.subjektům-práv.osobám | J105: 200 | K105: tis.Kč
B106: Podpora klastrů Částečně plnění Akčního plánu č.1 RIS. Podpora činnosti a rozvoje 4 klastrů působících v Olomouckém kraji - Český nanotechnologický klastr, družstvo Informačně-technologický klastr Olomouc, družstvo Moravskoslezský dřevařský klastr, o.s. MedChemBio - zájmové sdružení právnických osob. Příspěvek na činnost jednoho klastru max. 200 000 Kč. Schválení aktivity pro rok 2012 půjde do ROK v prosinci 2011.
B107: § 3639, POL 5229 - Ostatní neinv.transfery nezisk.a podob.organizacím | J107: 7200 | K107: tis.Kč
B108: Zajištění činnosti zájmového sdružení OK4EU Inovace Realizace Akčního plánu č. 1 RIS. Rada Olomouckého kraje svým usnesením č. UR/70/65/2011 ze dne 30. 8. 2011 vzala na vědomí návrh rozpočtu pro rok 2012 k realizaci aktivit Akčního plánu č. 1 RIS ve výši 15,56 mil. Kč. Pro rozpočet OSR je nárokována - mimo stávající podpory KHK, propagace a soutěže (viz jiné položky rozpočtu) částka 7,2 mil Kč: - inovační vouchery, - příprava expertů pro realizaci RIS, - pracoviště transferu technologií UP, - internetový portál sdružující nabídku a poptávku po službách, - právní servis pro MSP, - zprostředkování nabídky existujících služeb, - zapojení firemdo mezinár.programů, - nové propagační aktivity a služby z akčního plánu RIS. Členský příspěvek zájmovému sdružení právnických osob „OK4Inovace“ na zajištění činnosti se předpokládá pro rok 2012 ve výši cca 3,5 mil Kč. Přesná výše provozního rozpočtu bude schválena na Valné hromadě v listopadu-prosinci 2011.
B110: § 3635, POL 5166 - Konzultační, poradenské a právní služby | J110: 3250 | K110: tis.Kč
B111: 1. Zásady územního rozvoje Olomouckého kraje (ZÚR OK) - 1 650 tis.Kč Úkoly nové při naplňování Zásad územního rozvoje Olomouckého kraje vydaných usnesením č.UZ/21/32/2008 pod č.j.KUOK/8832/2008/OSR-1/274 dne 22. 2. 2008 a vyplývající z přípravypro jejich aktualizaci dle § 42 odst. 1 stavebního zákona, ve znění pozdějších předpisů. Nové úkoly, které vyplývají z územních plánů a jiných aktivit: a) Územní studie řešení přeložky I/44 ve vztahu k protipovodňové ochraně na řeceDesné, Velké Losiny - 600 tis.Kč b) Územní studie Úprava koridoru pro přeložky silnice II/369 v úseku Olšany - Hanušovice (částečně ÚS D6) - 400 tis.Kč
...

Sheet ORJ - 09
B2: Odbor životního prostředí a zemědělství | K2: ORJ - 09
B5: Správce: | D5: Ing. Josef Veselský
D6: vedoucí odboru
K7: v tis. Kč
B8: § | C8: pol. | D8: UZ | E8: ORG | F8: název položky | G8: schválený rozpočet 2011 | H8: upravený rozpočet k 30.9.2011 | I8: skutečnost k 30.9.2011 | J8: návrh rozpočtu na rok 2012 | K8: %
B9: 1 | C9: 2 | D9: 3 | E9: 4 | F9: 5 | G9: 6 | H9: 7 | I9: 8 | J9: 9 | K9: 10=9/6
B10: 1014 | C10: 5321 | D10: 0 | E10: 30100000000 | F10: Neinvestiční transfery obcím | G10: 0 | H10: 0 | I10: 0 | J10: 200 | K10: 0
B11: 1019 | C11: 5169 | D11: 0 | E11: 20000000000 | F11: Nákup ostatních služeb | G11: 0 | H11: 0 | I11: 0 | J11: 150 | K11: 0
B12: 1032 | C12: 5165 | D12: 0 | E12: 20000000000 | F12: Nájemné za půdu | G12: 2 | H12: 2 | I12: =120/100 -> 1.2 | J12: 2 | K12: =J12/G12*100 -> 100
B13: 1036 | C13: 5134 | D13: 0 | E13: 20000000000 | F13: Prádlo, oděv a obuv | G13: 60 | H13: 60 | I13: =5291/100 -> 52.91 | J13: 60 | K13: =J13/G13*100 -> 100
B14: 1036 | C14: 5169 | D14: 0 | E14: 20000000000 | F14: Nákup ostatních služeb | G14: 40 | H14: 30 | I14: 25 | J14: 45 | K14: =J14/G14*100 -> 112.5
B15: 1037 | C15: 5169 | D15: 0 | E15: 20000000000 | F15: Nákup ostatních služeb | G15: 0 | H15: 0 | I15: 0 | J15: 150
F16: Příspěvky na hospodaření v lesích na území Olomouckého kraje
B17: 1037 | C17: 5212 | D17: 550 | E17: 30102000000 | F17: Neinv.transfery nefin.podnik.subjektům-fyz.osobám | G17: 0 | H17: =31497/100 -> 314.97 | I17: =31497/100 -> 314.97 | J17: 0
B18: 1037 | C18: 5213 | D18: 550 | E18: 30102000000 | F18: Neinv.transfery nefin.podnik.subjektům-práv.osobám | G18: 13500 | H18: =867273/100 -> 8672.73 | I18: =825371/100 -> 8253.71 | J18: 10000 | K18: =J18/G18*100 -> 74.074074
B19: 1037 | C19: 5223 | D19: 550 | E19: 30101000000 | F19: Neinv.transfery církvím a naboženským společnostem | G19: 0 | H19: =30234/100 -> 302.34 | I19: =30234/100 -> 302.34 | J19: 0
B20: 1037 | C20: 5321 | D20: 550 | F20: Neinvestiční transfery obcím | G20: 0 | H20: 3123 | I20: 3123 | J20: 0
B21: 1037 | C21: 5331 | D21: 550 | E21: 30001001132 | F21: Neinvestiční příspěvky zřízeným příspěvkovým organ | G21: 0 | H21: =52533/100 -> 525.33 | I21: =52533/100 -> 525.33 | J21: 0
B22: 1037 | C22: 5493 | D22: 550 | E22: 30102000000 | F22: Účelové neinvest. transf. nepodnikajícím fyz. osob | G22: 0 | H22: =56145/100 -> 561.45 | I22: =50295/100 -> 502.95 | J22: 0
G23: =SUM(G17:G22) -> 13500 | H23: =SUM(H17:H22) -> 13499.82 | I23: =SUM(I17:I22) -> 13022.3 | J23: =SUM(J17:J22) -> 10000 | K23: =J23/G23*100 -> 74.074074
B24: 1039 | C24: 5169 | D24: 0 | E24: 20000000000 | F24: Nákup ostatních služeb | G24: 0 | H24: 50 | I24: 0 | J24: 0
B25: 1099 | C25: 5166 | D25: 0 | E25: 20004000000 | F25: Konzultační, poradenské a právní služby | G25: 0 | H25: 0 | I25: 0 | J25: 100
B26: 1099 | C26: 5192 | D26: 0 | E26: 20000000000 | F26: Poskytnuté neinvestiční příspěvky a náhrady (část) | G26: 50 | H26: 50 | I26: 0 | J26: 400 | K26: =J26/G26*100 -> 800
F27: Program na podporu začínajících včelařů na území Olomouckého kraje
B28: 1099 | C28: 5493 | D28: 553 | E28: 30102000000 | F28: Účelové neinvest. transf. nepodnikajícím fyz. osob | G28: 0 | H28: 400 | I28: =39550/100 -> 395.5 | J28: 400
G29: =SUM(G28) -> 0 | H29: =SUM(H28) -> 400 | I29: =SUM(I28) -> 395.5 | J29: =SUM(J28) -> 400
B30: 2369 | C30: 5166 | D30: 0 | E30: 20004000000 | F30: Konzultační, poradenské a právní služby | G30: 50 | H30: 25 | I30: 0 | J30: 50 | K30: =J30/G30*100 -> 100
F31: Příspěvky obcím Olomouckého kraje na řešení mimořádných událostí
B32: 2310 | C32: 5321 | D32: 552 | E32: 30100000000 | F32: Neinvestiční transfery obcím | G32: 6300 | H32: 4600 | I32: 83 | J32: 5300 | K32: =J32/G32*100 -> 84.126984
B33: 2321 | C33: 5321 | D33: 552 | F33: Neinvestiční transfery obcím | G33: 0 | H33: 350 | I33: 50 | J33: 0
B34: 2321 | C34: 6341 | D34: 552 | E34: 30100008426 | F34: Investiční transfery obcím | G34: 0 | H34: 350 | I34: 350 | J34: 0
B35: 3739 | C35: 6341 | D35: 552 | E35: 30100008154 | F35: Investiční transfery obcím | G35: 0 | H35: 1000 | I35: 1000 | J35: 0
G36: =SUM(G32:G35) -> 6300 | H36: =SUM(H32:H35) -> 6300 | I36: =SUM(I32:I35) -> 1483 | J36: =SUM(J32:J35) -> 5300 | K36: =J36/G36*100 -> 84.126984
B37: 2321 | C37: 6313 | D37: 24 | E37: 30102000000 | F37: Inv.transfery nefinančním podnik.subj.-právn.osob | G37: 0 | H37: 5766 | I37: 0 | J37: 0
B38: 2399 | C38: 6313 | D38: 0 | E38: 30102000000 | F38: Inv.transfery nefinančním podnik.subj.-právn.osob | G38: 0 | H38: 0 | I38: 0 | J38: 1000
B39: 3719 | C39: 5166 | D39: 0 | E39: 20004000000 | F39: Konzultační, poradenské a právní služby | G39: 50 | H39: 50 | I39: 0 | J39: 400 | K39: =J39/G39*100 -> 800
B40: 3719 | C40: 5168 | D40: 0 | E40: 20004000000 | F40: Služby zpracování dat | G40: 100 | H40: 100 | I40: 0 | J40: 100 | K40: =J40/G40*100 -> 100
B41: 3725 | C41: 5169 | D41: 0 | E41: 20000000000 | F41: Nákup ostatních služeb | G41: 900 | H41: 900 | I41: 0 | J41: 700 | K41: =J41/G41*100 -> 77.777778
B42: 3729 | C42: 5166 | D42: 0 | E42: 20004000000 | F42: Konzultační, poradenské a právní služby | G42: 300 | H42: 300 | I42: 0 | J42: 450 | K42: =J42/G42*100 -> 150
B43: 3741 | C43: 5164 | D43: 0 | E43: 20000000000 | F43: Nájemné | G43: 0 | H43: =250/100 -> 2.5 | I43: =250/100 -> 2.5 | J43: 0
B44: 3741 | C44: 5169 | D44: 0 | E44: 20000000000 | F44: Nákup ostatních služeb | G44: 250 | H44: 250 | I44: 125 | J44: 250 | K44: =J44/G44*100 -> 100
B45: 3741 | C45: 5173 | D45: 0 | E45: 20000000000 | F45: Cestovné (tuzemské i zahraniční) | G45: 0 | H45: =320/100 -> 3.2 | I45: =320/100 -> 3.2 | J45: 0
B46: 3742 | C46: 5166 | D46: 0 | E46: 20004000000 | F46: Konzultační, poradenské a právní služby | G46: 200 | H46: =18427/100 -> 184.27 | I46: =970/100 -> 9.7 | J46: 200 | K46: =J46/G46*100 -> 100
B47: 3742 | C47: 5169 | D47: 0 | E47: 20000000000 | F47: Nákup ostatních služeb | G47: 3000 | H47: =297003/100 -> 2970.03 | I47: =95669/100 -> 956.69 | J47: 3000 | K47: =J47/G47*100 -> 100
B48: 3769 | C48: 5166 | D48: 0 | E48: 20004000000 | F48: Konzultační, poradenské a právní služby | G48: 380 | H48: 305 | I48: 0 | J48: 380 | K48: =J48/G48*100 -> 100
B49: 3769 | C49: 5168 | D49: 0 | E49: 20004000000 | F49: Služby zpracování dat | G49: 0 | H49: 0 | I49: 0 | J49: 0
B50: 3769 | C50: 5169 | D50: 0 | E50: 20000000000 | F50: Nákup ostatních služeb | G50: 20 | H50: 20 | I50: 0 | J50: 20 | K50: =J50/G50*100 -> 100
B51: Celkem | G51: =SUM(G37:G50,G36,G30,G29,G24:G26,G23,G10:G15) -> 25202 | H51: =SUM(H37:H50,H36,H30,H29,H24:H26,H23,H10:H15) -> 31267.82 | I51: =SUM(I37:I50,I36,I30,I29,I24:I26,I23,I10:I15) -> 16077 | J51: =SUM(J37:J50,J36,J30,J29,J24:J26,J23,J10:J15) -> 23357 | K51: =J51/G51*100 -> 92.679152
B60: § 1014, POL 5321 - Neinvestiční transfery obcím | J60: 200 | K60: tis.Kč
B61: Rada Olomouckého kraje usnesením UR/63/64/2011 ze dne 12. 04. 2011 souhlasila se záměrem na zapojení Olomouckého kraje do preventivních opatření proti kalamitnímu přemnožení komárů. Zapojení Olomouckého kraje má spočívat v uhrazení části nákladů na zakoupení potřebných biocidů jednotlivým obcím. Při projednání nebyla stanovena výše spoluúčasti kraje.
B62: § 1019, POL 5169 - Nákup ostatních služeb | J62: 150 | K62: tis.Kč
B63: Olomoucký kraj je spolupořadatelem (2005, 2007, 2009 - 2011) soutěže o nejlepší regionální potravinářský produkt "Výrobek Olomouckého kraje". Záštitu nad touto soutěží měl doposud vždy hejtman Olomouckého kraje. Obdobné soutěže organizují i jiné kraje. Předmětem akce je umožnění prezentace a propagace potravinářských výrobků vyrobených na území Olomouckého kraje oceněných v soutěži o nejlepší regionální potravinářský produkt "Výrobek Olomouckého kraje" na mezinárodním potravinářském veletrhu Salima v Brně, který se koná ve dvouleté periodě. Prezentaci a propagaci oceněných výrobků na potravinářském veletrhu Salima podpořil kraj již v roce 2008 a 2010. Navržená výše podpory vychází ze skutečnosti v roce 2010.
B64: § 1032, POL 5165 - Nájemné za půdu | J64: 2 | K64: tis.Kč
B65: Náhrada za přičlenění honebních pozemků na základě dohod uzavřených mezi Olomouckým krajem a vlastníky pozemků, Městem Hranice a Lesy ČR, s.p., o přičlenění honebních pozemků k vlastní honitbě Olomouckého kraje Valšovice.
B66: § 1036, POL 5134 - Prádlo, oděv a obuv | J66: 60 | K66: tis.Kč
B67: Pořízení služebních stejnokrojů - odborní zaměstnanci státní správy lesů, myslivosti a rybářství jsou oprávnění při výkonu své funkce nosit služební stejnokroj - státní správa lesů § 51 odst. 2 zákona č. 289/1995 Sb., o lesích - státní správa myslivosti § 61 odst. 4 zákona č. 449/2001 Sb., o myslivosti - státní správa rybářství § 25 zákona č. 99/2004 Sb., o rybářství Na základě úplného znění VP č. 1/2002, o stanovení okruhu odborných zaměstnanců KÚOK, kterým se k výkonu funkce přiděluje služební stejnokroj, bude mít v roce 2011 nárok na přidělení nebo obnovu stejnokroje 8 zaměstnanců.
B68: § 1036, POL 5169 - Nákup ostatních služeb | J68: 45 | K68: tis.Kč
B69: Úhrada nákladů spojených s organizací chovatelských přehlídek pro hodnocení kvality chované a kontrolou ulovené zvěře - § 59 odst. 2 písm. b) zákona č. 449/2001Sb., o myslivosti.
B70: § 1037, POL 5169 - Nákup ostatních služeb | J70: 150 | K70: tis.Kč
B71: Rada Olomouckého kraje usnesením UR/71/31/2011 ze dne 13. 09. 2011 uložila vedoucímu odboru životního prostředí uplatnit finanční požadavky na realizaci úpravy porostu podél hradu Helfštýn v rozpočtu 2012. Konkrétně se jedná o těžbu, přiblížení hmoty z lesního porostu a úklid klestu na vytěžené ploše.
B72: Příspěvky na hospodaření v lesích na území Olomouckého kraje
B73: § 1037, POL 5213 - Neinv.transfery nefin.podnik.subjektům-práv.osobám | J73: 10000 | K73: tis.Kč
B74: Poskytování finančních příspěvků na hospodaření v lesích, jejichž předmět je příkladně uveden v ustanovení § 46 zákona č. 289/1995 Sb., o lesích. Finanční prostředky vyčleněné na tyto příspěvky (nemandatorní výdaje) byly ze státního rozpočtu převedeny do rozpočtu krajů poprvé již v roce 2005. Finanční příspěvky poskytoval kraj v letech2005 - 2011. Pravidla pro poskytování finančních příspěvků na hospodaření v lesích na území Olomouckého kraje pro období 2007 - 2013 byla notifikována Evropskou komisí a schválena usnesením ZOK č. UZ/16/37/2007 ze dne 05. 03. 2007. Vzhledem ke zkušenostem z předcházejících let budou poskytovány finanční příspěvky z rozpočtu kraje na tato opatření: a) obnova, zajištění a výchova lesních porostů, b) ekologické a přírodě šetrné technologie.
B75: § 1099, POL 5166 - Konzultační, poradenské a právní služby | J75: 100 | K75: tis.Kč
B76: Rada Olomouckého kraje usnesením UR/71/31/2011 ze dne 13. 09. 2011 uložila vedoucímu odboru životního prostředí uplatnit finanční požadavky na realizaci úpravy porostu podél hradu Helfštýn v rozpočtu 2012. Konkrétně se jedná o zpracování podkladů pro rozhodování orgánů státní správy a posouzení vlivu úprav porostu na statiku hradu.
B77: § 1099, POL 5192 - Poskytnuté neinvestiční příspěvky a náhrady (část) | J77: 400 | K77: tis.Kč
B78: Úhrada nákladů soudních řízení v případě prohry soudních sporů. Termín pro uhrazení nákladů soudních řízení bývá v rozhodnutí soudu stanoven v řádu několika dní.
B79: Rada Olomouckého kraje usnesením UR/71/31/2011 ze dne 13. 09. 2011 uložila vedoucímu odboru životního prostředí uplatnit finanční požadavky na realizaci úpravy porostů podél hradu Helfštýn v rozpočtu 2012. Konkrétně se jedná o úhradu vlastníku lesních pozemků za újmy nebo škody způsobené na lesích v závislosti na rozsahu zásahu v jednotlivých porostních skupinách z důvodu předčasného smýcení, snížení produkce lesního porostu. Výpočet výše úhrady bude proveden podle vyhlášky Ministerstva zemědělství č. 55/1999 Sb., o způsobu výpočtu výše újmy nebo škody způsobené na lesích, v závislosti na rozsahu zásahu v jednotlivých porostních skupinách.
B87: § 1099, POL 5493 - Účelové neinvest. transf. nepodnikajícím fyz. osob | J87: 400 | K87: tis.Kč
B88: Olomoucký kraj poskytoval v rámci Programu podpory začínajícím a evidovaným včelařům v letech 2008, 2009 a 2011 dotace na nákup včelařského vybavení a včelstev. Je skutečností, že včelařů a včelstev v poslední době ubývá. V rozmezí od roku 2006 doroku 2010 se počet včelařů na území Olomouckého kraje, kteří jsou členy Českého svazu včelařů snížil z 3 069 na 2 722. Ve stejném období se snížil počet včelstev z 33 789 na 31 499. Cílem navrhované podpory včelařů na území Olomouckého kraje je podpořit zájem začínajících včelařů, ale i evidovaných stávajících včelařů na území Olomouckého kraje, zvýšení počtu včelstev v našem regionu a zkvalitnění chovu společně se zlepšením opylovací služby včelstev na kulturních či planě rostoucích rostlinách. Obdobně poskytují dotace i ostatjí kraje v ČR. Navržená výše podpory vychází ze skutečnosti v roce 2011.
B90: § 2369, POL 5166 - Konzultační, poradenské a právní služby | J90: 50 | K90: tis.Kč
B91: Poradenství, analýzy a studie zpracovávané externími experty a organizacemi pro potřebu zabezpečení výkonu státní správy a samosprávy v oblasti vodního hospodářství a rybářství.
B92: Příspěvky obcím Olomouckého kraje na řešení mimořádných událostí
B93: § 2310, POL 5321 - Neinvestiční transfery obcím | J93: 5300 | K93: tis.Kč
B94: Finanční prostředky poskytované v rámci bývalého dotačního titulu Program drobné vodohospodářské ekologické akce, který byl v gesci Ministerstva životního prostředí, jsou od roku 2004 převáděny z kapitoly Všeobecná pokladní správa - Prostředky nafinancování běžného investičního rozvoje územních samosprávných celků, viz. příloha č. 5 důvodové zprávy k návrhu zákona, kterým se mění zákon č. 243/2000 Sb., o rozpočtovém určení výnosu daní, do rozpočtu krajů. V případě Olomouckého kraje se jedná o finanční prostředky ve výši 23 460 000 Kč, které obdržel kraj do svého rozpočtu již v průběhu let 2004 -2011. I když využití převedených rozpočtových prostředků není účelově vázáno, je nutné jejich prioritní využití v oblasti vodního hospodářství, zejména k řešení mimořádných (havarijních) situací v oblasti infrastruktury vodovodů a kanalizací obcí na území kraje. Poskytování účelových dotací pro obce na území kraje na řešení mimořádných (havarijních) situací v oblasti vodovodů a kanalizací je řešeno v souladu s pravidly Poskytnutí příspěvku obcím na řešení mimořádných situaci schválenými ZOK UZ/19/16/2003 ze dne 16. 10.2003. Jedná se zejména o řešení situací, kdy došlo k narušení základních funkcí území v důsledku havárie v oblasti: - zásobování obyvatelstva pitnou vodou, - odvádění a likvidace odpadních vod, - povodňová situace. Dotace jsou poskytovány pouze na realizaci opatření bezprostředně souvisejících s odstraněním následků nebo prevenci mimořádné situace na majetku obce.
B95: § 2399, POL 6313 - Inv.transfery nefinančním podnik.subj.-právn.osob | J95: 1000 | K95: tis.Kč
B96: Spolufinancování zpracování aktualizace plánů dílčích povodí řeky Moravy, Odry a Dyje. Plány dílčích povodí pořizují správci povodí podle své působnosti ve spolupráci s příslušnými krajskými úřady a ve spolupráci s ústředními vodoprávními úřady. Plány dílčích povodí schvalují podle své územní působnosti kraje. Zastupitelstvo Olomouckého kraje usnesením č. UZ/11/32/2009 ze dne 11. 12. 2009 schválilo konečný návrh Plánu oblasti povodí Moravy, Odry a Dyje pro území Olomouckého kraje. Rada Olomouckého kraje následně usnesením UR/36/34/2010 ze dne 08. 04. 2010 vydala Nařízením č. 1/2010 závazné části plánu oblasti povodí Moravy, Odry a Dyje pro správní obvod kraje. Navržená výše podpory vychází z požadavků správců vodních toků Povodí Moravy, s.p. a Povodí Odry, s.p..
B97: § 3719, POL 5166 - Konzultační, poradenské a právní služby | J97: 400 | K97: tis.Kč
B98: 1. Poradenství, analýzy a studie zpracovávané externími experty a organizacemi pro potřebu zabezpečení výkonu státní správy a samosprávy v oblasti ochrany ovzduší. 2. Podle ust. § 7 zákona č. 86/2002 Sb., o ochraně ovzduší, musí krajské úřady zpracovat aktualizaci programů ke zlepšení kvality ovzduší za rok 2012, pokud došlo na jejich území k překročení některého z imisních limitů. Vzhledem k naplnění uvedené podmínky má povinnost zpracovat aktualizaci programu rovněž Krajský úřad Olomouckého kraje. Aktualizace pak bude vydána opatřením obecně závazné povahy, a to formou nařízení Rady Olomouckého kraje.
B99: § 3719, POL 5168 - Služby zpracování dat | J99: 100 | K99: tis.Kč
B100: Podle ust. § 48 zákona č. 86/2002 Sb., o ochraně ovzduší, krajský úřad má povinnost zpřístupňovat informace o stavu ovzduší na území kraje a konrolovat dodržování imisních limitů. Za tímto účelem je nutno získat data i z měřících stanic imisního monitoringu kvality ovzduší na území Olomouckého kraje, které nejsou ve státní síti ČHMÚ. Jedná se o stanici Statutárního města Olomouc na území města.
B112: § 3725, POL 5169 - Nákup ostatních služeb | J112: 700 | K112: tis.Kč
B113: Finanční spoluúčast Olomouckého kraje na realizaci projektu "Intenzifikace odděleného sběru a zajištění využití komunálního odpadu včetně jeho obalové složky" v roce 2009. Rada Olomouckého kraje usnesením UR/76/37/2004 schválila účast Olomouckého kraje ve výše uvedeném projektu. Následně usnesením UR/80/6/2004 byla schválena smlouva s firmou EKO-KOM, a.s., o řešení pilotního projektu v roce 2004. Podle textu uzavřené smlouvy má být rozsah plnění pro další roky vždy do 31. 03. následujícího kalendářního roku konkretizován dodatkem ke smlouvě. Projekt byl realizován v letech 2004 - 2009. Celková výše nákladů v roce 2004 tvořených zakoupením sběrových nádob a jejich distribucí obcím, informační kampaně o třídění a recyklaci komunálních odpadů byla 3, 5 mil. Kč a byla plně hrazena firmou EKO-KOM, a.s. Celková výše nákladů v roce 2005 byla 4,5 mil Kč. Z toho příspěvek firmy EKO-KOM, a.s. byl ve výši 4 mil. Kč. Celková výše nákladů v roce 2006 až 2009 byla shodně 5,2 mil Kč. Z toho příspěvek firmy EKO-KOM, a.s. byl ve výši 4,2 mil. Kč. V roce 2010 byly celkové náklady projektu 4 mil. Kč. Z toho spoluúčast kraje činila 900 tis. Kč. Podle informací zástupců firmy EKO-KOM, a.s., je předpoklad, že v roce 2011 budou z její strany na realizaci projektu opětovně poskytnuty finanční prostředky Vzhledem ke skutečnosti, že realizace tohoto projektu je pro kraj a zejména obce na území kraje velice výhodná (doposud bylo pro obce nakoupeno 2 954 kontejnerů na separovaný sběr odpadu), je navrhováno pro rok 2011 spolufinancování projektu ze strany kraje ve výši 700 tis.Kč.
B114: § 3729, POL 5166 - Konzultační, poradenské a právní služby | J114: 450 | K114: tis.Kč
B115: 1. Poradenství, analýzy a studie zpracovávané externími experty a organizacemi pro potřebu zabezpečení výkonu státní správy a samosprávy v oblasti odpadového hospodářství. 2. Rada Olomouckého kraje usnesením UR/69/59/2011 ze dne 26. 07. 2011 schválila navržený postup k naplnění Plánu odpadového hospodářství Olomouckého kraje. Jedním z dílčích kroků schváleného postupu je zpracování studie proveditelnosti vybudování zařízení na energetické využívání odpadů na území Olomouckého kraje. Ke zpracování studie se Olomoucký kraj zavázal rovněž v textu Memoranda o spolupráci a společném postupu při tvorbě Integrovaného systému nakládání s odpady v Olomouckém kraji, který byl schválen usnesením Rady Olomouckého kraje č. UR/70/56/2011 ze dne 30. 08. 2011 a následně předložen obcím s rozšířenou působností. Zahájení zpracování v studie druhé polovině roku 2011 a dokončení v prvním pololetí 2012.
B116: § 3741, POL 5169 - Nákup ostatních služeb | J116: 250 | K116: tis.Kč
B117: 1. Úhrada nákladů na zajištění záchranných programů k ochraně ohrožených zvláště chráněných druhů rostlin a živočichů (ust. § 77a odst. 5 písm. e) zákona č. 114/1992 Sb., o ochraně přírody a krajiny). 2. Úhrada nákladů na umístění odebraných nedovoleně držených jedinců druhů chráněných podle zvláštního předpisu (ust. § 77a odst. 5 písm. k) zákona č. 114/1992 Sb.). 3. Úhrada nákladů za odchyt, odvoz handicapovaných (poraněných) volně žijících živočichů a zajištění kompletní péče o ně v záchranných stanicích. Konkrétně se jedná o zajištění převzetí handicapovaných živočichů v záchranné stanici ZO ČSOPHaná v Němčicích na Hané, ZO ČSOP Sovinecko ve Stránském, ČSOP ZO Leština a Ornitologické stanice Muzea Komenského "ORNIS" za účelem veterinárního ošetření a jejich rekonvalescence k opětovnému navrácení do přírody.
B118: § 3742, POL 5166 - Konzultační, poradenské a právní služby | J118: 200 | K118: tis.Kč
B119: Úhrada nákladů na zpracování plánů péče o zvláště chráněná území - přírodního parku, přírodní rezervace, přírodní památky. Jedná se o samostatnou působnost kraje. (ust. § 77a odst. 4 písm. e) zákona č. 114/1992 Sb.)
B120: § 3742, POL 5169 - Nákup ostatních služeb | J120: 3000 | K120: tis.Kč
B121: Úhrada nákladů na zajištění péče o zvláště chráněná území - přírodního parku, přírodní rezervace, přírodní památky - celkem 83 území. Kraje zajišťují péči o tato zvláště chráněná území v přenesené působnosti kraje (ust. § 77a odst. 2 zákona č. 114/1992 Sb.).
B122: § 3769, POL 5166 - Konzultační, poradenské a právní služby | J122: 380 | K122: tis.Kč
B123: Poradenství, analýzy a studie zpracovávané externími experty a organizacemi pro potřebu zabezpečení výkonu státní správy v oblasti: a) posuzování vlivu na životní prostředí - úhrada nákladů na zpracování posudků na dokumentaci o posouzení vlivu na životní prostředí (ust. § 18 odst. 2 zákona č. 100/2001 Sb., o posuzování vlivu na životní prostředí). Vynaložené finanční prostředky na zpracování posudku jsou následně vyúčtovány krajem oznamovateli záměru, b) integrované prevence - úhrada nákladů za zpracování stanovisek odborně způsobilou osobou k předloženým žádostem o integrované povolení (ust. §. 11 zákona č. 76/2002 Sb., o integrované prevenci a omezování znečišťování), c) prevence závažných havárií - úhrada nákladů na zpracování posouzení možnosti domino efektů, to je zvýšení pravděpodobnosti vzniku nebo velikosti dopadů závažné havárie v důsledku vzájemné blízkosti objektů nebo zařízení nebo skupiny objektů nebo zařízení a umístění nebezpečných látek, (ust. § 32 zákona č. 59/2006 Sb., o prevenci závažných havárií).
B124: § 3769, POL 5169 - Nákup ostatních služeb | J124: 20 | K124: tis.Kč
B125: Úhrada nákladů na zajištění technického zabezpečení konání veřejného projednání dokumentace a posudku. Podle ust. § 18 odst. 2 zákona č. 100/2001 Sb., o posuzování vlivu na životní prostředí, náklady spojené s veřejným projednáním podle § 9 odst. 9 tohoto zákona a náklady spojené se zveřejňováním podle tohoto zákona nese příslušný krajský úřad.

Sheet ORJ - 10
B2: Odbor školství, mládeže a tělovýchovy | K2: ORJ - 10
B5: Správce: | D5: Mgr. Miroslav Gajdůšek, MBA
D6: vedoucí odboru
K7: v tis. Kč
B8: § | C8: pol. | D8: UZ | E8: ORG | F8: název položky | G8: schválený rozpočet 2011 | H8: upravený rozpočet k 30.9.2011 | I8: skutečnost k 30.9.2011 | J8: návrh rozpočtu na rok 2012 | K8: %
B9: 1 | C9: 2 | D9: 3 | E9: 4 | F9: 5 | G9: 6 | H9: 7 | I9: 8 | J9: 9 | K9: 10=9/6
B10: 3269 | C10: 5019 | D10: 0 | E10: 20000000000 | F10: Ostatní platy | G10: 8 | H10: 8 | I10: 0 | J10: 8 | K10: =J10/G10*100 -> 100
B11: 3269 | C11: 5039 | D11: 0 | E11: 20000000000 | F11: Ostatní povinné pojistné placené zaměstnavatelem | G11: 2 | H11: 2 | I11: 0 | J11: 2 | K11: =J11/G11*100 -> 100
B12: 3269 | C12: 5139 | D12: 0 | E12: 20000000000 | F12: Nákup materiálu j.n. | G12: 35 | H12: =11388/100 -> 113.88 | I12: =9259/100 -> 92.59 | J12: 35 | K12: =J12/G12*100 -> 100
B13: 3269 | C13: 5162 | D13: 0 | E13: 20000000000 | F13: Služby telekomunikací a radiokomunikací | G13: 5 | H13: 5 | I13: 0 | J13: 5 | K13: =J13/G13*100 -> 100
B14: 3269 | C14: 5164 | D14: 0 | E14: 20000000000 | F14: Nájemné | G14: 64 | H14: =7769/100 -> 77.69 | I14: =2720/100 -> 27.2 | J14: 64 | K14: =J14/G14*100 -> 100
B15: 3269 | C15: 5166 | D15: 0 | E15: 20000000000 | F15: Konzultační, poradenské a právní služby | G15: 11945 | H15: 0 | I15: 0 | J15: 0 | K15: =J15/G15*100 -> 0
B16: 3269 | C16: 5169 | D16: 0 | E16: 20000000000 | F16: Nákup ostatních služeb | G16: 2550 | H16: =2102212/100 -> 21022.12 | I16: =1642376/100 -> 16423.76 | J16: 14100 | K16: =J16/G16*100 -> 552.94118
B17: 3269 | C17: 5175 | D17: 0 | E17: 20000000000 | F17: Pohoštění | G17: 85 | H17: 105 | I17: =8278/100 -> 82.78 | J17: 80 | K17: =J17/G17*100 -> 94.117647
B18: 3269 | C18: 5194 | D18: 0 | E18: 20000000000 | F18: Věcné dary | G18: 1130 | H18: =126931/100 -> 1269.31 | I18: =124099/100 -> 1240.99 | J18: 500 | K18: =J18/G18*100 -> 44.247788
B19: 3269 | C19: 5499 | D19: 0 | E19: 30102000000 | F19: Ostatní neinvestiční transfery obyvatelstvu | G19: 35 | H19: 35 | I19: =1561/100 -> 15.61 | J19: 35 | K19: =J19/G19*100 -> 100
B20: 3299 | C20: 5213 | D20: 0 | E20: 30102000000 | F20: Neinv.transfery nefin.podnik.subjektům-práv.osobám | G20: 0 | H20: 0 | I20: 0 | J20: 0 | K20: 0
B21: 3299 | C21: 5331 | D21: 16 | E21: 30001000000 | F21: Neinv. transfery příspěvkovým organ. | J21: 0
B22: 3419 | C22: 5213 | D22: 16 | E22: 30102000000 | F22: Neinv.transfery nefin.podnik.subjektům-práv.osobám | G22: 2000 | H22: 0 | I22: 0 | J22: 0 | K22: =J22/G22*100 -> 0
B23: 3419 | C23: 5222 | D23: 16 | E23: 30101000000 | F23: Neinvestiční transf.obecně prospěšným společnostem | G23: 0 | H23: 100 | I23: 100 | J23: 0 | K23: 0
B24: 3419 | C24: 5229 | D24: 16 | E24: 30101000000 | F24: Ostatní neinv.transfery nezisk.a podob.organizacím | G24: 150 | H24: 150 | I24: 150 | J24: 200 | K24: =J24/G24*100 -> 133.33333
B25: 3429 | C25: 5222 | D25: 16 | F25: Neinvestiční transf.obecně prospěšným společnostem | G25: 0 | H25: 1000 | I25: 1000 | J25: 0 | K25: 0
F26: Talent Olomouckého kraje
B27: 3269 | C27: 5493 | D27: 114 | E27: 30102000000 | F27: Účelové neinvest. transf. nepodnikajícím fyz. osob | G27: 400 | H27: 400 | I27: 0 | J27: 400 | K27: =J27/G27*100 -> 100
G28: =SUM(G27) -> 400 | H28: =SUM(H27) -> 400 | I28: =SUM(I27) -> 0 | J28: =SUM(J27) -> 400 | K28: =J28/G28*100 -> 100
F29: Dotace pro PO OK na informační technologie
B30: 3299 | C30: 5331 | D30: 103 | F30: Neinv. transfery příspěvkovým organ. | G30: 1100 | H30: 700 | I30: 0 | J30: 0 | K30: =J30/G30*100 -> 0
G31: =SUM(G30) -> 1100 | H31: =SUM(H30) -> 700 | I31: =SUM(I30) -> 0 | J31: =SUM(J30) -> 0 | K31: =J31/G31*100 -> 0
F32: Příspěvky na mezinárodní výměnné pobyty
B33: 3299 | C33: 5331 | D33: 109 | F33: Neinv. transfery příspěvkovým organ. | G33: 150 | H33: 150 | I33: 148 | J33: 150 | K33: =J33/G33*100 -> 100
G34: =SUM(G33) -> 150 | H34: =SUM(H33) -> 150 | I34: =SUM(I33) -> 148 | J34: =SUM(J33) -> 150 | K34: =J34/G34*100 -> 100
F35: Kofinancování evropských vzdělávacích programů
B36: 3299 | C36: 5331 | D36: 113 | F36: Neinv. transfery příspěvkovým organ. | G36: 100 | H36: 40 | I36: 0 | J36: 50 | K36: =J36/G36*100 -> 50
G37: =SUM(G36) -> 100 | H37: =SUM(H36) -> 40 | I37: =SUM(I36) -> 0 | J37: =SUM(J36) -> 50 | K37: =J37/G37*100 -> 50
F38: Stipendia pro žáky učebních oborů
B39: 3299 | C39: 5331 | D39: 115 | F39: Neinv. transfery příspěvkovým organ. | G39: 4100 | H39: 4097 | I39: 0 | J39: 7100 | K39: =J39/G39*100 -> 173.17073
B40: 3123 | C40: 5213 | D40: 115 | F40: Neinv.transfery nefin.podnik.subjektům-práv.osobám | G40: 0 | H40: 4 | I40: 4 | J40: 0 | K40: 0
G41: =SUM(G39:G40) -> 4100 | H41: =SUM(H39:H40) -> 4101 | I41: =SUM(I39:I40) -> 4 | J41: =SUM(J39:J40) -> 7100 | K41: 0
F42: Regionální inovační strategie
B43: 3299 | C43: 5339 | D43: 35 | E43: 30103000000 | F43: Neinvestiční transfery cizím příspěvkovým organ. | G43: 0 | H43: 0 | I43: 0 | J43: 1500 | K43: 0
B44: 3299 | C44: 5493 | D44: 35 | E44: 30102000000 | F44: Účelové neinvest. transf. nepodnikajícím fyz. osob | G44: 0 | H44: 0 | I44: 0 | J44: 500 | K44: 0
B45: 3299 | C45: 6359 | D45: 116 | E45: 30103000000 | F45: Investiční transf. ostat.příspěvkovým organizacím | G45: 0 | H45: 0 | I45: 0 | J45: 4500 | K45: 0
G46: =SUM(G43:G44) -> 0 | H46: =SUM(H43:H44) -> 0 | I46: =SUM(I43:I44) -> 0 | J46: =SUM(J43:J45) -> 6500 | K46: 0
F47: Stipendijní řád Olomouckého kraje
B48: 3299 | C48: 5493 | D48: 110 | E48: 30102000000 | F48: Účelové neinvest. transf. nepodnikajícím fyz. osob | G48: 1800 | H48: 1800 | I48: =157750/100 -> 1577.5 | J48: 1500 | K48: =J48/G48*100 -> 83.333333
G49: =SUM(G48) -> 1800 | H49: =SUM(H48) -> 1800 | I49: =SUM(I48) -> 1577.5 | J49: =SUM(J48) -> 1500 | K49: 0
K58: v tis. Kč
B59: § | C59: pol. | D59: UZ | E59: ORG | F59: název položky | G59: schválený rozpočet 2011 | H59: upravený rozpočet k 30.9.2011 | I59: skutečnost k 30.9.2011 | J59: návrh rozpočtu na rok 2012 | K59: %
B60: 1 | C60: 2 | D60: 3 | E60: 4 | F60: 5 | G60: 6 | H60: 7 | I60: 8 | J60: 9 | K60: 10=9/6
F61: Příspěvky vysokým školám
B62: 3299 | C62: 6359 | D62: 0 | E62: 30103000000 | F62: Investiční transf. ostat.příspěvkovým organizacím | G62: 13500 | H62: 0 | I62: 0 | J62: 0 | K62: =J62/G62*100 -> 0
B63: 3299 | C63: 5221 | D63: 16 | F63: Neinvestiční transf.obecně prospěšným společnostem | G63: 0 | H63: 3520 | I63: 3520 | J63: 0 | K63: 0
B64: 3299 | C64: 5339 | D64: 16 | F64: Neinvestiční transfery cizím příspěvkovým organ. | G64: 0 | H64: 2000 | I64: 2000 | J64: 0 | K64: 0
B65: 3299 | C65: 6321 | D65: 116 | F65: Inv.transfery obecně prospěš.spol. | G65: 0 | H65: 980 | I65: 980 | J65: 0 | K65: 0
B66: 3299 | C66: 6359 | D66: 116 | E66: 30103000000 | F66: Investiční transf. ostat.příspěvkovým organizacím | G66: 0 | H66: 7000 | I66: 7000 | J66: 10500 | K66: 0
G67: =SUM(G62:G66) -> 13500 | H67: =SUM(H62:H66) -> 13500 | I67: =SUM(I62:I66) -> 13500 | J67: =SUM(J62:J66) -> 10500 | K67: 0
F68: Finanční příspěvky v oblasti sportu
B69: 3419 | C69: 5213 | D69: 105 | F69: Neinv.transfery nefin.podnik.subjektům-práv.osobám | G69: 0 | H69: 2920 | I69: 2920 | J69: 0 | K69: 0
B70: 3419 | C70: 5222 | D70: 105 | E70: 30101000000 | F70: Neinvestiční transf.obecně prospěšným společnostem | G70: 37067 | H70: 34147 | I70: 34147 | J70: 37367 | K70: =J70/G70*100 -> 100.80935
G71: =SUM(G69:G70) -> 37067 | H71: =SUM(H69:H70) -> 37067 | I71: =SUM(I69:I70) -> 37067 | J71: =SUM(J69:J70) -> 37367 | K71: 0
F72: Environmentální vzdělávání, výchova a osvěta
B73: 3792 | C73: 5139 | D73: 112 | E73: 20000000000 | F73: Nákup materiálu j.n. | G73: 50 | H73: 50 | I73: 0 | J73: 0 | K73: =J73/G73*100 -> 0
B74: 3792 | C74: 5164 | D74: 112 | E74: 20000000000 | F74: Nájemné | G74: 20 | H74: 20 | I74: 0 | J74: 20 | K74: =J74/G74*100 -> 100
B75: 3792 | C75: 5169 | D75: 112 | E75: 20000000000 | F75: Nákup ostatních služeb | G75: 120 | H75: =10411/100 -> 104.11 | I75: =3079/100 -> 30.79 | J75: 120 | K75: =J75/G75*100 -> 100
B76: 3792 | C76: 5175 | D76: 112 | E76: 20000000000 | F76: Pohoštění | G76: 20 | H76: 20 | I76: 0 | J76: 20 | K76: =J76/G76*100 -> 100
B77: 3792 | C77: 5221 | D77: 112 | F77: Neinvestiční transf.obecně prospěšným společnostem | G77: 0 | H77: 25 | I77: 25 | J77: 0 | K77: 0
B78: 3792 | C78: 5321 | D78: 112 | F78: Neinvestiční transfery obcím | G78: 0 | H78: 368 | I78: 368 | J78: 0 | K78: 0
B79: 3792 | C79: 5331 | D79: 112 | F79: Neinv. transfery příspěvkovým organ. | G79: 640 | H79: 80 | I79: 0 | J79: 490 | K79: =J79/G79*100 -> 76.5625
G80: =SUM(G73:G79) -> 850 | H80: =SUM(H73:H79) -> 667.11 | I80: =SUM(I73:I79) -> 423.79 | J80: =SUM(J73:J79) -> 650 | K80: =J80/G80*100 -> 76.470588
B81: Celkem | G81: =SUM(G10:G25)+G28+G31+G34+G37+G41+G46+G49+G67+G71+G80 -> 77076 | H81: =SUM(H10:H25)+H28+H31+H34+H37+H41+H46+H49+H67+H71+H80 -> 82313.11 | I81: =SUM(I10:I25)+I28+I31+I34+I37+I41+I46+I49+I67+I71+I80 -> 71853.22 | J81: =SUM(J10:J25)+J28+J31+J34+J37+J41+J46+J49+J67+J71+J80 -> 79246 | K81: =J81/G81*100 -> 102.8154
B85: § 3269, POL 5019 - Ostatní platy | J85: 8 | K85: tis.Kč
B86: Jedná se o úhrady případných refundací mezd pro členy konkurzních komisí jmenovaných pro konkurzní řízení na funkce ředitelů škol,školských zařízení, a to v souladu s vyhláškou č. 54/2005 Sb., o náležitostech konkurzního řízení a konkurzních komisí, § 2 odst. 2. Zejména se jedná o odborníky v oblasti státní správy, organizace a řízení ve školství podle druhu a typu příslušné školy nebo školského zařízení, zástupce škol, školských zařízení a zástupce školských rad. Každý člen konkurzní komise se účastní jednou na zasedání konkurzní komise jmenované pro konkurzní řízení na obsazení funkce ředitele školy, školského zařízení a jednou na přímém konkurzu(řízeném rozhovoru s uchazeči konkurzu).
B87: § 3269, POL 5039 - Ostatní povinné pojistné placené zaměstnavatelem | J87: 2 | K87: tis.Kč
B88: Jedná se o doprovodné náklady v souvislosti s ostatními platy - refundace mezd členů konkurzních komisí na funkce ředitelů škol, školských zařízení.
B89: § 3269, POL 5139 - Nákup materiálu j.n. | J89: 35 | K89: tis.Kč
B90: Nákup materiálu pro potřeby odboru, které souvisí např. s gratulací k životnímu jubileu, kondolencí a s osobní korespondencí k jiným významným dnům. Dále na nákup zápisových lístků pro uchazeče, kteří se hlásí na střední školu a nepřichází ze základních škol. Toto bylo krajským úřadům uloženo v souvislosti s novelizací zákona 561/2004 Sb., o předškolním, základním, středním, vyšším odborném a jiném vzdělávání. Dále pro akce Zastupitelstva mládeže Olomouckého kraje.
B91: § 3269, POL 5162 - Služby telekomunikací a radiokomunikací | J91: 5 | K91: tis.Kč
B92: Olomoucký kraj je členem společenství Platform Network, jehož cílem je podpora kooperace mezi regiony a mladými lidmi v Evropě. Konkrétními výstupy jsou nabídky mezinárodních mládežnických kempů, mobility studentů a učitelů, pořádání seminářů a další mezinárodní spolupráce. Za účelem zlepšení komunikace a lepší prezentace nabízených aktivit členové společenství zřídili webovou stránku. Na její provoz bude přispívat každý z členských regionů společenství.
B93: § 3269, POL 5164 - Nájemné | J93: 64 | K93: tis.Kč
B94: Finanční prostředky na zajištění pravidelných porad s řediteli škol a školských zařízení zřizovaných Olomouckým krajem a dále pro akce Zastupitelstva mládeže Olomouckého kraje.
B100: § 3269, POL 5169 - Nákup ostatních služeb | J100: 14100 | K100: tis.Kč
B101: 1. Smlouva - 11 945 tis. Kč Poskytování služeb v oblasti bezpečnosti a ochrany zdraví při práci a požární ochrany pro školské příspěvkové organizace zřizované Olomouckým krajem. Smlouva je uzavřena na dobu neurčitou a měsíční paušální částkačiní 995 347 Kč. 2. Administrativní služby -170 tis. Kč Zahrnuje kopírovací služby u rozsáhlých materiálů, zpracování výroční zprávy, distribuce "Sborníků oborů vzdělávání středních škol a vyšších odborných škol Olomouckého kraje pro školní rok 2011/2012", zpracování analýz v oblasti školství, vydání elektronické publikace "Příklady dobré praxe vzdělávání žáků v oblasti interkulturního dialogu za rok 2011". 3. Konkurzní řízení a hodnocení ředitelů - 290 tis. Kč Zahrnuje platby faktur za zveřejněné inzeráty v tisku týkající se vyhlášení konkurzních řízení na funkce ředitelů škol a školských zařízení a platby faktur za zrealizované psychologické testy uchazečů konkurzních řízení. Konkurzní řízení jsou realizovány v souladu se zákonem č. 561/2004 Sb., o předškolním, základním, středním, vyšším odborném a jiném vzdělávání a vyhláškou č. 54/2005 Sb., o náležitostech konkurzního řízení a konkurzních komisích. 4. Dlouhodobý záměr vzdělávání a rozvoje vzdělávací soustavy Olomouckého kraje - 120 tis. Kč Finanční prostředky na zpracování Dlouhodobého záměru vzdělávání a rozvoje vzdělávací soustavy Olomouckého kraje, který je zpracováván na základě zákona č. 561/2004 Sb., o předškolním, základním, středním, vyšším odborném a jiném vzdělávání vždy jednou za čtyři roky. Zastupitelstvu Olomouckého kraje bude předloženo v první polovině roku 2012. 5. Periodické hodnocení ředitelů škol a školských zařízení - 120 tis. Kč Finanční prostředky na zajištění testování vrámci periodického hodnocení ředitelů škol a školských zařízení zřizovaných Olomouckým krajem. 6. Pedagog Olomouckého kraje 2012 - 100 tis. Kč Hlavním cílem akce je ocenit vybrané pedagogy středních škol, vyšších odborných škol, speciálních škol a základních uměleckých škol se sídlem v Olomouckém kraji za jejich náročnou a záslužnou práci a zároveň vhodnou formou připomenout široké veřejnosti významnou úlohu učitelů v naší společnosti. 7. Zastupitelstvo mládeže Olomouckého kraje (dále jen ZMOK) - 30 tis. Kč Výdaje spojené s provozem www stránek ZMOK www.zmok.cz (hosting, doména) a na aktivity související s činností a posláním ZMOK. Na nákup služeb a hrazení výdajů, např. výdaje související s organizací, spoluorganizací akcí zaměřených na aktivity s činností ZMOK, účast v projektech tematicky zaměřených na mládež a s tím související tématiku. 8. Vyhlášení nejlepších sportovců Olomouckého kraje za rok 2011 - 400 tis. Kč Jedná se o finanční částku na akci Sportovec Olomouckého kraje, která má v našem kraji již několikaletou tradici. 9. Podpora programů škol a školských zařízení, které jsou zaměřeny na DVPP v oblasti primární prevence sociálně - patologických jevů - 250 tis. Kč Zahrnje finanční příspěvekk zabezpečení oblasti tzv. specifické primární prevence škol a školských zařízení, nestátních neziskových organizací a další vzdělávání pedagogických pracovníků vykonávajících funkci školního metodika prevence. Vyplývá ze závazné celonárodní „Strategie primární prevence sociálně patologických jevů MŠMT na roky 2010–2012 a z korespondující strategie Olomouckého kraje na léta 2011-2014. 10. Hry V. zimní olympiády dětí a mládeže 2012 - 475 tis. Kč Jedná se o pokračování cyklu Olympiád dětí a mládeže - letní verze. V termínu od 29.1. - 3. 2. 2012 se uskuteční v Moravskoslezském kraji již pátá zimní olympiáda za účasti 14 krajů. Zahrnuje prostředky na úhradu komplexních organizačních nákladů pro účastníky, dopravu účastníků, odměnutrenérům a náklady spojené s přijetím medailistů hejtmanem Olomouckého kraje. Ve srovnání se "letní" verzi se u "zimní" verze jedná o počet účastníků za Olomoucký kraj 94.
B103: 11. Organizace soutěží a přehlídek - 200 tis. Kč Finanční prostředky slouží k dofinancování okresních a krajských kol soutěží a přehlídek vyhlašovaných MŠMT realizovaných pověřenými organizacemi v jednotlivých okresech Olomouckého kraje a soutěží, které mají v Olomouckém kraji již dlouholetou tradici (např. 8. ročník soutěže "O Priessnitzův dortík", "Nejmilejší koncert", 7. ročník soutěže "AUTOMOBILEUM", "Sportovní hry v lehké atletice a míčové hry" realizované dětskými domovy, XXIV. ročník štafetového běhu "Po stopách Jana Opletala a Memoriál Jiřího Vaci".
B104: § 3269, POL 5175 - Pohoštění | J104: 80 | K104: tis.Kč
B105: 1. Zastupitelstvo mládeže Olomouckého kraje -17 tis. Kč Zahrnuje finanční prostředky na úhradu nákladů spojených se zasedáním Rady a Zastupitelstva mládeže Olomouckého kraje.
B106: 2. Hry V. zimní olympiády dětí a mládeže 2012 - 25 tis. Kč Zahrnuje prostředky na úhradu nákladů na pohoštění účastníků Her V. zimní olympiády dětí a mládeže 2012, kteří se zúčastní vyhodnocení akce v sídle Olomouckého kraje. Ve srovnání se "letní" verzi se u "zimní" verze jedná o počet účastníků za Olomoucký kraj 94. 3. Porady ředitelů škol a školských zařízení - 38 tis. Kč Zahrnuje finanční prostředky na úhradu nákladů na pohoštění spojených s konáním pravidelných porad s řediteli škol a školských zařízení zřizovaných Olomouckým krajem.
B107: § 3269, POL 5194 - Věcné dary | J107: 500 | K107: tis.Kč
B108: Hry V. zimní olympiády dětí a mládeže 2012 Zahrnuje prostředky na úhradu jednotného ošacení a dresů pro účastníky Her V. zimní olympiády dětí a mládeže 2012, která se koná v termínu od 29. 1. - 3. 2. 2012.
B109: § 3269, POL 5499 - Ostatní neinvestiční transfery obyvatelstvu | J109: 35 | K109: tis.Kč
B110: Zastupitelstvo mládeže Olomouckého kraje Zahrnuje prostředky na proplacení nákladů spojených se zasedáním Rady a Zastupitelstva mládeže Olomouckého kraje (včetně jednání výborů Zastupitelstva), Národního parlamentu dětí a mládeže a akcí souvisejících s činností Rady a Zastupitelstva mládeže Olomouckého kraje.
B111: § 3419, POL 5229 - Ostatní neinv.transfery nezisk.a podob.organizacím | J111: 200 | K111: tis.Kč
B112: Poskytnutí příspěvku mezi Olomouckým krajem a Nadačním fondem Českého klubu olympioniků regionu Severní Morava ve výši 150tis.Kč. Účelem poskytnutí příspěvku je finanční podpora členů Nadačního fondu Českého klubu olympioniků regionu Severní Morava trvale žijících v Olomouckém kraji.
B113: Talent Olomouckého kraje
B114: § 3269, POL 5493 - Účelové neinvest. transf. nepodnikajícím fyz. osob | J114: 400 | K114: tis.Kč
B115: Talent Olomouckého kraje Finanční prostředky zahrnují finanční příspěvek na vyhlášení již 8. ročníku ocenění Talent Olomouckého kraje. V rámci tohoto vyhlášení jsou oceňováni nadaní a mimořádně nadaní žáci a studenti škol na území kraje. Student či žák obdrží v každé kategorii a v každém oboru jednorázově finanční odměnu v rozpětí od 1.000 - 5.000 Kč, a to podle umístění na 1. - 5. místě. V souvislosti s tímto budou dále prostřednictvím vypracovaného klíče finančně podpořeny i školy a školská zařízení Olomouckého kraje, kterým se umístil student či žák do 3. místa v ústředním kole, případně se účastnil mezinárodního kola. Tento finanční příspěvek bude moci škola použít např. na nákup učebních pomůcek, učebníchtextů, případně si tím úhradí náklady spojené s přípravou a účastí studenta v ústředním nebo mezinárodním kole.
B116: Příspěvky na mezinárodní výměnné pobyty
B117: § 3299, POL 5331 - Neinvestiční příspěvky zřízeným příspěvkovým organ | J117: 150 | K117: tis.Kč
B118: Mezinárodní výměny dětí a mládeže, skupin dětí a mládeže ze škol a školských zařízení zřizovaných Olomouckým krajem. Zahrnuje finanční příspěvek na úhradu nákladů spojených s výjezdem jednotlivce, skupiny dětí a mládeže ze škol a školských zařízení zřizovaných Olomouckým krajem do zahraničí. Dále zahrnuje úhradu nákladů spojených s organizací mezinárodních výměn pro jednotlivce, skupiny dětí a mládeže ze zahraničí ve školách a školských zařízeních zřizovaných Olomouckým krajem.
B119: Kofinancování evropských vzdělávacích programů
B120: § 3299, POL 5331 - Neinvestiční příspěvky zřízeným příspěvkovým organ | J120: 50 | K120: tis.Kč
...

Sheet ORJ - 11
B2: Odbor sociálních věcí | K2: ORJ - 11
B5: Správce: | D5: PhDr. Markéta Čožíková
D6: vedoucí odboru
K7: v tis. Kč
B8: § | C8: pol. | D8: UZ | E8: ORG | F8: název položky | G8: schválený rozpočet 2011 | H8: upravený rozpočet k 30.9.2011 | I8: skutečnost k 30.9.2011 | J8: návrh rozpočtu na rok 2012 | K8: %
B9: 1 | C9: 2 | D9: 3 | E9: 4 | F9: 5 | G9: 6 | H9: 7 | I9: 8 | J9: 9 | K9: 10=9/6
B10: 4339 | C10: 5169 | D10: 0 | E10: 20000000000 | F10: Nákup ostatních služeb | G10: 1500 | H10: 1491 | I10: =18360/100 -> 183.6 | J10: 900 | K10: =J10/G10*100 -> 60
B11: 4349 | C11: 5169 | D11: 0 | E11: 20000000000 | F11: Nákup ostatních služeb | G11: 450 | H11: 450 | I11: =33150/100 -> 331.5 | J11: 430 | K11: =J11/G11*100 -> 95.555556
F12: Podpora aktivit zaměřených na sociální začleňování - oblast prevence kriminality
B13: 4349 | C13: 5221 | D13: 407 | F13: Neinvestiční transf.obecně prospěšným společnostem | G13: 0 | H13: 146 | I13: 146 | J13: 0
B14: 4349 | C14: 5222 | D14: 407 | F14: Neinvestiční transfery občanským sdružením | G14: 0 | H14: 593 | I14: 593 | J14: 0
B15: 4349 | C15: 5223 | D15: 407 | F15: Neinv.transfery církvím a naboženským společnostem | G15: 0 | H15: 261 | I15: 261 | J15: 0
B16: 4349 | C16: 5229 | D16: 407 | E16: 30101000000 | F16: Ostatní neinv.transfery nezisk.a podob.organizacím | G16: 1000 | H16: 0 | I16: 0 | J16: 100 | K16: =J16/G16*100 -> 10
G17: =SUM(G13:G16) -> 1000 | H17: =SUM(H13:H16) -> 1000 | I17: =SUM(I13:I16) -> 1000 | J17: =SUM(J13:J16) -> 100 | K17: =J17/G17*100 -> 10
F18: Podpora aktivit zaměřených na sociální začleňování - oblast integrace příslušníků romských komunit
B19: 4349 | C19: 5222 | D19: 408 | F19: Neinvestiční transfery občanským sdružením | G19: 0 | H19: 643 | I19: 643 | J19: 0
B20: 4349 | C20: 5223 | D20: 408 | F20: Neinv.transfery církvím a naboženským společnostem | G20: 0 | H20: 295 | I20: 295 | J20: 0
B21: 4349 | C21: 5321 | D21: 408 | F21: Neinvestiční transfery obcím | G21: 0 | H21: 62 | I21: 62 | J21: 0
B22: 4349 | C22: 5229 | D22: 408 | E22: 30101000000 | F22: Ostatní neinv.transfery nezisk.a podob.organizacím | G22: 1000 | H22: 0 | I22: 0 | J22: 150 | K22: =J22/G22*100 -> 15
G23: =SUM(G19:G22) -> 1000 | H23: =SUM(H19:H22) -> 1000 | I23: =SUM(I19:I22) -> 1000 | J23: =SUM(J19:J22) -> 150 | K23: =J23/G23*100 -> 15
F24: Podpora aktivit zaměřených na sociální začleňování - oblast podpory prorodinných aktivit
B25: 4349 | C25: 5221 | D25: 409 | F25: Neinvestiční transf.obecně prospěšným společnostem | G25: 0 | H25: 100 | I25: 100 | J25: 0
B26: 4349 | C26: 5222 | D26: 409 | F26: Neinvestiční transfery občanským sdružením | G26: 0 | H26: 885 | I26: 885 | J26: 0
B27: 4349 | C27: 5223 | D27: 409 | F27: Neinv.transfery církvím a naboženským společnostem | G27: 0 | H27: 265 | I27: 265 | J27: 0
B28: 4349 | C28: 5229 | D28: 409 | E28: 30101000000 | F28: Ostatní neinv.transfery nezisk.a podob.organizacím | G28: 1250 | H28: 0 | I28: 0 | J28: 0 | K28: =J28/G28*100 -> 0
G29: =SUM(G25:G28) -> 1250 | H29: =SUM(H25:H28) -> 1250 | I29: =SUM(I25:I28) -> 1250 | J29: =SUM(J25:J28) -> 0 | K29: =J29/G29*100 -> 0
F30: Podpora aktivit zaměřených na sociální začleňování - oblast podpory terénních a ambulantních služeb
B31: 4349 | C31: 5229 | D31: 414 | E31: 30101000000 | F31: Ostatní neinv.transfery nezisk.a podob.organizacím | G31: 0 | H31: 0 | I31: 0 | J31: 3000
G32: =SUM(G31) -> 0 | H32: =SUM(H31) -> 0 | I32: =SUM(I31) -> 0 | J32: =SUM(J31) -> 3000
B33: 4399 | C33: 5169 | D33: 0 | E33: 20000000000 | F33: Nákup ostatních služeb | G33: 3953 | H33: 3893 | I33: =247331/100 -> 2473.31 | J33: 3913 | K33: =J33/G33*100 -> 98.98811
F34: Akční plán realizace prevence kriminality na území Olomouckého kraje
B35: 6172 | C35: 5169 | D35: 410 | E35: 20004000000 | F35: Nákup ostatních služeb | G35: 50 | H35: 50 | I35: 50 | J35: 0 | K35: =J35/G35*100 -> 0
B36: 4399 | C36: 5169 | D36: 410 | E36: 20000000000 | F36: Nákup ostatních služeb | G36: 125 | H36: 100 | I36: 0 | J36: 50 | K36: =J36/G36*100 -> 40
G37: =SUM(G35:G36) -> 175 | H37: =SUM(H35:H36) -> 150 | I37: =SUM(I35:I36) -> 50 | J37: =SUM(J35:J36) -> 50 | K37: =J37/G37*100 -> 28.571429
F38: Strategie integrace příslušníků romských komunit Olomouckého kraje
B39: 4399 | C39: 5169 | D39: 411 | E39: 20004000000 | F39: Nákup ostatních služeb | G39: 25 | H39: 25 | I39: 0 | J39: 25 | K39: =J39/G39*100 -> 100
G40: =SUM(G39) -> 25 | H40: =SUM(H39) -> 25 | I40: =SUM(I39) -> 0 | J40: =SUM(J39) -> 25 | K40: =J40/G40*100 -> 100
F41: Střednědobý plán rozvoje sociálních služeb Olomouckého kraje
B42: 4399 | C42: 5169 | D42: 412 | E42: 20004000000 | F42: Nákup ostatních služeb | G42: 250 | H42: 230 | I42: 0 | J42: 900 | K42: =J42/G42*100 -> 360
B43: 4399 | C43: 5175 | D43: 412 | E43: 20004000000 | F43: Pohoštění | G43: 160 | H43: =8869/100 -> 88.69 | I43: =88/100 -> 0.88 | J43: 0 | K43: =J43/G43*100 -> 0
G44: =SUM(G42:G43) -> 410 | H44: =SUM(H42:H43) -> 318.69 | I44: =SUM(I42:I43) -> 0.88 | J44: =SUM(J42:J43) -> 900 | K44: =J44/G44*100 -> 219.5122
B45: 4399 | C45: 5175 | D45: 0 | E45: 20000000000 | F45: Pohoštění | G45: 0 | H45: =2781/100 -> 27.81 | I45: =2764/100 -> 27.64 | J45: 80
B46: 6172 | C46: 5161 | D46: 0 | E46: 20000000000 | F46: Služby pošt | G46: 5 | H46: 5 | I46: =135/100 -> 1.35 | J46: 5 | K46: =J46/G46*100 -> 100
B47: 6172 | C47: 5169 | D47: 0 | E47: 20000000000 | F47: Nákup ostatních služeb | G47: 20 | H47: 20 | I47: 0 | J47: 10 | K47: =J47/G47*100 -> 50
B48: 6172 | C48: 5169 | D48: 0 | E48: 20004000000 | F48: Nákup ostatních služeb | G48: 130 | H48: =3906/100 -> 39.06 | I48: 0 | J48: 0 | K48: =J48/G48*100 -> 0
B49: 6172 | C49: 5192 | D49: 0 | E49: 20000000000 | F49: Poskytnuté neinvestiční příspěvky a náhrady (část) | G49: 50 | H49: 50 | I49: =83/100 -> 0.83 | J49: 20 | K49: =J49/G49*100 -> 40
B50: 4399 | C50: 5166 | D50: 0 | E50: 20004000000 | F50: Konzultační, poradenské a právní služby | G50: 0 | H50: 2000 | I50: 0 | J50: 0
B51: 4399 | C51: 5164 | D51: 0 | E51: 20000000000 | F51: Nájemné | G51: 0 | H51: =350/100 -> 3.5 | I51: =350/100 -> 3.5 | J51: 0
B52: 6172 | C52: 5164 | D52: 0 | E52: 20004000000 | F52: Nájemné | G52: 0 | H52: =1094/100 -> 10.94 | I52: =1094/100 -> 10.94 | J52: 0
K55: v tis. Kč
B56: § | C56: pol. | D56: UZ | E56: ORG | F56: název položky | G56: schválený rozpočet 2011 | H56: upravený rozpočet k 30.9.2011 | I56: skutečnost k 30.9.2011 | J56: návrh rozpočtu na rok 2012 | K56: %
B57: 1 | C57: 2 | D57: 3 | E57: 4 | F57: 5 | G57: 6 | H57: 7 | I57: 8 | J57: 9 | K57: 10=9/6
F58: Dobrovolnické možnosti podpory seniorů a sociálně vyloučených občanů v EU
B59: 4399 | C59: 5139 | D59: 413 | E59: 60002100686 | F59: Nákup materiálu j.n. | G59: 0 | H59: 46 | I59: =2275/100 -> 22.75 | J59: 0
B60: 4399 | C60: 5142 | D60: 413 | E60: 60002100686 | F60: Realizované kurzové ztráty | G60: 0 | H60: 10 | I60: 0 | J60: 0
B61: 4399 | C61: 5164 | D61: 413 | E61: 60002100686 | F61: Nájemné | G61: 0 | H61: =342/100 -> 3.42 | I61: 0 | J61: 0
B62: 4399 | C62: 5169 | D62: 413 | E62: 60002100686 | F62: Nákup ostatních služeb | G62: 0 | H62: 144 | I62: =60/100 -> 0.6 | J62: 0
B63: 4399 | C63: 5173 | D63: 413 | E63: 60002100686 | F63: Cestovné (tuzemské i zahraniční) | G63: 0 | H63: 165 | I63: 0 | J63: 0
B64: 4399 | C64: 5175 | D64: 413 | E64: 60002100686 | F64: Pohoštění | G64: 0 | H64: 77 | I64: 0 | J64: 0
B65: 4399 | C65: 5532 | D65: 413 | E65: 30106000000 | F65: Ostatní neinvestiční transfery do zahraničí | G65: 0 | H65: =21622/100 -> 216.22 | I65: =21622/100 -> 216.22 | J65: 0
B66: 4399 | C66: 5901 | D66: 413 | E66: 60002100686 | F66: Nespecifikované rezervy | G66: 0 | H66: =114/100 -> 1.14 | I66: 0 | J66: 0
B67: Celkem | G67: =SUM(G59:G66,G45:G52,G44,G40,G37,G33,G32,G29,G23,G17,G10:G11) -> 9968 | H67: =SUM(H59:H66,H45:H52,H44,H40,H37,H33,H32,H29,H23,H17,H10:H11) -> 12396.78 | I67: =SUM(I59:I66,I45:I52,I44,I40,I37,I33,I32,I29,I23,I17,I10:I11) -> 6573.12 | J67: =SUM(J59:J66,J45:J52,J44,J40,J37,J33,J32,J29,J23,J17,J10:J11) -> 9583 | K67: =J67/G67*100 -> 96.13764
B72: § 4339, POL 5169 - Nákup ostatních služeb | J72: 900 | K72: tis.Kč
B73: Projekt Rodinných pasů v Olomouckém krajinancování projektu Rodinných pasů je realizováno z rozpočtu Olomouckého kraje na základě zadání zakázky bez provedení průzkumu trhu s dodavatelem společností Sun Drive Communications, s.r.o. IČ: 26941007, se sídlem Brno, Haraštova 370/22, 620 00. Dne 21.4.2011 byla uzavřena mezi Olomouckým krajem a uvedenou firmou Smlouva o dílo na realizaci projektu "Rodinné pasy Olomouckého kraje na období 2011-2012". Finanční prostředky pro rok 2012 jsou plánovány zejména na tyto aktvity: propojení a zajištění vzájemné uznatelnosti rodinných pasů u krajů, kde je realizován projekt Rodinné pasy, správu a rozšiřování databáze zapojených rodin a poskytovatelů z Olomouckéhokraje (vč. kontaktování potenciálních zájemců ze strany měst a obcí, resp. jejich příspěvkových organizací, provozovatelů zařízení v oblasti kultury, sportu, volnočasových aktivit a cestovního ruchu) po dobu trvání projektu, výrobu samolepek Rodinný pas s daným grafickým provedením, výrobu informačních letáků s oboustranným plnobarevným tiskem, výrobu drobných propagačních předmětů, výrobu reklamních letáků propagující Rodinný pas, tisk a distribuci Rodinných pasů zapojeným rodinám v Olomouckém kraji, aktualizaci sekce internetových stránek Rodinné pasy a další aktivity.
B74: § 4349, POL 5169 - Nákup ostatních služeb | J74: 430 | K74: tis.Kč
B75: 1. Konzultační akce pro pěstouny, obnovení klubu pěstounů - 60 tis. Kč Krajský úřad je podle § 11 odst. 2 zákona č. 359/1999 Sb., o sociálně-právní ochraně dětí, ve znění pozdějších předpisů, povinen alespoň jednou v roce zabezpečit konzultace o výkonu pěstounské péče. Konzultací se kromě odborníků na řešení výchovných a sociálních problémů zúčastňují pěstouni, kteří mají trvalý pobyt na území kraje, konzultací se mohou zúčastnit též děti svěřené těmto pěstounům do pěstounské péče a další fyzické osoby, které tvoří s pěstounem domácnost. Jedná se o zajištění jednoho víkendového pobytu a realizaci dalších konzultačních akcí pro pěstouny a jejich děti, které budou probíhat v průběhu roku. Jedná se o aktivity v přenesené působnosti. 2. Aktivity kraje v samostatné působnosti v oblasti sociálně-právní ochrany dětí - kulturní, sportovní, jiná zájmová a vzdělávací činnost dětí - 70 tis. Kč Zajišťování realizace aktivit se zaměřením na sociálně-právní ochranu dětí, a to ve spolupráci s nestátními neziskovými organizacemi a obcemi. Může se jednat o jednodenní i vícedenní aktivity jako jsou tábory a podobně. Jedná se o aktivity v samostatné působnosti. 3. Příprava budoucích pěstounů aosvojitelů - 300 tis. Kč Krajské úřady dle zákona č. 359/1999 Sb., o sociálně-právní ochraně dětí, ve znění pozdějších předpisů, zajišťují přípravy fyzických osob vhodných stát se osvojiteli nebo pěstouny k přijetí dítěte do rodiny a těmto osobám současně poskytují poradenskou pomoc související s osvojením dítěte nebo svěřením dítěte do pěstounské péče včetně speciální přípravy k přijetí dítěte pěstounem na přechodnou dobu (dále jen přípravy). Náklady představují realizaci 3-4 příprav pro fyzické osoby vhodné stát se osvojiteli a jednu přípravu pro osoby vhodné stát se pěstouny. Jedná se o aktivitu v přenesené působnosti.
B76: Podpora aktivit zaměřených na sociální začleňování - oblast prevence kriminality
B77: § 4349, POL 5229 - Ostatní neinv.transfery nezisk.a podob.organizacím, UZ 407 | J77: 100 | K77: tis.Kč
B78: Dotační program "Podpora aktivit zaměřených na sociální začleňování pro rok 2012" - oblast prevence kriminality Uvedená částka vychází ze schválených střednědobých dokumentů Olomouckého kraje, které v plánovaných aktivitách navrhují podpořit rozvoj preventivních aktivit na území kraje prostřednictvím dotačního programu kraje, jako hlavního pilíře funkčního modelu prevence kriminality v kraji. („Akční plán realizace prevence kriminality na území Olomouckého kraje na období 2009 – 2011“ schválen usnesením ZOK ze dne 24. 9. 2008 č. UZ/24/38/2008. Jedná se o aktivity v samostatné působnosti.
B85: Podpora aktivit zaměřených na sociální začleňování - oblast integrace příslušníků romských komunit
B86: § 4349, POL 5229 - Ostatní neinv.transfery nezisk.a podob.organizacím, UZ 408 | J86: 150 | K86: tis.Kč
B87: Dotační titul "Podpora aktivit zaměřených na sociální začleňování pro rok 2012" - oblast integrace příslušníků romských komunit Uvedená částka vychází ze schválených střednědobých dokumentů Olomouckého kraje, které v plánovaných aktivitách navrhují podpořit rozvoj preventivních aktivit na území kraje prostřednictvím dotačního programu kraje, jako hlavního pilíře funkčního modelu prevence kriminality v kraji. („Akční plán realizace prevence kriminality na území Olomouckého kraje na období 2009 – 2011“ schválen usnesením ZOK ze dne 24. 9. 2008 č. UZ/24/38/2008. Jedná se o aktivity v samostatné působnosti.
B89: Podpora aktivit zaměřených na sociální začleňování - oblast podpory terénních a ambulantních služeb
B90: § 4349, POL 5229 - Ostatní neinv.transfery nezisk.a podob.organizacím, UZ 414 | J90: 3000 | K90: tis.Kč
B91: Dotační program "Podpora aktivit zaměřených na sociální začleňování pro rok 2011" - oblast podpory terénních a ambulantních služeb Podpora terénních a ambulantních sociálních služeb vychází z Krajského plánu vyrovnávání příležitostí pro osoby se zdravotním postižením v Olomouckém kraji a ze Střednědobého plánu rozvoje sociálních služeb v Olomouckém kraji pro roky 2011-2014, které určují hlavní směr, kterým by se měly sociální služby ubírat. Jejich cílem je především zajištění dostupnosti a zvyšování kvality sociálních služeb na území Olomouckého kraje. Jedná se o aktivity v samostatné působnosti
B92: § 4399, POL 5169 - Nákup ostatních služeb | J92: 3913 | K92: tis.Kč
B93: 1. Realizace seminářů pro sociální pracovníky - 45 tis. Kč Realizace seminářů pro sociální pracovníky obcí (v činnosti sociální práce vedoucí k řešení nepříznivé sociální situace a k sociálnímu začleňování osob). Finanční prostředky budou využity pro realizaci vzdělávacích akcí – předběžná kalkulace na uskutečnění jednoho semináře cca 15.000,- Kč. Vzdělávací akce jsou nezbytné v návaznosti na nové rozdělení kompetencí v oblasti nepojistných sociálních dávek, k nimž došlo v rámci Sociální reformy, a rovněž s ohledem na potřebu sdílení dobré praxe při řešení nepříznivé sociální situace osob. Jedná se o aktivitu v rámci výkonu přenesené působnosti. 2. Specializovaná lékařská vyšetření pro potřeby posuzování žadatelů o náhradní rodinnou péči - 10 tis. Kč V souvislosti s odborným posuzováním žadatelů pro účely zprostředkování osvojení a pěstounské péče dle § 27 zákona č. 359/1999 Sb., o sociálně-právní ochraně dětí, ve znění pozdějších předpisů, vyvstává potřeba vyžádání doplňujících specializovaných lékařských vyšetření k verifikaci údajů vedoucích ke stanovení případných kontraindikací pro zařazení žadatelů do evidence osob vhodných stát se osvojiteli nebo pěstouny. V souladu s ustanovením § 15 odst. 10 zákona č. 48/1997 Sb., o veřejném zdravotním pojištění, ve znění pozdějších předpisů, takto vyžádaná vyjádření hradí orgán, pro který se vyšetření a vyjádření provádí. Při posuzování dětí vyvstává potřeba specializovaných vyšetření souvisejících s jejich zařazením do evidence dětí vhodných k náhradní rodinné péči. Jedná se o výkon přenesené působnosti. 3. Realizace seminářů pro sociální pracovníky v oblasti sociálně-právní ochrany dětí - 60 tis. Kč Realizace seminářů pro sociální pracovníky obecních úřadů obcí s rozšířenou působností v těchto oblastech: sociálně-právní ochrana dětí, oblast domácího násilí, syndrom zanedbávaného a zneužívaného dítěte, náhradní rodinná péče, problematika kurátorů pro mládež a supervize pro sociální pracovníky. Tyto aktivity budou realizovány formou jednodenních nebo vícedenních pracovních setkání. Finanční prostředky budou použity na financování lektorů a pronájmů místností prostřednictvím fyzických nebo právnických osob, které zajistí realizaci celé vzdělávací akce. Jedná se o aktivity v přenesené působnosti. 4. "Každý může být hvězdou," - 300 tis. Kč Jedná se o 3.ročník celostátní taneční a hudební soutěže, které se zúčastní uživatelé sociálních služeb (zejména z domovů pro osoby se zdravotním postižením). Každý kraj bude v průběhu prvního pololetí vybírat 2-3 vítěze pro celostátní finále, které se uskuteční na území Olomouckého kraje v srpnu 2012. Celá akce bude probíhat pod záštitou hejtmana Olomouckého kraje.
B95: 5. Rozloučení s létem v ZOO- 50 tis. Kč Jedná se o akci určenou pro příspěvkové organizace Olomouckého kraje v sociální oblasti. Zúčastní se jí uživatelé sociálních služeb s různými handicapy. Akce je spojena s hudebním a kulturním vystoupením uživatelů sociálních služeb a prodejem vlastnoručně zhotovených výrobků. Cílem akce je přispět k integraci zdravotně postižených do "zdravé" společnosti. Akce proběhne v září 2012 v areálu ZOO Olomouc pod záštitou hejtmana OK. 6. Smlouva o dílo-naposkytování služeb v olasti bezpečnosti a ochrany zdraví při práci, požární ochrany a ochrany životního prostředí pro PO v sociální oblasti - 1 724 tis. Kč Smlouvao dílo - na poskytování služeb v oblasti bezpečnosti a ochrany zdraví při práci, požární ochrany a ochrany životního prostředí pro PO v sociální oblasti zřizované Olonouckým krajem - uzavřená mezi Olomouckým krajem a Vzdělávacím institutem, spol. sr. o., se sídlem Vápenice 2980/7, 796 01. Jedná se o zajištění úkolů a povinností v oblasti bezpečnosti a ochrany zdraví při práci, požární ochrany a ochrany životního prostředí daných platnými právními předpisy. Stanovená částka pro zajištění úkolů v 1. pololetí roku 2012 činí 1 724 tis. Kč, dle účinnosti uzavřené smlouvy do 30. 6. 2012. 7. Smlouva o dílo-naposkytování služeb v olasti bezpečnosti a ochrany zdraví při práci, požární ochrany a ochrany životního prostředí pro PO v sociální oblasti - 1 724 tis. Kč Zajištění poskytování služeb v oblasti bezpečnosti a ochrany zdraví při práci, požární ochrany a ochrany životního prostředí pro PO v sociální oblasti zřizované Olomockým krajem ve 2. pololetí roku 2012 v předpokládané výši 1 724 tis. Kč, které určují dané platné právní předpisy.
B98: Akční plán realizace prevence kriminality na území Olomouckého kraje
B99: § 4399, POL 5169 - Nákup ostatních služeb | J99: 50 | K99: tis.Kč
B100: Spolufinancování projektu z oblasti prevence kriminality, Jedná se o realizaci projektu, jehož cílem je soubor preventivních aktivit zaměřených na oblast prevence majetkové kriminality. Jedná se o povinnou 10% spoluúčast státní podpory na realizaci pilotního projektu Olomouckého kraje v oblasti prevence kriminality, který bude realizován ve spolupráci s Policií ČR a dalšími partnery projektu. Akce proběhne formou objednávky služby. Jedná se o aktivitu v samostatné působnosti.
B101: Strategie integrace příslušníků romských komunit Olomouckého kraje
B102: § 4399, POL 5169 - Nákup ostatních služeb | J102: 25 | K102: tis.Kč
B103: Realizace seminářů (školení), workshopů pro oblast prevence sociálního vyloučení a prevence kriminality Uvedená částka vychází ze schváleného Střednědobého plánu rozvoje sociálních služeb na období 2011-2014. Klade si za cíl podpořit zvýšení odbornosti realizátorů preventivních aktivit a dalších zúčastněných subjektů prostřednictvím cíleně konstruovaných vzdělávacích záměrů. V oblasti sociálního vyloučení se jedná o zaměření na aktivity v oblasti sociálně patologických jevů – drogy, zadluženost, exekuce, práce s klientem. Tyto aktivity budou realizovány formou jednodenních nebo vícedenních pracovních setkání, workshopů, seminářů. Finanční prostředky budou použity na financování lektorů a pronájmů místností prostřednictvím fyzických nebo právnických osob, které zajistí realizaci celé vzdělávací akce. Jedná se o aktivity v samostatné působnosti.
B104: Střednědobý plán rozvoje sociálních služeb Olomouckého kraje
B105: § 4399, POL 5169 - Nákup ostatních služeb | J105: 900 | K105: tis.Kč
B106: Nákup ostatních služeb, UZ 412 Na základě ustanovení § 95 zákona č. 108/2006 Sb., o sociálních službách, je povinností kraje zajistit dostupnost informací o možnostech a způsobech poskytování sociálních služeb na svémúzemí a rovněž zpracovat střednědobý plán rozvoje sociálních služeb. Na realizaci uvedených povinností navrhuje OSV vyčlenit finanční prostředky: 1 545 tis. Kč na implementaci - na aktivity související s realizací opatření Střednědobého plánu rozvoje sociálních služeb v Olomouckém kraji na roky 2011-2014. Jedná se o realizaci opatření, které již vycházejí ze zpracovávaných cílů jednotlivých pracovních skupin podílejících se na sestavování Střednědobého plánu sociálních služeb (konference, mediální kampaně, analýzy atd.) Jedná se o aktivity v samostatné působnosti.
B107: § 4399, POL 5175 - Pohoštění | J107: 80 | K107: tis.Kč
B108: Porady ředitelů a ekonomů příspěvkových organizací Finanční prostředky budou použity na zajištění pracovních setkání vybraných pracovníků OSV vč. účasti náměstkyně Mgr. Yvony Kubjátové s řediteli a ekonomy příspěvkových organizací za účelem metodického vedení a řešení aktuálních problémů v sociální a ekonomické oblasti. Prostředky budou využity na pronájem místností, pronájem techniky a drobného občerstvení.
B109: § 6172, POL 5161 - Služby pošt | J109: 5 | K109: tis.Kč
B110: Služby pošt Úhrada za služby pošt související s odesíláním zdravotní dokumentace žadatelů o náhradní rodinnou péči a specializovaných vyšetření, která jsou nezbytná v rámci rozhodování o zařazení žadatelů do evidence osob vhodných stát se osvojiteli či pěstouny dle § 27 zákona č. 359/1999 Sb., o sociálně-právní ochraně dětí, ve znění pozdějších předpisů. Jedná se o aktivity v přenesené působnosti.
B111: § 6172, POL 5169 - Nákup ostatních služeb | J111: 10 | K111: tis.Kč
B112: Náklady spojené se soudním jednáním V návaznosti na ustanovení § 16 zákona č. 500/2004 Sb., správní řád, ve znění pozdějších předpisů, je nezbytné počítat s nutností zajištění tlumočení a překladů občanům ČR příslušejícím knárodnostní menšině, která tradičně a dlouhodobě žije na území ČR, případně zajištění jiného tlumočení v rámci správního řízení v působnosti oddělení sociální pomoci a oddělení sociálně-právní ochrany (např. do českého znakového jazyka, apod.).Částka reaguje na správní řád upravující postavení příslušného orgánu krajského úřadu v procesu správního řízení. Jedná se o aktivity v rámci výkonu přenesené působnosti.
B113: § 6172, POL 5192 - Poskytnuté neinvestiční příspěvky a náhrady (část) | J113: 20 | K113: tis.Kč
B114: Náklady na soudní spory Náklady na soudní spory (náklady řízení) v oblasti registrací poskytovatelů sociálních služeb a správních deliktů. Jedná se o náklady spojené s výkonem přenesené působnosti. Náklady na úhradu soudních poplatků, které by vznikly v souvislosti s prohranými soudními spory v případech žalob proti rozhodnutí vydaným oddělením sociální pomoci. Jedná se o náklady spojené s výkonem přenesené působnosti.

Sheet ORJ - 12
B2: Odbor dopravy a silničního hospodářství | K2: ORJ - 12
B5: Správce: | D5: Ing. Zdeněk Kocourek
D6: vedoucí odboru
K7: v tis. Kč
B8: § | C8: pol. | D8: UZ | E8: ORG | F8: název položky | G8: schválený rozpočet 2011 | H8: upravený rozpočet k 30.9.2011 | I8: skutečnost k 30.9.2011 | J8: návrh rozpočtu na rok 2012 | K8: %
B9: 1 | C9: 2 | D9: 3 | E9: 4 | F9: 5 | G9: 6 | H9: 7 | I9: 8 | J9: 9 | K9: 10=9/6
B10: 2212 | C10: 6315 | D10: 0 | E10: 30102000000 | F10: Inv.transfery vybran.podn.subj.ve vlastn. státu | G10: 20000 | H10: 20000 | I10: 20000 | J10: 0 | K10: =J10/G10*100 -> 0
F11: Příspěvek na bezpečnostní prvky na silnicích
B12: 2212 | C12: 6315 | D12: 608 | E12: 30103000000 | F12: Inv.transfery vybran.podn.subj.ve vlastn. státu | G12: 0 | H12: 450 | I12: 0 | J12: 0
B13: 2212 | C13: 6341 | D13: 608 | E13: 30100000000 | F13: Investiční transfery obcím | G13: 7000 | H13: 4147 | I13: 4121 | J13: 0 | K13: =J13/G13*100 -> 0
G14: =SUM(G12:G13) -> 7000 | H14: =SUM(H12:H13) -> 4597 | I14: =SUM(I12:I13) -> 4121 | J14: =SUM(J12:J13) -> 0 | K14: =J14/G14*100 -> 0
F15: Podpora výstavby cyklostezek
B16: 2219 | C16: 6341 | D16: 605 | E16: 30100000000 | F16: Investiční transfery obcím | G16: 4000 | H16: 6403 | I16: 5943 | J16: 6500 | K16: =J16/G16*100 -> 162.5
G17: =SUM(G16) -> 4000 | H17: =SUM(H16) -> 6403 | I17: =SUM(I16) -> 5943 | J17: =SUM(J16) -> 6500 | K17: =J17/G17*100 -> 162.5
F18: Dopravní obslužnost - autobusová
B19: 2221 | C19: 5193 | D19: 601 | E19: 20000000000 | F19: Výdaje na dopravní územní obslužnost | G19: 342691 | H19: 342691 | I19: =25466392/100 -> 254663.92 | J19: 365572 | K19: =J19/G19*100 -> 106.67686
B20: 2221 | C20: 5193 | D20: 602 | E20: 20000000000 | F20: Výdaje na dopravní územní obslužnost | G20: 2000 | H20: 2000 | I20: =73379/100 -> 733.79 | J20: 1500 | K20: =J20/G20*100 -> 75
B21: 2221 | C21: 5193 | D21: 606 | E21: 20000000000 | F21: Výdaje na dopravní územní obslužnost | G21: 450 | H21: 450 | I21: 0 | J21: 0 | K21: =J21/G21*100 -> 0
G22: =SUM(G19:G21) -> 345141 | H22: =SUM(H19:H21) -> 345141 | I22: =SUM(I19:I21) -> 255397.71 | J22: =SUM(J19:J21) -> 367072 | K22: =J22/G22*100 -> 106.35421
B23: 2223 | C23: 5166 | D23: 0 | E23: 20004000000 | F23: Konzultační, poradenské a právní služby | G23: 50 | H23: 50 | I23: 0 | J23: 80 | K23: =J23/G23*100 -> 160
B24: 2223 | C24: 5192 | D24: 0 | E24: 20000000000 | F24: Poskytnuté neinvestiční příspěvky a náhrady (část) | G24: 100 | H24: 180 | I24: =9938/100 -> 99.38 | J24: 160 | K24: =J24/G24*100 -> 160
B25: 2223 | C25: 5339 | D25: 0 | E25: 30103000000 | F25: Neinvestiční transfery cizím příspěvkovým organ. | G25: 750 | H25: 750 | I25: 750 | J25: 750 | K25: =J25/G25*100 -> 100
F26: Dopravní obslužnost - drážní
B27: 2242 | C27: 5193 | D27: 0 | E27: 20000000000 | F27: Výdaje na dopravní územní obslužnost | G27: 3000 | H27: 3000 | I27: 0 | J27: 0 | K27: =J27/G27*100 -> 0
B28: 2242 | C28: 5193 | D28: 604 | E28: 20000000000 | F28: Výdaje na dopravní územní obslužnost | G28: 388619 | H28: 388619 | I28: =29146424/100 -> 291464.24 | J28: 414015 | K28: =J28/G28*100 -> 106.53494
G29: =SUM(G27:G28) -> 391619 | H29: =SUM(H27:H28) -> 391619 | I29: =SUM(I27:I28) -> 291464.24 | J29: =SUM(J27:J28) -> 414015 | K29: =J29/G29*100 -> 105.71882
B30: 2299 | C30: 5166 | D30: 0 | E30: 20004000000 | F30: Konzultační, poradenské a právní služby | G30: 4010 | H30: 3930 | I30: 0 | J30: 0 | K30: =J30/G30*100 -> 0
B31: 2299 | C31: 5169 | D31: 0 | E31: 20001000000 | F31: Nákup ostatních služeb | G31: 160 | H31: 160 | I31: =1163/100 -> 11.63 | J31: 0 | K31: =J31/G31*100 -> 0
B32: 2299 | C32: 5229 | D32: 0 | E32: 30101000000 | F32: Ostatní neinv.transfery nezisk.a podob.organizacím | G32: 5 | H32: 5 | I32: 0 | J32: 0 | K32: =J32/G32*100 -> 0
B33: 2299 | C33: 5331 | D33: 0 | F33: Neinv. transfery příspěvkovým organ. | G33: 4283 | H33: 4283 | I33: 0 | J33: 0 | K33: =J33/G33*100 -> 0
B34: 2299 | C34: 6351 | D34: 0 | F34: Inv. transfery příspěvkovým organ. | G34: 2813 | H34: 2813 | I34: 0 | J34: 0 | K34: =J34/G34*100 -> 0
B35: 6172 | C35: 5164 | D35: 0 | E35: 20000000000 | F35: Nájemné | G35: 0 | H35: 20 | I35: =1897/100 -> 18.97 | J35: 17
B36: 6172 | C36: 5169 | D36: 0 | E36: 20000000000 | F36: Nákup ostatních služeb | G36: 0 | H36: 35 | I36: =3078/100 -> 30.78 | J36: 0
B37: 6172 | C37: 5175 | D37: 0 | E37: 20000000000 | F37: Pohoštění | G37: 0 | H37: 64 | I37: 64 | J37: 0
B38: 6172 | C38: 5901 | D38: 0 | E38: 20000000000 | F38: Nespecifikované rezervy | G38: 1229 | H38: 1110 | I38: 0 | J38: 0 | K38: =J38/G38*100 -> 0
B39: Celkem | G39: =SUM(G30:G38,G29,G22:G25,G17,G14,G10:G12) -> 781160 | H39: =SUM(H30:H38,H29,H22:H25,H17,H14,H10:H12) -> 781610 | I39: =SUM(I30:I38,I29,I22:I25,I17,I14,I10:I12) -> 577900.71 | J39: =SUM(J30:J38,J29,J22:J25,J17,J14,J10:J12) -> 788594 | K39: =J39/G39*100 -> 100.95166
B47: Podpora výstavby cyklostezek
B48: § 2219, POL 6341 - Investiční transfery obcím | J48: 6500 | K48: tis.Kč
B49: Příspěvek Olomouckého kraje obcím na území Olomouckého kraje na podporu výstavby a oprav cyklostezek. Projekt musí být schválen v ZOK - program podpory probíhá od roku 2004. V roce 2008 kraj neposkytl žádný příspěvek na cyklostezku - obce čerpaly dotaci v rámci ROP. V roce 2009 byl příspěvek rozpočtován ve výši 8 435 tis. Kč, pro rok 2010 byl příspěvek rozpočtován ve výši 6 000 tis. Kč a pro rok 2011 byl rozpočtován ve výši 4 000 tis. Kč ( zvýšen byl na částku 6 403 tis. Kč na úkor příspěvku na bezpečnostní prvky). Požadavek obcí na rok 2011 činil 27 142 tis. Kč. Návrh příspěvku na projekt podpory výstavby a oprav cyklostezek na rok 2012 je ve výši 5 500 tis. Kč. Usnesením ZOK č. UZ/20/17/2011 ze dne 24.6.2011 bylo schváleno poskytnutí příspěvku Mikroregionu Hranicko na výstavbu úseku Cyklostezky Bečva ve výši 2 000 tis. Kč v roce 2012.
B54: Dopravní obslužnost - autobusová
B55: § 2221, POL 5193 - Výdaje na dopravní územní obslužnost | J55: 365572 | K55: tis.Kč
B56: Finanční prostředky na úhradu ztráty dopravcům, kteří zajišťují na základě smlouvy o závazku veřejné služby základní dopravní obslužnost území kraje. Úhrada prokazatelné ztráty ZDO vyplývá ze zákona č. 111/1994 Sb., ve znění pozdějších předpisů. Částka k úhradě prokazatelné ztráty zůstává v základu zachována dle schváleného rozpočtu roku 2011 ve výši 342 691 tis.Kč a navýšení v průběhu roku 2011 ve výši 12 171 tis.Kč, tj. celkem 354 862 tis.Kč. Navýšení pro rok 2012 je způsobeno: 1. V roce 2012 dochází ke změně sazby DPH z 10% na 14% - předpokládaný dopad do dopravní obslužnosti OK ve výši 5 900 tis.Kč 2. Navýšení úhrady prokazatelné ztráty u dopravce Veolia Transport Morava a.s. z důvodu reorganizace dopravy OREDEM ve výši 600 tis. Kč. 3. V případě, že dopravce Auta-Busy Studený , s.r.o. obdrží finanční prostředky na obnovu vozového parku z ROP bude navýšena úhrada prokazatelné ztráty pro splnění TPS OK z důvodu plánovaného zaintegrování v roce 2012 - (poslední nezaintegrovaný dopravce), elektronické tabule a označovače 430 tis.Kč strojky pro výdej jízdních dokladů 250 tis.Kč pokud finanční prostř. z ROP neobdrží bude integrace odložena a dopravce si zajistí finanční prostředky na pořízení busů z vlastních zdrojů. 4. Mezikrajské smlouvy na dopravní obslužnost - Jihomoravský kraj ve výši 530 tis.Kč. 5. Prostředky na doplnění dopravní obslužnosti pro nové zdroje a cíle cest (školy, zaměstnanost, bydlení - satelity) ve výši 3 000 tis. Kč.
B57: § 2221, POL 5193 - Výdaje na dopravní územní obslužnost | J57: 1500 | K57: tis.Kč
B58: Úhrada ztráty z poskytnutého zlevněného žákovského jízdného dopravcům, kteří mají uzavřenou smlouvu o závazku veřejné služby na úhradu této ztráty. Úhrada vyplývá z metodického pokynu MD pra zavedení žákovského jízdného a Nařízení vlády č. 493/2004Sb., kterým se upravuje prokazatelná ztráta ve veřejné linkové dopravě. Částka vychází ze schválených ztrát roku 2011 a vychází z odhadů dopravců na rok 2012.
B59: § 2223, POL 5166 - Konzultační, poradenské a právní služby | J59: 80 | K59: tis.Kč
B60: Úhrada nákladů za zpracování bezpečnostních auditů na posouzení nebezpečných a kolizních míst na silnicích v majetku Olomouckého kraje a v místech železničních přejezdů - naplňování úkolu Národní strategie bezpečnosti silničního provozu (NSBSP)
B61: § 2223, POL 5192 - Poskytnuté neinvestiční příspěvky a náhrady (část) | J61: 160 | K61: tis.Kč
B62: Úhrada nákladů řízení při soudních sporech vedených proti Krajskému úřadu Olomouckého kraje, ve věci přestupků proti plynulosti provozu na pozemních komunikacích. Úhrada nákladů je prováděna na základě vydaného rozsudku soudem.
B63: § 2223, POL 5339 - Neinvestiční transfery cizím příspěvkovým organ. | J63: 750 | K63: tis.Kč
B64: V rámci provádění prevence v oblasti bezpečnosti a plynulosti silničního provozu (BESIP - činnost vyplývá ze zákona č. 361/2000 Sb., o provozu na pozemních komunikacích) na pozemních komunikacích. Olomoucký kraj prostřednictvím krajské koordinační komise BESIP zajišťuje organizaci výchovných akcí pro děti a dospělé, přípravu instruktorů dopravní výchovy, přispívá na údržbu a opravy dětských dopravních hřišť. Pro zajištění těchto činností bude poskytnut neinvestiční příspěvek státní příspěvkové organizaci Centrum služeb pro silniční dopravu, Praha ve výši 750 tis. Kč s vyúčtováním do konce roku 2012.
B65: Dopravní obslužnost - drážní
B66: § 2242, POL 5193 - Výdaje na dopravní územní obslužnost | J66: 414015 | K66: tis.Kč
B67: Úhrada prokazatelné ztráty - drážní dopravci ČD a.s. - návrh rozpočtu na rok 2012 ve výši 396 464 tis. Kč a úhrada prokazatelné ztráty Veolia TM - Železnice Desná - návrh rozpočtu ve výši 17 551 tis. Kč. Úhrada prokazatelné ztráty při zabezpečování základní dopravní obslužnosti v drážní osobní dopravě - podle zákona č. 266/1994 Sb., ve znění pozdějších předpisů, v souladu s vyhláškou č. 241/2005 Sb., o prokazatelné ztrátě ve veřejné drážní osobní dopravě. Úhrada dopravci ČD a.s. pro rok 2012 - vychází z odsouhlasené částky roku 2011 ve výši 371 254 tis. Kč, ROK odsouhlasilo částku navýšení o 25 210 tis. Kč, toto navýšení bylo zdůvodněno změnou sazby DPH, nárůstem nákladových vstupů - především ceny energií, odpisů a opravy. Dopravce VeoliaTransport Morava a.s. - odhadnuta částka pro rok 2012 ve výši 17 551 tis. Kč, přičemž v roce 2011 byla ve výši 17 365 tis.Kč. V nepatrném navýšení je zohledněna změna sazby DPH a vstupních energií.
B68: § 6172, POL 5164 - Nájemné | J68: 17 | K68: tis.Kč
B69: V rámci spolupráce a koordinace správních činností odvolacích správních orgánů bude v roce 2012 svolána metodická porada pro pracovníky krajských úřadů vykonávajících správní řízení ve věcech projednávání předstupků v dopravě a přestupků souvisejících.

Sheet ORJ - 13
B2: Odbor kultury a památkové péče | K2: ORJ - 13
B4: Správce: | D4: PhDr. Jindřich Garčic
D5: vedoucí odboru
K6: v tis. Kč
B7: § | C7: pol. | D7: UZ | E7: ORG | F7: název položky | G7: schválený rozpočet 2011 | H7: upravený rozpočet k 30.9.2011 | I7: skutečnost k 30.9.2011 | J7: návrh rozpočtu na rok 2012 | K7: %
B8: 1 | C8: 2 | D8: 3 | E8: 4 | F8: 5 | G8: 6 | H8: 7 | I8: 8 | J8: 9 | K8: 10=9/6
F9: Příspěvky divadlům a filharmoniím
B10: 3311 | C10: 5213 | D10: 200 | E10: 30102000000 | F10: Neinv.transfery nefin.podnik.subjektům-práv.osobám | G10: 304 | H10: 304 | I10: 304 | J10: 304 | K10: =J10/G10*100 -> 100
B11: 3311 | C11: 5321 | D11: 200 | E11: 30100008357 | F11: Neinvestiční transfery obcím | G11: 1392 | H11: 1392 | I11: 1392 | J11: 1392 | K11: =J11/G11*100 -> 100
B12: 3312 | C12: 5321 | D12: 200 | E12: 30100008357 | F12: Neinvestiční transfery obcím | G12: 304 | H12: 304 | I12: 304 | J12: 304 | K12: =J12/G12*100 -> 100
G13: =SUM(G10:G12) -> 2000 | H13: =SUM(H10:H12) -> 2000 | I13: =SUM(I10:I12) -> 2000 | J13: =SUM(J10:J12) -> 2000 | K13: =J13/G13*100 -> 100
F14: Neinvestiční dotace pro knihovny - regionální funkce knihoven
B15: 3314 | C15: 5321 | D15: 204 | F15: Neinvestiční transfery obcím | G15: 9300 | H15: 8400 | I15: 6300 | J15: 9300 | K15: =J15/G15*100 -> 100
B16: 3314 | C16: 5331 | D16: 204 | E16: 30003001601 | F16: Neinv. transfery příspěvkovým organ. | G16: 0 | H16: 900 | I16: 900
G17: =SUM(G15:G16) -> 9300 | H17: =SUM(H15:H16) -> 9300 | I17: =SUM(I15:I16) -> 7200 | J17: =SUM(J15:J16) -> 9300 | K17: =J17/G17*100 -> 100
B18: 3315 | C18: 5339 | D18: 16 | E18: 30103003009 | F18: Neinvestiční transfery cizím příspěvkovým organ. | G18: 26000 | H18: 26000 | I18: 19500 | J18: 25000 | K18: =J18/G18*100 -> 96.153846
B19: 3319 | C19: 5166 | D19: 0 | E19: 20000000000 | F19: Konzultační, poradenské a právní služby | G19: 25 | H19: 25 | I19: 0 | J19: 25 | K19: =J19/G19*100 -> 100
B20: 3319 | C20: 5169 | D20: 0 | E20: 20000000000 | F20: Nákup ostatních služeb | G20: 635 | H20: 560 | I20: 560 | J20: 535 | K20: =J20/G20*100 -> 84.251969
B21: 3319 | C21: 5169 | D21: 16 | E21: 20000000000 | F21: Nákup ostatních služeb | G21: 0 | H21: 0 | I21: 0 | J21: =8010/100 -> 80.1
B22: 3319 | C22: 5194 | D22: 0 | E22: 20000000000 | F22: Věcné dary | G22: 140 | H22: 140 | I22: 140 | J22: 140 | K22: =J22/G22*100 -> 100
F23: Podpora kultury a památkové péče
B24: 3322 | C24: 5223 | D24: 209 | E24: 30102000000 | F24: Neinv.transfery církvím a naboženským společnostem | G24: 22850 | H24: 0 | I24: 0 | J24: 23250 | K24: =J24/G24*100 -> 101.75055
B25: 3311,3312,3319 | C25: 5212 | D25: 212 | F25: Neinv.transfery nefin.podnik.subjektům-fyz.osobám | G25: 0 | H25: 640 | I25: 640 | J25: 0
B26: 3311,3312,3319,3322 | C26: 5213 | D26: 211.212 | F26: Neinv.transfery nefin.podnik.subjektům-práv.osobám | G26: 0 | H26: 1820 | I26: 1670 | J26: 0
B27: 3312, 3319 | C27: 5221 | D27: 212 | F27: Neinvestiční transf.obecně prospěšným společnostem | G27: 0 | H27: 150 | I27: 150 | J27: 0
B28: 3311,3312,3315,3319,3322 | C28: 5222 | D28: 210,211, 212 | F28: Neinvestiční transfery občanským sdružením | G28: 0 | H28: 5525 | I28: 4475 | J28: 0
B29: 3312,3319,3322 | C29: 5223 | D29: 209,210, 211,212 | F29: Neinv.transfery církvím a naboženským společnostem | G29: 0 | H29: 4457 | I29: 719 | J29: 0
B30: 3311,3312,3319,3322 | C30: 5321 | D30: 210,211, 212 | F30: Neinvestiční transfery obcím | G30: 0 | H30: 7754 | I30: 3428 | J30: 0
B31: 3312 | C31: 5331 | D31: 212 | F31: Neinv. transfery příspěvkovým organ. | G31: 0 | H31: 40 | I31: 40 | J31: 0
B32: 3315,3319, | C32: 5339 | D32: 212 | F32: Neinvestiční transfery cizím příspěvkovým organ. | G32: 0 | H32: 170 | I32: 170 | J32: 0
B33: 3312,3319,3322 | C33: 5493 | D33: 210,211, 212 | F33: Účelové neinvest. transf. nepodnikajícím fyz. osob | G33: 0 | H33: 1909 | I33: 469 | J33: 0
G34: =SUM(G24:G33) -> 22850 | H34: =SUM(H24:H33) -> 22465 | I34: =SUM(I24:I33) -> 11761 | J34: =SUM(J24:J33) -> 23250 | K34: =J34/G34*100 -> 101.75055
F35: Podpora kultury a památkové péče - přímá podpora významných kulturních akcí
B36: 3312 | C36: 5213 | D36: 213 | F36: Neinv.transfery nefin.podnik.subjektům-práv.osobám | G36: 0 | H36: 700 | I36: 700 | J36: 0
B37: 3311,3312, | C37: 5222 | D37: 213 | F37: Neinvestiční transfery občanským sdružením | G37: 0 | H37: 2450 | I37: 2050 | J37: 0
B38: 3312 | C38: 5223 | D38: 213 | F38: Neinv.transfery církvím a naboženským společnostem | G38: 6750 | H38: 0 | I38: 0 | J38: 6750 | K38: =J38/G38*100 -> 100
B39: 3312,3319, | C39: 5321 | D39: 213 | F39: Neinvestiční transfery obcím | G39: 0 | H39: 2100 | I39: 1700 | J39: 0
B40: 3312 | C40: 5321 | D40: 213 | F40: Neinvestiční transfery obcím | G40: 0 | H40: 1950 | I40: 1550 | J40: 0
B41: 3319 | C41: 5339 | D41: 213 | F41: Neinvestiční transfery cizím příspěvkovým organ. | G41: 0 | H41: 1000 | I41: 1000 | J41: 0
G42: =SUM(G36:G41) -> 6750 | H42: =SUM(H36:H41) -> 8200 | I42: =SUM(I36:I41) -> 7000 | J42: =SUM(J36:J41) -> 6750 | K42: =J42/G42*100 -> 100
B43: 3319 | C43: 6359 | D43: 16 | E43: 30103000000 | F43: Investiční transf. ostat.příspěvkovým organizacím | G43: 0 | H43: 60 | I43: =4515/100 -> 45.15 | J43: 0
B44: Celkem | G44: =SUM(G43,G42,G34,G18:G22,G17,G13) -> 67700 | H44: =SUM(H43,H42,H34,H18:H22,H17,H13) -> 68750 | I44: =SUM(I43,I42,I34,I18:I22,I17,I13) -> 48206.15 | J44: =SUM(J43,J42,J34,J18:J22,J17,J13) -> 67080.1 | K44: =J44/G44*100 -> 99.084343
B49: Příspěvky divadlům a filharmoniím
B50: § 3311, POL 5213 - Neinv.transfery nefin.podnik.subjektům-práv.osobám | J50: 304 | K50: tis.Kč
B51: Jedná se o příspěvek Divadlu Šumperk s.r.o. na zajištění regionální funkce divadla v Šumperku (ÚZ 200).
B53: § 3311, POL 5321 - Neinvestiční transfery obcím | J53: 1392 | K53: tis.Kč
B54: Jedná se o dotaci Moravskému divadlu Olomouc, které je příspěvkovou organizací Statutárního města Olomouc (ÚZ 200) na zajištění regionální funkce divadla.
B56: § 3312, POL 5321 - Neinvestiční transfery obcím | J56: 304 | K56: tis.Kč
B57: Jedná se o dotaci Moravské filharmonii Olomouc, která je příspěvkovou organizací Statutárního města Olomouc (ÚZ 200) na zajištění regionální funkce filharmonie. Součástí schválené "Koncepce rozvoje kultury a památkové péče Olomouckého kraje" jetaké podpora významných subjektů, které působí v Olomouckém kraji a nejsou zřizovány Olomouckým krajem, avšak mají regionální působnost. Přiznání dotace na podporu regionální činnosti z prostředků kraje je jednou z podmínek pro to, aby se divadla a filharmonie mohly ucházet i o dotaci z Programu podpory divadel a profesionálních hudebních souborů vypisovaného Ministerstvem kultury ČR.
B58: Neinvestiční dotace pro knihovny - regionální funkce knihoven
B59: § 3314, POL 5321 - Neinvestiční transfery obcím | J59: 9300 | K59: tis.Kč
B60: Podle zákona č. 257/2001 Sb. (knihovní zákon) plní a koordinuje krajská knihovna regionální funkce vybraných knihoven v kraji. V Olomouckém kraji zajišťuje plnění regionálních funkcí Vědecká knihovna v Olomouci, a to prostřednictvím sedmi pověřených knihoven (Hranice, Jeseník, Lipník nad Bečvou, Olomouc, Prostějov, Přerov a Šumperk). Tyto knihovny smluvně zajišťují standartizované výkony pro cca 500 základních knihoven v kraji.
B61: § 3315, POL 5339 - Neinvestiční transfery cizím příspěvkovým organ. | J61: 25000 | K61: tis.Kč
B62: Dle článku V. uzavřené "Základní smlouvy" o předání Muzea umění Olomouc Ministerstvu kultury ČR se předávající Olomoucký kraj zavázal v rámci podpory kultury poskytovat Muzeu umění Olomouc počínaje rokem 2007 až do případné změny v rozpočtovém určení daní neinvestiční příspěvek na činnost muzea.
B63: § 3319, POL 5166 - Konzultační, poradenské a právní služby | J63: 25 | K63: tis.Kč
B64: Jedná se o možné náklady spojené s vypracováním znaleckých posudků, které bude případně nutné si vyžádat v rámci správních řízení a v rámci řízení odvolacích (převážně v oblasti památkové péče).
B65: § 3319, POL 5169 - Nákup ostatních služeb | J65: 535 | K65: tis.Kč
B66: 1. Metodická činnost - 5 tis. Kč Podle ustanovení § 28 odst. 1 zák. č. 20/1987 Sb., metodicky řídí krajský úřad výkon státní památkové péče v kraji. Povinnost zajišťovat metodickou činnost v oblasti kultury vyplývá především z ustanovení § 1, odst. 3 a § 14, odst. 2 zákona č. 129/2000 Sb., o krajích. Požadovaná finanční částka bude použita na úhradu činnosti lektorů a vypracování metodických materiálů. Metodická činnost bude výrazně zaměřena na problematiku možnosti získat pro akce v oblasti kultury a památkové péče zdroje z fondu EU. 2. Inzerce - 70 tis.Kč Tato částka je stanovena pro financování výběrových řízení, které jsou plánovány v roce 2012. 3. Ceny Olomouckého kraje - 460 tis. Kč V rámci této položky budou financovány náklady spojené se zajištěním organizace slavnostního předání Cen Olomouckého kraje za oblast kultury za rok 2011 v souladu s pravidly schválenými v ZOK dne 10.9.2007 dle usnesení ZOK č. UZ/17/28/2007.
B67: § 3319, POL 5169 - Nákup ostatních služeb | J67: =8010/100 -> 80.1 | K67: tis.Kč
B68: Usnesením ROK č. UR/71/51/2011 ze dne 13.9.2011 byl schválen materiál Záměr projektu Olomouckého kraje na česko - polskou spolupráci z programu Ministerstva zahraničních věcí podle kterého byla odsouhlasena finanční spoluúčast 30 % podílu odborem kultury a památkové péče ve výši 80 100,- Kč za zajištění financování projektu dle navrhovaného rozpočtu. Předpokladem financování je schválení předloženého projektu Ministerstvem zahraničních věcí.
B69: § 3319, POL 5194 - Věcné dary | J69: 140 | K69: tis.Kč
B70: Z této položky budou financovány náklady spojené s pořízením věcných darů u příležitosti předání Cen Olomouckého kraje za oblast kultury za rok 2011.
B71: Podpora kultury a památkové péče
B72: § 3322, POL 5223 - Neinv.transfery církvím a naboženským společnostem | J72: 23250 | K72: tis.Kč
B73: Z programu podpora kultury a památkové péče (ÚZ 209) budou financovány dotace příslušných podprogramů, tj. Obnova kulturních památek v OK (ÚZ 210), Obnova staveb drobnéarchitektury místního významu v OK (ÚZ 211) a Podpora kulturních aktivit v OK (ÚZ 212).
B74: Podpora kultury a památkové péče - přímá podpora význmaných kulturních akcí
B75: § 3322, POL 5223 - Neinv.transfery církvím a naboženským společnostem | J75: 6750 | K75: tis.Kč
B76: Přímá podpora významných kulturních akcí Jedná se o dotace na podporu významných kulturních akcí, které se uskuteční v roce 2012 (ÚZ 213).

Sheet ORJ - 14
B2: Odbor zdravotnictví | K2: ORJ - 14
B5: Správce: | D5: MUDr. Eva Štefková
D6: vedoucí odboru
K7: v tis. Kč
B8: § | C8: pol. | D8: UZ | E8: ORG | F8: název položky | G8: schválený rozpočet 2011 | H8: upravený rozpočet k 30.9.2011 | I8: skutečnost k 30.9.2011 | J8: návrh rozpočtu na rok 2012 | K8: %
B9: 1 | C9: 2 | D9: 3 | E9: 4 | F9: 5 | G9: 6 | H9: 7 | I9: 8 | J9: 9 | K9: 10=9/6
F10: Lékařská služba první pomoci
B11: 3513 | C11: 5169 | D11: 252 | E11: 20000000000 | F11: Nákup ostatních služeb | G11: 3000 | H11: 3000 | I11: 1550 | J11: 3000 | K11: =J11/G11*100 -> 100
B12: 3513 | C12: 5169 | D12: 252 | E12: 20000003010 | F12: Nákup ostatních služeb | G12: 340 | H12: 340 | I12: =22062/100 -> 220.62 | J12: 333 | K12: =J12/G12*100 -> 97.941176
B13: 3513 | C13: 5169 | D13: 252 | E13: 20000003014 | F13: Nákup ostatních služeb | G13: 6264 | H13: 6264 | I13: 4698 | J13: 6264 | K13: =J13/G13*100 -> 100
B14: 3513 | C14: 5169 | D14: 256 | E14: 20000000000 | F14: Nákup ostatních služeb | G14: 340 | H14: 340 | I14: =23420/100 -> 234.2 | J14: 332 | K14: =J14/G14*100 -> 97.647059
G15: =SUM(G11:G14) -> 9944 | H15: =SUM(H11:H14) -> 9944 | I15: =SUM(I11:I14) -> 6702.82 | J15: =SUM(J11:J14) -> 9929 | K15: =J15/G15*100 -> 99.849155
B16: 3522 | C16: 5169 | D16: 0 | E16: 20000000000 | F16: Nákup ostatních služeb | G16: 0 | H16: =4550/100 -> 45.5 | I16: =4550/100 -> 45.5 | J16: 0
F17: Provoz záchytné stanice
B18: 3522 | C18: 5169 | D18: 253 | E18: 20000003011 | F18: Nákup ostatních služeb | G18: 6099 | H18: 6099 | I18: 4066 | J18: 6099 | K18: =J18/G18*100 -> 100
G19: =SUM(G18) -> 6099 | H19: =SUM(H18) -> 6099 | I19: =SUM(I18) -> 4066 | J19: =SUM(J18) -> 6099 | K19: =J19/G19*100 -> 100
B20: 3522 | C20: 6202 | D20: 0 | E20: 60005003006 | F20: Nákup majetkových podílů | G20: 7000 | H20: 7000 | I20: 7000 | J20: 6000 | K20: =J20/G20*100 -> 85.714286
B21: 3532 | C21: 5169 | D21: 0 | E21: 20000000000 | F21: Nákup ostatních služeb | G21: 30 | H21: 30 | I21: 10 | J21: 15 | K21: =J21/G21*100 -> 50
F22: Financování protidrogové prevence
