Workbook

Sheet Souhrn - investice celkem
A1: 4. Financování investičních akcí 2012
I2: v tis. Kč
A3: Oblast | C3: Název přílohy | D3: Spolufinancování PO z IF | E3: Návrh na úvěrový rámec KB | F3: Návrh na úvěrový rámec EIB | G3: Návrh na rozpočet OK | H3: z dotací SFŽP, ROP | I3: Celkem
B5: Oblast školství | C5: Rozpracované investice | D5: =Souhrn!D8 -> 100 | E5: =Souhrn!E8 -> 11433 | F5: =Souhrn!F8 -> 55768 | G5: =Souhrn!G8 -> 13304 | I5: =SUM(D5:G5) -> 80605
B6: Oblast školství | C6: Nové investice | D6: 4665 | E6: 58000 | F6: 0 | G6: 0 | I6: =SUM(D6:G6) -> 62665
B7: Oblast školství | C7: Rozpr. investice - hrazené ze strukt.fondů | F7: 4549 | H7: 35382 | I7: =SUM(D7:H7) -> 39931
A8: Oblast školství - součet | D8: =SUM(D5:D6) -> 4765 | E8: =SUM(E5:E6) -> 69433 | F8: =SUM(F5:F7) -> 60317 | G8: =SUM(G5:G6) -> 13304 | H8: =SUM(H5:H7) -> 35382 | I8: =SUM(D8:H8) -> 183201
B9: Oblast sociální | C9: Rozpracované investice | D9: 0 | E9: 24499 | F9: 40132 | G9: 5486 | I9: =SUM(D9:G9) -> 70117
B10: Oblast sociální | C10: Nové investice | D10: 810 | E10: 70000 | F10: 0 | G10: 0 | I10: =SUM(D10:G10) -> 70810
B11: Oblast sociální | C11: Rozpr. investice - hrazené ze strukt.fondů | F11: 3750 | H11: 11249 | I11: =SUM(D11:H11) -> 14999
A12: Oblast sociální - součet | D12: =SUM(D9:D10) -> 810 | E12: =SUM(E9:E10) -> 94499 | F12: =SUM(F9:F11) -> 43882 | G12: =SUM(G9:G10) -> 5486 | H12: =SUM(H9:H11) -> 11249 | I12: =SUM(D12:H12) -> 155926
B13: Oblast kultury | C13: Rozpracované investice | D13: 0 | E13: 19377 | F13: 0 | G13: 1086 | I13: =SUM(D13:G13) -> 20463
B14: Oblast kultury | C14: Nové investice | D14: 0 | E14: 23000 | F14: 0 | G14: 0 | I14: =SUM(D14:G14) -> 23000
A15: Oblast kultury - součet | D15: =SUM(D13:D14) -> 0 | E15: =SUM(E13:E14) -> 42377 | F15: =SUM(F13:F14) -> 0 | G15: =SUM(G13:G14) -> 1086 | I15: =SUM(D15:H15) -> 43463
B16: Oblast dopravy | C16: Rozpracované investice | D16: 0 | E16: 17040 | F16: 58342 | G16: 48747 | I16: =SUM(D16:G16) -> 124129
B17: Oblast dopravy | C17: Nové investice | D17: 0 | E17: 24200 | F17: 63166 | G17: 12634 | I17: =SUM(D17:G17) -> 100000
B18: Oblast dopravy | C18: Rozpr. investice - hrazené ze strukt.fondů | F18: 84801 | H18: 254402 | I18: =SUM(D18:H18) -> 339203
A19: Oblast dopravy - součet | D19: =SUM(D16:D17) -> 0 | E19: =SUM(E16:E17) -> 41240 | F19: =SUM(F16:F18) -> 206309 | G19: =SUM(G16:G17) -> 61381 | H19: =SUM(H16:H18) -> 254402 | I19: =SUM(D19:H19) -> 563332
B20: Oblast zdravotnictví | C20: Rozpracované investice | D20: 0 | E20: 0 | F20: 17583 | G20: 3790 | I20: =SUM(D20:G20) -> 21373
B21: Oblast zdravotnictví | C21: Nové investice | D21: 5370 | E21: 22974 | I21: =SUM(D21:G21) -> 28344
B22: Oblast zdrav. - nájemné SMN a.s. | C22: Rozpracované investice | G22: 10853 | I22: =SUM(D22:G22) -> 10853
B23: Oblast zdrav. - nájemné SMN a.s. | C23: Nové investice | G23: 17026 | I23: =SUM(D23:G23) -> 17026
B24: Oblast zdravotnictví | C24: Rozpr. investice - hrazené ze strukt.fondů | F24: 4205 | H24: 23827 | I24: =SUM(D24:H24) -> 28032
A25: Oblast zdravotnictví - součet | D25: =SUM(D20:D22) -> 5370 | E25: =SUM(E20:E22) -> 22974 | F25: =SUM(F20:F24) -> 21788 | G25: =SUM(G20:G24) -> 31669 | H25: =SUM(H20:H24) -> 23827 | I25: =SUM(D25:H25) -> 105628
A26: KH - cestovní ruch | E26: 4400 | I26: =SUM(E26:G26) -> 4400
B27: OIT | C27: Nové investice | E27: 2400 | I27: =SUM(E27:H27) -> 2400
B28: OIT | C28: Rozpr. investice - hrazené ze strukt.fondů | F28: 10378 | H28: 58809 | I28: =SUM(D28:H28) -> 69187
A29: OIT - součet | E29: =SUM(E27:E28) -> 2400 | F29: =SUM(F27:F28) -> 10378 | G29: =SUM(G27:G28) -> 0 | H29: =SUM(H27:H28) -> 58809 | I29: =SUM(I27:I28) -> 71587
A30: KŘ | E30: 2200 | I30: =SUM(E30:G30) -> 2200
A31: Velké investiční akce | F31: ='[1]Velké investiční akce'!O16 -> 260417 | G31: ='[1]Velké investiční akce'!P16 -> 52083 | I31: =SUM(D31:G31) -> 312500
A32: Celkem | D32: =D8+D12+D15+D19+D25+D26+D29+D30+D31 -> 10945 | E32: =E8+E12+E15+E19+E25+E26+E29+E30+E31 -> 279523 | F32: =F8+F12+F15+F19+F25+F26+F29+F30+F31 -> 603091 | G32: =G8+G12+G15+G19+G25+G26+G29+G30+G31 -> 165009 | H32: =H8+H12+H15+H19+H25+H26+H29+H30+H31 -> 383669 | I32: =I8+I12+I15+I19+I25+I31+I26+I29+I30 -> 1442237
A35: zůstatek úvěrového rámce Komerční banky, a.s. | D35: 5368 | E35: tis. Kč
A36: zůstatek úvěrového rámce Evropské investiční banky | D36: 782398 | E36: tis. Kč

Sheet sumář investice
A1: Financování investičních akcí
A2: a) Návrh rozpracovaných investičních akcí v roce 2012
H3: v tis. Kč
A4: Oblast | C4: Název přílohy | D4: Spolufinancování PO z IF | E4: Návrh na úvěrový rámec KB | F4: Návrh na úvěrový rámec EIB | G4: Návrh na rozpočet OK | H4: Celkem
B6: Oblast školství | C6: Rozpracované investiční akce | D6: ='Š-INV '!N14 -> 100 | E6: ='Š-INV '!O14 -> 5448 | F6: ='Š-INV '!P14 -> 55768 | G6: ='Š-INV '!Q14 -> 11154 | H6: =SUM(D6:G6) -> 72470
B7: Oblast školství | C7: Rozpracované opravy | E7: ='Š-opravy'!O14 -> 5985 | F7: ='Š-opravy'!P14 -> 0 | G7: ='Š-opravy'!Q14 -> 2150 | H7: =SUM(D7:G7) -> 8135
A8: Oblast školství - součet | D8: =SUM(D6:D7) -> 100 | E8: =SUM(E6:E7) -> 11433 | F8: =SUM(F6:F7) -> 55768 | G8: =SUM(G6:G7) -> 13304 | H8: =SUM(D8:G8) -> 80605
B9: Oblast sociální | C9: Rozpracovaná projektová dokumentace | D9: ='Sociální-PD'!N14 -> 0 | E9: ='Sociální-PD'!O14 -> 2209 | F9: ='Sociální-PD'!P14 -> 0 | G9: ='Sociální-PD'!Q14 -> 588 | H9: =SUM(D9:G9) -> 2797
B10: Oblast sociální | C10: Rozpracované investiční akce | D10: ='Sociální-INV'!N18 -> 0 | E10: ='Sociální-INV'!O18 -> 22290 | F10: ='Sociální-INV'!P18 -> 40132 | G10: ='Sociální-INV'!Q18 -> 4898 | H10: =SUM(D10:G10) -> 67320
A11: Oblast sociální - součet | D11: =SUM(D9:D10) -> 0 | E11: =SUM(E9:E10) -> 24499 | F11: =SUM(F9:F10) -> 40132 | G11: =SUM(G9:G10) -> 5486 | H11: =SUM(D11:G11) -> 70117
B12: Oblast kultury | C12: Rozpracovaná projektová dokumentace | D12: ='Kultura-PD'!N12 -> 0 | E12: ='Kultura-PD'!O12 -> 794 | F12: ='Kultura-PD'!P12 -> 0 | G12: ='Kultura-PD'!Q12 -> 1086 | H12: =SUM(D12:G12) -> 1880
B13: Oblast kultury | C13: Rozpracované investiční akce | D13: ='Kultura-INV'!N17 -> 0 | E13: ='Kultura-INV'!O17 -> 18583 | F13: ='Kultura-INV'!P17 -> 0 | G13: ='Kultura-INV'!Q17 -> 0 | H13: =SUM(D13:G13) -> 18583
A14: Oblast kultury - součet | D14: =SUM(D12:D13) -> 0 | E14: =SUM(E12:E13) -> 19377 | F14: =SUM(F12:F13) -> 0 | G14: =SUM(G12:G13) -> 1086 | H14: =SUM(D14:G14) -> 20463
B15: Oblast dopravy | C15: Rozpracovaná projektová dokumentace | D15: ='Doprava-PD'!N37 -> 0 | E15: ='Doprava-PD'!O37 -> 15230 | F15: ='Doprava-PD'!P37 -> 0 | G15: ='Doprava-PD'!Q37 -> 4079 | H15: =SUM(D15:G15) -> 19309
B16: Oblast dopravy | C16: Rozpracované investiční akce | D16: ='Doprava-INV '!O18 -> 0 | E16: ='Doprava-INV '!P18 -> 1810 | F16: ='Doprava-INV '!Q18 -> 58342 | G16: ='Doprava-INV '!R18 -> 44668 | H16: =SUM(D16:G16) -> 104820
A17: Oblast dopravy - součet | D17: =SUM(D15:D16) -> 0 | E17: =SUM(E15:E16) -> 17040 | F17: =SUM(F15:F16) -> 58342 | G17: =SUM(G15:G16) -> 48747 | H17: =SUM(D17:G17) -> 124129
B18: Oblast zdravotnictví | C18: Rozpracovaná projektová dokumentace | D18: ='Zdr.-PD'!N14 -> 0 | E18: ='Zdr.-PD'!O14 -> 0 | F18: ='Zdr.-PD'!P14 -> 0 | G18: ='Zdr.-PD'!Q14 -> 273 | H18: =SUM(D18:G18) -> 273
B19: Oblast zdravotnictví | C19: Rozpracované investiční akce | D19: ='Zdr.-INV'!N11 -> 0 | E19: ='Zdr.-INV'!O11 -> 0 | F19: ='Zdr.-INV'!P11 -> 17583 | G19: ='Zdr.-INV'!Q11 -> 3517 | H19: =SUM(D19:G19) -> 21100
B20: Oblast zdrav. - nájemné SMN a.s. | C20: Rozpracované investiční akce | G20: ='Zdrav.-nájem '!O12 -> 10853 | H20: =SUM(D20:G20) -> 10853
A21: Oblast zdravotnictví - součet | D21: =SUM(D18:D20) -> 0 | E21: =SUM(E18:E20) -> 0 | F21: =SUM(F18:F20) -> 17583 | G21: =SUM(G18:G20) -> 14643 | H21: =SUM(D21:G21) -> 32226
A22: Velké investiční akce | F22: ='Velké investiční akce'!N14 -> 260417 | G22: ='Velké investiční akce'!O14 -> 52083 | H22: =SUM(D22:G22) -> 312500
A23: Celkem | D23: =D8+D11+D14+D17+D21+D22 -> 100 | E23: =E8+E11+E14+E17+E21+E22 -> 72349 | F23: =F8+F11+F14+F17+F21+F22 -> 432242 | G23: =G8+G11+G14+G17+G21+G22 -> 135349 | H23: =H8+H11+H14+H17+H21+H22 -> 640040
A25: b) Návrh nových investičních akcí v roce 2012
H26: v tis. Kč
A27: Oblast | C27: Název přílohy | D27: Spolufinan. PO z IF: | E27: Návrh na úvěrový rámec KB | F27: Návrh na úvěrový rámec EIB | G27: Návrh na rozpočet OK | H27: Celkem
B28: Oblast školství | C28: Nová projektová dokumentace | D28: 25 | E28: 2605 | H28: =SUM(D28:G28) -> 2630
B29: Oblast školství | C29: Nové investice | D29: 2644 | E29: 33011 | F29: 0 | H29: =SUM(D29:G29) -> 35655
B30: Oblast školství | C30: Nové opravy | D30: 1996 | E30: 22384 | H30: =SUM(D30:G30) -> 24380
A31: Oblast školství - součet | D31: =SUM(D28:D30) -> 4665 | E31: =SUM(E28:E30) -> 58000 | F31: =SUM(F28:F30) -> 0 | G31: =SUM(G28:G30) -> 0 | H31: =SUM(H28:H30) -> 62665
B32: Oblast sociální | C32: Nová projektová dokumentace | D32: 0 | E32: 1750 | H32: =SUM(D32:G32) -> 1750
B33: Oblast sociální | C33: Nové investice - stavební | D33: 0 | E33: 43377 | F33: 0 | H33: =SUM(D33:G33) -> 43377
B34: Oblast sociální | C34: Nové investice - nestavební | D34: 810 | E34: 17353 | H34: =SUM(D34:G34) -> 18163
B35: Oblast sociální | C35: Nové opravy | D35: 0 | E35: 7520 | H35: =SUM(D35:G35) -> 7520
A36: Oblast sociální - součet | D36: =SUM(D32:D35) -> 810 | E36: =SUM(E32:E35) -> 70000 | F36: =SUM(F32:F35) -> 0 | G36: =SUM(G32:G35) -> 0 | H36: =SUM(H32:H35) -> 70810
B37: Oblast kultury | C37: Nová projektová dokumentace | D37: 0 | E37: 1600 | H37: =SUM(D37:G37) -> 1600
B38: Oblast kultury | C38: Nové investice - stavební | D38: 0 | E38: 18635 | H38: =SUM(D38:G38) -> 18635
B39: Oblast kultury | C39: Nové investice - nestavební | D39: 0 | E39: 2765 | H39: =SUM(D39:G39) -> 2765
A40: Oblast kultury - součet | D40: =SUM(D37:D39) -> 0 | E40: =SUM(E37:E39) -> 23000 | F40: =SUM(F37:F39) -> 0 | G40: =SUM(G37:G39) -> 0 | H40: =SUM(H37:H39) -> 23000
B41: Oblast dopravy | C41: Nová projektová dokumentace | D41: 0 | E41: 500 | H41: =SUM(D41:G41) -> 500
B42: Oblast dopravy | C42: Nové investice OIEP | D42: 0 | E42: 14500 | F42: 12500 | G42: 2500 | H42: =SUM(D42:G42) -> 29500
B43: Oblast dopravy | C43: Nové investice SSOK | E43: 9200 | F43: 50666 | G43: 10134 | H43: =SUM(D43:G43) -> 70000
A44: Oblast dopravy - součet | D44: =SUM(D41:D43) -> 0 | E44: =SUM(E41:E43) -> 24200 | F44: =SUM(F41:F43) -> 63166 | G44: =SUM(G41:G43) -> 12634 | H44: =SUM(H41:H43) -> 100000
B45: Oblast zdravotnictví | C45: Nová projektová dokumentace | D45: 0 | E45: 350 | H45: =SUM(D45:G45) -> 350
B46: Oblast zdravotnictví | C46: Nové investice - stavební | D46: 0 | E46: 18024 | H46: =SUM(D46:G46) -> 18024
B47: Oblast zdravotnictví | C47: Nové investice - nestavební | D47: 5370 | E47: 4600 | H47: =SUM(D47:G47) -> 9970
B48: Oblast zdrav. - nájemné SMN a.s. | C48: Nové investice | D48: 0 | G48: 17026 | H48: =SUM(D48:G48) -> 17026
A49: Oblast zdravotnictví - součet | D49: =SUM(D45:D48) -> 5370 | E49: =SUM(E45:E48) -> 22974 | F49: =SUM(F45:F48) -> 0 | G49: =SUM(G45:G48) -> 17026 | H49: =SUM(H45:H48) -> 45370
A50: KH - cestovní ruch | D50: 0 | E50: 4400.4 | H50: =SUM(D50:G50) -> 4400.4
A51: OIT | D51: 0 | E51: 2400 | H51: =SUM(D51:G51) -> 2400
A52: KŘ | D52: 0 | E52: 2200 | H52: =SUM(D52:G52) -> 2200
A53: CELKEM | D53: =D31+D36+D40+D44+D49+D50+D51+D52 -> 10845 | E53: =E31+E36+E40+E44+E49+E50+E51+E52 -> 207174.4 | F53: =F31+F36+F40+F44+F49+F50+F51+F52 -> 63166 | G53: =G31+G36+G40+G44+G49+G50+G51+G52 -> 29660 | H53: =H31+H36+H40+H44+H49+H50+H51+H52 -> 310845.4
D55: spoluf. Po z IF | E55: KB | F55: EIB | G55: OK
C56: Celkem | D56: =D23+D53 -> 10945 | E56: =E23+E53 -> 279523.4 | F56: =F23+F53 -> 495408 | G56: =G23+G53 -> 165009 | H56: =H23+H53 -> 950885.4
C57: z toho nájemné | G57: =G48+G20 -> 27879 | H57: =SUM(G57) -> 27879
C58: z toho investice | D58: =D56-D57 -> 10945 | E58: =E56-E57 -> 279523.4 | F58: =F56-F57 -> 495408 | G58: =G56-G57 -> 137130 | H58: =H56-H57 -> 923006.4
C62: zapojeno v Kč | D62: odvody z IF | E62: KB | F62: EIB | G62: OK | H62: celkem
C63: 8115 | E63: 41142 | F63: 97035 | G63: 23237 | H63: =SUM(E63:G63) -> 161414
C64: 8123/8223 | E64: =E56-E63 -> 238381.4 | F64: =F56-F63 -> 398373 | H64: =SUM(E64:G64) -> 636754.4
C65: 2122 | D65: 10945 | H65: =SUM(D65:G65) -> 10945
C66: nájemné | G66: 27879 | H66: =SUM(E66:G66) -> 27879
C67: rozpočet oK | G67: 113893 | H67: =SUM(E67:G67) -> 113893
C68: celkem | D68: =SUM(D63:D67) -> 10945 | E68: =SUM(E63:E67) -> 279523.4 | F68: =SUM(F63:F67) -> 495408 | G68: =SUM(G63:G67) -> 165009 | H68: =SUM(H63:H67) -> 950885.4

Sheet Souhrn - změny
A1: Financování investičních akcí
A2: a) Návrh rozpracovaných investičních akcí v roce 2012
H3: v tis. Kč
A4: Oblast | C4: Název přílohy | D4: Spolufinancování PO z IF | E4: Návrh na úvěrový rámec KB | F4: Návrh na úvěrový rámec EIB | G4: Návrh na rozpočet OK | H4: Celkem
B6: Oblast školství | C6: Rozpracované investiční akce | D6: ='Š-INV '!N14 -> 100 | E6: 15768 | F6: 47168 | G6: 9434 | H6: =SUM(D6:G6) -> 72470
B7: Oblast školství | C7: Rozpracované opravy | G7: 8135 | H7: =SUM(D7:G7) -> 8135
A8: Oblast školství - součet | D8: =SUM(D6:D7) -> 100 | E8: =SUM(E6:E7) -> 15768 | F8: =SUM(F6:F7) -> 47168 | G8: =SUM(G6:G7) -> 17569 | H8: =SUM(D8:G8) -> 80605
B9: Oblast sociální | C9: Rozpracovaná projektová dokumentace | E9: 200 | F9: ='[2]Sociální-PD'!N17 -> 0 | G9: 2597 | H9: =SUM(D9:G9) -> 2797
B10: Oblast sociální | C10: Rozpracované investiční akce | E10: =Souhrn!E10 -> 22290 | F10: =Souhrn!F10 -> 40132 | G10: =Souhrn!G10 -> 4898 | H10: =SUM(D10:G10) -> 67320
A11: Oblast sociální - součet | D11: =SUM(D9:D10) -> 0 | E11: =SUM(E9:E10) -> 22490 | F11: =SUM(F9:F10) -> 40132 | G11: =SUM(G9:G10) -> 7495 | H11: =SUM(D11:G11) -> 70117
B12: Oblast kultury | C12: Rozpracovaná projektová dokumentace | G12: 1880 | H12: =SUM(D12:G12) -> 1880
B13: Oblast kultury | C13: Rozpracované investiční akce | E13: 15680 | G13: 2903 | H13: =SUM(D13:G13) -> 18583
A14: Oblast kultury - součet | D14: =SUM(D12:D13) -> 0 | E14: =SUM(E12:E13) -> 15680 | F14: =SUM(F12:F13) -> 0 | G14: =SUM(G12:G13) -> 4783 | H14: =SUM(D14:G14) -> 20463
B15: Oblast dopravy | C15: Rozpracovaná projektová dokumentace | E15: 5119 | G15: 14190 | H15: =SUM(D15:G15) -> 19309
B16: Oblast dopravy | C16: Rozpracované investiční akce | F16: 50842 | G16: 53978 | H16: =SUM(D16:G16) -> 104820
A17: Oblast dopravy - součet | D17: =SUM(D15:D16) -> 0 | E17: =SUM(E15:E16) -> 5119 | F17: =SUM(F15:F16) -> 50842 | G17: =SUM(G15:G16) -> 68168 | H17: =SUM(D17:G17) -> 124129
B18: Oblast zdravotnictví | C18: Rozpracovaná projektová dokumentace | G18: ='Zdr.-PD'!Q14 -> 273 | H18: =SUM(D18:G18) -> 273
B19: Oblast zdravotnictví | C19: Rozpracované investiční akce | E19: 21100 | H19: =SUM(D19:G19) -> 21100
B20: Oblast zdrav. - nájemné SMN a.s. | C20: Rozpracované investiční akce | G20: ='Zdrav.-nájem '!O12 -> 10853 | H20: =SUM(D20:G20) -> 10853
A21: Oblast zdravotnictví - součet | D21: =SUM(D18:D20) -> 0 | E21: =SUM(E18:E20) -> 21100 | F21: =SUM(F18:F20) -> 0 | G21: =SUM(G18:G20) -> 11126 | H21: =SUM(D21:G21) -> 32226
A22: Velké investiční akce | F22: 260417 | G22: 52083 | H22: =SUM(D22:G22) -> 312500
A23: Celkem | D23: =D8+D11+D14+D17+D21+D22 -> 100 | E23: =E8+E11+E14+E17+E21+E22 -> 80157 | F23: =F8+F11+F14+F17+F21+F22 -> 398559 | G23: =G8+G11+G14+G17+G21+G22 -> 161224 | H23: =H8+H11+H14+H17+H21+H22 -> 640040
A25: změny | D25: z toho spolufinan. PO z IF | E25: z toho KB | F25: z toho EIB | G25: z toho rozpočet OK | H25: Celkem
A27: rozpracované investice | E27: -10320 | F27: 8600 | G27: 1720 | H27: =SUM(D27:G27) -> 0
A28: rozpracované opravy | E28: 5985 | G28: -5985 | H28: =SUM(D28:G28) -> 0
A29: oblast školství celkem | D29: =SUM(D27:D28) -> 0 | E29: =SUM(E27:E28) -> -4335 | F29: =SUM(F27:F28) -> 8600 | G29: =SUM(G27:G28) -> -4265 | H29: =SUM(H27:H28) -> 0
A30: rozpracované projektové dokumentace | E30: 2009 | G30: -2009 | H30: =SUM(E30:G30) -> 0
A31: rozpracované investice | E31: =2461+1739 -> 4200 | G31: =-2461-1739 -> -4200 | H31: =SUM(E31:G31) -> 0
A32: oblast sociální celkem | D32: =SUM(D30:D31) -> 0 | E32: =SUM(E30:E31) -> 6209 | F32: =SUM(F30:F31) -> 0 | G32: =SUM(G30:G31) -> -6209 | H32: =SUM(H30:H31) -> 0
A33: rozpracované projektové dokumentace | E33: =1831-1037 -> 794 | G33: =-1831+1037 -> -794 | H33: =SUM(D33:G33) -> 0
A34: rozpracované investice | E34: =2903-19770 -> -16867 | F34: 19515 | G34: =-2903+255 -> -2648 | H34: =SUM(D34:G34) -> 0
A35: oblast kultury celkem | D35: =SUM(D33:D34) -> 0 | E35: =SUM(E33:E34) -> -16073 | F35: =SUM(F33:F34) -> 19515 | G35: =SUM(G33:G34) -> -3442 | H35: =SUM(H33:H34) -> 0
A36: rozpracované projektové dokumentace | E36: 10111 | G36: -10111 | H36: =SUM(D36:G36) -> 0
A37: rozpracované investice | E37: 1810 | F37: 7500 | G37: =-1810-7500 -> -9310 | H37: =SUM(D37:G37) -> 0
A38: oblast dopravy celkem | D38: =SUM(D36:D37) -> 0 | E38: =SUM(E36:E37) -> 11921 | F38: =SUM(F36:F37) -> 7500 | G38: =SUM(G36:G37) -> -19421 | H38: =SUM(H36:H37) -> 0
A39: rozpracované projektové dokumentace | D39: 0 | E39: 0 | F39: 0 | G39: 0
A40: rozpracované investice | D40: 0 | E40: -21100 | F40: 17583 | G40: 3517 | H40: =SUM(D40:G40) -> 0
A41: oblast zdravotnictví celkem | D41: =SUM(D39:D40) -> 0 | E41: =SUM(E39:E40) -> -21100 | F41: =SUM(F39:F40) -> 17583 | G41: =SUM(G39:G40) -> 3517 | H41: =SUM(H39:H40) -> 0
A42: velké investiční akce | D42: =D22 -> 0 | E42: =E22 -> 0 | F42: 0 | G42: 0 | H42: =SUM(D42:G42) -> 0
A43: změny celkem | D43: =D29+D32+D35+D38+D41+D42 -> 0 | E43: =E29+E32+E35+E38+E41+E42 -> -23378 | F43: =F29+F32+F35+F38+F41+F42 -> 53198 | G43: =G29+G32+G35+G38+G41+G42 -> -29820 | H43: =H29+H32+H35+H38+H41+H42 -> 0
A44: nový stav celkem | D44: =D23+D43 -> 100 | E44: =E23+E43 -> 56779 | F44: =F23+F43 -> 451757 | G44: =G23+G43 -> 131404 | H44: =H23+H43 -> 640040

Sheet Souhrn
A1: 4. Financování investičních akcí
A2: a) Návrh rozpracovaných investičních akcí v roce 2012
H3: v tis. Kč
A4: Oblast | C4: Název přílohy | D4: Spolufinancování PO z IF | E4: Návrh na úvěrový rámec KB | F4: Návrh na úvěrový rámec EIB | G4: Návrh na rozpočet OK | H4: Celkem
B6: Oblast školství | C6: Rozpracované investiční akce | D6: ='Š-INV '!N14 -> 100 | E6: ='Š-INV '!O14 -> 5448 | F6: ='Š-INV '!P14 -> 55768 | G6: ='Š-INV '!Q14 -> 11154 | H6: =SUM(D6:G6) -> 72470
B7: Oblast školství | C7: Rozpracované opravy | D7: ='Š-opravy'!N14 -> 0 | E7: ='Š-opravy'!O14 -> 5985 | F7: ='Š-opravy'!P14 -> 0 | G7: ='Š-opravy'!Q14 -> 2150 | H7: =SUM(D7:G7) -> 8135
A8: Oblast školství - součet | D8: =SUM(D6:D7) -> 100 | E8: =SUM(E6:E7) -> 11433 | F8: =SUM(F6:F7) -> 55768 | G8: =SUM(G6:G7) -> 13304 | H8: =SUM(D8:G8) -> 80605
B9: Oblast sociální | C9: Rozpracovaná projektová dokumentace | D9: ='Sociální-PD'!N14 -> 0 | E9: ='Sociální-PD'!O14 -> 2209 | F9: ='Sociální-PD'!P14 -> 0 | G9: ='Sociální-PD'!Q14 -> 588 | H9: =SUM(D9:G9) -> 2797
B10: Oblast sociální | C10: Rozpracované investiční akce | D10: ='Sociální-INV'!N18 -> 0 | E10: ='Sociální-INV'!O18 -> 22290 | F10: ='Sociální-INV'!P18 -> 40132 | G10: ='Sociální-INV'!Q18 -> 4898 | H10: =SUM(D10:G10) -> 67320
A11: Oblast sociální - součet | D11: =SUM(D9:D10) -> 0 | E11: =SUM(E9:E10) -> 24499 | F11: =SUM(F9:F10) -> 40132 | G11: =SUM(G9:G10) -> 5486 | H11: =SUM(D11:G11) -> 70117
B12: Oblast kultury | C12: Rozpracovaná projektová dokumentace | D12: ='Kultura-PD'!N12 -> 0 | E12: ='Kultura-PD'!O12 -> 794 | F12: ='Kultura-PD'!P12 -> 0 | G12: ='Kultura-PD'!Q12 -> 1086 | H12: =SUM(D12:G12) -> 1880
B13: Oblast kultury | C13: Rozpracované investiční akce | D13: ='Kultura-INV'!N17 -> 0 | E13: ='Kultura-INV'!O17 -> 18583 | F13: ='Kultura-INV'!P17 -> 0 | G13: ='Kultura-INV'!Q17 -> 0 | H13: =SUM(D13:G13) -> 18583
A14: Oblast kultury - součet | D14: =SUM(D12:D13) -> 0 | E14: =SUM(E12:E13) -> 19377 | F14: =SUM(F12:F13) -> 0 | G14: =SUM(G12:G13) -> 1086 | H14: =SUM(D14:G14) -> 20463 | P14: 19515 | Q14: 255
B15: Oblast dopravy | C15: Rozpracovaná projektová dokumentace | D15: ='Doprava-PD'!N37 -> 0 | E15: ='Doprava-PD'!O37 -> 15230 | F15: ='Doprava-PD'!P37 -> 0 | G15: ='Doprava-PD'!Q37 -> 4079 | H15: =SUM(D15:G15) -> 19309
B16: Oblast dopravy | C16: Rozpracované investiční akce | D16: ='Doprava-INV '!O18 -> 0 | E16: ='Doprava-INV '!P18 -> 1810 | F16: ='Doprava-INV '!Q18 -> 58342 | G16: ='Doprava-INV '!R18 -> 44668 | H16: =SUM(D16:G16) -> 104820
A17: Oblast dopravy - součet | D17: =SUM(D15:D16) -> 0 | E17: =SUM(E15:E16) -> 17040 | F17: =SUM(F15:F16) -> 58342 | G17: =SUM(G15:G16) -> 48747 | H17: =SUM(D17:G17) -> 124129
B18: Oblast zdravotnictví | C18: Rozpracovaná projektová dokumentace | D18: ='Zdr.-PD'!N14 -> 0 | E18: ='Zdr.-PD'!O14 -> 0 | F18: ='Zdr.-PD'!P14 -> 0 | G18: ='Zdr.-PD'!Q14 -> 273 | H18: =SUM(D18:G18) -> 273
B19: Oblast zdravotnictví | C19: Rozpracované investiční akce | D19: ='Zdr.-INV'!N11 -> 0 | E19: ='Zdr.-INV'!O11 -> 0 | F19: ='Zdr.-INV'!P11 -> 17583 | G19: ='Zdr.-INV'!Q11 -> 3517 | H19: =SUM(D19:G19) -> 21100
B20: Oblast zdrav. - nájemné SMN a.s. | C20: Rozpracované investiční akce | G20: ='Zdrav.-nájem '!O12 -> 10853 | H20: =SUM(D20:G20) -> 10853
A21: Oblast zdravotnictví - součet | D21: =SUM(D18:D20) -> 0 | E21: =SUM(E18:E20) -> 0 | F21: =SUM(F18:F20) -> 17583 | G21: =SUM(G18:G20) -> 14643 | H21: =SUM(D21:G21) -> 32226
A22: Velké investiční akce | F22: ='Velké investiční akce'!N14 -> 260417 | G22: ='Velké investiční akce'!O14 -> 52083 | H22: =SUM(D22:G22) -> 312500
A23: Celkem | D23: =D8+D11+D14+D17+D21+D22 -> 100 | E23: =E8+E11+E14+E17+E21+E22 -> 72349 | F23: =F8+F11+F14+F17+F21+F22 -> 432242 | G23: =G8+G11+G14+G17+G21+G22 -> 135349 | H23: =H8+H11+H14+H17+H21+H22 -> 640040

Sheet Š-INV 
A1: Odbor investic a evropských programů
A2: Správce: | F2: Ing. Miroslav Kubín | G2: ORJ - 17
F3: vedoucí odboru
R4: v tis. Kč
A5: Oblast školství - rozpracované investice
A7: Poř. číslo. | B7: Oblast: | C7: ORG | D7: § | E7: pol. | F7: Název akce: | G7: Popis: | H7: Stávající dokumentace | I7: K zajištění | J7: Celkové náklady s DPH | K7: Termín realizace | L7: Vynaloženo k 31. 12. 2011 | M7: Návrh na rok 2012 | R7: Pokračování v roce 2013 a dalších
M8: Celkem | N8: z toho spolufin. PO z IF | O8: z toho KB | P8: z toho EIB | Q8: z toho rozpočet OK
A9: 1 | B9: PV | C9: 60001100538 | D9: 3114 | E9: 6121 | F9: Stavební úpravy Střední, Základní a Mateřské školy Prostějov pro potřeby Základní školy a Dětského domova Prostějov v objektu Tetín 5 a 7 Prostějov | G9: Stavební úpravy objektu školy SŠ, ZŠ a MŠ, Prostějov pro potřeby ZŠ a DD Prostějov, která se nachází v areálu bývalé nemocnice Prostějov. Stavební úpravy se budou týkat úprav suterénních prostor a dvou nadzemních podlaží, kde dojde hlavně k rekonstrukci sociálního zařízení, učeben a vznikne nová kuchyňka. Současně dojde k vybudování výtahu. Dále se počítá i s rekonstrukcí stávajícího přízemního domku ve dvoře. | H9: DSP, DPS, SP | I9: realizace | J9: 10059 | K9: 2011-2012 | L9: 9189 | M9: =SUM(N9:Q9) -> 870 | N9: 0 | O9: 870 | R9: =J9-L9-M9 -> 0
A10: 2 | B10: OL | C10: 60001100604 | D10: 3123 | E10: 6121 | F10: Střední odborná škola a Střední odborné učiliště, Uničov, Moravské nám. 681 - Dílny pro praktickou výuku | G10: Výstavba haly pracoviště pro praktické vyučování strojírenských oborů v areálu školy. | H10: S | I10: PD, realizace | J10: 12320 | K10: 2011-2012 | L10: 2000 | M10: =SUM(N10:Q10) -> 10320 | N10: 0 | P10: 8600 | Q10: 1720 | R10: =J10-L10-M10 -> 0
A11: 3 | B11: JE | C11: 60001100607 | D11: 3121 | E11: 6121 | F11: Gymnázium, Jeseník, Komenského 281 - Výdejna stravy - vzduchotechnika | G11: Jde o dokončení rekonstrukce kuchyně, tak aby byly splněny hygienické požadavky. Doporučení hygieny. | H11: DPS | I11: realizace | J11: 1000 | K11: 2012 | L11: 0 | M11: =SUM(N11:Q11) -> 1000 | N11: 0 | O11: 1000 | R11: =J11-L11-M11 -> 0
A12: 4 | B12: OL | C12: 60001100608 | D12: 3114 | E12: 6121 | F12: Základní škola a Mateřská škola logopedická Olomouc - Propojovací teplovody | G12: Vybudování propojovacích teplovodů. | H12: PD | I12: realizace | J12: 3678 | K12: 2012 | L12: 0 | M12: =SUM(N12:Q12) -> 3678 | N12: 100 | O12: 3578 | R12: =J12-L12-M12 -> 0
A13: 5 | B13: OL | C13: 60001100354 | D13: 3121 | E13: 6121 | F13: Gymnázium, Olomouc, Čajkovského 9 – Výstavba tělocvičny a sportovního víceúčelového hřiště | G13: Výstavba nové tělocvičny v areálu školy a sportovního víceúčelového hřiště. | H13: DUR, DSP, SP, DPS, | I13: realizace | J13: 63074 | K13: 2011-2012 | L13: 6472 | M13: =SUM(N13:Q13) -> 56602 | N13: 0 | P13: 47168 | Q13: 9434 | R13: =J13-L13-M13 -> 0
A14: Oblast školství - rozpracované investice celkem | J14: =SUM(J9:J13) -> 90131 | L14: =SUM(L9:L13) -> 17661 | M14: =SUM(M9:M13) -> 72470 | N14: =SUM(N9:N13) -> 100 | O14: =SUM(O9:O13) -> 5448 | P14: =SUM(P9:P13) -> 55768 | Q14: =SUM(Q9:Q13) -> 11154 | R14: =SUM(R9:R13) -> 0

Sheet Š-opravy
A1: Odbor investic a evropských programů
A2: Správce: | F2: Ing. Miroslav Kubín | G2: ORJ - 17
F3: vedoucí odboru
R4: v tis. Kč
A5: Oblast školství - rozpracované opravy
A6: Rozpracované opravy
A7: Poř. číslo. | B7: Oblast: | C7: ORG | D7: § | E7: pol. | F7: Název akce: | G7: Popis: | H7: Stávající dokumentace | I7: K zajištění | J7: Celkové náklady s DPH | K7: Termín realizace | L7: Vynaloženo k 31. 12. 2011 | M7: Návrh na rok 2012 | R7: Pokračování v roce 2013 a dalších
M8: Celkem | N8: z toho spolufin. PO z IF | O8: z toho KB | P8: z toho EIB | Q8: z toho rozpočet OK
A9: 1 | B9: OL | C9: 60001100613 | D9: 3122 | E9: 5171 | F9: Střední zdravotnická škola a Vyšší odborná škola zdravotnická Emanuela Pöttinga, Olomouc, Pöttingova 2 - Výměna oken na Domově mládeže a budově školy | G9: Výměna či repase oken traktu C budovy školy.Výměna oken ve dvou patrech budovy domova mládeže byla provedena v roce 2011. | H9: - | I9: realizace | J9: 3541 | K9: 2011-2012 | L9: 791 | M9: =SUM(N9:Q9) -> 2750 | O9: 2750 | R9: =J9-L9-M9 -> 0
A10: 2 | B10: SU | C10: 60001100621 | D10: 3122 | E10: 5171 | F10: Střední škola, Základní škola a Mateřská škola Šumperk, Hanácká 3 - Plochá střecha | G10: Jedná se o výměnu stávající plechové krytiny na ploché střeše. Společně s výměnou krytiny je nutné vyměnit i případně poškozenou konstrukci střechy. Součásti opravy je oprava střešní vpusti s napojením na potrubní dešťový svod. | H10: S | I10: PD, realizace | J10: 494 | K10: 2011-2012 | L10: 59 | M10: =SUM(N10:Q10) -> 435 | N10: 0 | O10: 435 | R10: =J10-L10-M10 -> 0
A11: 3 | B11: JE | C11: 60001100624 | D11: 3122 | E11: 5171 | F11: Střední odborná škola gastronomie a potravinářství, Jeseník, U Jatek 8 - Podlaha v tělocvičně | G11: Výměna palubové podlahy včetně přípravných a dokončovacích prací. | H11: - | I11: PD, realizace | J11: 2000 | K11: 2011 | L11: 0 | M11: =SUM(N11:Q11) -> 2000 | O11: 2000 | R11: =J11-L11-M11 -> 0
A12: 4 | B12: SU | C12: 60001100688 | D12: 3114 | E12: 5171 | F12: ZŠ a DD Zábřeh, Sušilova 40 – Oprava střech | G12: Jedná se o opravu střech 4 objektů školy, které jsou v havarijním stavu. Na těchto objektech jsou v současné době prováděna energeticky úsporná opatření v rámci Operačního programu životního prostředí. Opravu střech není možno prostřednictvím tohoto dotačního titulu řešit. | I12: realizace | J12: 4000 | K12: 2011-2012 | L12: 1850 | M12: =SUM(N12:Q12) -> 2150 | N12: 0 | Q12: 2150 | R12: =J12-L12-M12 -> 0
A13: 5 | B13: SU | C13: 60001100689 | D13: 3114 | E13: 5171 | F13: ZŠ Vlčice - Oprava střechy tělocvičny | I13: realizace | J13: 815 | K13: 2011-2012 | L13: 15 | M13: =SUM(N13:Q13) -> 800 | N13: 0 | O13: 800 | R13: =J13-L13-M13 -> 0
A14: Celkem rozpracovné opravy | J14: =SUM(J9:J13) -> 10850 | L14: =SUM(L9:L13) -> 2715 | M14: =SUM(M9:M13) -> 8135 | N14: =SUM(N9:N13) -> 0 | O14: =SUM(O9:O13) -> 5985 | P14: =SUM(P9:P13) -> 0 | Q14: =SUM(Q9:Q13) -> 2150 | R14: =SUM(R9:R13) -> 0
N18: =Q9+Q10+Q11+Q13 -> 0 | Q18: přefinancovat z KB

Sheet Sociální-PD
A1: Odbor investic a evropských programů
A2: Správce: | F2: Ing. Miroslav Kubín | G2: ORJ - 17
F3: vedoucí odboru
R4: v tis. Kč
A5: Oblast sociální - rozpracovaná projektová dokumentace
A7: Poř. číslo. | B7: Oblast: | C7: ORG | D7: § | E7: pol. | F7: Název akce: | G7: Popis: | H7: Stávající dokumentace | I7: K zajištění | J7: Celkové náklady s DPH | K7: Termín realizace | L7: Vynaloženo k 31. 12. 2012 | M7: Návrh na rok 2012 | R7: Pokračování v roce 2013 a dalších
M8: Celkem | N8: z toho spolufin. PO z IF | O8: z toho KB | P8: z toho EIB | Q8: z toho rozpočet OK
A9: 1 | B9: OL | C9: 60002100474 | D9: 4357 | E9: 6121 | F9: Domov důchodců Náměšť na Hané – přístavba pavilonu | G9: Rekonstrukce stávajícího objektu domova s vybudováním přístavby. Bude řešeno odstranění bariérovosti objektu pro bezproblémový pohyb osob s omezenou schopností pohybu a orientace, vytvoření prostorových kapacit pro zájmovou, relaxační a terapeutickou činnost klientů. | H9: - | I9: DÚR, ÚR, DSP, SP, DPS | J9: 1936 | K9: 2011-2012 | L9: 477 | M9: =SUM(N9:Q9) -> 1459 | N9: 0 | O9: 1459 | R9: =J9-L9-M9 -> 0
A10: 2 | B10: PR | C10: 60002100529 | D10: 4357 | E10: 6121 | F10: Domov Na zámečku Rokytnice- Půdní vestavba | G10: Stavební investice v půdních prostorách - vybudování chybějícího zázemí pro zaměstnance (šatny, sklady, kanceláře) | H10: - | I10: DSP, SP, DPS | J10: 846 | K10: 2010-2012 | L10: 258 | M10: =SUM(N10:Q10) -> 588 | N10: 0 | Q10: 588 | R10: =J10-L10-M10 -> 0
A11: 3 | B11: PR | C11: 60002100683 | D11: 4357 | E11: 6121 | F11: Domov pro seniory Tovačov - Střecha a půdní vestavba | G11: Oprava krytiny vč. oplechování a výměna podkrovních oken budovy A, C a vybudování půdní vestavby budovy B, která je navrhována v rámci zvýšení kvality poskytované péče (vybudování jednolůžkových pokojů včetně zázemí. | H11: studie | I11: DSP, SP, DPS | J11: 450 | K11: 2011-2012 | L11: 0 | M11: =SUM(N11:Q11) -> 450 | N11: 0 | O11: 450 | R11: =J11-L11-M11 -> 0
A12: 4 | B12: PV | C12: 60002100690 | D12: 4357 | E12: 6121 | F12: Domov "Na zámku" Nezamyslice - Sanace vlhkého zdiva | G12: Jedná se o zpracování projektové dokumentace sanačních opatření předmětného objektu, který je zasažen vysokou vlhkostí jak vlastního zdiva, tak i provozně využívaných prostor v přízemí a suterénu. Současný stav je havarijní a z hlediska hygienických požadavků se jedná o závadné prostředí vyznačující se vysokou vlhkostí s možností vzniku plísní a zasolováním stavebních konstrukcí. | H12: - | I12: PD | J12: 100 | K12: 2011-2012 | L12: 0 | M12: =SUM(N12:Q12) -> 100 | N12: 0 | O12: 100 | R12: =J12-L12-M12 -> 0
A13: 5 | B13: JE,OL, SU, PV, PR | C13: 60002100352 | D13: 4399 | E13: 5166 | F13: Aktualizace pasportů | G13: Zajištění aktualizací v projektech pasportizace, zpracovaných v roce 2010. | J13: 200 | K13: 2011-2012 | L13: 0 | M13: =SUM(N13:Q13) -> 200 | N13: 0 | O13: 200 | R13: =J13-L13-M13 -> 0
A14: Oblast sociální - rozpracovaná projektová dokumentace celkem | J14: =SUM(J9:J13) -> 3532 | L14: =SUM(L9:L13) -> 735 | M14: =SUM(M9:M13) -> 2797 | N14: =SUM(N9:N13) -> 0 | O14: =SUM(O9:O13) -> 2209 | P14: =SUM(P9:P13) -> 0 | Q14: =SUM(Q9:Q13) -> 588 | R14: =SUM(R9:R13) -> 0

Sheet Sociální-INV
A1: Odbor investic a evropských programů
A2: Správce: | F2: Ing. Miroslav Kubín | G2: ORJ - 17
F3: vedoucí odboru
R4: v tis. Kč
A5: Oblast sociální - rozpracované investice celkem
A7: Poř. číslo | B7: Oblast: | C7: ORG | D7: § | E7: pol. | F7: Název akce: | G7: Popis: | H7: Stávající dokumentace | I7: K zajištění | J7: Celkové náklady s DPH | K7: Termín realizace | L7: Vynaloženo k 31. 12. 2011 | M7: Návrh na rok 2012 | R7: Pokračování v roce 2013 a dalších
M8: Celkem: | N8: z toho spolufin. PO z IF | O8: z toho KB | P8: z toho EIB | Q8: z toho rozpočet OK
A9: 1 | B9: SU | C9: 60002100527 | D9: 4357 | E9: 6121 | F9: Domov důchodců Jesenec - Půdní vestavba | G9: Realizace půdní vestavby v objektu přístavby hlavní budovy. Současně s půdní vestavbou bude rekonstruováno sociální zařízení pro muže v 1. NP. | H9: DPS, SP | I9: realizace | J9: 4049 | K9: 2011-2012 | L9: 2310 | M9: =SUM(N9:Q9) -> 1739 | N9: 0 | O9: 1739 | R9: =J9-L9-M9 -> 0
A10: 2 | B10: SU | C10: 60002100403 | D10: 4357 | E10: 6121 | F10: Domov důchodců Štíty - Připojení zemního plynu | G10: Provedení plynovodního řadu STL plynovodu pro připojení objektu v Jedlí (dosud vytápění Propan-butan). | H10: - | I10: DUR, UR, DSP, SP, DZS, realizace | J10: 2586 | K10: 2010-2012 | L10: 125 | M10: =SUM(N10:Q10) -> 2461 | N10: 0 | O10: 2461 | R10: =J10-L10-M10 -> 0
A11: 3 | B11: JE | C11: 60002100628 | D11: 4357 | E11: 5171 | F11: Ústav sociální péče pro mládež Jeseník - Nátěry a venkovní terasy | G11: Nátěry a oprava venkovní terasy. Narušené kovové konstrukce - havarijní stav. | H11: DZS | I11: realizace | J11: 819 | K11: 2011-2012 | L11: 300 | M11: =SUM(N11:Q11) -> 519 | N11: 0 | Q11: 519 | R11: =J11-L11-M11 -> 0
A12: 4 | B12: OL | C12: 60002100262 | D12: 4357 | E12: 6121 | F12: Vincentinum - poskytovatel soc. služeb Šternberk - Úprava venkovních prostor pro imobilní uživatele | G12: Úprava venkovních prostor před únikovou lávkou pro imobilní uživatele, srovnání terénu, vydláždění prostoru vedoucího z budovy do zahrady. | H12: DSP, SP, DZS | I12: realizace | J12: 3735 | K12: 2009-2012 | L12: 3535 | M12: =SUM(N12:Q12) -> 200 | N12: 0 | O12: 200 | R12: =J12-L12-M12 -> 0
A13: 5 | B13: JE | C13: 60002100516 | D13: 4357 | E13: 6121 | F13: Domov pro seniory Javorník - evakuační lůžkový výtah | G13: Jedná se o zcela nový evakuační výtah v nové výtahové šachtě. | H13: DUR, DSP | I13: realizace | J13: 7245 | K13: 2011-2012 | L13: 4355 | M13: =SUM(N13:Q13) -> 2890 | N13: 0 | O13: 2890 | R13: =J13-L13-M13 -> 0
A14: 6 | B14: OL | C14: 60002100519 | D14: 4357 | E14: 6121 | F14: Domov seniorů POHODA Chválkovice- Stravovací provoz | G14: Rekonstrukce stravovacího provozu s technickým vybavením a rekonstrukce skladového zázemí. Stravovací provoz neodpovídá současným potřebám. | H14: DSP, DPS, SP | I14: realizace | J14: 23488 | K14: 2011-2012 | L14: 3718 | M14: =SUM(N14:Q14) -> 19770 | N14: 0 | P14: 19515 | Q14: 255 | R14: =J14-L14-M14 -> 0
A15: 7 | B15: PR | C15: 60002100529 | D15: 4357 | E15: 6121 | F15: Domov Na zámečku Rokytnice - Půdní vestavba, (I. etapa) | G15: Stavební úpravy v půdních prostorách - vybudování chybějícího zázemí pro zaměstnance (šatny, sklady, kanceláře) včetně sanace krovu. | H15: DSP, DPS | I15: realizace | J15: 15258 | K15: 2011-2012 | L15: 258 | M15: =SUM(N15:Q15) -> 15000 | N15: 0 | O15: 15000 | R15: =J15-L15-M15 -> 0
A16: 8 | B16: PR | C16: 60002100089 | D16: 4357 | E16: 6121 | F16: Domov Větrný mlýn Skalička - přístavba lůžkového pavilonu | G16: Výstavba nové budovy pro 40 klientek, které budou převedeny ze stávajících nevyhovujících prostor. Jedná se o dvoupodlažní nepodsklepenou budovu s pultovou střechou. | H16: DUR, UR, DSP, SP, DZS | I16: realizace | J16: 34085 | K16: 2011-2012 | L16: 18930 | M16: =SUM(N16:Q16) -> 15155 | N16: 0 | P16: 12629 | Q16: 2526 | R16: =J16-L16-M16 -> 0
A17: 9 | B17: OL | C17: 60002100409 | D17: 4357 | E17: 6121 | F17: Nové Zámky - poskytovatel sociálních služeb - Rekonstrukce objektu Litovel | G17: Rekonstrukce objektu na pobočce v Litovli pro přemístění soc. služby z Bílska do Litovle. | H17: DUR, UR, DSP, SP, DZS | I17: realizace | J17: 14226 | K17: 2010-2012 | L17: 4640 | M17: =SUM(N17:Q17) -> 9586 | N17: 0 | P17: 7988 | Q17: 1598 | R17: =J17-L17-M17 -> 0
A18: Oblast sociální - rozpracované investice celkem | J18: =SUM(J9:J17) -> 105491 | L18: =SUM(L9:L17) -> 38171 | M18: =SUM(M9:M17) -> 67320 | N18: =SUM(N9:N17) -> 0 | O18: =SUM(O9:O17) -> 22290 | P18: =SUM(P9:P17) -> 40132 | Q18: =SUM(Q9:Q17) -> 4898 | R18: =SUM(R9:R17) -> 0

Sheet Kultura-PD
A1: Odbor investic a evropských programů
A2: Správce: | F2: Ing. Miroslav Kubín | G2: ORJ - 17
F3: vedoucí odboru
R4: v tis. Kč
A5: Oblast kultury - rozpracovaná projektová dokumentace
A6: Rozpracovaná projektová dokumentace OK
A7: Poř. číslo. | B7: Oblast: | C7: ORG | D7: § | E7: pol. | F7: Název akce: | G7: Popis: | H7: Stávající dokumentace | I7: K zajištění | J7: Celkové náklady s DPH | K7: Termín realizace | L7: Vynaloženo k 31. 12. 2011 | M7: Návrh na rok 2012 | R7: Pokračování v roce 2013 a dalších
M8: Celkem | N8: z toho spolufin. PO z IF | O8: z toho KB | P8: z toho EIB | Q8: z toho rozpočet OK
A9: 1 | B9: JE | C9: 60003100417 | D9: 3315 | E9: 6121 | F9: Vlastivědné muzeum Jesenicka - Expozice geologie | G9: Současná expozice geologie obsahuje skvosty z oblasti Jeseníků, nicméně způsob prezentace běžného návštěvníka nezaujme. | H9: DZS | I9: SP | J9: 158 | K9: 2011-2012 | L9: 109 | M9: =SUM(N9:Q9) -> 49 | N9: 0 | Q9: 49 | R9: =J9-L9-M9 -> 0
A10: 2 | B10: JE | C10: 60003100418 | D10: 3315 | E10: 6121 | F10: Vlastivědné muzeum Jesenicka - Rekonstrukce budovy | G10: Rekonstrukce a modernizace budovy Vodní tvrze. | H10: architektonická studie | I10: DPS, SP | J10: 1500 | K10: 2010-2012 | L10: 463 | M10: =SUM(N10:Q10) -> 1037 | N10: 0 | Q10: 1037 | R10: =J10-L10-M10 -> 0
A11: 3 | B11: OL | C11: 60003100634 | D11: 3314 | E11: 6121 | F11: Vědecká knihovna v Olomouci - Rekonstrukce skladu Neředín - I.etapa | G11: Jedná se o objekt č.65 v areálu bývalých kasáren Neředín, který VKOL bude využívat jako skladové prostory. Celkové náklady jsou plánovány ve výši 49 mil.Kč. VKOL tím získá prostory na skladování povinných výtisků monografií i periodik s celorepublikovou působností (povinnost dle § 11 z.č.257/2001 Sb). | H11: studie | I11: DSP, SP, DPS | J11: 794 | K11: 2011-2012 | L11: 0 | M11: =SUM(N11:Q11) -> 794 | N11: 0 | O11: 794 | R11: =J11-L11-M11 -> 0
A12: Oblast kultury - rozpracovaná projektová dokumentace celkem | J12: =SUM(J9:J11) -> 2452 | L12: =SUM(L9:L11) -> 572 | M12: =SUM(M9:M11) -> 1880 | N12: =SUM(N9:N11) -> 0 | O12: =SUM(O9:O11) -> 794 | P12: =SUM(P9:P11) -> 0 | Q12: =SUM(Q9:Q11) -> 1086 | R12: =SUM(R9:R11) -> 0

Sheet Kultura-INV
A1: Odbor investic a evropských programů
A2: Správce: | F2: Ing. Miroslav Kubín | H2: ORJ - 17
F3: vedoucí odboru
R4: v tis. Kč
A5: Oblast kultury - rozpracované investice celkem
A7: Poř. číslo | B7: Oblast | C7: ORG | D7: § | E7: pol. | F7: Název akce: | G7: Popis: | H7: Stávající dokumentace | I7: K zajištění | J7: Celkové náklady s DPH | K7: Termín realizace | L7: Vynaloženo k 31. 12. 2011 | M7: Návrh na rok 2012 | R7: Pokračování v roce 2013 a dalších
M8: Celkem | N8: z toho spolufin. PO z IF | O8: z toho KB | P8: z toho EIB | Q8: z toho rozpočet OK
A9: 1 | B9: JE | C9: 60003100636 | D9: 3315 | E9: 6121 | F9: Vlastivědné muzeum Jesenicka - Statické zabezpečení vodní tvrze | G9: Jedná se o statické zabezpečení budovy Vodní tvrze z důvodu havarijního stavu budovy. | H9: - | I9: PD, realizace | J9: 500 | K9: 2011-2012 | L9: 0 | M9: =SUM(N9:Q9) -> 500 | N9: 0 | O9: 500 | R9: =J9-L9-M9 -> 0
A10: 2 | B10: JE | C10: 60003100637 | D10: 3315 | E10: 6121 | F10: Vlastivědné muzeum Jesenicka - Posilující přípojka elektroinstalace pro venkovní akce | G10: Jedná se o přípojku elektroinstalace pro konání venkovních akcí v prostoru nádvoří a před budovou Vodní tvrze. | H10: DZS | I10: realizace | J10: 872 | K10: 2011-2012 | L10: 50 | M10: =SUM(N10:Q10) -> 822 | N10: 0 | O10: 822 | R10: =J10-L10-M10 -> 0
A11: 3 | B11: OL | C11: 60003100691 | D11: 3315 | E11: 6121 | F11: Vlastivědné muzeum v Olomouci - Interiér nového vstupu hlavní budovy | G11: Realizace interiérového vybavení nového vstupu a navazujících prostor do komplexu muzea, který je stavebně řešen v rámci probíhající rekonstrukce elektroinstalace objektu. Předmětem této akce je dodávka typového mobiliáře a atypických solitérních prvků. | H11: Návrh interiéru | I11: realizace | J11: 1581 | K11: 2011-2012 | L11: 0 | M11: =SUM(N11:Q11) -> 1581 | N11: 0 | O11: 1581 | R11: =J11-L11-M11 -> 0
A12: 4 | B12: JE | C12: 60003100283 | D12: 3315 | E12: 6121 | F12: Vlastivědné muzeum Jesenicka - Stálá expozice čarodějnických procesů | G12: Záměrem expozice bude co nejautentičtěji přiblížit strašlivé čarodějnické procesy s údajnými čarodějnicemi v 17. století na Jesenicku. Na vybudování stálé expozice budou využity prostory sklepení Vodní tvrze. V realizační části je nutno zajistit potřebné opravy, vybudování osvětlení a ozvučení, zhotovení figurín a replik spojených s výtvarným provedením. | H12: DZS | I12: realizace | J12: 8850 | K12: 2011-2012 | L12: 8730 | M12: =SUM(N12:Q12) -> 120 | N12: 0 | O12: 120 | R12: =J12-L12-M12 -> 0
A13: 5 | B13: JE | C13: 60003100417 | D13: 3315 | E13: 6121 | F13: Vlastivědné muzeum Jesenicka - Expozice geologie | G13: Jedná se o realizaci nové expozice. Současná expozice geologie je zastaralá. | H13: DZS | I13: realizace | J13: 4500 | K13: 2011-2012 | L13: 109 | M13: =SUM(N13:Q13) -> 4391 | N13: 0 | O13: 4391 | R13: =J13-L13-M13 -> 0
A14: 6 | B14: OL | C14: 60003100422 | D14: 3315 | E14: 6121 | F14: Vlastivědné muzeum v Olomouci - Elektroinstalace | G14: Rekonstrukce elektroinstalace navazuje na realizovanou rekonstrukci topení v budově VMO. Stávající elektrorozvody jsou technicky a provozně dlouhodobě nevyhovující. Součástí akce bude vybudování nového vchodu do muzea pro veřejnost z náměstí Republiky. | H14: DPS | I14: realizace | J14: 28917 | K14: 2010-2012 | L14: 26717 | M14: =SUM(N14:Q14) -> 2200 | N14: 0 | O14: 2200 | R14: =J14-L14-M14 -> 0
A15: 7 | B15: OL | C15: 60003100424 | D15: 3315 | E15: 6121 | F15: Vlastivědné muzeum v Olomouci - Tvorba stálých expozic | G15: Vybudování tří nových expozic (etnografická, historická a přírodovědná) v hlavní budově VMO. Z důvodu rekonstrukce budovy depozitářů (a přestěhování depozitářů do hlavní budovy) a rekonstrukce topení v hlavní budově VMO byly původní expozice před lety zrušeny. | H15: DZS | I15: realizace | J15: 19079 | K15: 2010-2012 | L15: 10210 | M15: =SUM(N15:Q15) -> 8869 | N15: 0 | O15: 8869 | R15: =J15-L15-M15 -> 0
A16: 8 | B16: PR | C16: 60003100642 | D16: 3315 | E16: 6121 | F16: Muzeum Komenského v Přerově - Rekonstrukce budovy Horní náměstí 7, Přerov | G16: Jedná se o celkovou rekonstrukci - výměna oken, dveří, výměna střešní krytiny, elektroinstalace, rozvodu vody, kanalizace a topení, zateplení objektu, stavební úpravy soc.zařízení a suterénu. | H16: PD | I16: realizace | J16: 4467 | K16: 2011-2012 | L16: 4367 | M16: =SUM(N16:Q16) -> 100 | N16: 0 | O16: 100 | R16: =J16-L16-M16 -> 0
A17: Oblast kultury - rozpracované investice celkem | J17: =SUM(J9:J16) -> 68766 | L17: =SUM(L9:L16) -> 50183 | M17: =SUM(M9:M16) -> 18583 | N17: =SUM(N9:N16) -> 0 | O17: =SUM(O9:O16) -> 18583 | P17: =SUM(P9:P16) -> 0 | Q17: =SUM(Q9:Q16) -> 0 | R17: =SUM(R9:R16) -> 0

Sheet Doprava-PD
A1: Odbor investic a evropských programů | K1: ORJ - 17
A2: Správce: | F2: Ing. Miroslav Kubín
F3: vedoucí odboru | R3: v tis. Kč
A4: Oblast dopravy - rozpracovaná projektová dokumentace
A6: Poř. číslo. | B6: Oblast: | C6: ORG | D6: § | E6: pol. | F6: Číslo silnice | G6: Název investiční akce | H6: Popis akce | I6: Stávající dokumentace | J6: K zajištění v roce 2012 | K6: Celkové náklady s DPH | L6: Vynaloženo do 31. 12. 2011 | M6: Celkem | N6: z toho spolufin. PO z IF | O6: z toho KB | P6: z toho EIB | Q6: z toho rozpočet OK | R6: Předpoklad financování na rok 2012 a další
A7: 1 | B7: PR | C7: 60004100027 | D7: 2212 | E7: 6121 | F7: II/150 | G7: Čechy-Domaželice-obchvat | H7: Nový obchat obcí, Čechy - Domaželice, I. etapa v celkové délce 3,97 km. | I7: DÚR,ÚR, DSP,DZS | J7: SP | K7: 3122 | L7: 3098 | M7: =SUM(N7:Q7) -> 24 | Q7: 24 | R7: =K7-L7-M7 -> 0
A8: 2 | B8: PV | C8: 60004100029 | D8: 2212 | E8: 6121 | F8: II/150 | G8: Ohrozim - obchvat | H8: Obchvat obce Ohrozim v délce 1,58 km. | I8: DÚR,ÚR, DSP,DZS | J8: SP | K8: 2414 | L8: 2314 | M8: =SUM(N8:Q8) -> 100 | Q8: 100 | R8: =K8-L8-M8 -> 0
A9: 3 | B9: OL | C9: 60004100032 | D9: 2212 | E9: 6121 | F9: II/150 | G9: Dub nad Moravou - hranice okresu - rekonstrukce silnice | H9: Rekontrukce a modernizace dožité silnice v délce 3,136 km. | I9: DÚR | J9: ÚR, DSP,SP, DZS | K9: 4312 | L9: 2812 | M9: =SUM(N9:Q9) -> 1500 | Q9: 1500 | R9: =K9-L9-M9 -> 0
A10: 4 | B10: PR | C10: 60004100033 | D10: 2212 | E10: 6121 | F10: II/434 | G10: Kozlovice - obchvat | H10: Nový obchat obce Kozlovice v délce 2,1 km. | I10: DÚR,ÚR, DSP,DZS | J10: SP | K10: 1904 | L10: 1716 | M10: =SUM(N10:Q10) -> 188 | Q10: 188 | R10: =K10-L10-M10 -> 0
A11: 5 | B11: OL | C11: 60004100052 | D11: 2212 | E11: 6121 | F11: E442, II/433 | G11: Olomouc- komunikace Pražská-Křelovská | H11: Součást tzv. severního spoje - propojení okružní křižovatky u Globusu a silnice II/635, ul. Křelovská. Délka silnice je 340 m. | I11: DÚR,ÚR | J11: DSP,SP | K11: 800 | L11: 0 | M11: =SUM(N11:Q11) -> 800 | O11: 800 | R11: =K11-L11-M11 -> 0
A12: 6 | B12: OL | C12: 60004100060 | D12: 2212 | E12: 6121 | F12: II/435 | G12: Dub - Tovačov, stavební úpravy | H12: Stavební úpravy silnice od křižovatky s II/150 v obci Dub n.M. po křižovatku s II/433 v Tovačově - délka cca 5,9 km. | I12: DÚR,ÚR, DSP,DZS | J12: SP | K12: 916 | L12: 886 | M12: =SUM(N12:Q12) -> 30 | Q12: 30 | R12: =K12-L12-M12 -> 0
A13: 6 | B13: OL | C13: 60004100106 | D13: 2212 | E13: 6121 | F13: II/570 | G13: Hněvotín - rekonstrukce silnice | H13: Rekonstrukce silnice v průtahu obcí, v délce cca 1 km. | I13: DÚR,ÚR | J13: DSP,DZS,SP | K13: 1575 | L13: 1209 | M13: =SUM(N13:Q13) -> 366 | Q13: 366 | R13: =K13-L13-M13 -> 0
A14: 7 | B14: OL | C14: 60004100532 | D14: 2212 | E14: 6121 | F14: II/436 | G14: Pňovice - průtah | H14: Rekonstrukce silnice po kanalizaci v délce 2,4 km v obci Pňovice a částečně za obcí. Počátek úseku je v obci Pňovice na křižovatce silnic II/446 a II/447, konec řešeného úseku je za obcí Pňovice na křižovatce se silnicí II/447. | I14: DSP, DZS | J14: ÚR, SP | K14: 2337 | L14: 1629 | M14: =SUM(N14:Q14) -> 708 | Q14: 708 | R14: =K14-L14-M14 -> 0
A15: 8 | B15: PR | C15: 60004100533 | D15: 2212 | E15: 6121 | F15: III/4432 | G15: Olomouc - Svatý Kopeček - přeložka komunikace | H15: Přeložka komunikace v délce 1450 m. | I15: studie | J15: DÚR, ÚR | K15: 1474 | L15: 474 | M15: =SUM(N15:Q15) -> 1000 | O15: 1000 | R15: =K15-L15-M15 -> 0
A16: 9 | B16: OL | C16: 60004100534 | D16: 2212 | E16: 6121 | F16: II/449 | G16: Valšovský Žleb - Dlouhá Loučka | H16: Rekonstrukce silnice II. třídy po nové kanalizaci v celkové délce cca 1,5 km | I16: - | J16: DÚR,ÚR,DSP, DZS,SP | K16: 1496 | L16: 961 | M16: =SUM(N16:Q16) -> 535 | Q16: 535 | R16: =K16-L16-M16 -> 0
A17: 10 | B17: OL | C17: 60004100535 | D17: 2212 | E17: 6121 | F17: II/444 | G17: Uničov - Šternberk | H17: Rekontrukce a modernizace dožité silnice v délce cca 15 km | I17: - | J17: DÚR,ÚR,DSP, DZS,SP | K17: 2400 | L17: 1090 | M17: =SUM(N17:Q17) -> 1310 | O17: 1310 | R17: =K17-L17-M17 -> 0
A18: 11 | B18: OL | C18: 60004100536 | D18: 2212 | E18: 6121 | F18: III/44429 | G18: Šternberk, Hvězdné údolí, I. Etapa | H18: Rekontrukce a modernizace dožité silnice v délce 0,43 km | I18: - | J18: DÚR,ÚR,DSP, DZS,SP | K18: 2212 | L18: 1760 | M18: =SUM(N18:Q18) -> 452 | Q18: 452 | R18: =K18-L18-M18 -> 0
A19: 12 | B19: PV | C19: 60004100643 | D19: 2212 | E19: 6121 | F19: III/37745,III/37731 | G19: Brodek u Prostějova - okružní křižovatka | H19: Náhrada stávající průsečné křižovatky okružní křižovatkou. | I19: S | J19: DÚR, ÚR, DSP, DZS, SP | K19: 301 | L19: 0 | M19: =SUM(N19:Q19) -> 301 | O19: 301 | R19: =K19-L19-M19 -> 0
A20: 14 | B20: JE | C20: 60004100645 | D20: 2212 | E20: 6121 | F20: III/4537 | G20: Bernartice - Buková | H20: Rekonstrukce opěrných zdí v úseku silnici Buková-Bernartice včetně vytypovaných přilehlých částí komunikace. | I20: - | J20: DSP, DZS, SP | K20: 590 | L20: 414 | M20: =SUM(N20:Q20) -> 176 | Q20: 176 | R20: =K20-L20-M20 -> 0
A21: 15 | B21: SU | C21: 60004100646 | D21: 2212 | E21: 6121 | F21: II/444 | G21: Mohelnice - křížení s železniční tratí | H21: Řešení nevyhovujícího podjezdu pod železniční tratí. | I21: - | J21: DÚR, ÚR | K21: 1117 | L21: 117 | M21: =SUM(N21:Q21) -> 1000 | O21: 1000 | R21: =K21-L21-M21 -> 0
A22: 16 | B22: SU | C22: 60004100647 | D22: 2212 | E22: 6121 | F22: II/446 | G22: Šumperk - okružní křižovatka | H22: Vybudování okružní křižovatky v místě křížení komunikace II/446 s místní komunikací. | I22: S,DÚR | J22: ÚR, DSP, DZS, SP | K22: 300 | L22: 0 | M22: =SUM(N22:Q22) -> 300 | O22: 300 | R22: =K22-L22-M22 -> 0
A23: 17 | B23: SU | C23: 60004100674 | D23: 2212 | E23: 6121 | F23: II/369 | G23: Hanušovice – křižovatka I/11 | H23: Rekonstrukce silnice - vybrané úseky 3,5 km. | I23: - | J23: DSP,DZS,SP | K23: 1000 | L23: 0 | M23: =SUM(N23:Q23) -> 1000 | O23: 1000 | R23: =K23-L23-M23 -> 0
A24: 18 | B24: PV | C24: 60004100675 | D24: 2212 | E24: 6121 | F24: III/37354, III/36618 | G24: Horní Štěpánov | H24: Rekonstrukce silnice - dokončení ve směru od Konice, úsek 2,7 km. | I24: - | J24: DÚR,ÚR,DSP, DZS,SP | K24: 1000 | L24: 0 | M24: =SUM(N24:Q24) -> 1000 | O24: 1000 | R24: =K24-L24-M24 -> 0
A25: 19 | B25: OL | C25: 60004100676 | D25: 2212 | E25: 6121 | F25: II/449 | G25: Senice - průtah | H25: Dokončení rekonstrukce úseku silnice v průtahu obce - recyklace za studena (úsek 1,2km). | I25: - | J25: DÚR,ÚR,DSP, DZS,SP | K25: 600 | L25: 0 | M25: =SUM(N25:Q25) -> 600 | O25: 600 | R25: =K25-L25-M25 -> 0
A26: 20 | B26: PR | C26: 60004100677 | D26: 2212 | E26: 6121 | F26: III/44029 | G26: Drahotuše - průtah | H26: Rekonstrukce průtahu, dlažba, úsek 2 km. | I26: - | J26: DSP,DZS,SP | K26: 400 | L26: 0 | M26: =SUM(N26:Q26) -> 400 | O26: 400 | R26: =K26-L26-M26 -> 0
A27: 21 | B27: PV | C27: 60004100678 | D27: 2212 | E27: 6121 | F27: III/37354 | G27: Holubice - Hrochov | H27: Rekonstrukce silnice - havarijní stavební stav, 7 km. | I27: - | J27: DSP,DZS,SP | K27: 1300 | L27: 0 | M27: =SUM(N27:Q27) -> 1300 | O27: 1300 | R27: =K27-L27-M27 -> 0
A28: 22 | B28: PV | C28: 60004100679 | D28: 2212 | E28: 6121 | F28: III/36719 | G28: Pivín - rekonstrukce silnice | H28: Rekonstrukce silnice - úsek 1,025 km | I28: - | J28: DÚR,ÚR,DSP, DZS,SP | K28: 600 | L28: 0 | M28: =SUM(N28:Q28) -> 600 | O28: 600 | R28: =K28-L28-M28 -> 0
A29: 23 | B29: OL | C29: 60004100680 | D29: 2212 | E29: 6121 | F29: III/4359, III/4353 | G29: Velký Týnec - rekonstrukce silnice, IV. etapa | H29: Rekonstrukce silnice v délce 1,200 km. | I29: - | J29: DÚR,ÚR,DSP, DZS,SP | K29: 500 | L29: 0 | M29: =SUM(N29:Q29) -> 500 | O29: 500 | R29: =K29-L29-M29 -> 0
A30: 24 | B30: SU | C30: 60004100038 | D30: 2212 | E30: 6121 | F30: II/369 | G30: Ostružná - obchvat, 1. etapa a 2. etapa | H30: Obchat v souladu s ÚP. Cena včetně výkupů nutných před vydáním SP. | I30: DÚR, ÚR/1et., DSP | J30: SP | K30: 5780 | L30: 5680 | M30: =SUM(N30:Q30) -> 100 | O30: 100 | R30: =K30-L30-M30 -> 0
A31: 25 | B31: PR | C31: 60004100041 | D31: 2212 | E31: 6121 | F31: II/436 | G31: Přerov - úprava křižovatky silnic | H31: Nové řešení stávající průsečné křižovatky na hlavním průtahu městem. | I31: S | J31: DÚR,ÚR,DSP, DZS,SP | K31: 1345 | L31: 498 | M31: =SUM(N31:Q31) -> 847 | O31: 847 | R31: =K31-L31-M31 -> 0
A32: 26 | B32: OL | C32: 60004100112 | D32: 2212 | E32: 6121 | F32: III/44436 | G32: Bělkovice - Lašťany -obchvat | H32: Převedení těžké nákladní dopravy z kamenolomu mimo obec - délka nové komunikace cca 3,265 km. | I32: DÚR | J32: ÚR, DSP,DZS,SP | K32: 3000 | L32: 948 | M32: =SUM(N32:Q32) -> 1500 | O32: 1500 | R32: =K32-L32-M32 -> 552
A33: 27 | B33: OL | C33: 60004100329 | D33: 2212 | E33: 6121 | F33: II/448 a II/446 | G33: Olomouc - okružní křižovatka ulic Dobrovského, Na Střelnici | H33: Nové řeření stávající nevyhovující světené křižovatky ulic Dobrovského, Na Střelnici, Zámečnická, Studentská. | I33: DÚR,ÚR, DSP,DZS | J33: SP | K33: 1252 | L33: 936 | M33: =SUM(N33:Q33) -> 316 | O33: 316 | R33: 0
A34: 28 | B34: OL | C34: 60004100671 | D34: 2212 | E34: 6121 | F34: III/43510 | G34: Blatec - průtah | H34: Rekonstrukce průtahu, dlažba, délka 0,8 km. | I34: - | J34: DSP,DZS,SP | K34: 356 | L34: 0 | M34: =SUM(N34:Q34) -> 356 | O34: 356 | R34: =K34-L34-M34 -> 0
A35: 29 | B35: PV | C35: 60004100672 | D35: 2212 | E35: 6121 | F35: III/4345 | G35: Klenovice na Hané - Iváň | H35: Rekonstrukce vybraných úseků mezi obcemi,recyklace za studena (úsek 4,27km). | I35: - | J35: DSP,DZS,SP | K35: 1000 | L35: 0 | M35: =SUM(N35:Q35) -> 1000 | O35: 1000 | R35: =K35-L35-M35 -> 0
A36: 30 | B36: PR | C36: 60004100673 | D36: 2212 | E36: 6121 | F36: II/439 | G36: Ústí – průtah a hranice okr. VS | H36: Rekonstrukce silnice, délka 4,8 km. | I36: - | J36: DÚR,ÚR,DSP, DZS,SP | K36: 1000 | L36: 0 | M36: =SUM(N36:Q36) -> 1000 | O36: 1000 | R36: =K36-L36-M36 -> 0
A37: Oblast dopravy - rozpracovaná projektová dokumentace celkem | K37: =SUM(K7:K36) -> 46403 | L37: =SUM(L7:L36) -> 26542 | M37: =SUM(M7:M36) -> 19309 | N37: =SUM(N7:N36) -> 0 | O37: =SUM(O7:O36) -> 15230 | P37: =SUM(P7:P36) -> 0 | Q37: =SUM(Q7:Q36) -> 4079 | R37: =SUM(R7:R36) -> 552
A38: Poznámka: S - studie, DÚR - dokumentace pro vydání územního rozhodnutí, ÚR - územní rozhodnutí, DSP - dokumentace pro stavební povolení, SP - stavební povolení, DZS - dokumentace pro zadání stavby
R41: přefinancovat z KB

Sheet Doprava-INV 
A1: Odbor investic a evropských programů
A2: Správce: | G2: Ing. Miroslav Kubín | H2: ORJ - 17
G3: vedoucí odboru
S4: v tis. Kč
A5: Oblast dopravy
A6: Rozpracované investice (zajišťované OIEP)
A7: Poř. číslo | B7: Oblast | C7: ORG | D7: § | E7: pol. | F7: č.silnice | G7: Název akce | H7: Popis | I7: Stávající dokumentace | J7: K zajištění | K7: Celkové náklady s DPH | L7: Termín realizace | M7: Vynaloženo k 31. 12. 2011 | N7: Návrh na rok 2012 | S7: Pokračování v roce 2013 a dalších
N8: Celkem: | O8: z toho spolufin. PO z IF | P8: z toho KB | Q8: z toho EIB | R8: z toho rozpočet OK
A9: 1 | B9: OL/ PR | C9: 60004100027 | D9: 2212 | E9: 6121 | F9: II/150 | G9: Čechy, Domaželice, Dřevohostice - obchvat | H9: Úhrada odkupu pozemků akce realizované z ROP. | I9: - | J9: odkup pozemků | K9: 1210 | L9: 2012 | M9: 0 | N9: =SUM(O9:R9) -> 1210 | O9: 0 | P9: 1210 | S9: 0
A10: 2 | B10: OL/ PR | C10: 60004100061 | D10: 2212 | E10: 6121 | F10: II/150 | G10: Dub nad Mor. - hranice krajů OL/ZL, stavební úpravy | H10: Akce dokončena, jedná se o úhradu splátek do roku 2013 (realizace akce proběhla formou PPP). | I10: - | J10: splátky | K10: 185445 | L10: 2009-2013 | M10: 92241 | N10: =SUM(O10:R10) -> 30500 | O10: 0 | R10: 30500 | S10: 62704
A11: 3 | B11: OL | C11: 60004100644 | D11: 2212 | E11: 6121 | F11: III/4353 | G11: Velký Týnec – průtah, dokončení I. etapy | H11: Dokončení I. etapy kompletní rekonstrukce silnice v délce cca 200 m zahrnující dvě autobusové zastávky a výkup nemovitosti s následnou částečnou demolicí, která tvoří bodovou bezpečnostní závadu v trase komunikace. | I11: - | J11: realizace | K11: 10000 | L11: 2011-2012 | M11: 2500 | N11: =SUM(O11:R11) -> 7500 | O11: 0 | Q11: 7500 | S11: =K11-M11-N11 -> 0
A12: 4 | B12: PR | C12: 60004100037 | D12: 2212 | E12: 6121 | F12: II/434 | G12: Sušice - přeložka silnice, rekultivace původního úseku | H12: Rekultivace původního úseku silnice v délce 90m v obci Sušice. | J12: DSP, DZS, SP, realizace | K12: 600 | L12: 2011-2012 | M12: 0 | N12: =SUM(O12:R12) -> 600 | O12: 0 | P12: 600 | S12: =K12-M12-N12 -> 0
A13: 5 | B13: - | C13: 60004100130 | D13: 2212 | E13: 6121 | F13: - | G13: Vypořádání staveb | H13: Výkupy pozemků po dokončení staveb. | I13: - | J13: výkupy | K13: 4000 | L13: 2012 | M13: 0 | N13: =SUM(O13:R13) -> 4000 | O13: 0 | R13: 4000 | S13: =K13-M13-N13 -> 0
A14: 6 | B14: OL | C14: 60004100114 | D14: 2212 | E14: 6121 | F14: III/44311 | G14: Dolany - průtah II. etapa | H14: II. etapa rekonstrukce komunikace III/44311 v průtahu obcí Dolany včetně vybudování okružní křižovatky. | I14: DSP, DZS, SP | J14: realizace | K14: 23826 | L14: 2011-2012 | M14: 17816 | N14: =SUM(O14:R14) -> 6010 | Q14: 5008 | R14: 1002 | S14: =K14-M14-N14 -> 0
A15: 7 | C15: 60004100289 | D15: 2212 | E15: 6121 | F15: Silnice II.a III.třídy | G15: Protihluková opatření (dle jednotlivých akcí) | H15: Realizace protihlukových opatření v obcích dle podmínek KHS (řešení hlukové zátěže ze silnic II. a III. tříd). | I15: S | J15: DZS, realizace | K15: 25000 | L15: 2011-2013 | M15: 10325 | N15: =SUM(O15:R15) -> 5000 | O15: 0 | Q15: 4167 | R15: 833 | S15: =K15-M15-N15 -> 9675
A16: 8 | B16: OL | C16: 60004100532 | D16: 2212 | E16: 6121 | F16: II/446 | G16: Pňovice-průtah | H16: Rekonstrukce silnice po kanalizaci v délce 2,4 km v obci Pňovice a částečně za obcí. Počátek úseku je v obci Pňovice na křižovatce silnic II/446 a II/447, konec řešeného úseku je za obcí Pňovice na křižovatce se silnicí II/447. | I16: DSP, DZS, SP | J16: realizace | K16: 66337 | L16: 2011-2013 | M16: 1630 | N16: =SUM(O16:R16) -> 30000 | O16: 0 | Q16: 25000 | R16: 5000 | S16: =K16-M16-N16 -> 34707
A17: 9 | B17: OL | C17: 60004100534 | D17: 2212 | E17: 6121 | F17: II/449 | G17: Valšovský Žleb-Dlouhá Loučka | H17: Rekonstrukce silnice za obcí Dlouhá Loučka v délce cca 1,5 km včetně opěrné zdi. | I17: DSP, DZS, SP | J17: realizace | K17: 55000 | L17: 2011-2013 | M17: 961 | N17: =SUM(O17:R17) -> 20000 | O17: 0 | Q17: 16667 | R17: 3333 | S17: =K17-M17-N17 -> 34039
A18: Oblast dopravy - rozpracované investice celkem | K18: =SUM(K9:K17) -> 371418 | M18: =SUM(M9:M17) -> 125473 | N18: =SUM(N9:N17) -> 104820 | O18: =SUM(O9:O17) -> 0 | P18: =SUM(P9:P17) -> 1810 | Q18: =SUM(Q9:Q17) -> 58342 | R18: =SUM(R9:R17) -> 44668 | S18: =SUM(S9:S17) -> 141125
R25: =R9+R11+R12 -> 0 | S25: přefinancovat z KB

Sheet Zdr.-PD
A1: Odbor investic a evropských programů
A2: Správce: | G2: ORJ - 17
F3: Ing. Miroslav Kubín
F4: vedoucí odboru
R5: v tis. Kč
A6: Oblast zdravotnictví - rozpracovaná projektová dokumentace
A8: Poř.číslo | B8: Oblast | C8: ORG | D8: § | E8: pol. | F8: Název akce | G8: Popis | H8: Stávající dokumentace | I8: K zajištění | J8: Celkové náklady s DPH | K8: Termín realizace | L8: Vynaloženo k 31. 12. 2011 | M8: Návrh na rok 2012 | R8: Pokračování v roce 2013 a dalších
M9: Celkem | N9: z toho spolufin. PO z IF | O9: z toho KB | P9: z toho EIB | Q9: z toho rozpočet OK
A10: 1 | B10: OL | C10: 60005100432 | D10: 3533 | E10: 6121 | F10: Odborný léčebný ústav neurologicko-geriatrický Moravský Beroun - Úprava oddělení III, pavilon 2 pro oddělení DIOP | G10: Oddělení DIOP bude z důvodu rekonstrukce pavilonu 1 přestěhováno do pavilonu 2 a to natrvalo. Je třeba vybudovat rozvod kyslíku pro 5 pokojů oddělení DIOP, vybudovat sesternu a zvětšit pokoje dispozičními úpravami příček. | H10: studie, DSP, DPS | I10: SP | J10: 407 | K10: 2010-2012 | L10: 324 | M10: =SUM(N10:Q10) -> 83 | N10: 0 | Q10: 83 | R10: =J10-L10-Q10 -> 0
A11: 2 | B11: OL | C11: 60005100649 | D11: 3523 | E11: 6121 | F11: Odborný léčebný ústav neurologicko-geriatrický Moravský Beroun - Vybudování půdní vestavby pavilonu 2 | G11: Výměna střešní krytiny Pavilonu 2, zateplení střešního pláště včetně vybudování půdní vestavby. Podkroví bude využíváno pro šatny a sociální zázemí personálu, pro pokoje lékařů a pro skladování materiálu. OLÚ tak získá prostor pro zvětšení lůžkových oddělení a větší komfort pacientů. | H11: DSP, DPS | I11: SP | J11: 678 | K11: 2011-2012 | L11: 537 | M11: =SUM(N11:Q11) -> 141 | N11: 0 | Q11: 141 | R11: =J11-L11-Q11 -> 0
A12: 3 | B12: OL | C12: 60005100650 | D12: 3523 | E12: 6121 | F12: Odborný léčebný ústav neurologicko-geriatrický Moravský Beroun - Výtah do zadního schodiště pavilonu 2 | G12: V současné době je v pavilonu 2 jeden výtah s nedostatečnou přepravní kapacitou. Realizací tohoto výtahu bude umožněn přesun imobilních pacientů v zadní části P2. | H12: DSP, DPS | I12: SP | J12: 197 | K12: 2011-2012 | L12: 176 | M12: =SUM(N12:Q12) -> 21 | N12: 0 | Q12: 21 | R12: =J12-L12-Q12 -> 0
A13: 4 | B13: OL | C13: 60005100651 | D13: 3523 | E13: 6121 | F13: Odborný léčebný ústav neurologicko-geriatrický Moravský Beroun - Úpravy ploch kolem pavilonu 2 | G13: Vybudování jednosměrné komunikace pro vjezd a výjezd před pavilonem 2 a vybudování parkovacích míst za pavilonem 2. Navazuje na sanaci pavilonu 2. | H13: DSP, DPS | I13: SP | J13: 174 | K13: 2011-2012 | L13: 146 | M13: =SUM(N13:Q13) -> 28 | N13: 0 | Q13: 28 | R13: =J13-L13-Q13 -> 0
A14: Oblast zdravotnictví - rozpracovaná projektová dokumentace celkem | J14: =SUM(J10:J13) -> 1456 | L14: =SUM(L10:L13) -> 1183 | M14: =SUM(M10:M13) -> 273 | N14: =SUM(N10:N13) -> 0 | O14: =SUM(O10:O13) -> 0 | P14: =SUM(P10:P13) -> 0 | Q14: =SUM(Q10:Q13) -> 273

Sheet Zdr.-INV
A1: Odbor investic a evropských programů
A2: Správce: | G2: ORJ - 17
F3: Ing. Miroslav Kubín
F4: vedoucí odboru
R5: v tis. Kč
A6: Oblast zdravotnictví - rozpracované investice
A8: Poř.číslo | B8: Oblast | C8: ORG | D8: § | E8: pol. | F8: Název akce | G8: Popis | H8: Stávající dokumentace | I8: K zajištění | J8: Celkové náklady s DPH | K8: Termín realizace | L8: Vynaloženo k 31. 12. 2011 | M8: Návrh na rok 2012 | R8: Pokračování v roce 2013 a dalších
M9: Celkem | N9: z toho spolufin. PO z IF | O9: z toho KB | P9: z toho EIB | Q9: z toho rozpočet OK
A10: 1 | B10: OL | C10: 60005100653 | D10: 3523 | E10: 6121 | F10: Odborný léčebný ústav neurologicko-geriatrický Moravský Beroun - Rekonstrukce a dostavba oddělení rehabilitace | G10: Celková rekonstrukce prostor oddělení rehabilitace, které jsou zastaralé a nevyhovují platným hygienickým ani provozním požadavkům. Součástí je realizace dostavby oddělení rehabilitace, čímž bude zajištěna požadovaná kapacita pro umístnění vodoléčby s odpočívárnou a příslušným hygienickým zázemím, magnetoterapie, termoterapie a elektroléčby. Tato zařízení jsou v současné době provozovány v nevyhovujících a omezených prostorách. Nad částí střechy dostavby bude dále vybudována evakuační rampa z 2 NP. | H10: studie, DUR, DSP, DPS, SP | I10: realizace | J10: 25064 | K10: 2011-2012 | L10: 3964 | M10: =SUM(N10:Q10) -> 21100 | N10: 0 | P10: 17583 | Q10: 3517 | R10: =J10-L10-M10 -> 0
A11: Oblast zdravotnictví - rozpracované investice celkem | J11: =SUM(J10:J10) -> 25064 | L11: =SUM(L10:L10) -> 3964 | M11: =SUM(M10:M10) -> 21100 | N11: =SUM(N10:N10) -> 0 | O11: =SUM(O10:O10) -> 0 | P11: =SUM(P10:P10) -> 17583 | Q11: =SUM(Q10:Q10) -> 3517 | R11: =SUM(R10) -> 0
P14: 19515 | Q14: 255

Sheet Zdrav.-nájem 
A1: Odbor investic a evropských programů
A2: Správce:
F3: Ing. Miroslav Kubín | G3: ORJ - 17
F4: vedoucí odboru
P5: v tis. Kč
A6: Oblast zdravotnictví - investice hrazené z nájemného
A7: Rozpracované investice
A8: Poř.číslo | B8: Oblast | C8: ORG | D8: § | E8: pol. | F8: Název akce: | G8: Popis: | H8: Stávající dokumentace | I8: K zajištění | J8: Celkové náklady s DPH | K8: Termín realizace | L8: Vynaloženo k 31. 12. 2011 | M8: Návrh na rok 2012 | P8: Pokračování v roce 2013 a dalších
M9: Celkem | N9: z toho spolufinan. PO z IF | O9: z toho rozpočet OK
A10: PŘEROV
A11: 1 | B11: PR | C11: 60005100579 | D11: 3522 | E11: 6121 | F11: SMN a.s. - o.z. Nemocnice Přerov - Rekonstrukce oddělení urologie | G11: Vybudování sociálního zázemí pro pacienty na pokojích a úprava příjmové ambulance dle platných norem. | H11: PD | I11: realizace | J11: 15272 | K11: 2011-2012 | L11: 4419 | M11: =N11+O11 -> 10853 | N11: 0 | O11: 10853 | P11: =J11-L11-O11 -> 0
A12: Oblast zdravotnictví z nájemného celkem | J12: =SUM(J10:J11) -> 15272 | L12: =SUM(L10:L11) -> 4419 | M12: =SUM(M10:M11) -> 10853 | N12: =SUM(N10:N11) -> 0 | O12: =SUM(O10:O11) -> 10853

Sheet Velké investiční akce
A1: Odbor investic a evropských programů
A2: Správce: | F2: Ing. Miroslav Kubín | H2: ORJ - 17
F3: vedoucí odboru
Q4: v tis. Kč
A5: Velké investiční akce
A6: Rozpracované investice
A7: Poř. číslo | B7: Oblast | C7: ORG | D7: § | E7: pol. | F7: Název akce: | G7: Popis: | H7: Stávající dokumentace | I7: K zajištění | J7: Celkové náklady s DPH | K7: Termín realizace | L7: Vynaloženo k 31. 12. 2011 | M7: Návrh na rok 2012 | N7: z toho EIB | O7: z toho rozpočet OK | P7: Pokračování v roce 2013 | Q7: Pokračování v roce 2014
A9: 1 | B9: OL | C9: 60001100565 | D9: 3114 | E9: 6121 | F9: Vzdělávací centrum pro slabozraké Olomouc - Hejčín | G9: Jedná se o vybudování budovy základní školy a speciálního pedagogického centra, školní jídelny, jednoho objektu ubytování, tělocvičny a veškerých inženýrských sítí, v rámci dislokace základní školy prof. V. Vejdovského v Litovli. | H9: DSP, SP, DPS | I9: realizace | J9: 248000 | K9: 2011-2012 | L9: 149000 | M9: =SUM(N9:O9) -> 99000 | N9: 82500 | O9: 16500 | P9: 0 | Q9: 0
A10: 2 | B10: OL | C10: 60001100537 | D10: 3122 | E10: 6121 | F10: Dostavba budovy Slovanského gymnázium Olomouc | G10: Jedná se o 4 podlažní dostavbu školy, která by řešila stravování studentů a učitelů tří škol v dostupné vzdálenosti (jídelna a výdejna jídla), náhradu stávajícího provizorního pavilonu ve dvoře, nedostatečný počet tříd, hygienických zařízení, bezbariérové úpravy, tělocvičnu a další zázemí gymnázia. | H10: DUR, DSP, SP, DPS, | I10: realizace | J10: 189000 | K10: 2011-2013 | L10: 9446 | M10: =SUM(N10:O10) -> 90000 | N10: 75000 | O10: 15000 | P10: =J10-L10-M10 -> 89554 | Q10: 0
A11: 3 | B11: OL | C11: 60002100656 | D11: 4357 | E11: 6121 | F11: Nový pavilon areálu Domov seniorů Pohoda, Olomouc - Chválkovice | G11: Nový objekt areálu pro 100 klientů v samostatných jednolůžkových a dvoulůžkových pokojích se sociálním zařízením včetně parkoviště a inženýrských sítí. Součástí objektu je zázemí pro zdravotní personál, ošetřovny, kuchyňky, šatny sociální zařízení a další nezbytné technické zázemí, společenský sál. | H11: DUR, UR, DSP, SP, DPS | I11: realizace | J11: 234000 | K11: 2011-2013 | L11: 9824 | M11: =SUM(N11:O11) -> 104500 | N11: 87083 | O11: 17417 | P11: =J11-L11-M11 -> 119676 | Q11: 0
A12: 4 | B12: PR | C12: 60002100540 | D12: 4357 | E12: 6121 | F12: Nový pavilon areálu Domov pro seniory Radkova Lhota | G12: Nový pavilon pro poskytování sociální služby Domovy se zvláštním režimem podle §50 zákona o sociálních službách s orientací na klienty postižené demencí pro 80 klientů. | H12: S | I12: DUR, DSP, SP, DPS | J12: 153000 | K12: 2010-2014 | L12: 204 | M12: =SUM(N12:O12) -> 5000 | N12: 4167 | O12: 833 | P12: 90000 | Q12: =J12-L12-M12-P12 -> 57796
A13: 5 | B13: PV | C13: 60003100657 | D13: 3321 | E13: 6121 | F13: Zámek Čechy pod Kosířem - rekonstrukce a využití objektů a revitalizace parku, 1. etapa | G13: 1. etapa celkové rekonstrukce zámku a parku v souladu s plánovaným využitím (kongresová turistika, výstavní expozice, kulturní akce, společenské události, doprovodné programy atd.) zahrnuje rekonstrukci dílčí části 1. a 2. NP jižního a západního křídla v rozsahu výměny elektroinstalace, instalace zabezpečovacího systému, oprava dřevěných prvků, úprava provozního zázemí a sociálního zařízení pro návštěvníky a zaměstnance, úprava rozvodů vytápění, oprava venkovního vstupního schodiště jižního křídla zámku, zřízení nové venkovní kanalizace, rekonstrukce oranžérie. | I13: DSP, SP, DPS, realizace | J13: 20000 | K13: 2011-2012 | L13: 6000 | M13: =SUM(N13:O13) -> 14000 | N13: 11667 | O13: 2333 | P13: 0 | Q13: 0
A14: Celkem velké investiční akce | J14: =SUM(J9:J13) -> 844000 | L14: =SUM(L9:L13) -> 174474 | M14: =SUM(M9:M13) -> 312500 | N14: =SUM(N9:N13) -> 260417 | O14: =SUM(O9:O13) -> 52083 | P14: 19515 | Q14: 255
