Workbook

Sheet Souhrn
A1: 8. Rozpracované investiční akce spolufinancované ze strukturálních fondů EU pro rok 2012
G3: v tis. Kč
A4: Oblast | C4: Název přílohy | D4: Návrh na úvěrový rámec EIB | F4: Přímé proplácení z dotací | G4: Celkem
D5: Předfinancování dotací | E5: Financování podílu Olomouckého kraje
B6: Oblast školství | C6: Rozpracované investiční akce s dotací | D6: 0 | E6: ='Š-INV s dotací'!J11 -> 4549 | F6: ='Š-INV s dotací'!K11 -> 35382 | G6: =SUM(D6:F6) -> 39931
A7: Oblast školství - součet | D7: 0 | E7: =SUM(E6:E6) -> 4549 | F7: =SUM(F6:F6) -> 35382 | G7: =SUM(D7:F7) -> 39931
B8: Oblast sociální | C8: Rozpracované investiční akce s dotací | D8: =0.75*'Sociální-INV s dotací'!J10 -> 11248.5 | E8: =0.25*'Sociální-INV s dotací'!J10 -> 3749.5 | G8: 14999
A9: Oblast sociální - součet | D9: =SUM(D8:D8) -> 11248.5 | E9: =SUM(E8:E8) -> 3749.5 | F9: =SUM(F8:F8) -> 0 | G9: 14999
B10: Oblast dopravy | C10: Rozpracované investiční akce s dotací | D10: =0.75*'Doprava-INV s dotací'!J14 -> 254402.25 | E10: =0.25*'Doprava-INV s dotací'!J14 -> 84800.75 | G10: =SUM(D10:F10) -> 339203
A11: Oblast dopravy - součet | D11: =SUM(D10:D10) -> 254402.25 | E11: =SUM(E10:E10) -> 84800.75 | F11: =SUM(F10:F10) -> 0 | G11: =SUM(D11:F11) -> 339203
B12: Oblast zdravotnictví | C12: Rozpracované investiční akce s dotací | D12: =0.85*'Zdr.-INV s dotací'!J9 -> 23827.2 | E12: =0.15*'Zdr.-INV s dotací'!J9 -> 4204.8 | G12: =SUM(D12:F12) -> 28032
A13: Oblast zdravotnictví - součet | D13: =SUM(D12:D12) -> 23827.2 | E13: =SUM(E12:E12) -> 4204.8 | F13: =SUM(F12:F12) -> 0 | G13: =SUM(D13:F13) -> 28032
B14: Oblast informačních technologií | C14: Rozpracované investiční akce s dotací | D14: =0.85*'IT-INV s dotací'!J9 -> 58808.95 | E14: =0.15*'IT-INV s dotací'!J9 -> 10378.05 | G14: =SUM(D14:F14) -> 69187
A15: Oblast informačních technologií (KÚOK) - součet | D15: =SUM(D14) -> 58808.95 | E15: =SUM(E14) -> 10378.05 | F15: =SUM(F14) -> 0 | G15: =SUM(D15:F15) -> 69187
A16: Celkem | D16: =D7+D9+D11+D13+D15 -> 348286.9 | E16: 107683 | F16: =F7+F9+F11+F13+F15 -> 35382 | G16: =G7+G9+G11+G13+G15 -> 491352

Sheet Š-INV s dotací
A1: Rozpracované investiční akce spolufinancované ze strukturálních fondů EU pro rok 2012
L2: v tis. Kč
A3: Poř.číslo | B3: Oblast | C3: Název projektu | D3: Dotační titul | E3: Délka trvání projektu | F3: Celkové náklady projektu | G3: Dotace | H3: Podíl OK | I3: Předpoklad plnění k 31.12.2011 | J3: Plánované plnění v roce 2012 | L3: Zůstává k úhradě na další léta
J4: úvěr EIB | K4: přímé proplácení EU+SR
A6: Oblast školství
A8: 1. | B8: JE | C8: Realizace energeticky úsporných opatření - SOŠ a SOU Jeseník | D8: OPŽP, 3.2.1 | E8: 2011-2012 | F8: 25457 | G8: 15234 | H8: =F8-G8 -> 10223 | I8: 7306 | J8: =F8-K8-I8 -> 2917 | K8: =G8 -> 15234 | L8: 0
A9: 2. | B9: PV | C9: Realizace energeticky úsporných opatření - SOU obchodní Prostějov | D9: OPŽP, 3.2.1 | E9: 2011-2012 | F9: 12454 | G9: 8106 | H9: =F9-G9 -> 4348 | I9: 4000 | J9: =F9-K9-I9 -> 348 | K9: =G9 -> 8106 | L9: 0
A10: 3. | B10: SU | C10: Realizace energeticky úsporných opatření - ZŠ a DD Zábřeh | D10: OPŽP, 3.2.1 | E10: 2011-2012 | F10: 16541 | G10: 12042 | H10: =F10-G10 -> 4499 | I10: 3215 | J10: =F10-K10-I10 -> 1284 | K10: 12042 | L10: 0
A11: CELKEM | F11: =SUM(F8:F10) -> 54452 | G11: =SUM(G8:G10) -> 35382 | H11: =SUM(H8:H10) -> 19070 | I11: =SUM(I8:I10) -> 14521 | J11: =SUM(J8:J10) -> 4549 | K11: =SUM(K8:K10) -> 35382 | L11: =SUM(L8:L10) -> 0

Sheet Sociální-INV s dotací
A1: Rozpracované investiční akce spolufinancované ze strukturálních fondů EU pro rok 2012
L2: v tis. Kč
A3: Poř.číslo | B3: Oblast | C3: Název projektu | D3: Dotační titul | E3: Délka trvání projektu | F3: Celkové náklady projektu | G3: Dotace | H3: Podíl OK | I3: Předpoklad plnění k 31.12.2011 | J3: Plánované plnění v roce 2012 | L3: Zůstává k úhradě na další léta
J4: úvěr EIB | K4: přímé proplácení EU+SR
A6: Oblast sociální
A8: 1. | B8: OL | C8: Rozšíření služeb Penzionu pro důchodce a pečovatelské služby Olomouc | D8: ROP 2.2.2 Infrastruktura pro rozvoj sociálních služeb | E8: 2010-2012 | F8: 38135 | G8: =28521+1658 -> 30179 | H8: =F8-G8 -> 7956 | I8: 124 | J8: 10000 | K8: 0 | L8: =F8-I8-J8 -> 28011
A9: 2. | B9: PV | C9: Revitalizace areálu staré nemocnice v Prostějově - II. Etapa | D9: ROP - podoblat podpory 2.2.1 Fyzická revitalizace území | E9: 2011-2012 | F9: 13192 | G9: 7847 | H9: =F9-G9 -> 5345 | I9: 8194 | J9: 4998 | K9: 0 | L9: 0
A10: CELKEM | F10: =SUM(F8:F9) -> 51327 | G10: =SUM(G8:G9) -> 38026 | H10: =SUM(H8:H9) -> 13301 | I10: =SUM(I8:I9) -> 8318 | J10: =SUM(J8:J9) -> 14998 | K10: =SUM(K8:K9) -> 0 | L10: =SUM(L8:L9) -> 28011

Sheet Doprava-INV s dotací
A1: Rozpracované investiční akce spolufinancované ze strukturálních fondů EU pro rok 2012
L2: v tis. Kč
A3: Poř.číslo | B3: Oblast | C3: Název projektu | D3: Dotační titul | E3: Délka trvání projektu | F3: Celkové náklady projektu | G3: Dotace | H3: Podíl OK | I3: Předpoklad plnění k 31.12.2011 | J3: Plánované plnění v roce 2012 | L3: Zůstává k úhradě na další léta
J4: úvěr EIB | K4: přímé proplácení EU+SR
A6: Oblast dopravy
A8: 1. | B8: OL | C8: Silnice III/4469 Bohuňovice - rekonstrukce průtahu | D8: ROP 1.1.1 Silnice II. a III. třídy | E8: 2011-2012 | F8: 17149 | G8: 15318 | H8: =F8-G8 -> 1831 | I8: 11337 | J8: 5812 | K8: 0 | L8: 0
A9: 2. | B9: PR | C9: II/150 Čechy-Domaželice- obchvat | D9: ROP 1.1.1 Silnice II. a III. třídy | E9: 2012-2014 | F9: 395956 | G9: 287807 | H9: =F9-G9 -> 108149 | I9: 61 | J9: 142968 | K9: 0 | L9: =F9-I9-J9 -> 252927
A10: 3. | B10: PV | C10: III/36711 Bedihošť- průtah | D10: ROP 1.1.1 Silnice II. a III. třídy | E10: 2012 | F10: 36422 | G10: 26250 | H10: =F10-G10 -> 10172 | I10: 867 | J10: 35555 | K10: 0 | L10: 0
A11: 4. | B11: OL | C11: II/150 Dub-Tovačov, stavební úpravy | D11: ROP 1.1.1 Silnice II. a III. třídy | E11: 2011-2012 | F11: 104764 | G11: 77815 | H11: =F11-G11 -> 26949 | I11: 3000 | J11: =F11-I11 -> 101764 | K11: 0 | L11: 0
A12: 5. | B12: PV | C12: II/366 Kostelec na Hané průtah, IV.etapa | D12: ROP 1.1.1 Silnice II. a III. třídy | E12: 2011-2012 | F12: 20861 | G12: 14625 | H12: =F12-G12 -> 6236 | I12: 153 | J12: =F12-I12 -> 20708 | K12: 0 | L12: 0
A13: 6. | B13: SU | C13: Rekonstrukce silnice II/369 Hanušovice - Bohdíkov (SSOK) | D13: ROP 1.1.1 Silnice II. a III. třídy | E13: 2011-2012 | F13: 32396 | G13: 24297 | H13: =F13-G13 -> 8099 | I13: 0 | J13: 32396 | K13: 0 | L13: 0
A14: CELKEM | F14: =SUM(F8:F13) -> 607548 | G14: =SUM(G8:G13) -> 446112 | H14: =SUM(H8:H13) -> 161436 | I14: =SUM(I8:I13) -> 15418 | J14: =SUM(J8:J13) -> 339203 | K14: =SUM(K8:K13) -> 0 | L14: =SUM(L8:L13) -> 252927

Sheet Zdr.-INV s dotací
A1: Rozpracované investiční akce spolufinancované ze strukturálních fondů EU pro rok 2012
L2: v tis. Kč
A3: Poř.číslo | B3: Oblast | C3: Název projektu | D3: Dotační titul | E3: Délka trvání projektu | F3: Celkové náklady projektu | G3: Dotace | H3: Podíl OK | I3: Předpoklad plnění k 31.12.2011 | J3: Plánované plnění v roce 2012 | L3: Zůstává k úhradě na další léta
J4: úvěr EIB | K4: přímé proplácení EU+SR
A6: Oblast zdravotnictví
A8: 1. | B8: OL | C8: Krajský standardizovaný projekt ZZS Olomouckého kraje | D8: Integrovaný operační program, 3.4 | E8: 2011-2013 | F8: 31182 | G8: 26504 | H8: 4678 | I8: 0 | J8: =F8-L8 -> 28032 | K8: 0 | L8: 3150
A9: CELKEM | F9: =SUM(F8) -> 31182 | G9: =SUM(G8) -> 26504 | H9: =SUM(H8) -> 4678 | I9: =SUM(I8) -> 0 | J9: =SUM(J8) -> 28032 | K9: =SUM(K8) -> 0 | L9: =SUM(L8) -> 3150

Sheet IT-INV s dotací
A1: Rozpracované investiční akce spolufinancované ze strukturálních fondů EU pro rok 2012
L2: v tis. Kč
A3: Poř.číslo | B3: Oblast | C3: Název projektu | D3: Dotační titul | E3: Délka trvání projektu | F3: Celkové náklady projektu | G3: Dotace | H3: Podíl OK | I3: Předpoklad plnění k 31.12.2011 | J3: Plánované plnění v roce 2012 | L3: Zůstává k úhradě na další léta
J4: úvěr EIB | K4: přímé proplácení EU+SR
A6: Oblast informačních technologií
A8: 1. | B8: OK | C8: Rozvoj služeb v eGovernmentu v Olomouckém kraji | D8: Integrovaný operační program, opatření 2.1 | E8: 2011-2013 | F8: 158800 | G8: =F8*0.85 -> 134980 | H8: =F8*0.15 -> 23820 | I8: 1380 | J8: 69187 | K8: 0 | L8: =F8-I8-J8 -> 88233
A9: CELKEM | F9: =SUM(F8:F8) -> 158800 | G9: =SUM(G8:G8) -> 134980 | H9: =SUM(H8:H8) -> 23820 | I9: =SUM(I8:I8) -> 1380 | J9: =SUM(J8:J8) -> 69187 | K9: =SUM(K8:K8) -> 0 | L9: =SUM(L8:L8) -> 88233
