Workbook

Sheet Rekapitulace 
A1: a) Příspěvkové organizace v oblasti školství | M1: ORJ -10
A2: Správce: vedoucí odboru
A3: Mgr. Miroslav Gajdůšek, MBA
A5: Rekapitulace hospodaření /výsledek hospodaření/ za rok 2010 - okres Olomouc
I6: v tis. Kč | M6: v Kč
A7: ORG | B7: Název školy | C7: Adresa | E7: Náklady | F7: Výnosy | G7: Daň | H7: Výsledek hospodaření | J7: Rozdělení do fondů - v Kč | L7: Pokrytí ztráty z minulých období | O7: v tis. Kč
H8: zlepšený VH | I8: ztráta | J8: Fond rezervní | K8: Fond odměn | M8: Celkem
A9: 1000 | B9: Základní škola a Mateřská škola | C9: Náměstí 150 | D9: 783 04 Město Libavá | E9: ='1000'!G15 -> 10402 | F9: ='1000'!G17 -> 10463 | G9: 0 | H9: =F9-E9-G9 -> 61 | I9: 0 | J9: ='1000'!G29 -> 54460.01 | K9: ='1000'!G28 -> 7000 | L9: ='1000'!G30 -> 0.52 | M9: =J9+K9 -> 61460.01 | O9: kladný | P9: =44-P10-P11 -> 37
J10: =J9/M9 -> 0.8861048 | K10: =K9/M9 -> 0.1138952 | L10: 0 | M10: =J10+K10 -> 1 | O10: záporný | P10: 4
A11: 1001 | B11: Mateřská škola | C11: Blanická 16 | D11: 772 00 Olomouc | E11: ='1001'!G15 -> 2614 | F11: ='1001'!G17 -> 2614 | G11: 0 | H11: =F11-E11-G11 -> 0 | I11: 0 | J11: ='1001'!G29 -> 175.32 | K11: ='1001'!G28 -> 0 | L11: ='1001'!G30 -> 0 | M11: =J11+K11 -> 175.32 | N11: změna | O11: nulový | P11: 3
J12: =J11/M11 -> 1 | K12: =K11/M11 -> 0 | L12: 0 | M12: =J12+K12 -> 1
A13: 1010 | B13: Základní škola a Mateřská škola při FN | C13: I.P.Pavlova 6 | D13: 775 20 Olomouc | E13: ='1010'!G15 -> 6200 | F13: ='1010'!G17 -> 6200 | G13: 0 | H13: =F13-E13-G13 -> 0 | I13: 0 | J13: ='1010'!G29 -> 0 | K13: ='1010'!G28 -> 0 | L13: 0 | M13: =J13+K13+L13 -> 0 | O13: v Kč
J14: 0 | K14: 0 | L14: 0 | M14: =J14+K14+L14 -> 0 | O14: kladný | P14: =44-P15-P16 -> 36
A15: 1012 | B15: Základní škola a Mateřská škola logopedická | C15: tř. Svornosti 37/900 | D15: 779 00 Olomouc | E15: ='1012'!G15 -> 27831 | F15: ='1012'!G17 -> 27850 | G15: 0 | H15: =F15-E15-G15 -> 19 | I15: 0 | J15: ='1012'!G29 -> 12286.61 | K15: ='1012'!G28 -> 7000 | L15: ='1012'!G30 -> 0 | M15: =J15+K15 -> 19286.61 | O15: záporný | P15: 4
J16: =J15/M15 -> 0.63705389 | K16: =K15/M15 -> 0.36294611 | L16: 0 | M16: =J16+K16 -> 1 | O16: nulový | P16: 4
A17: 1013 | B17: Základní škola prof. V. Vejdovského | C17: nám. P. Otakara 777 | D17: 784 01 Litovel | E17: ='1013'!G15 -> 15835 | F17: ='1013'!G17 -> 15845 | G17: 0 | H17: =F17-E17-G17 -> 10 | I17: 0 | J17: ='1013'!G29 -> 10083.46 | K17: ='1013'!G28 -> 0 | L17: ='1013'!G30 -> 0 | M17: =J17+K17 -> 10083.46
J18: =J17/M17 -> 1 | K18: =K17/M17 -> 0 | L18: 0 | M18: =J18+K18 -> 1
A19: 1014 | B19: Základní škola prof. Z. Matějčka | C19: Svatoplukova 11 | D19: 779 00 Olomouc | E19: ='1014'!G15 -> 29668 | F19: ='1014'!G17 -> 29776 | G19: 0 | H19: =F19-E19-G19 -> 108 | I19: 0 | J19: ='1014'!G29 -> 105800 | K19: ='1014'!G28 -> 2000 | L19: ='1014'!G30 -> 0 | M19: =J19+K19 -> 107800
J20: =J19/M19 -> 0.98144712 | K20: =K19/M19 -> 0.018552876 | L20: 0 | M20: =J20+K20 -> 1 | P20: =102+14+10 -> 126
A21: 1015 | B21: Střední škola | C21: B. Dvorského 17 | D21: 783 51 | E21: ='1015'!G15 -> 21483 | F21: ='1015'!G17 -> 21571 | G21: 0 | H21: =F21-E21-G21 -> 88 | I21: 0 | J21: ='1015'!G29 -> 73292.6 | K21: ='1015'!G28 -> 13000 | L21: ='1015'!G30 -> 0 | M21: =J21+K21+L21 -> 86292.6 | P21: =101+14+11 -> 126
D22: Olomouc-Sv.K. | J22: =J21/M21 -> 0.84934977 | K22: =K21/M21 -> 0.15065023 | L22: =L21/M21 -> 0 | M22: =J22+K22+L22 -> 1
A23: 1032 | B23: Základní škola | C23: Olomoucká 76 | D23: 785 01 Šternberk | E23: ='1032'!G15 -> 8487 | F23: ='1032'!G17 -> 8510 | G23: 0 | H23: =F23-E23-G23 -> 23 | I23: 0 | J23: ='1032'!G31 -> 13930 | K23: ='1032'!G30 -> 10000 | L23: ='1032'!G32 -> 0 | M23: =J23+K23+L23 -> 23930
J24: =J23/M23 -> 0.5821145 | K24: =K23/M23 -> 0.4178855 | L24: =L23/M23 -> 0 | M24: =J24+K24+L24 -> 1
A25: 1033 | B25: Základní škola | C25: Šternberská 35 | D25: 783 91 Uničov | E25: ='1033'!G15 -> 6436 | F25: ='1033'!G17 -> 6471 | G25: 0 | H25: =F25-E25-G25 -> 35 | I25: 0 | J25: ='1033'!G29 -> 4008.39 | K25: ='1033'!G28 -> 0 | L25: ='1033'!G30 -> 32164.12 | M25: =J25+K25+L25 -> 36172.51
J26: 0 | K26: 0 | L26: 0 | M26: =J26+K26 -> 0
A27: 1034 | B27: Základní škola, Dětský domov a Školní jídelna | C27: Palackého 938 | D27: 784 01 Litovel | E27: ='1034'!G15 -> 13883 | F27: ='1034'!G17 -> 13932 | G27: 0 | H27: =F27-E27-G27 -> 49 | I27: 0 | J27: ='1034'!G29 -> 39699.38 | K27: ='1034'!G28 -> 10000 | L27: ='1034'!G30 -> 0 | M27: =J27+K27 -> 49699.38
J28: =J27/M27 -> 0.79879025 | K28: =K27/M27 -> 0.20120975 | L28: =L27/M27 -> 0 | M28: =J28+K28 -> 1
A29: 1044 | B29: Základní škola | C29: Masarykova 357 | D29: 793 05 Mor. Beroun | E29: ='1044'!G15 -> 4696 | F29: ='1044'!G17 -> 4697 | G29: 0 | H29: =F29-E29-G29 -> 1 | I29: 0 | J29: ='1044'!G29 -> 0 | K29: ='1044'!G28 -> 0 | L29: ='1044'!G30 -> 0 | M29: =J29+K29 -> 0 | N29: změna
J30: 0 | K30: 0 | L30: 0 | M30: 0
A31: 1100 | B31: Gymnázium Jana Opletala | C31: Opletalova 189 | D31: 784 01 Litovel | E31: ='1100'!G15 -> 21313 | F31: ='1100'!G17 -> 21328 | G31: ='1100'!G21 -> 0 | H31: =F31-E31-G31 -> 15 | I31: 0 | J31: ='1100'!G29 -> 13843.79 | K31: ='1100'!G28 -> 1000 | L31: ='1100'!G30 -> 0 | M31: =J31+K31+L31 -> 14843.79
J32: =J31/M31 -> 0.93263176 | K32: =K31/M31 -> 0.06736824 | L32: =L31/M31 -> 0 | M32: =J32+K32+L32 -> 1
A33: 1101 | B33: Gymnázium | C33: Čajkovského 9 | D33: 772 00 Olomouc | E33: ='1101'!G15 -> 32713 | F33: ='1101'!G17 -> 32913 | G33: 0 | H33: =F33-E33-G33 -> 200 | I33: 0 | J33: ='1101'!G29 -> 182872.19 | K33: ='1101'!G28 -> 15000 | L33: ='1101'!G30 -> 0 | M33: =J33+K33+L33 -> 197872.19
J34: =J33/M33 -> 0.92419349 | K34: =K33/M33 -> 0.075806509 | L34: =L33/M33 -> 0 | M34: =J34+K34+L34 -> 1
A35: 1102 | B35: Slovanské gymnázium | C35: tř. J. z Poděbrad 13 | D35: 771 11 Olomouc | E35: ='1102'!G15 -> 53879 | F35: ='1102'!G17 -> 53881 | G35: 0 | H35: =F35-E35-G35 -> 2 | I35: 0 | J35: ='1102'!G29 -> 0 | K35: ='1102'!G28 -> 0 | L35: ='1102'!G30 -> 1340.77 | M35: =J35+K35+L35 -> 1340.77
J36: =J35/M35 -> 0 | K36: =K35/M35 -> 0 | L36: =L35/M35 -> 1 | M36: =J36+K36+L36 -> 1
A37: 1103 | B37: Gymnázium | C37: Tomkova 45 | D37: 779 00 | E37: ='1103'!G15 -> 71590 | F37: ='1103'!G17 -> 70954 | G37: 0 | H37: 0 | I37: =F37-E37-G37 -> -636 | J37: ='1103'!G29 -> 0 | K37: ='1103'!G28 -> 0 | L37: 0 | M37: 0
D38: Olomouc-Hejčín | J38: 0 | K38: 0 | L38: 0 | M38: 0
A39: 1104 | B39: Gymnázium | C39: Horní nám. 5 | D39: 785 01 Šternberk | E39: ='1104'!G15 -> 29514 | F39: ='1104'!G17 -> 29436 | G39: 0 | H39: 0 | I39: =F39-E39-G39 -> -78 | J39: ='1104'!G29 -> 0 | K39: ='1104'!G28 -> 0 | L39: 0 | M39: =J39+K39 -> 0
J40: 0 | K40: 0 | L40: 0 | M40: =J40+K40 -> 0
A41: 1105 | B41: Gymnázium | C41: Gymnazijní 257 | D41: 783 91 Uničov | E41: ='1105'!G15 -> 20254 | F41: ='1105'!G17 -> 20403 | G41: 0 | H41: =F41-E41-G41 -> 149 | I41: 0 | J41: ='1105'!G29 -> 133148.03 | K41: ='1105'!G28 -> 15000 | L41: ='1105'!G30 -> 0 | M41: =J41+K41 -> 148148.03
J42: =J41/M41 -> 0.89874992 | K42: =K41/M41 -> 0.10125008 | L42: 0 | M42: =J42+K42 -> 1
A43: 1120 | B43: VOŠ a SPŠ elektrotechnická | C43: Božetěchova 3 | D43: 772 00 Olomouc | E43: ='1120'!G15 -> 36453 | F43: ='1120'!G17 -> 36553 | G43: 0 | H43: =F43-E43-G43 -> 100 | I43: -0.00095 | J43: ='1120'!G29 -> 89879.23 | K43: ='1120'!G28 -> 10000 | L43: 0 | M43: =J43+K43 -> 99879.23
J44: 0 | K44: 0 | L44: 0 | M44: 0
A45: 1121 | B45: Střední průmyslová škola strojnická | C45: tř. 17.listopadu 49 | D45: 772 11 Olomouc | E45: ='1121'!G15 -> 23899 | F45: ='1121'!G17 -> 23970 | G45: 0 | H45: =F45-E45-G45 -> 71 | I45: 0 | J45: ='1121'!G29 -> 55111.87 | K45: ='1121'!G28 -> 15000 | L45: ='1121'!G30 -> 0 | M45: =J45+K45+L45 -> 70111.87
J46: =J45/M45 -> 0.7860562 | K46: =K45/M45 -> 0.2139438 | L46: =L45/M45 -> 0 | M46: =J46+K46+L46 -> 1
A47: 1122 | B47: Střední průmyslová škola a OA | C47: Školní 164 | D47: 783 91 Uničov | E47: ='1122'!G15 -> 27108 | F47: ='1122'!G17 -> 27246 | G47: 0 | H47: =F47-E47-G47 -> 138 | I47: 0 | J47: ='1122'!G29 -> 128292.61 | K47: ='1122'!G28 -> 10000 | L47: ='1122'!G30 -> 0 | M47: =J47+K47 -> 138292.61
J48: =J47/M47 -> 0.92768956 | K48: =K47/M47 -> 0.072310444 | L48: 0 | M48: =J48+K48 -> 1
A49: 1123 | B49: Střední škola zemědělská | C49: U Hradiska 4 | D49: 774 00 Olomouc | E49: ='1123'!G15 -> 50401 | F49: ='1123'!G17 -> 50164 | G49: ='1123'!H21 -> 0 | H49: 0 | I49: =F49-E49-G49 -> -237 | J49: ='1123'!G29 -> 0 | K49: ='1123'!G28 -> 0 | L49: 0 | M49: =J49+K49+L49 -> 0
J50: 0 | K50: 0 | L50: 0 | M50: =J50+K50+L50 -> 0
A51: 1124 | B51: Jazyková škola s právem SJZ | C51: Pöttingova 2 | D51: 771 00 Olomouc | E51: ='1124'!G16 -> 4295 | F51: ='1124'!G18 -> 4295 | G51: ='1124'!G22 -> 0 | H51: =F51-E51-G51 -> 0 | I51: 0 | J51: ='1124'!G30 -> 0 | K51: ='1124'!G29 -> 0 | L51: ='1124'!G31 -> 0 | M51: =J51+K51+L51 -> 0
J52: 0 | K52: 0 | L52: 0 | M52: =J52+K52+L52 -> 0
A53: 1150 | B53: Obchodní akademie | C53: tř. Spojenců 11 | D53: 771 11 Olomouc | E53: ='1150'!G15 -> 28610 | F53: ='1150'!G17 -> 28632 | G53: 0 | H53: =F53-E53-G53 -> 22 | I53: 0 | J53: ='1150'!G29 -> 16883.05 | K53: ='1150'!G28 -> 5000 | L53: ='1150'!G30 -> 0 | M53: =J53+K53+L53 -> 21883.05
J54: =J53/M53 -> 0.77151265 | K54: =K53/M53 -> 0.22848735 | L54: 0 | M54: =J54+K54+L54 -> 1
A55: 1160 | B55: SZŠ a VOŠ zdravotnická Emanuela Pöttinga | C55: Pöttingova 2 | D55: 771 00 Olomouc | E55: ='1160'!G15 -> 59389 | F55: ='1160'!G17 -> 59527 | G55: 0 | H55: =F55-E55-G55 -> 138 | I55: 0 | J55: ='1160'!G29 -> 139152.82 | K55: ='1160'!G28 -> 0 | L55: ='1160'!G30 -> 0 | M55: =J55+K55 -> 139152.82
J56: =J55/M55 -> 1 | K56: =K55/M55 -> 0 | L56: 0 | M56: =J56+K56 -> 1
A57: 1170 | B57: Střední odborná škola a SOU | C57: Morav.nám. 681 | D57: 783 91 Uničov | E57: ='1170'!G15 -> 30194 | F57: ='1170'!G17 -> 30195 | G57: 0 | H57: =F57-E57-G57 -> 1 | I57: 0 | J57: ='1170'!G29 -> 195.23 | K57: ='1170'!G28 -> 780.93 | L57: ='1170'!G30 -> 0 | M57: =J57+K57 -> 976.16
J58: =J57/M57 -> 0.19999795 | K58: =K57/M57 -> 0.80000205 | L58: 0 | M58: =J58+K58 -> 1
A59: 1200 | B59: Střední odborná škola | C59: Komenského 677 | D59: 784 01 Litovel | E59: ='1200'!G15 -> 19770 | F59: ='1200'!G17 -> 19776 | G59: ='1200'!G21 -> 0 | H59: =F59-E59-G59 -> 6 | I59: 0 | J59: ='1200'!G29 -> 1897.15 | K59: ='1200'!G28 -> 3700 | L59: ='1200'!G30 -> 0 | M59: =J59+K59 -> 5597.15
J60: =J59/M59 -> 0.33894929 | K60: =K59/M59 -> 0.66105071 | L60: 0 | M60: =J60+K60 -> 1
A61: 1201 | B61: Sigmundova střední škola strojírenská | C61: J. Sigmunda 242 | D61: 793 49 Lutín | E61: ='1201'!G15 -> 28641 | F61: ='1201'!G17 -> 28646 | G61: ='1201'!G21 -> 0 | H61: =F61-E61-G61 -> 5 | I61: 0 | J61: ='1201'!G29 -> 4753.2 | K61: ='1201'!G28 -> 0 | L61: ='1201'!G30 -> 0 | M61: =J61+K61 -> 4753.2
J62: =J61/M61 -> 1 | K62: =K61/M61 -> 0 | L62: 0 | M62: =J62+K62 -> 1
A63: 1202 | B63: Střední škola logistiky a chemie | C63: U Hradiska 29 | D63: 774 00 Olomouc | E63: ='1202'!G15 -> 29471 | F63: ='1202'!G17 -> 29642 | G63: 0 | H63: =F63-E63-G63 -> 171 | I63: 0 | J63: ='1202'!G29 -> 149084 | K63: ='1202'!G28 -> 20000 | L63: ='1202'!G30 -> 0 | M63: =J63+K63 -> 169084
J64: =J63/M63 -> 0.8817156 | K64: =K63/M63 -> 0.1182844 | L64: 0 | M64: =J64+K64 -> 1
A65: 1204 | B65: Střední škola polytechnická | C65: Rooseveltova 79 | D65: 779 00 Olomouc | E65: ='1204'!G15 -> 72844 | F65: ='1204'!G17 -> 73224 | G65: ='1204'!G21 -> 247 | H65: =F65-E65-G65 -> 133 | I65: 0 | J65: ='1204'!G29 -> 117652.84 | K65: ='1204'!G28 -> 15000 | L65: ='1204'!G30 -> 0 | M65: =J65+K65 -> 132652.84
J66: =J65/M65 -> 0.88692289 | K66: =K65/M65 -> 0.11307711 | L66: 0 | M66: =J66+K66 -> 1
A67: 1205 | B67: Střední škola polygrafická | C67: Stř. Novosadská 55 | D67: 779 00 Olomouc | E67: ='1205'!G15 -> 28093 | F67: ='1205'!G17 -> 28264 | G67: ='1205'!G21 -> 0 | H67: =F67-E67-G67 -> 171 | I67: 0 | J67: ='1205'!G29 -> 150587.06 | K67: ='1205'!G28 -> 20000 | L67: ='1205'!G30 -> 0 | M67: =J67+K67 -> 170587.06
J68: =J67/M67 -> 0.88275781 | K68: =K67/M67 -> 0.11724219 | L68: 0 | M68: =J68+K68 -> 1
A69: 1206 | B69: SOŠ obchodu a služeb | C69: Štursova 14 | D69: 772 86 Olomouc | E69: ='1206'!G15 -> 37302 | F69: ='1206'!G17 -> 37303 | G69: 0 | H69: =F69-E69-G69 -> 1 | I69: 0 | J69: ='1206'!G29 -> 0 | K69: ='1206'!G28 -> 0 | L69: ='1206'!G30 -> 0 | M69: =J69+K69 -> 0 | N69: změna
J70: 0 | K70: 0 | L70: 0 | M70: =J70+K70 -> 0
A71: 1207 | B71: Střední škola technická a obchodní | C71: Kosinova 872/4 | D71: 772 00 Olomouc | E71: ='1207'!G15 -> 36630 | F71: ='1207'!G17 -> 36723 | G71: 0 | H71: =F71-E71-G71 -> 93 | I71: 0 | J71: ='1207'!G29 -> 87486.31 | K71: ='1207'!G28 -> 4000 | L71: ='1207'!G30 -> 0 | M71: =J71+K71 -> 91486.31
J72: =J71/M71 -> 0.95627761 | K72: =K71/M71 -> 0.043722389 | L72: 0 | M72: =J72+K72 -> 1
A73: 1208 | B73: SOU strojírenské a lesnické | C73: Opavská 4 | D73: 785 01 Šternberk | E73: ='1208'!G15 -> 29205 | F73: ='1208'!G17 -> 29221 | G73: 0 | H73: =F73-E73-G73 -> 16 | I73: 0 | J73: ='1208'!G29 -> 15828.71 | K73: ='1208'!G28 -> 0 | L73: ='1208'!G30 -> 0 | M73: =J73+K73 -> 15828.71
J74: =J73/M73 -> 1 | K74: =K73/M73 -> 0 | L74: 0 | M74: =J74+K74 -> 1
A75: 1300 | B75: Základní umělecká škola Iši Krejčího | C75: Na Vozovce 32 | D75: 779 00 Olomouc | E75: ='1300'!G15 -> 15631 | F75: ='1300'!G17 -> 15678 | G75: 0 | H75: =F75-E75-G75 -> 47 | I75: 0 | J75: ='1300'!G29 -> 32895.86 | K75: ='1300'!G28 -> 12814.71 | L75: ='1300'!G30 -> 0 | M75: =J75+K75+L75 -> 45710.57
J76: =J75/M75 -> 0.71965543 | K76: =K75/M75 -> 0.28034457 | L76: =L75/M75 -> 0 | M76: =J76+K76+L76 -> 1
A77: 1301 | B77: Základní umělecká škola „Žerotín“ | C77: Kavaleristů 6 | D77: 772 00 Olomouc | E77: ='1301'!G15 -> 30433 | F77: ='1301'!G17 -> 30520 | G77: 0 | H77: =F77-E77-G77 -> 87 | I77: 0 | J77: ='1301'!G29 -> 65362.52 | K77: ='1301'!G28 -> 20000 | L77: ='1301'!G30 -> 0 | M77: =J77+K77 -> 85362.52
J78: 0 | K78: 0 | L78: 0 | M78: =J78+K78 -> 0
A79: 1302 | B79: Základní umělecká škola M. Stibora - výtv. obor | C79: Pionýrská 4 | D79: 779 00 Olomouc | E79: ='1302'!G15 -> 5456 | F79: ='1302'!G17 -> 5486 | G79: 0 | H79: =F79-E79-G79 -> 30 | I79: 0 | J79: ='1302'!G29 -> 21197.33 | K79: ='1302'!G28 -> 10500 | L79: ='1302'!G30 -> 0 | M79: =J79+K79 -> 31697.33
J80: =J79/M79 -> 0.66874182 | K80: =K79/M79 -> 0.33125818 | L80: 0 | M80: =J80+K80 -> 1
A81: 1303 | B81: Základní umělecká škola | C81: Jungmannova 740 | D81: 784 01 Litovel | E81: ='1303'!G15 -> 7627 | F81: ='1303'!G17 -> 7799 | G81: 0 | H81: =F81-E81-G81 -> 172 | I81: 0 | J81: ='1303'!G29 -> 147638.7 | K81: ='1303'!G28 -> 25000 | L81: ='1303'!G30 -> 0 | M81: =J81+K81 -> 172638.7
J82: =J81/M81 -> 0.8551889 | K82: =K81/M81 -> 0.1448111 | L82: 0 | M82: =J82+K82 -> 1
A83: 1304 | B83: Základní umělecká škola | C83: Litovelská 190 | D83: 783 91 Uničov | E83: ='1304'!G15 -> 11870 | F83: ='1304'!G17 -> 11875 | G83: 0 | H83: =F83-E83-G83 -> 5 | I83: 0 | J83: ='1304'!G29 -> 5066.94 | K83: ='1304'!G28 -> 0 | L83: ='1304'!G30 -> 0 | M83: =J83+K83 -> 5066.94
J84: =J83/M83 -> 1 | K84: =K83/M83 -> 0 | L84: 0 | M84: =J84+K84 -> 1
A85: 1316 | B85: Základní umělecká škola | C85: Dvořákova 349 | D85: 793 05 Mor. Beroun | E85: ='1316'!G15 -> 3138 | F85: ='1316'!G17 -> 3046 | G85: 0 | H85: 0 | I85: =F85-E85-G85 -> -92 | J85: ='1316'!G29 -> 0 | K85: ='1316'!G28 -> 0 | L85: 0 | M85: =J85+K85 -> 0
J86: 0 | K86: 0 | L86: 0 | M86: =J86+K86 -> 0
A87: 1350 | B87: Dům dětí a mládeže | C87: tř. 17.listopadu 47 | D87: 771 74 Olomouc | E87: ='1350'!G15 -> 21531 | F87: ='1350'!G17 -> 21595 | G87: ='1350'!G21 -> 0 | H87: =F87-E87-G87 -> 64 | I87: 0 | J87: ='1350'!G29 -> 61785.58 | K87: ='1350'!G28 -> 1000 | L87: ='1350'!G30 -> 0 | M87: =J87+K87 -> 62785.58
J88: =J87/M87 -> 0.98407278 | K88: =K87/M87 -> 0.015927224 | L88: 0 | M88: =J88+K88 -> 1
A89: 1351 | B89: Dům dětí a mládeže | C89: Komenského 719/6 | D89: 784 01 Litovel | E89: ='1351'!G15 -> 6072 | F89: ='1351'!G17 -> 6272 | G89: 0 | H89: =F89-E89-G89 -> 200 | I89: 0 | J89: ='1351'!G29 -> 180735.44 | K89: ='1351'!G28 -> 20000 | L89: ='1351'!G30 -> 0 | M89: =J89+K89 -> 200735.44
J90: =J89/M89 -> 0.90036637 | K90: =K89/M89 -> 0.099633627 | L90: 0 | M90: =J90+K90 -> 1
A91: 1352 | B91: Dům dětí a mládeže Vila Tereza | C91: Nádražní 530 | D91: 783 91 Uničov | E91: ='1352'!G15 -> 6090 | F91: ='1352'!G17 -> 6139 | G91: 0 | H91: =F91-E91-G91 -> 49 | I91: 0 | J91: ='1352'!G29 -> 26130.34 | K91: ='1352'!G28 -> 20000 | L91: ='1352'!G30 -> 0 | M91: =J91+K91 -> 46130.34
J92: =J91/M91 -> 0.56644586 | K92: =K91/M91 -> 0.43355414 | L92: 0 | M92: =J92+K92 -> 1
A93: 1400 | B93: Dětský domov a Školní jídelna | C93: U sportovní haly 1a | D93: 772 00 Olomouc | E93: ='1400'!G15 -> 17124 | F93: ='1400'!G17 -> 17318 | G93: 0 | H93: =F93-E93-G93 -> 194 | I93: 0 | J93: ='1400'!G29 -> 112974.35 | K93: ='1400'!G28 -> 80000 | L93: ='1400'!G30 -> 0 | M93: =J93+K93 -> 192974.35
J94: =J93/M93 -> 0.58543713 | K94: =K93/M93 -> 0.41456287 | L94: 0 | M94: =J94+K94 -> 1
A95: 1450 | B95: Pedagogicko-psychologická poradna OK | C95: U Sportovní haly 1a | D95: 772 00 Olomouc | E95: ='1450'!G15 -> 27254 | F95: ='1450'!G17 -> 27427 | G95: 0 | H95: =F95-E95-G95 -> 173 | I95: 0 | J95: ='1450'!G29 -> 171654.21 | K95: ='1450'!G28 -> 1000 | L95: ='1400'!G30 -> 0 | M95: =J95+K95 -> 172654.21
B96: Olomouckého kraje | J96: =J95/M95 -> 0.99420808 | K96: =K95/M95 -> 0.0057919236 | L96: 0 | M96: =J96+K96 -> 1
A97: CELKEM | E97: =SUM(E9:E95) -> 1071329 | F97: =SUM(F9:F95) -> 1073380 | G97: =SUM(G9:G95) -> 247 | H97: =SUM(H9:H96) -> 2847 | I97: =I9+I11+I13+I15+I17+I19+I21+I23+I25+I37+I27+I29+I31+I33+I35+I39+I41+I43+I45+I47+I49+I51+I53+I55+I57+I59+I61+I63+I65+I67+I69+I71+I73+I75+I77+I79+I81+I83+I85+I87+I89+I91+I93+I95 -> -1043.001 | J97: =J9+J11+J13+J15+J17+J19+J21+J23+J25+J27+J29+J31+J33+J35+J37+J39+J41+J43+J45+J47+J49+J51+J53+J55+J57+J59+J61+J63+J65+J67+J69+J71+J73+J75+J77+J79+J81+J83+J85+J87+J89+J91+J93+J95 -> 2425845.1 | K97: =K9+K11+K13+K15+K17+K19+K21+K23+K25+K27+K29+K31+K33+K35+K37+K39+K41+K43+K45+K47+K49+K51+K53+K55+K57+K59+K61+K63+K65+K67+K69+K71+K73+K75+K77+K79+K81+K83+K85+K87+K89+K91+K93+K95 -> 373795.64 | L97: =L9+L11+L13+L15+L17+L19+L21+L23+L25+L27+L29+L31+L33+L35+L37+L39+L41+L43+L45+L47+L49+L51+L53+L55+L57+L59+L61+L63+L65+L67+L69+L71+L73+L75+L77+L79+L81+L83+L85+L87+L89+L91+L93+L95 -> 33505.41 | M97: =M9+M11+M13+M15+M17+M19+M21+M23+M25+M27+M29+M31+M33+M35+M37+M39+M41+M43+M45+M47+M49+M51+M53+M55+M57+M59+M61+M63+M65+M67+M69+M71+M73+M75+M77+M79+M81+M83+M85+M87+M89+M91+M93+M95 -> 2833145.7 | N97: =F97-E97-G97 -> 1804
H98: saldo | I98: =F97-E97-G97 -> 1804 | N98: =H97+I97 -> 1803.999
A102: Z celkového počtu 44 organizací okresu Olomouc skončilo:
C103: - 4 organizace ve ztrátě v celkové výši -951 tis.Kč
C104: - 36 organizací se zlepšeným výsledkem hospodaření v celkové výši 2 845 tis. Kč
...

Sheet 1000
A1: REKAPITULACE ZA ORGANIZACI :
A2: Název organizace : | E2: Základní škola a Mateřská škola Libavá
E3: ……………………………………….……..………………………………………..…………………………………
A4: Adresa : | E4: Náměstí 150, Město Libavá
E5: ……………………………………….……..………………………………………..…………………………………
A6: IČ | E6: 75007592 | G6: ORG | H6: 1000
E7: ……………………………… ………….…..……………………………
E10: Schválený | F10: Upravený | G10: Skutečnost | H10: z toho:
E11: rozpočet | F11: rozpočet | G11: celkem | H11: Hlavní činnost | I11: Doplňková činnost
E12: celkem | F12: celkem | H12: jednotka - tis. Kč na 2 des. místa
A14: a) Náklady a výnosy
A15: Náklady | E15: 3760 | F15: 10402 | G15: =H15+I15 -> 10402 | H15: 10372 | I15: 30
A17: Výnosy | E17: 3760 | F17: 10463 | G17: =H17+I17 -> 10463 | H17: 10381 | I17: 82
A20: Doplňující údaje :
C21: daň z příjmů,dodatečné odvody daně z příjmů (nákladová položka) | G21: =H21+I21 -> 0 | H21: 0 | I21: 0
A23: Výsledek hospodaření /po zdanění/ | G23: =G17-G15-G21 -> 61 | H23: =H17-H15-H21 -> 9 | I23: =I17-I15-I21 -> 52
A27: b) | B27: Rozdělení výsledku hospodaření | G27: =SUM(G28:G30) -> 61460.53 | H27: v Kč
C28: - Návrh na příděly do fondů: | F28: Fond odměn | G28: 7000 | H28: v Kč
F29: Fond rezervní | G29: 54460.01 | H29: v Kč
C30: - Způsob krytí ztráty : | F30: Částka | G30: 0.52 | H30: v Kč
A31: Pozn.Do fondů je rozděleno o 0,52 Kč méně než byl zlepšený hospodářský výsledek za rok 2010. Tato částka představuje chybné rozdělení hospodářského výsledku příspěvkové organizace ZŠ a MŠ Libavá za rok 2008 (v roce 2009 byl chybně přidělen do fondů organizace výsledek hospodaření z roku 2008 o 0,52 Kč více. Chyba vznikla vinou organizace).
A34: c) | B34: Závazné ukazatele
F35: Schválená částka | G35: Skutečnost | I35: % plnění
A36: Limit mzdových prostředků | F36: 925 | G36: 863 | H36: v tis. Kč | I36: =G36/F36 -> 0.93297297
A37: Neinvestiční příspěvek /odpisy/ | F37: 0 | G37: 0 | H37: v tis. Kč | I37: 0
A38: Neinvestiční příspěvek /nájemné/ | F38: 0 | G38: 0 | H38: v tis. Kč | I38: nerozp.
A39: Odvody z investičního fondu /odpisy/ | F39: 0 | G39: 0 | H39: v tis. Kč | I39: 0
A40: Odvody z investičního fondu /spolufin. akcí/ | F40: 0 | G40: 0 | H40: v tis. Kč | I40: nerozp.
A42: d) | B42: Fondy | H42: jednotka - Kč na 2 des. místa
E43: Stav k 1.1.2010 | F43: Tvorba | G43: Čerpání | H43: Stav k | I43: Finanční krytí k
H44: 40543 | I44: 40543
C47: Fond odměn | E47: 10500 | F47: 1000 | G47: 2000 | H47: =E47+F47-G47 -> 9500 | I47: =H47 -> 9500
C48: FKSP | E48: 147859.35 | F48: 118615 | G48: 112647 | H48: =E48+F48-G48 -> 153827.35 | I48: 148674.3
C49: Fond rezervní | E49: 32158.68 | F49: =13823.08+15000 -> 28823.08 | G49: 0 | H49: =E49+F49-G49 -> 60981.76 | I49: =H49 -> 60981.76
C50: Investiční fond | E50: 9480 | F50: 7110 | G50: 0 | H50: =E50+F50-G50 -> 16590 | I50: =H50 -> 16590
A51: celkem | E51: =E47+E48+E49+E50 -> 199998.03 | F51: =F47+F48+F49+F50 -> 155548.08 | G51: =G47+G48+G49+G50 -> 114647 | H51: =H47+H48+H49+H50 -> 240899.11 | I51: =I47+I48+I49+I50 -> 235746.06

Sheet 1001
A1: REKAPITULACE ZA ORGANIZACI :
A2: Název organizace : | E2: Mateřská škola Olomouc
E3: ……………………………………….……..………………………………………..…………………………………
A4: Adresa : | E4: Blanická 16, Olomouc
E5: ……………………………………….……..………………………………………..…………………………………
A6: IČ | E6: 66181500 | G6: ORG | H6: 1001
E7: ……………………………… ………….…..……………………………
E10: Schválený | F10: Upravený | G10: Skutečnost | H10: z toho:
E11: rozpočet | F11: rozpočet | G11: celkem | H11: Hlavní činnost | I11: Doplňková činnost
E12: celkem | F12: celkem | H12: jednotka - tis. Kč na 2 des. místa
A14: a) Náklady a výnosy
A15: Náklady | E15: 345 | F15: 2614 | G15: =H15+I15 -> 2614 | H15: 2614 | I15: 0
A17: Výnosy | E17: 345 | F17: 2633 | G17: =H17+I17 -> 2614 | H17: 2614 | I17: 0
A20: Doplňující údaje :
C21: daň z příjmů,dodatečné odvody daně z příjmů (nákladová položka) | G21: =H21+I21 -> 0 | H21: 0 | I21: 0
A23: Výsledek hospodaření /po zdanění/ | G23: =G17-G15-G21 -> 0 | H23: =H17-H15-H21 -> 0 | I23: =I17-I15-I21 -> 0
A27: b) | B27: Rozdělení výsledku hospodaření | G27: =SUM(G28:G30) -> 175.32 | H27: v Kč
C28: - Návrh na příděly do fondů: | F28: Fond odměn | G28: 0 | H28: v Kč
F29: Fond rezervní | G29: 175.32 | H29: v Kč
C30: - Způsob krytí ztráty : | F30: Částka | G30: 0 | H30: v Kč
A34: c) | B34: Závazné ukazatele
F35: Schválená částka | G35: Skutečnost | I35: % plnění
A36: Limit mzdových prostředků | F36: 0 | G36: 0 | H36: v tis. Kč | I36: 0
A37: Neinvestiční příspěvek /odpisy/ | F37: 44.632 | G37: 44.632 | H37: v tis. Kč | I37: =G37/F37 -> 1
A38: Neinvestiční příspěvek /nájemné/ | F38: 0 | G38: 0 | H38: v tis. Kč | I38: nerozp.
A39: Odvody z investičního fondu /odpisy/ | F39: 33 | G39: 33 | H39: v tis. Kč | I39: =G39/F39 -> 1
A40: Odvody z investičního fondu /spolufin. akcí/ | F40: 0 | G40: 0 | H40: v tis. Kč | I40: nerozp.
A43: d) | B43: Fondy | H43: jednotka - Kč na 2 des. místa
E44: Stav k 1.1.2010 | F44: Tvorba | G44: Čerpání | H44: Stav k | I44: Finanční krytí k
H45: 40543 | I45: 40543
C48: Fond odměn | E48: 2050 | F48: 0 | G48: 0 | H48: =(E48+F48)-G48 -> 2050 | I48: =H48 -> 2050
C49: FKSP | E49: 15048.7 | F49: 30822 | G49: 22146 | H49: =(E49+F49)-G49 -> 23724.7 | I49: 19699.03
C50: Fond rezervní | E50: 187814.63 | F50: =52.1+40863 -> 40915.1 | G50: 114022.52 | H50: =(E50+F50)-G50 -> 114707.21 | I50: =H50 -> 114707.21
C51: Investiční fond | E51: 47344.39 | F51: 44632 | G51: 37023.6 | H51: =(E51+F51)-G51 -> 54952.79 | I51: =H51 -> 54952.79
A52: celkem | E52: =E48+E49+E50+E51 -> 252257.72 | F52: =F48+F49+F50+F51 -> 116369.1 | G52: =G48+G49+G50+G51 -> 173192.12 | H52: =H48+H49+H50+H51 -> 195434.7 | I52: =I48+I49+I50+I51 -> 191409.03

Sheet 1010
A1: REKAPITULACE ZA ORGANIZACI :
A2: Název organizace : | E2: Základní škola a Mateřská škola při FN Olomouc
E3: ……………………………………….……..………………………………………..…………………………………
A4: Adresa : | E4: I.P.Pavlova 6, Olomouc
E5: ……………………………………….……..………………………………………..…………………………………
A6: IČ | E6: 70631174 | G6: ORG | H6: 1010
E7: ……………………………… ………….…..……………………………
E10: Schválený | F10: Upravený | G10: Skutečnost | H10: z toho:
E11: rozpočet | F11: rozpočet | G11: celkem | H11: Hlavní činnost | I11: Doplňková činnost
E12: celkem | F12: celkem | H12: jednotka - tis. Kč na 2 des. místa
A14: a) Náklady a výnosy
A15: Náklady | E15: 640 | F15: 6200 | G15: =H15+I15 -> 6200 | H15: 6200 | I15: 0
A17: Výnosy | E17: 640 | F17: 6200 | G17: =H17+I17 -> 6200 | H17: 6200 | I17: 0
A20: Doplňující údaje :
C21: daň z příjmů,dodatečné odvody daně z příjmů (nákladová položka) | G21: =H21+I21 -> 0 | H21: 0 | I21: 0
A23: Výsledek hospodaření /po zdanění/ | G23: =G17-G15-G21 -> 0 | H23: =H17-H15-H21 -> 0 | I23: =I17-I15-I21 -> 0
A27: b) | B27: Rozdělení výsledku hospodaření | G27: =SUM(G28:G30) -> 0 | H27: v Kč
C28: - Návrh na příděly do fondů: | F28: Fond odměn | G28: 0 | H28: v Kč
F29: Fond rezervní | G29: 0 | H29: v Kč
C30: - Způsob krytí ztráty : | F30: Částka | G30: 0 | H30: v Kč
A35: c) | B35: Závazné ukazatele
F36: Schválená částka | G36: Skutečnost | I36: % plnění
A37: Limit mzdových prostředků | F37: 0 | G37: 0 | H37: v tis. Kč | I37: 0
A38: Neinvestiční příspěvek /odpisy/ | F38: 6.748 | G38: 6.748 | H38: v tis. Kč | I38: =G38/F38 -> 1
A39: Neinvestiční příspěvek /nájemné/ | F39: 0 | G39: 0 | H39: v tis. Kč | I39: nerozp.
A40: Odvody z investičního fondu /odpisy/ | F40: 5 | G40: 5 | H40: v tis. Kč | I40: =G40/F40 -> 1
A41: Odvody z investičního fondu /spolufin. akcí/ | F41: 0 | G41: 0 | H41: v tis. Kč | I41: nerozp.
A44: d) | B44: Fondy | H44: jednotka - Kč na 2 des. místa
E45: Stav k 1.1.2010 | F45: Tvorba | G45: Čerpání | H45: Stav k | I45: Finanční krytí k
H46: 40543 | I46: 40543
C49: Fond odměn | E49: 16500 | F49: 5000 | G49: 0 | H49: =E49+F49-G49 -> 21500 | I49: =H49 -> 21500
C50: FKSP | E50: 29253.11 | F50: 81415 | G50: 73631 | H50: =E50+F50-G50 -> 37037.11 | I50: =H50 -> 37037.11
C51: Fond rezervní | E51: 160589.33 | F51: 224266.8 | G51: =160589.33+64174.24 -> 224763.57 | H51: =E51+F51-G51 -> 160092.56 | I51: 160092.57
C52: Investiční fond | E52: 79313.1 | F52: 6748 | G52: 5000 | H52: =E52+F52-G52 -> 81061.1 | I52: =H52 -> 81061.1
A53: celkem | E53: =E49+E50+E51+E52 -> 285655.54 | F53: =F49+F50+F51+F52 -> 317429.8 | G53: =G49+G50+G51+G52 -> 303394.57 | H53: =H49+H50+H51+H52 -> 299690.77 | I53: =I49+I50+I51+I52 -> 299690.78

Sheet 1012
A1: REKAPITULACE ZA ORGANIZACI :
A2: Název organizace : | E2: Základní škola a Mateřská škola logopedická Olomouc
E3: ……………………………………….……..………………………………………..…………………………………
A4: Adresa : | E4: tř. Svornosti 37/900, Olomouc
E5: ……………………………………….……..………………………………………..…………………………………
A6: IČ | E6: 00601683 | G6: ORG | H6: 1012
E7: ……………………………… ………….…..……………………………
E10: Schválený | F10: Upravený | G10: Skutečnost | H10: z toho:
E11: rozpočet | F11: rozpočet | G11: celkem | H11: Hlavní činnost | I11: Doplňková činnost
E12: celkem | F12: celkem | H12: jednotka - tis. Kč na 2 des. místa
A14: a) Náklady a výnosy
A15: Náklady | E15: 6069 | F15: 27827 | G15: =H15+I15 -> 27831 | H15: 27387 | I15: 444
A17: Výnosy | E17: 6079 | F17: 27844 | G17: =H17+I17 -> 27850 | H17: 27304 | I17: 546
A20: Doplňující údaje :
C21: daň z příjmů,dodatečné odvody daně z příjmů (nákladová položka) | G21: =H21+I21 -> 0 | H21: 0 | I21: 0
A23: Výsledek hospodaření /po zdanění/ | G23: =G17-G15-G21 -> 19 | H23: =H17-H15-H21 -> -83 | I23: =I17-I15-I21 -> 102
A27: b) | B27: Rozdělení výsledku hospodaření | G27: =SUM(G28:G30) -> 19286.61 | H27: v Kč
C28: - Návrh na příděly do fondů: | F28: Fond odměn | G28: 7000 | H28: v Kč
F29: Fond rezervní | G29: 12286.61 | H29: v Kč
C30: - Způsob krytí ztráty : | F30: Částka | G30: 0 | H30: v Kč
A34: c) | B34: Závazné ukazatele
F35: Schválená částka | G35: Skutečnost | I35: % plnění
A36: Limit mzdových prostředků | F36: 0 | G36: 0 | H36: v tis. Kč | I36: 0
A37: Neinvestiční příspěvek /odpisy/ | F37: 1068.241 | G37: 1067.327 | H37: v tis. Kč | I37: =G37/F37 -> 0.99914439
A38: Neinvestiční příspěvek /nájemné/ | F38: 0 | G38: 0 | H38: v tis. Kč | I38: nerozp.
A39: Odvody z investičního fondu /odpisy/ | F39: 801 | G39: 801 | H39: v tis. Kč | I39: =G39/F39 -> 1
A40: Odvody z investičního fondu /spolufin. akcí/ | F40: 0 | G40: 0 | H40: v tis. Kč | I40: nerozp.
A42: d) | B42: Fondy | H42: jednotka - Kč na 2 des. místa
E43: Stav k 1.1.2010 | F43: Tvorba | G43: Čerpání | H43: Stav k | I43: Finanční krytí k
H44: 40543 | I44: 40543
C47: Fond odměn | E47: 0 | F47: 7000 | G47: 4000 | H47: =E47+F47-G47 -> 3000 | I47: =H47 -> 3000
C48: FKSP | E48: 383932.62 | F48: 313327 | G48: 363463.74 | H48: =E48+F48-G48 -> 333795.88 | I48: 310656.88
C49: Fond rezervní | E49: =8243.74+30000 -> 38243.74 | F49: 2632.2 | G49: 0 | H49: =E49+F49-G49 -> 40875.94 | I49: =H49 -> 40875.94
C50: Investiční fond | E50: 310712.29 | F50: 1083603 | G50: 1188484 | H50: =E50+F50-G50 -> 205831.29 | I50: =H50 -> 205831.29
A51: celkem | E51: =E47+E48+E49+E50 -> 732888.65 | F51: =F47+F48+F49+F50 -> 1406562.2 | G51: =G47+G48+G49+G50 -> 1555947.7 | H51: =H47+H48+H49+H50 -> 583503.11 | I51: =I47+I48+I49+I50 -> 560364.11

Sheet 1013
A1: REKAPITULACE ZA ORGANIZACI :
A2: Název organizace : | E2: Základní škola prof. V. Vejdovského Litovel
E3: ……………………………………….……..………………………………………..…………………………………
A4: Adresa : | E4: nám. P. Otakara 777, Litovel
E5: ……………………………………….……..………………………………………..…………………………………
A6: IČ | E6: 00601802 | G6: ORG | H6: 1013
E7: ……………………………… ………….…..……………………………
E10: Schválený | F10: Upravený | G10: Skutečnost | H10: z toho:
E11: rozpočet | F11: rozpočet | G11: celkem | H11: Hlavní činnost | I11: Doplňková činnost
E12: celkem | F12: celkem | H12: jednotka - tis. Kč na 2 des. místa
A14: a) Náklady a výnosy
A15: Náklady | E15: 3305 | F15: 15834 | G15: =H15+I15 -> 15835 | H15: 15516 | I15: 319
A17: Výnosy | E17: 3305 | F17: 15843 | G17: =H17+I17 -> 15845 | H17: 15516 | I17: 329
A20: Doplňující údaje :
C21: daň z příjmů,dodatečné odvody daně z příjmů (nákladová položka) | G21: =H21+I21 -> 0 | H21: 0 | I21: 0
A23: Výsledek hospodaření /po zdanění/ | G23: =G17-G15-G21 -> 10 | H23: =H17-H15-H21 -> 0 | I23: =I17-I15-I21 -> 10
A27: b) | B27: Rozdělení výsledku hospodaření | G27: =SUM(G28:G30) -> 10083.46 | H27: v Kč
C28: - Návrh na příděly do fondů: | F28: Fond odměn | G28: 0 | H28: v Kč
F29: Fond rezervní | G29: 10083.46 | H29: v Kč
C30: - Způsob krytí ztráty : | F30: Částka | G30: 0 | H30: v Kč
A34: c) | B34: Závazné ukazatele
F35: Schválená částka | G35: Skutečnost | I35: % plnění
A36: Limit mzdových prostředků | F36: 0 | G36: 0 | H36: v tis. Kč | I36: 0
A37: Neinvestiční příspěvek /odpisy/ | F37: 291.8 | G37: 291.88542 | H37: v tis. Kč | I37: =G37/F37 -> 1.0002927
A38: Neinvestiční příspěvek /nájemné/ | F38: 0 | G38: 0 | H38: v tis. Kč | I38: nerozp.
A39: Odvody z investičního fondu /odpisy/ | F39: 219 | G39: 219 | H39: v tis. Kč | I39: =G39/F39 -> 1
A40: Odvody z investičního fondu /spolufin. akcí/ | F40: 0 | G40: 0 | H40: v tis. Kč | I40: nerozp.
A41: Pozn.: Vynaložené odpisy nad stanovený limit byly finančně pokryty z provozních prostředků organizace- 85,42 Kč.
A43: d) | B43: Fondy | H43: jednotka - Kč na 2 des. místa
E44: Stav k 1.1.2010 | F44: Tvorba | G44: Čerpání | H44: Stav k | I44: Finanční krytí k
H45: 40543 | I45: 40543
C48: Fond odměn | E48: 29906 | F48: 20000 | G48: 2000 | H48: =E48+F48-G48 -> 47906 | I48: =H48 -> 47906
C49: FKSP | E49: 392759.9 | F49: 172954 | G49: 178152.7 | H49: =E49+F49-G49 -> 387561.2 | I49: 302269.04
C50: Fond rezervní | E50: 393231.48 | F50: =71172.71+153600.29 -> 224773 | G50: 211762.31 | H50: =E50+F50-G50 -> 406242.17 | I50: =H50 -> 406242.17
C51: Investiční fond | E51: 155977.94 | F51: 512886.74 | G51: 437163 | H51: =E51+F51-G51 -> 231701.68 | I51: =H51 -> 231701.68
A52: celkem | E52: =E48+E49+E50+E51 -> 971875.32 | F52: =F48+F49+F50+F51 -> 930613.74 | G52: =G48+G49+G50+G51 -> 829078.01 | H52: =H48+H49+H50+H51 -> 1073411 | I52: =I48+I49+I50+I51 -> 988118.89

Sheet 1014
A1: REKAPITULACE ZA ORGANIZACI :
A2: Název organizace : | E2: Základní škola prof. Z. Matějčka Olomouc
E3: ……………………………………….……..………………………………………..…………………………………
A4: Adresa : | E4: Svatoplukova 11, Olomouc - Řepčín
E5: ……………………………………….……..………………………………………..…………………………………
A6: IČ | E6: 70863598 | G6: ORG | H6: 1014
E7: ……………………………… ………….…..……………………………
E10: Schválený | F10: Upravený | G10: Skutečnost | H10: z toho:
E11: rozpočet | F11: rozpočet | G11: celkem | H11: Hlavní činnost | I11: Doplňková činnost
E12: celkem | F12: celkem | H12: jednotka - tis. Kč na 2 des. místa
A14: a) Náklady a výnosy
A15: Náklady | E15: 3728 | F15: 30065 | G15: =H15+I15 -> 29668 | H15: 29644 | I15: 24
A17: Výnosy | E17: 3816 | F17: 30153 | G17: =H17+I17 -> 29776 | H17: 29644 | I17: 132
A20: Doplňující údaje :
C21: daň z příjmů,dodatečné odvody daně z příjmů (nákladová položka) | G21: =H21+I21 -> 0 | H21: 0 | I21: 0
A23: Výsledek hospodaření /po zdanění/ | G23: =G17-G15-G21 -> 108 | H23: =H17-H15-H21 -> 0 | I23: =I17-I15-I21 -> 108
A27: b) | B27: Rozdělení výsledku hospodaření | G27: =SUM(G28:G30) -> 107800 | H27: v Kč
C28: - Návrh na příděly do fondů: | F28: Fond odměn | G28: 2000 | H28: v Kč
F29: Fond rezervní | G29: 105800 | H29: v Kč
C30: - Způsob krytí ztráty : | F30: Částka | G30: 0 | H30: v Kč
A34: c) | B34: Závazné ukazatele
F35: Schválená částka | G35: Skutečnost | I35: % plnění
A36: Limit mzdových prostředků | F36: 710 | G36: 648.31 | H36: v tis. Kč | I36: =G36/F36 -> 0.91311268
A37: Neinvestiční příspěvek /odpisy/ | F37: 34.357 | G37: 34.357 | H37: v tis. Kč | I37: =G37/F37 -> 1
A38: Neinvestiční příspěvek /nájemné/ | F38: 0 | G38: 0 | H38: v tis. Kč | I38: nerozp.
A39: Odvody z investičního fondu /odpisy/ | F39: 26 | G39: 26 | H39: v tis. Kč | I39: =G39/F39 -> 1
A40: Odvody z investičního fondu /spolufin. akcí/ | F40: 0 | G40: 0 | H40: v tis. Kč | I40: nerozp.
A43: d) | B43: Fondy | H43: jednotka - Kč na 2 des. místa
E44: Stav k 1.1.2010 | F44: Tvorba | G44: Čerpání | H44: Stav k | I44: Finanční krytí k
H45: 40543 | I45: 40543
C48: Fond odměn | E48: 43103 | F48: 2000 | G48: 4000 | H48: =E48+F48-G48 -> 41103 | I48: =H48 -> 41103
C49: FKSP | E49: 159992.28 | F49: 363454 | G49: 410877.78 | H49: =E49+F49-G49 -> 112568.5 | I49: =H49 -> 112568.5
C50: Fond rezervní | E50: =228673.13+18625 -> 247298.13 | F50: =98076.2+8000 -> 106076.2 | G50: =90622.4+2045 -> 92667.4 | H50: =E50+F50-G50 -> 260706.93 | I50: =H50 -> 260706.93
C51: Investiční fond | E51: 26592.43 | F51: 174357 | G51: 166000 | H51: =E51+F51-G51 -> 34949.43 | I51: =H51 -> 34949.43
A52: celkem | E52: =E48+E49+E50+E51 -> 476985.84 | F52: =F48+F49+F50+F51 -> 645887.2 | G52: =G48+G49+G50+G51 -> 673545.18 | H52: =H48+H49+H50+H51 -> 449327.86 | I52: =I48+I49+I50+I51 -> 449327.86

Sheet 1015
A1: REKAPITULACE ZA ORGANIZACI :
A2: Název organizace : | E2: Střední škola
E3: ……………………………………….……..………………………………………..…………………………………
A4: Adresa : | E4: B. Dvorského 17, Olomouc - Svatý Kopeček
E5: ……………………………………….……..………………………………………..…………………………………
A6: IČ | E6: 00601691 | G6: ORG | H6: 1015
E7: ……………………………… ………….…..……………………………
E10: Schválený | F10: Upravený | G10: Skutečnost | H10: z toho:
E11: rozpočet | F11: rozpočet | G11: celkem | H11: Hlavní činnost | I11: Doplňková činnost
E12: celkem | F12: celkem | H12: jednotka - tis. Kč na 2 des. místa
A14: a) Náklady a výnosy
A15: Náklady | E15: 3844 | F15: 3844 | G15: =H15+I15 -> 21483 | H15: 21483 | I15: 0
A17: Výnosy | E17: 3844 | F17: 21681 | G17: =H17+I17 -> 21571 | H17: 21571 | I17: 0
A20: Doplňující údaje :
C21: daň z příjmů,dodatečné odvody daně z příjmů (nákladová položka) | G21: =H21+I21 -> 0 | H21: 0 | I21: 0
A23: Výsledek hospodaření /po zdanění/ | G23: =G17-G15-G21 -> 88 | H23: =H17-H15-H21 -> 88 | I23: =I17-I15-I21 -> 0
A27: b) | B27: Rozdělení výsledku hospodaření | G27: =SUM(G28:G30) -> 86292.6 | H27: v Kč
C28: - Návrh na příděly do fondů: | F28: Fond odměn | G28: 13000 | H28: v Kč
F29: Fond rezervní | G29: 73292.6 | H29: v Kč
C30: - Způsob krytí ztráty : | F30: Částka | G30: 0 | H30: v Kč
A34: c) | B34: Závazné ukazatele
F35: Schválená částka | G35: Skutečnost | I35: % plnění
A36: Limit mzdových prostředků | F36: 71 | G36: 64.96 | H36: v tis. Kč | I36: =G36/F36 -> 0.91492958
A37: Neinvestiční příspěvek /odpisy/ | F37: 170 | G37: 197.89227 | H37: v tis. Kč | I37: =G37/F37 -> 1.1640722
A38: Neinvestiční příspěvek /nájemné/ | F38: 0 | G38: 0 | H38: v tis. Kč | I38: nerozp.
A39: Odvody z investičního fondu /odpisy/ | F39: 128 | G39: 128 | H39: v tis. Kč | I39: =G39/F39 -> 1
A40: Odvody z investičního fondu /spolufin. akcí/ | F40: 0 | G40: 0 | H40: v tis. Kč | I40: nerozp.
A41: Pozn.: Vynaložené odpisy nad stanovený limit byly finančně pokryty z provozních prostředků organizace- 27 892,27 Kč.
A43: d) | B43: Fondy | H43: jednotka - Kč na 2 des. místa
E44: Stav k 1.1.2010 | F44: Tvorba | G44: Čerpání | H44: Stav k | I44: Finanční krytí k
H45: 40543 | I45: 40543
C48: Fond odměn | E48: 6995 | F48: 10000 | G48: 0 | H48: =E48+F48-G48 -> 16995 | I48: =H48 -> 16995
C49: FKSP | E49: 127157.54 | F49: 290388.54 | G49: 340616.76 | H49: =E49+F49-G49 -> 76929.32 | I49: 157009.84
C50: Fond rezervní | E50: 67041.76 | F50: 27832 | G50: 0 | H50: =E50+F50-G50 -> 94873.76 | I50: =H50 -> 94873.76
C51: Investiční fond | E51: 118329 | F51: 197892.27 | G51: 155892.27 | H51: =E51+F51-G51 -> 160329 | I51: =H51 -> 160329
A52: celkem | E52: =E48+E49+E50+E51 -> 319523.3 | F52: =F48+F49+F50+F51 -> 526112.81 | G52: =G48+G49+G50+G51 -> 496509.03 | H52: =H48+H49+H50+H51 -> 349127.08 | I52: =I48+I49+I50+I51 -> 429207.6

Sheet 1032
A1: REKAPITULACE ZA ORGANIZACI :
A2: Název organizace : | E2: Základní škola Šternberk
E3: ……………………………………….……..………………………………………..…………………………………
A4: Adresa : | E4: Olomoucká 76, Šternberk
E5: ……………………………………….……..………………………………………..…………………………………
A6: IČ | E6: 61989789 | G6: ORG | H6: 1032
E7: ……………………………… ………….…..……………………………
E10: Schválený | F10: Upravený | G10: Skutečnost | H10: z toho:
E11: rozpočet | F11: rozpočet | G11: celkem | H11: Hlavní činnost | I11: Doplňková činnost
E12: celkem | F12: celkem | H12: jednotka - tis. Kč na 2 des. místa
A14: a) Náklady a výnosy
A15: Náklady | E15: 1131 | F15: 8461 | G15: =H15+I15 -> 8487 | H15: 8487 | I15: 0
A17: Výnosy | E17: 1131 | F17: 8461 | G17: =H17+I17 -> 8510 | H17: 8510 | I17: 0
A20: Doplňující údaje :
C21: daň z příjmů,dodatečné odvody daně z příjmů (nákladová položka) | G21: =H21+I21 -> 0 | H21: 0 | I21: 0
A23: Výsledek hospodaření /po zdanění/ | G23: =G17-G15-G21 -> 23 | H23: =H17-H15-H21 -> 23 | I23: =I17-I15-I21 -> 0
A29: b) | B29: Rozdělení výsledku hospodaření | G29: =SUM(G30:G32) -> 23930 | H29: v Kč
C30: - Návrh na příděly do fondů: | F30: Fond odměn | G30: 10000 | H30: v Kč
F31: Fond rezervní | G31: 13930 | H31: v Kč
C32: - Způsob krytí ztráty : | F32: Částka | G32: 0 | H32: v Kč
A35: c) | B35: Závazné ukazatele
F36: Schválená částka | G36: Skutečnost | I36: % plnění
A37: Limit mzdových prostředků | F37: 0 | G37: 0 | H37: v tis. Kč | I37: 0
A38: Neinvestiční příspěvek /odpisy/ | F38: 184.35 | G38: 184.66902 | H38: v tis. Kč | I38: =G38/F38 -> 1.0017305
A39: Neinvestiční příspěvek /nájemné/ | F39: 0 | G39: 0 | H39: v tis. Kč | I39: nerozp.
A40: Odvody z investičního fondu /odpisy/ | F40: 138 | G40: 138 | H40: v tis. Kč | I40: =G40/F40 -> 1
A41: Odvody z investičního fondu /spolufin. akcí/ | F41: 0 | G41: 0 | H41: v tis. Kč | I41: nerozp.
A42: Pozn.: Vynaložené odpisy nad stanovený limit byly finančně pokryty z provozních prostředků organizace- 319,02 Kč.
A44: d) | B44: Fondy | H44: jednotka - Kč na 2 des. místa
E45: Stav k 1.1.2010 | F45: Tvorba | G45: Čerpání | H45: Stav k | I45: Finanční krytí k
H46: 40543 | I46: 40543
C49: Fond odměn | E49: 5000 | F49: 1000 | G49: 2000 | H49: =E49+F49-G49 -> 4000 | I49: =H49 -> 4000
C50: FKSP | E50: 61296.07 | F50: 105128 | G50: 75920 | H50: =E50+F50-G50 -> 90504.07 | I50: 82302.84
C51: Fond rezervní | E51: 158564.84 | F51: 44388.36 | G51: 0 | H51: =E51+F51-G51 -> 202953.2 | I51: =H51 -> 202953.2
C52: Investiční fond | E52: 122717.61 | F52: 184669.02 | G52: 179975 | H52: =E52+F52-G52 -> 127411.63 | I52: =H52 -> 127411.63
A53: celkem | E53: =E49+E50+E51+E52 -> 347578.52 | F53: =F49+F50+F51+F52 -> 335185.38 | G53: =G49+G50+G51+G52 -> 257895 | H53: =H49+H50+H51+H52 -> 424868.9 | I53: =I49+I50+I51+I52 -> 416667.67

Sheet 1033
A1: REKAPITULACE ZA ORGANIZACI :
A2: Název organizace : | E2: Základní škola, Šternberská 35, Uničov
E3: ……………………………………….……..………………………………………..…………………………………
A4: Adresa : | E4: Šternberská 35, Uničov
E5: ……………………………………….……..………………………………………..…………………………………
A6: IČ | E6: 61989762 | G6: ORG | H6: 1033
E7: ……………………………… ………….…..……………………………
E10: Schválený | F10: Upravený | G10: Skutečnost | H10: z toho:
E11: rozpočet | F11: rozpočet | G11: celkem | H11: Hlavní činnost | I11: Doplňková činnost
E12: celkem | F12: celkem | H12: jednotka - tis. Kč na 2 des. místa
A14: a) Náklady a výnosy
A15: Náklady | E15: 811 | F15: 6435 | G15: =H15+I15 -> 6436 | H15: 6436 | I15: 0
A17: Výnosy | E17: 811 | F17: 6470 | G17: =H17+I17 -> 6471 | H17: 6471 | I17: 0
A20: Doplňující údaje :
C21: daň z příjmů,dodatečné odvody daně z příjmů (nákladová položka) | G21: =H21+I21 -> 0 | H21: 0 | I21: 0
A23: Výsledek hospodaření /po zdanění/ | G23: =G17-G15-G21 -> 35 | H23: =H17-H15-H21 -> 35 | I23: =I17-I15-I21 -> 0
A27: b) | B27: Rozdělení výsledku hospodaření | G27: =SUM(G28:G30) -> 36172.51 | H27: v Kč
C28: - Návrh na příděly do fondů: | F28: Fond odměn | G28: 0 | H28: v Kč
F29: Fond rezervní | G29: 4008.39 | H29: v Kč
C30: - Způsob krytí ztráty : | F30: Částka | G30: 32164.12 | H30: v Kč
A31: Pozn.: Výsledek hospodaření upraven o neuhrazenou ztrátu minulých let- 32 164,12 Kč.
A34: c) | B34: Závazné ukazatele
F35: Schválená částka | G35: Skutečnost | I35: % plnění
A36: Limit mzdových prostředků | F36: 0 | G36: 0 | H36: v tis. Kč | I36: 0
A37: Neinvestiční příspěvek /odpisy/ | F37: 16 | G37: 16.37 | H37: v tis. Kč | I37: =G37/F37 -> 1.023125
A38: Neinvestiční příspěvek /nájemné/ | F38: 0 | G38: 0 | H38: v tis. Kč | I38: nerozp.
A39: Odvody z investičního fondu /odpisy/ | F39: 12 | G39: 12 | H39: v tis. Kč | I39: =G39/F39 -> 1
A40: Odvody z investičního fondu /spolufin. akcí/ | F40: 0 | G40: 0 | H40: v tis. Kč | I40: nerozp.
A41: Pozn.: Vynaložené odpisy nad stanovený limit byly finančně pokryty z provozních prostředků organizace- 370,- Kč.
A43: d) | B43: Fondy | H43: jednotka - Kč na 2 des. místa
E44: Stav k 1.1.2010 | F44: Tvorba | G44: Čerpání | H44: Stav k | I44: Finanční krytí k
H45: 40543 | I45: 40543
C48: Fond odměn | E48: 1000 | F48: 0 | G48: 0 | H48: =E48+F48-G48 -> 1000 | I48: =H48 -> 1000
C49: FKSP | E49: 24814.13 | F49: 78980 | G49: 81028 | H49: =E49+F49-G49 -> 22766.13 | I49: 19621.57
C50: Fond rezervní | E50: 32356.87 | F50: 47856.87 | G50: =32356.87+40500 -> 72856.87 | H50: =E50+F50-G50 -> 7356.87 | I50: =H50 -> 7356.87
C51: Investiční fond | E51: 670 | F51: 16370 | G51: 12000 | H51: =E51+F51-G51 -> 5040 | I51: =H51 -> 5040
A52: celkem | E52: =E48+E49+E50+E51 -> 58841 | F52: =F48+F49+F50+F51 -> 143206.87 | G52: =G48+G49+G50+G51 -> 165884.87 | H52: =H48+H49+H50+H51 -> 36163 | I52: =I48+I49+I50+I51 -> 33018.44

Sheet 1034
A1: REKAPITULACE ZA ORGANIZACI :
A2: Název organizace : | E2: Základní škola, Dětský domov a Školní jídelna Litovel
E3: ……………………………………….……..………………………………………..…………………………………
A4: Adresa : | E4: Palackého 938, Litovel
E5: ……………………………………….……..………………………………………..…………………………………
A6: IČ | E6: 61989771 | G6: ORG | H6: 1034
E7: ……………………………… ………….…..……………………………
E10: Schválený | F10: Upravený | G10: Skutečnost | H10: z toho:
E11: rozpočet | F11: rozpočet | G11: celkem | H11: Hlavní činnost | I11: Doplňková činnost
E12: celkem | F12: celkem | H12: jednotka - tis. Kč na 2 des. místa
A14: a) Náklady a výnosy
A15: Náklady | E15: 2631 | F15: 13932 | G15: =H15+I15 -> 13883 | H15: 13860 | I15: 23
A17: Výnosy | E17: 2631 | F17: 13932 | G17: =H17+I17 -> 13932 | H17: 13909 | I17: 23
A20: Doplňující údaje :
C21: daň z příjmů,dodatečné odvody daně z příjmů (nákladová položka) | G21: =H21+I21 -> 0 | H21: 0 | I21: 0
A23: Výsledek hospodaření /po zdanění/ | G23: =G17-G15-G21 -> 49 | H23: =H17-H15-H21 -> 49 | I23: =I17-I15-I21 -> 0
A27: b) | B27: Rozdělení výsledku hospodaření | G27: =SUM(G28:G30) -> 49699.38 | H27: v Kč
C28: - Návrh na příděly do fondů: | F28: Fond odměn | G28: 10000 | H28: v Kč
F29: Fond rezervní | G29: 39699.38 | H29: v Kč
C30: - Způsob krytí ztráty : | F30: Částka | G30: 0 | H30: v Kč
A34: c) | B34: Závazné ukazatele
F35: Schválená částka | G35: Skutečnost | I35: % plnění
A36: Limit mzdových prostředků | F36: 0 | G36: 0 | H36: v tis. Kč | I36: 0
A37: Neinvestiční příspěvek /odpisy/ | F37: 311.873 | G37: 311.873 | H37: v tis. Kč | I37: =G37/F37 -> 1
A38: Neinvestiční příspěvek /nájemné/ | F38: 0 | G38: 0 | H38: v tis. Kč | I38: nerozp.
A39: Odvody z investičního fondu /odpisy/ | F39: 234 | G39: 234 | H39: v tis. Kč | I39: =G39/F39 -> 1
A40: Odvody z investičního fondu /spolufin. akcí/ | F40: 0 | G40: 0 | H40: v tis. Kč | I40: nerozp.
A43: d) | B43: Fondy | H43: jednotka - Kč na 2 des. místa
E44: Stav k 1.1.2010 | F44: Tvorba | G44: Čerpání | H44: Stav k | I44: Finanční krytí k
H45: 40543 | I45: 40543
C48: Fond odměn | E48: 6000 | F48: 0 | G48: 0 | H48: =E48+F48-G48 -> 6000 | I48: =H48 -> 6000
C49: FKSP | E49: 193161.65 | F49: 162320 | G49: 118730 | H49: =E49+F49-G49 -> 236751.65 | I49: 222500.34
C50: Fond rezervní | E50: 245779.49 | F50: =26.22+80200 -> 80226.22 | G50: 80200 | H50: =E50+F50-G50 -> 245805.71 | I50: =207011.71 -> 207011.71
C51: Investiční fond | E51: 125345.19 | F51: 311873 | G51: 339490 | H51: =E51+F51-G51 -> 97728.19 | I51: =H51 -> 97728.19
A52: celkem | E52: =E48+E49+E50+E51 -> 570286.33 | F52: =F48+F49+F50+F51 -> 554419.22 | G52: =G48+G49+G50+G51 -> 538420 | H52: =H48+H49+H50+H51 -> 586285.55 | I52: =I48+I49+I50+I51 -> 533240.24

Sheet 1044
A1: REKAPITULACE ZA ORGANIZACI :
A2: Název organizace : | E2: Základní škola Moravský Beroun
E3: ……………………………………….……..………………………………………..…………………………………
A4: Adresa : | E4: Masarykova 357, Moravský Beroun
E5: ……………………………………….……..………………………………………..…………………………………
A6: IČ | E6: 60802782 | G6: ORG | H6: 1044
E7: ……………………………… ………….…..……………………………
E10: Schválený | F10: Upravený | G10: Skutečnost | H10: z toho:
E11: rozpočet | F11: rozpočet | G11: celkem | H11: Hlavní činnost | I11: Doplňková činnost
E12: celkem | F12: celkem | H12: jednotka - tis. Kč na 2 des. místa
A14: a) Náklady a výnosy
A15: Náklady | E15: 400 | F15: 4680 | G15: =H15+I15 -> 4696 | H15: 4696 | I15: 0
A17: Výnosy | E17: 400 | F17: 4986 | G17: =H17+I17 -> 4697 | H17: 4697 | I17: 0
A20: Doplňující údaje :
C21: daň z příjmů,dodatečné odvody daně z příjmů (nákladová položka) | G21: =H21+I21 -> 0 | H21: 0 | I21: 0
A23: Výsledek hospodaření /po zdanění/ | G23: =G17-G15-G21 -> 1 | H23: =H17-H15-H21 -> 1 | I23: =I17-I15-I21 -> 0
A27: b) | B27: Rozdělení výsledku hospodaření | G27: =SUM(G28:G30) -> 0 | H27: v Kč
C28: - Návrh na příděly do fondů: | F28: Fond odměn | G28: 0 | H28: v Kč
F29: Fond rezervní | G29: 0 | H29: v Kč
C30: - Způsob krytí ztráty : | F30: Částka | G30: 0 | H30: v Kč
A34: c) | B34: Závazné ukazatele
F35: Schválená částka | G35: Skutečnost | I35: % plnění
A36: Limit mzdových prostředků | F36: 0 | G36: 0 | H36: v tis. Kč | I36: 0
A37: Neinvestiční příspěvek /odpisy/ | F37: 3.495 | G37: 3.495 | H37: v tis. Kč | I37: =G37/F37 -> 1
A38: Neinvestiční příspěvek /nájemné/ | F38: 0 | G38: 0 | H38: v tis. Kč | I38: nerozp.
A39: Odvody z investičního fondu /odpisy/ | F39: 3 | G39: 3 | H39: v tis. Kč | I39: =G39/F39 -> 1
A40: Odvody z investičního fondu /spolufin. akcí/ | F40: 0 | G40: 0 | H40: v tis. Kč | I40: nerozp.
A42: d) | B42: Fondy | H42: jednotka - Kč na 2 des. místa
E43: Stav k 1.1.2010 | F43: Tvorba | G43: Čerpání | H43: Stav k | I43: Finanční krytí k
H44: 40543 | I44: 40543
C47: Fond odměn | E47: 14806 | F47: 0 | G47: 0 | H47: =E47+F47-G47 -> 14806 | I47: =H47 -> 14806
C48: FKSP | E48: 75894.74 | F48: 60127 | G48: 43303.63 | H48: =E48+F48-G48 -> 92718.11 | I48: =H48 -> 92718.11
C49: Fond rezervní | E49: 8352.29 | F49: 2730 | G49: 0 | H49: =E49+F49-G49 -> 11082.29 | I49: =H49 -> 11082.29
C50: Investiční fond | E50: 35516 | F50: 3495 | G50: 12328 | H50: =E50+F50-G50 -> 26683 | I50: =H50 -> 26683
A51: celkem | E51: =E47+E48+E49+E50 -> 134569.03 | F51: =F47+F48+F49+F50 -> 66352 | G51: =G47+G48+G49+G50 -> 55631.63 | H51: =H47+H48+H49+H50 -> 145289.4 | I51: =I47+I48+I49+I50 -> 145289.4

Sheet 1100
A1: REKAPITULACE ZA ORGANIZACI :
A2: Název organizace : | E2: Gymnázium Jana Opletala, Litovel
E3: ……………………………………….……..………………………………………..…………………………………
A4: Adresa : | E4: Opletalova 189, Litovel
E5: ……………………………………….……..………………………………………..…………………………………
A6: IČ | E6: 00601772 | G6: ORG | H6: 1100
E7: ……………………………… ………….…..……………………………
E10: Schválený | F10: Upravený | G10: Skutečnost | H10: z toho:
E11: rozpočet | F11: rozpočet | G11: celkem | H11: Hlavní činnost | I11: Doplňková činnost
E12: celkem | F12: celkem | H12: jednotka - tis. Kč na 2 des. místa
A14: a) Náklady a výnosy
A15: Náklady | E15: 3874 | F15: 21328 | G15: =H15+I15 -> 21313 | H15: 21285 | I15: 28
A17: Výnosy | E17: 3874 | F17: 21403 | G17: =H17+I17 -> 21328 | H17: 21287 | I17: 41
A20: Doplňující údaje :
C21: daň z příjmů,dodatečné odvody daně z příjmů (nákladová položka) | G21: =H21+I21 -> 0 | H21: 0 | I21: 0
A23: Výsledek hospodaření /po zdanění/ | G23: =G17-G15-G21 -> 15 | H23: =H17-H15-H21 -> 2 | I23: =I17-I15-I21 -> 13
A27: b) | B27: Rozdělení výsledku hospodaření | G27: =SUM(G28:G30) -> 14843.79 | H27: v Kč
C28: - Návrh na příděly do fondů: | F28: Fond odměn | G28: 1000 | H28: v Kč
F29: Fond rezervní | G29: 13843.79 | H29: v Kč
C30: - Způsob krytí ztráty : | F30: Částka | G30: 0 | H30: v Kč
A34: c) | B34: Závazné ukazatele
F35: Schválená částka | G35: Skutečnost | I35: % plnění
A36: Limit mzdových prostředků | F36: 9.7 | G36: 9.7 | H36: v tis. Kč | I36: =G36/F36 -> 1
A37: Neinvestiční příspěvek /odpisy/ | F37: 74.667 | G37: 74.667 | H37: v tis. Kč | I37: =G37/F37 -> 1
A38: Neinvestiční příspěvek /nájemné/ | F38: 0 | G38: 0 | H38: v tis. Kč | I38: nerozp.
A39: Odvody z investičního fondu /odpisy/ | F39: 56 | G39: 56 | H39: v tis. Kč | I39: =G39/F39 -> 1
A40: Odvody z investičního fondu /spolufin. akcí/ | F40: 0 | G40: 0 | H40: v tis. Kč | I40: nerozp.
A43: d) | B43: Fondy | H43: jednotka - Kč na 2 des. místa
E44: Stav k 1.1.2010 | F44: Tvorba | G44: Čerpání | H44: Stav k | I44: Finanční krytí k
H45: 40543 | I45: 40543
C48: Fond odměn | E48: 2000 | F48: 3000 | G48: 2000 | H48: =E48+F48-G48 -> 3000 | I48: =H48 -> 3000
C49: FKSP | E49: 327818.64 | F49: 241522 | G49: 149989.8 | H49: =E49+F49-G49 -> 419350.84 | I49: 340772.35
C50: Fond rezervní | E50: =166356.66+9892.9 -> 176249.56 | F50: =25796.26+117502.73 -> 143298.99 | G50: =192152.92+42506 -> 234658.92 | H50: =E50+F50-G50 -> 84889.63 | I50: 74872.73
C51: Investiční fond | E51: 22136.47 | F51: 184667 | G51: 185700 | H51: =E51+F51-G51 -> 21103.47 | I51: =H51 -> 21103.47
A52: celkem | E52: =E48+E49+E50+E51 -> 528204.67 | F52: =F48+F49+F50+F51 -> 572487.99 | G52: =G48+G49+G50+G51 -> 572348.72 | H52: =H48+H49+H50+H51 -> 528343.94 | I52: =I48+I49+I50+I51 -> 439748.55

Sheet 1101
A1: REKAPITULACE ZA ORGANIZACI :
A2: Název organizace : | E2: Gymnázium, Olomouc, Čajkovského 9
E3: ……………………………………….……..………………………………………..…………………………………
A4: Adresa : | E4: Čajkovského 9, Olomouc
E5: ……………………………………….……..………………………………………..…………………………………
A6: IČ | E6: 00848956 | G6: ORG | H6: 1101
E7: ……………………………… ………….…..……………………………
E10: Schválený | F10: Upravený | G10: Skutečnost | H10: z toho:
E11: rozpočet | F11: rozpočet | G11: celkem | H11: Hlavní činnost | I11: Doplňková činnost
E12: celkem | F12: celkem | H12: jednotka - tis. Kč na 2 des. místa
A14: a) Náklady a výnosy
A15: Náklady | E15: 4791 | F15: 32713 | G15: =H15+I15 -> 32713 | H15: 32531 | I15: 182
A17: Výnosy | E17: 4791 | F17: 34070 | G17: =H17+I17 -> 32913 | H17: 32574 | I17: 339
A20: Doplňující údaje :
C21: daň z příjmů,dodatečné odvody daně z příjmů (nákladová položka) | G21: =H21+I21 -> 0 | H21: 0 | I21: 0
A23: Výsledek hospodaření /po zdanění/ | G23: =G17-G15-G21 -> 200 | H23: =H17-H15-H21 -> 43 | I23: =I17-I15-I21 -> 157
A27: b) | B27: Rozdělení výsledku hospodaření | G27: =SUM(G28:G30) -> 197872.19 | H27: v Kč
C28: - Návrh na příděly do fondů: | F28: Fond odměn | G28: 15000 | H28: v Kč
F29: Fond rezervní | G29: 182872.19 | H29: v Kč
C30: - Způsob krytí ztráty : | F30: Částka | G30: 0 | H30: v Kč
A35: c) | B35: Závazné ukazatele
F36: Schválená částka | G36: Skutečnost | I36: % plnění
A37: Limit mzdových prostředků | F37: 0 | G37: 0 | H37: v tis. Kč | I37: 0
A38: Neinvestiční příspěvek /odpisy/ | F38: 323.051 | G38: 321.078 | H38: v tis. Kč | I38: =G38/F38 -> 0.99389261
A39: Neinvestiční příspěvek /nájemné/ | F39: 0 | G39: 0 | H39: v tis. Kč | I39: nerozp.
A40: Odvody z investičního fondu /odpisy/ | F40: 242 | G40: 242 | H40: v tis. Kč | I40: =G40/F40 -> 1
A41: Odvody z investičního fondu /spolufin. akcí/ | F41: 0 | G41: 0 | H41: v tis. Kč | I41: nerozp.
A44: d) | B44: Fondy | H44: jednotka - Kč na 2 des. místa
E45: Stav k 1.1.2010 | F45: Tvorba | G45: Čerpání | H45: Stav k | I45: Finanční krytí k
H46: 40543 | I46: 40543
C49: Fond odměn | E49: 100 | F49: 4000 | G49: 4000 | H49: =E49+F49-G49 -> 100 | I49: =H49 -> 100
C50: FKSP | E50: 335228.92 | F50: 383686 | G50: 308547.93 | H50: =E50+F50-G50 -> 410366.99 | I50: 295994.99
C51: Fond rezervní | E51: 0 | F51: 16280.43 | G51: 0 | H51: =E51+F51-G51 -> 16280.43 | I51: =H51 -> 16280.43
C52: Investiční fond | E52: 36594 | F52: 323051 | G52: 242000 | H52: =E52+F52-G52 -> 117645 | I52: =H52 -> 117645
A53: celkem | E53: =E49+E50+E51+E52 -> 371922.92 | F53: =F49+F50+F51+F52 -> 727017.43 | G53: =G49+G50+G51+G52 -> 554547.93 | H53: =H49+H50+H51+H52 -> 544392.42 | I53: =I49+I50+I51+I52 -> 430020.42

Sheet 1102
A1: REKAPITULACE ZA ORGANIZACI :
A2: Název organizace : | E2: Slovanské gymnázium Olomouc
E3: ……………………………………….……..………………………………………..…………………………………
A4: Adresa : | E4: tř. Jiřího z Poděbrad 13, Olomouc
E5: ……………………………………….……..………………………………………..…………………………………
A6: IČ | E6: 00601781 | G6: ORG | H6: 1102
E7: ……………………………… ………….…..……………………………
E10: Schválený | F10: Upravený | G10: Skutečnost | H10: z toho:
E11: rozpočet | F11: rozpočet | G11: celkem | H11: Hlavní činnost | I11: Doplňková činnost
E12: celkem | F12: celkem | H12: jednotka - tis. Kč na 2 des. místa
A14: a) Náklady a výnosy
A15: Náklady | E15: 10449 | F15: 53074 | G15: =H15+I15 -> 53879 | H15: 53203 | I15: 676
A17: Výnosy | E17: 10449 | F17: 53074 | G17: =H17+I17 -> 53881 | H17: 53100 | I17: 781
A20: Doplňující údaje :
C21: daň z příjmů,dodatečné odvody daně z příjmů (nákladová položka) | G21: =H21+I21 -> 0 | H21: 0 | I21: 0
A23: Výsledek hospodaření /po zdanění/ | G23: =G17-G15-G21 -> 2 | H23: =H17-H15-H21 -> -103 | I23: =I17-I15-I21 -> 105
A27: b) | B27: Rozdělení výsledku hospodaření | G27: =SUM(G28:G30) -> 1340.77 | H27: v Kč
C28: - Návrh na příděly do fondů: | F28: Fond odměn | G28: 0 | H28: v Kč
F29: Fond rezervní | G29: 0 | H29: v Kč
C30: - Způsob krytí ztráty : | F30: Částka | G30: 1340.77 | H30: v Kč
A31: Zlepšený výsledek hospodaření za rok 2010 ve výši 1 340,77 Kč bude použit k úhradě ztráty z minulých let, která je k 31.12. 2010 ve výši -2 539 667,54 Kč. Zbylá část bude uhrazena ze zlepšeného výsledku hospodaření v následujících letech.
A34: c) | B34: Závazné ukazatele
F35: Schválená částka | G35: Skutečnost | I35: % plnění
A36: Limit mzdových prostředků | F36: 1707 | G36: 1937 | H36: v tis. Kč | I36: =G36/F36 -> 1.1347393
A37: Neinvestiční příspěvek /odpisy/ | F37: 456.818 | G37: 456.891 | H37: v tis. Kč | I37: =G37/F37 -> 1.0001598
A38: Neinvestiční příspěvek /nájemné/ | F38: 0 | G38: 0 | H38: v tis. Kč | I38: nerozp.
A39: Odvody z investičního fondu /odpisy/ | F39: 343 | G39: 343 | H39: v tis. Kč | I39: =G39/F39 -> 1
A40: Odvody z investičního fondu /spolufin. akcí/ | F40: 0 | G40: 0 | H40: v tis. Kč | I40: nerozp.
A41: Pozn. 1: Překročení limitu mzdových prostředků o 230 tis. Kč bylo z důvodu výplaty OON ze dvou projektů z ESF, které byly zahájeny k 1.11.2010, překročení bylo hrazeno z finančních prostředků těchto projektů.
A43: Pozn. 2: Vynaložené odpisy nad stanovený limit byly finančně pokryty z provozních prostředků organizace- 73,- Kč.
A45: d) | B45: Fondy | H45: jednotka - Kč na 2 des. místa
E46: Stav k 1.1.2010 | F46: Tvorba | G46: Čerpání | H46: Stav k | I46: Finanční krytí k
H47: 40543 | I47: 40543
C50: Fond odměn | E50: 0 | F50: 0 | G50: 0 | H50: =E50+F50-G50 -> 0 | I50: 0
C51: FKSP | E51: 96348.28 | F51: 570945 | G51: 558774 | H51: =E51+F51-G51 -> 108519.28 | I51: 79226.81
C52: Fond rezervní | E52: 349298.61 | F52: =464112+146510 -> 610622 | G52: =464112+21510 -> 485622 | H52: =E52+F52-G52 -> 474298.61 | I52: 125000
C53: Investiční fond | E53: 456074.05 | F53: 598927 | G53: 875054 | H53: =E53+F53-G53 -> 179947.05 | I53: 52259.15
A54: celkem | E54: =E50+E51+E52+E53 -> 901720.94 | F54: =F50+F51+F52+F53 -> 1780494 | G54: =G50+G51+G52+G53 -> 1919450 | H54: =H50+H51+H52+H53 -> 762764.94 | I54: =I50+I51+I52+I53 -> 256485.96

Sheet 1103
A1: REKAPITULACE ZA ORGANIZACI :
A2: Název organizace : | E2: Gymnázium Olomouc - Hejčín
E3: ……………………………………….……..………………………………………..…………………………………
A4: Adresa : | E4: Tomkova 45, Olomouc - Hejčín
E5: ……………………………………….……..………………………………………..…………………………………
A6: IČ | E6: 00601799 | G6: ORG | H6: 1103
E7: ……………………………… ………….…..……………………………
E10: Schválený | F10: Upravený | G10: Skutečnost | H10: z toho:
E11: rozpočet | F11: rozpočet | G11: celkem | H11: Hlavní činnost | I11: Doplňková činnost
E12: celkem | F12: celkem | H12: jednotka - tis. Kč na 2 des. místa
A14: a) Náklady a výnosy
A15: Náklady | E15: 20150 | F15: 70022 | G15: =H15+I15 -> 71590 | H15: 70136 | I15: 1454
A17: Výnosy | E17: 20150 | F17: 70316 | G17: =H17+I17 -> 70954 | H17: 69487 | I17: 1467
A20: Doplňující údaje :
C21: daň z příjmů,dodatečné odvody daně z příjmů (nákladová položka) | G21: =H21+I21 -> 0 | H21: 0 | I21: 0
A23: Výsledek hospodaření /po zdanění/ | G23: =G17-G15-G21 -> -636 | H23: =H17-H15-H21 -> -649 | I23: =I17-I15-I21 -> 13
A27: b) | B27: Rozdělení výsledku hospodaření | G27: =SUM(G28:G30) -> -637476.83 | H27: v Kč
C28: - Návrh na příděly do fondů: | F28: Fond odměn | G28: 0 | H28: v Kč
F29: Fond rezervní | G29: 0 | H29: v Kč
C30: - Způsob krytí ztráty : | F30: Částka | G30: -637476.83 | H30: v Kč
A31: Ztráta 637 476,83 Kč bude hrazena ze zlepšeného výsledku hospodaření v následujících letech (neuhrazená ztráta minulých let k 31.12.2010 je - 2 377 616,96 Kč).
A34: c) | B34: Závazné ukazatele
F35: Schválená částka | G35: Skutečnost | I35: % plnění
A36: Limit mzdových prostředků | F36: 1197.3 | G36: 1197.3 | H36: v tis. Kč | I36: =G36/F36 -> 1
A37: Neinvestiční příspěvek /odpisy/ | F37: 6776.425 | G37: 6741.3065 | H37: v tis. Kč | I37: =G37/F37 -> 0.99481755
A38: Neinvestiční příspěvek /nájemné/ | F38: 0 | G38: 0 | H38: v tis. Kč | I38: nerozp.
A39: Odvody z investičního fondu /odpisy/ | F39: 5082 | G39: 5082 | H39: v tis. Kč | I39: =G39/F39 -> 1
A40: Odvody z investičního fondu /spolufin. akcí/ | F40: 0 | G40: 0 | H40: v tis. Kč | I40: nerozp.
A43: d) | B43: Fondy | H43: jednotka - Kč na 2 des. místa
E44: Stav k 1.1.2010 | F44: Tvorba | G44: Čerpání | H44: Stav k | I44: Finanční krytí k
H45: 40543 | I45: 40543
C48: Fond odměn | E48: 0 | F48: 0 | G48: 0 | H48: =E48+F48-G48 -> 0 | I48: =H48 -> 0
C49: FKSP | E49: 532698.06 | F49: 711948 | G49: 728741.75 | H49: =E49+F49-G49 -> 515904.31 | I49: 482611.78
C50: Fond rezervní | E50: 512874.25 | F50: 0 | G50: 512111.25 | H50: =E50+F50-G50 -> 763 | I50: =H50 -> 763
C51: Investiční fond | E51: 56725.83 | F51: 6777606.5 | G51: 5852277 | H51: =E51+F51-G51 -> 982055.33 | I51: =H51 -> 982055.33
A52: celkem | E52: =E48+E49+E50+E51 -> 1102298.1 | F52: =F48+F49+F50+F51 -> 7489554.5 | G52: =G48+G49+G50+G51 -> 7093130 | H52: =H48+H49+H50+H51 -> 1498722.6 | I52: =I48+I49+I50+I51 -> 1465430.1

Sheet 1104
A1: REKAPITULACE ZA ORGANIZACI :
A2: Název organizace : | E2: Gymnázium, Šternberk
E3: ……………………………………….……..………………………………………..…………………………………
A4: Adresa : | E4: Horní nám. 5, Šternberk
E5: ……………………………………….……..………………………………………..…………………………………
A6: IČ | E6: 00601764 | G6: ORG | H6: 1104
E7: ……………………………… ………….…..……………………………
E10: Schválený | F10: Upravený | G10: Skutečnost | H10: z toho:
E11: rozpočet | F11: rozpočet | G11: celkem | H11: Hlavní činnost | I11: Doplňková činnost
E12: celkem | F12: celkem | H12: jednotka - tis. Kč na 2 des. místa
A14: a) Náklady a výnosy
A15: Náklady | E15: 7256 | F15: 28660 | G15: =H15+I15 -> 29514 | H15: 29032 | I15: 482
A17: Výnosy | E17: 7304 | F17: 28710 | G17: =H17+I17 -> 29436 | H17: 28875 | I17: 561
A20: Doplňující údaje :
C21: daň z příjmů,dodatečné odvody daně z příjmů (nákladová položka) | G21: =H21+I21 -> 0 | H21: 0 | I21: 0
A23: Výsledek hospodaření /po zdanění/ | G23: =G17-G15-G21 -> -78 | H23: =H17-H15-H21 -> -157 | I23: =I17-I15-I21 -> 79
A27: b) | B27: Rozdělení výsledku hospodaření | G27: =SUM(G28:G30) -> -77629.1 | H27: v Kč
C28: - Návrh na příděly do fondů: | F28: Fond odměn | G28: 0 | H28: v Kč
F29: Fond rezervní | G29: 0 | H29: v Kč
C30: - Způsob krytí ztráty : | F30: Částka | G30: -77629.1 | H30: v Kč
A31: Ztráta 77 629,10 Kč bude pokryta z prostředků rezervního fondu v souladu s ust. § 30, odst. 3d) zákona č. 250/2000 Sb., o rozpočtových pravidlech územních rozpočtů ve znění pozdějších předpisů - použití prostředků rezervního fondu, vyjma poskytnutých darů.
A34: c) | B34: Závazné ukazatele
F35: Schválená částka | G35: Skutečnost | I35: % plnění
A36: Limit mzdových prostředků | F36: 0 | G36: 0 | H36: v tis. Kč | I36: 0
A37: Neinvestiční příspěvek /odpisy/ | F37: 1554.307 | G37: 1542.499 | H37: v tis. Kč | I37: =G37/F37 -> 0.99240305
A38: Neinvestiční příspěvek /nájemné/ | F38: 0 | G38: 0 | H38: v tis. Kč | I38: nerozp.
A39: Odvody z investičního fondu /odpisy/ | F39: 1166 | G39: 1166 | H39: v tis. Kč | I39: =G39/F39 -> 1
A40: Odvody z investičního fondu /spolufin. akcí/ | F40: 0 | G40: 0 | H40: v tis. Kč | I40: nerozp.
A42: d) | B42: Fondy | H42: jednotka - Kč na 2 des. místa
E43: Stav k 1.1.2010 | F43: Tvorba | G43: Čerpání | H43: Stav k | I43: Finanční krytí k
H44: 40543 | I44: 40543
C47: Fond odměn | E47: 6945 | F47: 1000 | G47: 7000 | H47: =E47+F47-G47 -> 945 | I47: =H47 -> 945
C48: FKSP | E48: 309870.22 | F48: 308984 | G48: 378536.5 | H48: =E48+F48-G48 -> 240317.72 | I48: 145915.72
C49: Fond rezervní | E49: =244554.11+27647 -> 272201.11 | F49: =15013.87+281039 -> 296052.87 | G49: =16800+308686 -> 325486 | H49: =E49+F49-G49 -> 242767.98 | I49: =H49-113400 -> 129367.98
C50: Investiční fond | E50: 112070.47 | F50: 1653332 | G50: 1420725.4 | H50: =E50+F50-G50 -> 344677.07 | I50: 356485.07
A51: celkem | E51: =E47+E48+E49+E50 -> 701086.8 | F51: =F47+F48+F49+F50 -> 2259368.9 | G51: =G47+G48+G49+G50 -> 2131747.9 | H51: =H47+H48+H49+H50 -> 828707.77 | I51: =I47+I48+I49+I50 -> 632713.77

Sheet 1105
A1: REKAPITULACE ZA ORGANIZACI :
A2: Název organizace : | E2: Gymnázium, Uničov, Gymnazijní 257
E3: ……………………………………….……..………………………………………..…………………………………
A4: Adresa : | E4: Gymnazijní 257, Uničov
E5: ……………………………………….……..………………………………………..…………………………………
A6: IČ | E6: 00601756 | G6: ORG | H6: 1105
E7: ……………………………… ………….…..……………………………
E10: Schválený | F10: Upravený | G10: Skutečnost | H10: z toho:
E11: rozpočet | F11: rozpočet | G11: celkem | H11: Hlavní činnost | I11: Doplňková činnost
E12: celkem | F12: celkem | H12: jednotka - tis. Kč na 2 des. místa
A14: a) Náklady a výnosy
A15: Náklady | E15: 3381 | F15: 20254 | G15: =H15+I15 -> 20254 | H15: 19691 | I15: 563
A17: Výnosy | E17: 3381 | F17: 20403 | G17: =H17+I17 -> 20403 | H17: 19691 | I17: 712
A20: Doplňující údaje :
C21: daň z příjmů,dodatečné odvody daně z příjmů (nákladová položka) | G21: =H21+I21 -> 0 | H21: 0 | I21: 0
A23: Výsledek hospodaření /po zdanění/ | G23: =G17-G15-G21 -> 149 | H23: =H17-H15-H21 -> 0 | I23: =I17-I15-I21 -> 149
A27: b) | B27: Rozdělení výsledku hospodaření | G27: =SUM(G28:G30) -> 148148.03 | H27: v Kč
C28: - Návrh na příděly do fondů: | F28: Fond odměn | G28: 15000 | H28: v Kč
F29: Fond rezervní | G29: 133148.03 | H29: v Kč
C30: - Způsob krytí ztráty : | F30: Částka | G30: 0 | H30: v Kč
A34: c) | B34: Závazné ukazatele
F35: Schválená částka | G35: Skutečnost | I35: % plnění
A36: Limit mzdových prostředků | F36: 0 | G36: 0 | H36: v tis. Kč | I36: 0
A37: Neinvestiční příspěvek /odpisy/ | F37: 908.687 | G37: 908.687 | H37: v tis. Kč | I37: =G37/F37 -> 1
A38: Neinvestiční příspěvek /nájemné/ | F38: 0 | G38: 0 | H38: v tis. Kč | I38: nerozp.
A39: Odvody z investičního fondu /odpisy/ | F39: 682 | G39: 682 | H39: v tis. Kč | I39: =G39/F39 -> 1
A40: Odvody z investičního fondu /spolufin. akcí/ | F40: 0 | G40: 0 | H40: v tis. Kč | I40: nerozp.
A43: d) | B43: Fondy | H43: jednotka - Kč na 2 des. místa
E44: Stav k 1.1.2010 | F44: Tvorba | G44: Čerpání | H44: Stav k | I44: Finanční krytí k
H45: 40543 | I45: 40543
C48: Fond odměn | E48: 48000 | F48: 10000 | G48: 5000 | H48: =E48+F48-G48 -> 53000 | I48: =H48 -> 53000
C49: FKSP | E49: 67837.26 | F49: 238160.5 | G49: 244426 | H49: =E49+F49-G49 -> 61571.76 | I49: 49239.76
C50: Fond rezervní | E50: 63323.69 | F50: =92812.56+43119 -> 135931.56 | G50: =32127.8+43019 -> 75146.8 | H50: =E50+F50-G50 -> 124108.45 | I50: =H50 -> 124108.45
C51: Investiční fond | E51: 327345.43 | F51: 987942 | G51: 775000 | H51: =E51+F51-G51 -> 540287.43 | I51: =H51 -> 540287.43
A52: celkem | E52: =E48+E49+E50+E51 -> 506506.38 | F52: =F48+F49+F50+F51 -> 1372034.1 | G52: =G48+G49+G50+G51 -> 1099572.8 | H52: =H48+H49+H50+H51 -> 778967.64 | I52: =I48+I49+I50+I51 -> 766635.64

Sheet 1120
A1: REKAPITULACE ZA ORGANIZACI :
A2: Název organizace : | E2: VOŠ a SPŠ elektrotechnická
E3: ……………………………………….……..………………………………………..…………………………………
A4: Adresa : | E4: Božetěchova 3, Olomouc
E5: ……………………………………….……..………………………………………..…………………………………
A6: IČ | E6: 00844012 | G6: ORG | H6: 1120
E7: ……………………………… ………….…..……………………………
E10: Schválený | F10: Upravený | G10: Skutečnost | H10: z toho:
E11: rozpočet | F11: rozpočet | G11: celkem | H11: Hlavní činnost | I11: Doplňková činnost
E12: celkem | F12: celkem | H12: jednotka - tis. Kč na 2 des. místa
A14: a) Náklady a výnosy
A15: Náklady | E15: 3678 | F15: 36111 | G15: =H15+I15 -> 36453 | H15: 36440 | I15: 13
A17: Výnosy | E17: 3678 | F17: 37206 | G17: =H17+I17 -> 36553 | H17: 36506 | I17: 47
A20: Doplňující údaje :
C21: daň z příjmů,dodatečné odvody daně z příjmů (nákladová položka) | G21: =H21+I21 -> 0 | H21: 0 | I21: 0
A23: Výsledek hospodaření /po zdanění/ | G23: =G17-G15-G21 -> 100 | H23: =H17-H15-H21 -> 66 | I23: =I17-I15-I21 -> 34
A27: b) | B27: Rozdělení výsledku hospodaření | G27: =SUM(G28:G30) -> 99879.23 | H27: v Kč
C28: - Návrh na příděly do fondů: | F28: Fond odměn | G28: 10000 | H28: v Kč
F29: Fond rezervní | G29: 89879.23 | H29: v Kč
C30: - Způsob krytí ztráty : | F30: Částka | G30: 0 | H30: v Kč
A35: c) | B35: Závazné ukazatele
F36: Schválená částka | G36: Skutečnost | I36: % plnění
A37: Limit mzdových prostředků | F37: 0 | G37: 0 | H37: v tis. Kč | I37: 0
A38: Neinvestiční příspěvek /odpisy/ | F38: 401 | G38: 400.963 | H38: v tis. Kč | I38: =G38/F38 -> 0.99990773
A39: Neinvestiční příspěvek /nájemné/ | F39: 0 | G39: 0 | H39: v tis. Kč | I39: nerozp.
A40: Odvody z investičního fondu /odpisy/ | F40: 301 | G40: 301 | H40: v tis. Kč | I40: =G40/F40 -> 1
A41: Odvody z investičního fondu /spolufin. akcí/ | F41: 0 | G41: 0 | H41: v tis. Kč | I41: nerozp.
A44: d) | B44: Fondy | H44: jednotka - Kč na 2 des. místa
E45: Stav k 1.1.2010 | F45: Tvorba | G45: Čerpání | H45: Stav k | I45: Finanční krytí k
H46: 40543 | I46: 40543
C49: Fond odměn | E49: 0 | F49: 8900 | G49: 2000 | H49: =E49+F49-G49 -> 6900 | I49: =H49 -> 6900
C50: FKSP | E50: 183338.45 | F50: 372760 | G50: 308596.5 | H50: =E50+F50-G50 -> 247501.95 | I50: 200163.43
C51: Fond rezervní | E51: =70196.65+1710576.94 -> 1780773.6 | F51: 35758.53 | G51: 1710576.9 | H51: =E51+F51-G51 -> 105955.18 | I51: =H51 -> 105955.18
C52: Investiční fond | E52: 377397.25 | F52: 400963 | G52: 509560 | H52: =E52+F52-G52 -> 268800.25 | I52: 268837.25
A53: celkem | E53: =E49+E50+E51+E52 -> 2341509.3 | F53: =F49+F50+F51+F52 -> 818381.53 | G53: =G49+G50+G51+G52 -> 2530733.4 | H53: =H49+H50+H51+H52 -> 629157.38 | I53: =I49+I50+I51+I52 -> 581855.86

Sheet 1121
A1: REKAPITULACE ZA ORGANIZACI :
A2: Název organizace : | E2: Střední průmyslová škola strojnická Olomouc
E3: ……………………………………….……..………………………………………..…………………………………
A4: Adresa : | E4: tř. 17. listopadu 49, Olomouc
E5: ……………………………………….……..………………………………………..…………………………………
A6: IČ | E6: 00601748 | G6: ORG | H6: 1121
E7: ……………………………… ………….…..……………………………
E10: Schválený | F10: Upravený | G10: Skutečnost | H10: z toho:
E11: rozpočet | F11: rozpočet | G11: celkem | H11: Hlavní činnost | I11: Doplňková činnost
E12: celkem | F12: celkem | H12: jednotka - tis. Kč na 2 des. místa
A14: a) Náklady a výnosy
A15: Náklady | E15: 3042 | F15: 23600 | G15: =H15+I15 -> 23899 | H15: 23776 | I15: 123
A17: Výnosy | E17: 3042 | F17: 23861 | G17: =H17+I17 -> 23970 | H17: 23477 | I17: 493
A20: Doplňující údaje :
C21: daň z příjmů,dodatečné odvody daně z příjmů (nákladová položka) | G21: =H21+I21 -> 0 | H21: 0 | I21: 0
A23: Výsledek hospodaření /po zdanění/ | G23: =G17-G15-G21 -> 71 | H23: =H17-H15-H21 -> -299 | I23: =I17-I15-I21 -> 370
A27: b) | B27: Rozdělení výsledku hospodaření | G27: =SUM(G28:G30) -> 70111.87 | H27: v Kč
C28: - Návrh na příděly do fondů: | F28: Fond odměn | G28: 15000 | H28: v Kč
F29: Fond rezervní | G29: 55111.87 | H29: v Kč
C30: - Způsob krytí ztráty : | F30: Částka | G30: 0 | H30: v Kč
A34: c) | B34: Závazné ukazatele
F35: Schválená částka | G35: Skutečnost | I35: % plnění
A36: Limit mzdových prostředků | F36: 0 | G36: 0 | H36: v tis. Kč | I36: 0
A37: Neinvestiční příspěvek /odpisy/ | F37: 330.886 | G37: 330.35 | H37: v tis. Kč | I37: =G37/F37 -> 0.99838011
A38: Neinvestiční příspěvek /nájemné/ | F38: 0 | G38: 0 | H38: v tis. Kč | I38: nerozp.
A39: Odvody z investičního fondu /odpisy/ | F39: 248 | G39: 248 | H39: v tis. Kč | I39: =G39/F39 -> 1
A40: Odvody z investičního fondu /spolufin. akcí/ | F40: 0 | G40: 0 | H40: v tis. Kč | I40: nerozp.
A42: d) | B42: Fondy | H42: jednotka - Kč na 2 des. místa
E43: Stav k 1.1.2010 | F43: Tvorba | G43: Čerpání | H43: Stav k | I43: Finanční krytí k
H44: 40543 | I44: 40543
C47: Fond odměn | E47: 22000 | F47: 15000 | G47: 16500 | H47: =E47+F47-G47 -> 20500 | I47: =H47 -> 20500
C48: FKSP | E48: 131759.69 | F48: 233668.46 | G48: 261145 | H48: =E48+F48-G48 -> 104283.15 | I48: 90029.67
C49: Fond rezervní | E49: 42451.05 | F49: =431735.42+32451.05+245048 -> 709234.47 | G49: 249099.05 | H49: =E49+F49-G49 -> 502586.47 | I49: =H49 -> 502586.47
C50: Investiční fond | E50: 47505.12 | F50: 333916 | G50: 381421.12 | H50: =E50+F50-G50 -> 0 | I50: =H50 -> 0
A51: celkem | E51: =E47+E48+E49+E50 -> 243715.86 | F51: =F47+F48+F49+F50 -> 1291818.9 | G51: =G47+G48+G49+G50 -> 908165.17 | H51: =H47+H48+H49+H50 -> 627369.62 | I51: =I47+I48+I49+I50 -> 613116.14

Sheet 1122
A1: REKAPITULACE ZA ORGANIZACI :
A2: Název organizace : | E2: Střední průmyslová škola a Obchodní akademie Uničov
E3: ……………………………………….……..………………………………………..…………………………………
A4: Adresa : | E4: Školní 164, Uničov
E5: ……………………………………….……..………………………………………..…………………………………
A6: IČ | E6: 00601730 | G6: ORG | H6: 1122
E7: ……………………………… ………….…..……………………………
E10: Schválený | F10: Upravený | G10: Skutečnost | H10: z toho:
E11: rozpočet | F11: rozpočet | G11: celkem | H11: Hlavní činnost | I11: Doplňková činnost
E12: celkem | F12: celkem | H12: jednotka - tis. Kč na 2 des. místa
A14: a) Náklady a výnosy
A15: Náklady | E15: 9719 | F15: 27423 | G15: =H15+I15 -> 27108 | H15: 25113 | I15: 1995
A17: Výnosy | E17: 9719 | F17: 27423 | G17: =H17+I17 -> 27246 | H17: 25113 | I17: 2133
A20: Doplňující údaje :
C21: daň z příjmů,dodatečné odvody daně z příjmů (nákladová položka) | G21: =H21+I21 -> 0 | H21: 0 | I21: 0
A23: Výsledek hospodaření /po zdanění/ | G23: =G17-G15-G21 -> 138 | H23: =H17-H15-H21 -> 0 | I23: =I17-I15-I21 -> 138
A27: b) | B27: Rozdělení výsledku hospodaření | G27: =SUM(G28:G30) -> 138292.61 | H27: v Kč
C28: - Návrh na příděly do fondů: | F28: Fond odměn | G28: 10000 | H28: v Kč
F29: Fond rezervní | G29: 128292.61 | H29: v Kč
C30: - Způsob krytí ztráty : | F30: Částka | G30: 0 | H30: v Kč
A34: c) | B34: Závazné ukazatele
F35: Schválená částka | G35: Skutečnost | I35: % plnění
A36: Limit mzdových prostředků | F36: 0 | G36: 0 | H36: v tis. Kč | I36: 0
A37: Neinvestiční příspěvek /odpisy/ | F37: 614.913 | G37: 614.913 | H37: v tis. Kč | I37: =G37/F37 -> 1
A38: Neinvestiční příspěvek /nájemné/ | F38: 0 | G38: 0 | H38: v tis. Kč | I38: nerozp.
A39: Odvody z investičního fondu /odpisy/ | F39: 461 | G39: 461 | H39: v tis. Kč | I39: =G39/F39 -> 1
A40: Odvody z investičního fondu /spolufin. akcí/ | F40: 0 | G40: 0 | H40: v tis. Kč | I40: nerozp.
A43: d) | B43: Fondy | H43: jednotka - Kč na 2 des. místa
E44: Stav k 1.1.2010 | F44: Tvorba | G44: Čerpání | H44: Stav k | I44: Finanční krytí k
H45: 40543 | I45: 40543
C48: Fond odměn | E48: 80320 | F48: 15000 | G48: 9100 | H48: =E48+F48-G48 -> 86220 | I48: =H48 -> 86220
C49: FKSP | E49: 123260.85 | F49: 259263 | G49: 273434 | H49: =E49+F49-G49 -> 109089.85 | I49: 94113.16
C50: Fond rezervní | E50: =314902.9+13000 -> 327902.9 | F50: =136725.64+13440 -> 150165.64 | G50: 130068.82 | H50: =E50+F50-G50 -> 347999.72 | I50: =H50 -> 347999.72
C51: Investiční fond | E51: 60614.45 | F51: 657831 | G51: 527944.74 | H51: =E51+F51-G51 -> 190500.71 | I51: =H51 -> 190500.71
A52: celkem | E52: =E48+E49+E50+E51 -> 592098.2 | F52: =F48+F49+F50+F51 -> 1082259.6 | G52: =G48+G49+G50+G51 -> 940547.56 | H52: =H48+H49+H50+H51 -> 733810.28 | I52: =I48+I49+I50+I51 -> 718833.59

Sheet 1123
A1: REKAPITULACE ZA ORGANIZACI :
A2: Název organizace : | E2: Střední škola zemědělská, Olomouc, U Hradiska 4
E3: ……………………………………….……..………………………………………..…………………………………
A4: Adresa : | E4: U Hradiska 4, Olomouc
E5: ……………………………………….……..………………………………………..…………………………………
A6: IČ | E6: 00602035 | G6: ORG | H6: 1123
E7: ……………………………… ………….…..……………………………
E10: Schválený | F10: Upravený | G10: Skutečnost | H10: z toho:
E11: rozpočet | F11: rozpočet | G11: celkem | H11: Hlavní činnost | I11: Doplňková činnost
E12: celkem | F12: celkem | H12: jednotka - tis. Kč na 2 des. místa
A14: a) Náklady a výnosy
A15: Náklady | E15: 15978 | F15: 50401 | G15: =H15+I15 -> 50401 | H15: 47546 | I15: 2855
A17: Výnosy | E17: 16087 | F17: 50164 | G17: =H17+I17 -> 50164 | H17: 47274 | I17: 2890
A20: Doplňující údaje :
C21: daň z příjmů,dodatečné odvody daně z příjmů (nákladová položka) | G21: =H21+I21 -> 0 | H21: 0 | I21: 0
A23: Výsledek hospodaření /po zdanění/ | G23: =G17-G15-G21 -> -237 | H23: =H17-H15-H21 -> -272 | I23: =I17-I15-I21 -> 35
A27: b) | B27: Rozdělení výsledku hospodaření | G27: =SUM(G28:G30) -> -238299.74 | H27: v Kč
C28: - Návrh na příděly do fondů: | F28: Fond odměn | G28: 0 | H28: v Kč
F29: Fond rezervní | G29: 0 | H29: v Kč
C30: - Způsob krytí ztráty : | F30: Částka | G30: -238299.74 | H30: v Kč
A31: Ztráta 238 299,74 bude hrazena ze zlepšeného výsledku hospodaření v následujících letech (neuhrazená ztráta minulých let k 31.12.2010 je - 4 115 721,95 Kč).
A34: c) | B34: Závazné ukazatele
F35: Schválená částka | G35: Skutečnost | I35: % plnění
A36: Limit mzdových prostředků | F36: 68.7 | G36: 59.1 | H36: v tis. Kč | I36: =G36/F36 -> 0.86026201
A37: Neinvestiční příspěvek /odpisy/ | F37: 1770.922 | G37: 1770.922 | H37: v tis. Kč | I37: =G37/F37 -> 1
A38: Neinvestiční příspěvek /nájemné/ | F38: 0 | G38: 0 | H38: v tis. Kč | I38: nerozp.
A39: Odvody z investičního fondu /odpisy/ | F39: 1328 | G39: 1328 | H39: v tis. Kč | I39: =G39/F39 -> 1
A40: Odvody z investičního fondu /spolufin. akcí/ | F40: 0 | G40: 0 | H40: v tis. Kč | I40: nerozp.
A42: d) | B42: Fondy | H42: jednotka - Kč na 2 des. místa
E43: Stav k 1.1.2010 | F43: Tvorba | G43: Čerpání | H43: Stav k | I43: Finanční krytí k
H44: 40543 | I44: 40543
C47: Fond odměn | E47: 0 | F47: 0 | G47: 0 | H47: =E47+F47-G47 -> 0 | I47: 0
C48: FKSP | E48: 184987.26 | F48: 490923 | G48: 453587.78 | H48: =E48+F48-G48 -> 222322.48 | I48: 183621.72
C49: Fond rezervní | E49: 20683.24 | F49: 267566 | G49: 288249.24 | H49: =E49+F49-G49 -> 0 | I49: 99189.24
C50: Investiční fond | E50: 91988.01 | F50: 1900477 | G50: 1930466.1 | H50: =E50+F50-G50 -> 61998.86 | I50: =H50 -> 61998.86
A51: celkem | E51: =E47+E48+E49+E50 -> 297658.51 | F51: =F47+F48+F49+F50 -> 2658966 | G51: =G47+G48+G49+G50 -> 2672303.2 | H51: =H47+H48+H49+H50 -> 284321.34 | I51: =I47+I48+I49+I50 -> 344809.82

Sheet 1124
A1: REKAPITULACE ZA ORGANIZACI :
A2: Název organizace : | E2: Jazyková škola s právem státní jazykové zkoušky
E3: Olomouc
E4: ……………………………………….……..………………………………………..…………………………………
A5: Adresa : | E5: Pöttingova 2, Olomouc
E6: ……………………………………….……..………………………………………..…………………………………
A7: IČ | E7: 00601713 | G7: ORG | H7: 1124
E8: ……………………………… ………….…..……………………………
E11: Schválený | F11: Upravený | G11: Skutečnost | H11: z toho:
E12: rozpočet | F12: rozpočet | G12: celkem | H12: Hlavní činnost | I12: Doplňková činnost
E13: celkem | F13: celkem | H13: jednotka - tis. Kč na 2 des. místa
A15: a) Náklady a výnosy
A16: Náklady | E16: 4332 | F16: 4278 | G16: =H16+I16 -> 4295 | H16: 4094 | I16: 201
A18: Výnosy | E18: 4332 | F18: 4306 | G18: =H18+I18 -> 4295 | H18: 3974 | I18: 321
A21: Doplňující údaje :
C22: daň z příjmů,dodatečné odvody daně z příjmů (nákladová položka) | G22: =H22+I22 -> 0 | H22: 0 | I22: 0
A24: Výsledek hospodaření /po zdanění/ | G24: =G18-G16-G22 -> 0 | H24: =H18-H16-H22 -> -120 | I24: =I18-I16-I22 -> 120
A28: b) | B28: Rozdělení výsledku hospodaření | G28: =SUM(G29:G31) -> 0 | H28: v Kč
C29: - Návrh na příděly do fondů: | F29: Fond odměn | G29: 0 | H29: v Kč
F30: Fond rezervní | G30: 0 | H30: v Kč
C31: - Způsob krytí ztráty : | F31: Částka | G31: 0 | H31: v Kč
A35: c) | B35: Závazné ukazatele
F36: Schválená částka | G36: Skutečnost | I36: % plnění
A37: Limit mzdových prostředků | F37: 2840 | G37: 2640 | H37: v tis. Kč | I37: =G37/F37 -> 0.92957746
A38: Neinvestiční příspěvek /odpisy/ | F38: 0 | G38: 0 | H38: v tis. Kč | I38: 0
A39: Neinvestiční příspěvek /nájemné/ | F39: 0 | G39: 0 | H39: v tis. Kč | I39: nerozp.
A40: Odvody z investičního fondu /odpisy/ | F40: 0 | G40: 0 | H40: v tis. Kč | I40: 0
A41: Odvody z investičního fondu /spolufin. akcí/ | F41: 0 | G41: 0 | H41: v tis. Kč | I41: nerozp.
A43: d) | B43: Fondy | H43: jednotka - Kč na 2 des. místa
E44: Stav k 1.1.2010 | F44: Tvorba | G44: Čerpání | H44: Stav k | I44: Finanční krytí k
H45: 40543 | I45: 40543
C48: Fond odměn | E48: 43300 | F48: 30000 | G48: 60100 | H48: =E48+F48-G48 -> 13200 | I48: =H48 -> 13200
C49: FKSP | E49: 74012.43 | F49: 46002.52 | G49: 69324.9 | H49: =E49+F49-G49 -> 50690.05 | I49: 42360.95
C50: Fond rezervní | E50: 323617.57 | F50: 172472.79 | G50: 146600.31 | H50: =E50+F50-G50 -> 349490.05 | I50: =H50 -> 349490.05
C51: Investiční fond | E51: 7343 | F51: 0 | G51: 0 | H51: =E51+F51-G51 -> 7343 | I51: =H51 -> 7343
A52: celkem | E52: =E48+E49+E50+E51 -> 448273 | F52: =F48+F49+F50+F51 -> 248475.31 | G52: =G48+G49+G50+G51 -> 276025.21 | H52: =H48+H49+H50+H51 -> 420723.1 | I52: =I48+I49+I50+I51 -> 412394

Sheet 1150
A1: REKAPITULACE ZA ORGANIZACI :
A2: Název organizace : | E2: Obchodní akademie Olomouc
E3: ……………………………………….……..………………………………………..…………………………………
A4: Adresa : | E4: tř. Spojenců 11, Olomouc
E5: ……………………………………….……..………………………………………..…………………………………
A6: IČ | E6: 00601721 | G6: ORG | H6: 1150
E7: ……………………………… ………….…..……………………………
E10: Schválený | F10: Upravený | G10: Skutečnost | H10: z toho:
E11: rozpočet | F11: rozpočet | G11: celkem | H11: Hlavní činnost | I11: Doplňková činnost
E12: celkem | F12: celkem | H12: jednotka - tis. Kč na 2 des. místa
A14: a) Náklady a výnosy
A15: Náklady | E15: 4309 | F15: 28610 | G15: =H15+I15 -> 28610 | H15: 28338 | I15: 272
A17: Výnosy | E17: 4309 | F17: 28369 | G17: =H17+I17 -> 28632 | H17: 28242 | I17: 390
A20: Doplňující údaje :
C21: daň z příjmů,dodatečné odvody daně z příjmů (nákladová položka) | G21: =H21+I21 -> 0 | H21: 0 | I21: 0
A23: Výsledek hospodaření /po zdanění/ | G23: =G17-G15-G21 -> 22 | H23: =H17-H15-H21 -> -96 | I23: =I17-I15-I21 -> 118
A27: b) | B27: Rozdělení výsledku hospodaření | G27: =SUM(G28:G30) -> 21883.05 | H27: v Kč
C28: - Návrh na příděly do fondů: | F28: Fond odměn | G28: 5000 | H28: v Kč
F29: Fond rezervní | G29: 16883.05 | H29: v Kč
C30: - Způsob krytí ztráty : | F30: Částka | G30: 0 | H30: v Kč
A34: c) | B34: Závazné ukazatele
F35: Schválená částka | G35: Skutečnost | I35: % plnění
A36: Limit mzdových prostředků | F36: 0 | G36: 0 | H36: v tis. Kč | I36: 0
A37: Neinvestiční příspěvek /odpisy/ | F37: 450 | G37: 442.2665 | H37: v tis. Kč | I37: =G37/F37 -> 0.98281444
A38: Neinvestiční příspěvek /nájemné/ | F38: 0 | G38: 0 | H38: v tis. Kč | I38: nerozp.
A39: Odvody z investičního fondu /odpisy/ | F39: 337 | G39: 337 | H39: v tis. Kč | I39: =G39/F39 -> 1
A40: Odvody z investičního fondu /spolufin. akcí/ | F40: 0 | G40: 0 | H40: v tis. Kč | I40: nerozp.
A42: d) | B42: Fondy | H42: jednotka - Kč na 2 des. místa
E43: Stav k 1.1.2010 | F43: Tvorba | G43: Čerpání | H43: Stav k | I43: Finanční krytí k
H44: 40543 | I44: 40543
C47: Fond odměn | E47: 0 | F47: 5000 | G47: 5000 | H47: =E47+F47-G47 -> 0 | I47: 0
C48: FKSP | E48: 146129.13 | F48: 322410 | G48: 350938 | H48: =E48+F48-G48 -> 117601.13 | I48: 154527.75
C49: Fond rezervní | E49: 274038.4 | F49: =28857.92+27500.71+69000 -> 125358.63 | G49: =56358.63+263795.4 -> 320154.03 | H49: =E49+F49-G49 -> 79243 | I49: =H49 -> 79243
C50: Investiční fond | E50: 81075.79 | F50: 487291.5 | G50: 486999 | H50: =E50+F50-G50 -> 81368.29 | I50: =H50 -> 81368.29
A51: celkem | E51: =E47+E48+E49+E50 -> 501243.32 | F51: =F47+F48+F49+F50 -> 940060.13 | G51: =G47+G48+G49+G50 -> 1163091 | H51: =H47+H48+H49+H50 -> 278212.42 | I51: =I47+I48+I49+I50 -> 315139.04

Sheet 1160
A1: REKAPITULACE ZA ORGANIZACI :
A2: Název organizace : | E2: SZdrŠ a VOŠ zdravotnická Emanuela Pöttinga
E3: ……………………………………….……..………………………………………..…………………………………
A4: Adresa : | E4: Pöttingova 2, Olomouc
E5: ……………………………………….……..………………………………………..…………………………………
A6: IČ | E6: 00600938 | G6: ORG | H6: 1160
E7: ……………………………… ………….…..……………………………
E10: Schválený | F10: Upravený | G10: Skutečnost | H10: z toho:
E11: rozpočet | F11: rozpočet | G11: celkem | H11: Hlavní činnost | I11: Doplňková činnost
E12: celkem | F12: celkem | H12: jednotka - tis. Kč na 2 des. místa
A14: a) Náklady a výnosy
A15: Náklady | E15: 14754 | F15: 58935 | G15: =H15+I15 -> 59389 | H15: 56141 | I15: 3248
A17: Výnosy | E17: 14754 | F17: 59522 | G17: =H17+I17 -> 59527 | H17: 55899 | I17: 3628
A20: Doplňující údaje :
C21: daň z příjmů,dodatečné odvody daně z příjmů (nákladová položka) | G21: =H21+I21 -> 0 | H21: 0 | I21: 0
A23: Výsledek hospodaření /po zdanění/ | G23: =G17-G15-G21 -> 138 | H23: =H17-H15-H21 -> -242 | I23: =I17-I15-I21 -> 380
A27: b) | B27: Rozdělení výsledku hospodaření | G27: =SUM(G28:G30) -> 139152.82 | H27: v Kč
C28: - Návrh na příděly do fondů: | F28: Fond odměn | G28: 0 | H28: v Kč
F29: Fond rezervní | G29: 139152.82 | H29: v Kč
C30: - Způsob krytí ztráty : | F30: Částka | G30: 0 | H30: v Kč
A34: c) | B34: Závazné ukazatele
F35: Schválená částka | G35: Skutečnost | I35: % plnění
A36: Limit mzdových prostředků | F36: 1283.98 | G36: 1261 | H36: v tis. Kč | I36: =G36/F36 -> 0.98210252
A37: Neinvestiční příspěvek /odpisy/ | F37: 1295.43 | G37: 1295.43 | H37: v tis. Kč | I37: =G37/F37 -> 1
A38: Neinvestiční příspěvek /nájemné/ | F38: 0 | G38: 0 | H38: v tis. Kč | I38: nerozp.
A39: Odvody z investičního fondu /odpisy/ | F39: 972 | G39: 972 | H39: v tis. Kč | I39: =G39/F39 -> 1
A40: Odvody z investičního fondu /spolufin. akcí/ | F40: 0 | G40: 0 | H40: v tis. Kč | I40: nerozp.
A42: d) | B42: Fondy | H42: jednotka - Kč na 2 des. místa
E43: Stav k 1.1.2010 | F43: Tvorba | G43: Čerpání | H43: Stav k | I43: Finanční krytí k
H44: 40543 | I44: 40543
C47: Fond odměn | E47: 218971 | F47: 0 | G47: 19100 | H47: =E47+F47-G47 -> 199871 | I47: =H47 -> 199871
C48: FKSP | E48: 241942.67 | F48: 594123.32 | G48: 635059.51 | H48: =E48+F48-G48 -> 201006.48 | I48: 219744.42
C49: Fond rezervní | E49: =405578.53+104878.61 -> 510457.14 | F49: =14967.65+847783.72 -> 862751.37 | G49: =300000+109695.61 -> 409695.61 | H49: =E49+F49-G49 -> 963512.9 | I49: =H49 -> 963512.9
C50: Investiční fond | E50: 56253 | F50: 1639415 | G50: 1475884 | H50: =E50+F50-G50 -> 219784 | I50: =H50 -> 219784
A51: celkem | E51: =E47+E48+E49+E50 -> 1027623.8 | F51: =F47+F48+F49+F50 -> 3096289.7 | G51: =G47+G48+G49+G50 -> 2539739.1 | H51: =H47+H48+H49+H50 -> 1584174.4 | I51: =I47+I48+I49+I50 -> 1602912.3

Sheet 1170
A1: REKAPITULACE ZA ORGANIZACI :
A2: Název organizace : | E2: Střední odborná škola a Střední odborné učiliště, Uničov
E3: ……………………………………….……..………………………………………..…………………………………
A4: Adresa : | E4: Moravské nám. 681, Uničov
E5: ……………………………………….……..………………………………………..…………………………………
A6: IČ | E6: 00848824 | G6: ORG | H6: 1170
E7: ……………………………… ………….…..……………………………
E10: Schválený | F10: Upravený | G10: Skutečnost | H10: z toho:
E11: rozpočet | F11: rozpočet | G11: celkem | H11: Hlavní činnost | I11: Doplňková činnost
E12: celkem | F12: celkem | H12: jednotka - tis. Kč na 2 des. místa
A14: a) Náklady a výnosy
A15: Náklady | E15: 7018 | F15: 30616 | G15: =H15+I15 -> 30194 | H15: 29422 | I15: 772
A17: Výnosy | E17: 7018 | F17: 30138 | G17: =H17+I17 -> 30195 | H17: 29422 | I17: 773
A20: Doplňující údaje :
C21: daň z příjmů,dodatečné odvody daně z příjmů (nákladová položka) | G21: =H21+I21 -> 0 | H21: 0 | I21: 0
A23: Výsledek hospodaření /po zdanění/ | G23: =G17-G15-G21 -> 1 | H23: =H17-H15-H21 -> 0 | I23: =I17-I15-I21 -> 1
A27: b) | B27: Rozdělení výsledku hospodaření | G27: =SUM(G28:G30) -> 976.16 | H27: v Kč
C28: - Návrh na příděly do fondů: | F28: Fond odměn | G28: 780.93 | H28: v Kč
F29: Fond rezervní | G29: 195.23 | H29: v Kč
C30: - Způsob krytí ztráty : | F30: Částka | G30: 0 | H30: v Kč
A34: c) | B34: Závazné ukazatele
F35: Schválená částka | G35: Skutečnost | I35: % plnění
A36: Limit mzdových prostředků | F36: 1568.1 | G36: 1568.1 | H36: v tis. Kč | I36: =G36/F36 -> 1
A37: Neinvestiční příspěvek /odpisy/ | F37: 521 | G37: 521.37204 | H37: v tis. Kč | I37: =G37/F37 -> 1.0007141
A38: Neinvestiční příspěvek /nájemné/ | F38: 154.92 | G38: 154.92 | H38: v tis. Kč | I38: nerozp.
A39: Odvody z investičního fondu /odpisy/ | F39: 391 | G39: 391 | H39: v tis. Kč | I39: =G39/F39 -> 1
A40: Odvody z investičního fondu /spolufin. akcí/ | F40: 0 | G40: 0 | H40: v tis. Kč | I40: nerozp.
A41: Pozn.: Vynaložené odpisy nad stanovený limit byly finančně pokryty z provozních prostředků organizace- 372,04 Kč.
A43: d) | B43: Fondy | H43: jednotka - Kč na 2 des. místa
E44: Stav k 1.1.2010 | F44: Tvorba | G44: Čerpání | H44: Stav k | I44: Finanční krytí k
H45: 40543 | I45: 40543
C48: Fond odměn | E48: 63697.8 | F48: 590.2 | G48: 7000 | H48: =E48+F48-G48 -> 57288 | I48: =H48 -> 57288
C49: FKSP | E49: 164808.41 | F49: 308903 | G49: 216721 | H49: =E49+F49-G49 -> 256990.41 | I49: 175015.52
C50: Fond rezervní | E50: 948827.73 | F50: 377163.46 | G50: 905555.99 | H50: =E50+F50-G50 -> 420435.2 | I50: =H50 -> 420435.2
C51: Investiční fond | E51: 14956.26 | F51: 535933.12 | G51: 391000 | H51: =E51+F51-G51 -> 159889.38 | I51: =H51 -> 159889.38
A52: celkem | E52: =E48+E49+E50+E51 -> 1192290.2 | F52: =F48+F49+F50+F51 -> 1222589.8 | G52: =G48+G49+G50+G51 -> 1520277 | H52: =H48+H49+H50+H51 -> 894602.99 | I52: =I48+I49+I50+I51 -> 812628.1

Sheet 1200
A1: REKAPITULACE ZA ORGANIZACI :
A2: Název organizace : | E2: Střední odborná škola Litovel
E3: ……………………………………….……..………………………………………..…………………………………
A4: Adresa : | E4: Komenského 677, Litovel
E5: ……………………………………….……..………………………………………..…………………………………
A6: IČ | E6: 00848875 | G6: ORG | H6: 1200
E7: ……………………………… ………….…..……………………………
E10: Schválený | F10: Upravený | G10: Skutečnost | H10: z toho:
E11: rozpočet | F11: rozpočet | G11: celkem | H11: Hlavní činnost | I11: Doplňková činnost
E12: celkem | F12: celkem | H12: jednotka - tis. Kč na 2 des. místa
A14: a) Náklady a výnosy
A15: Náklady | E15: 6027 | F15: 19812 | G15: =H15+I15 -> 19770 | H15: 18569 | I15: 1201
A17: Výnosy | E17: 6027 | F17: 19812 | G17: =H17+I17 -> 19776 | H17: 18558 | I17: 1218
A20: Doplňující údaje :
C21: daň z příjmů,dodatečné odvody daně z příjmů (nákladová položka) | G21: =H21+I21 -> 0 | H21: 0 | I21: 0
A23: Výsledek hospodaření /po zdanění/ | G23: =G17-G15-G21 -> 6 | H23: =H17-H15-H21 -> -11 | I23: =I17-I15-I21 -> 17
A27: b) | B27: Rozdělení výsledku hospodaření | G27: =SUM(G28:G30) -> 5597.15 | H27: v Kč
C28: - Návrh na příděly do fondů: | F28: Fond odměn | G28: 3700 | H28: v Kč
F29: Fond rezervní | G29: 1897.15 | H29: v Kč
C30: - Způsob krytí ztráty : | F30: Částka | G30: 0 | H30: v Kč
A34: c) | B34: Závazné ukazatele
F35: Schválená částka | G35: Skutečnost | I35: % plnění
A36: Limit mzdových prostředků | F36: 120 | G36: 120 | H36: v tis. Kč | I36: =G36/F36 -> 1
A37: Neinvestiční příspěvek /odpisy/ | F37: 554 | G37: 557.049 | H37: v tis. Kč | I37: =G37/F37 -> 1.0055036
A38: Neinvestiční příspěvek /nájemné/ | F38: 0 | G38: 0 | H38: v tis. Kč | I38: nerozp.
A39: Odvody z investičního fondu /odpisy/ | F39: 416 | G39: 416 | H39: v tis. Kč | I39: =G39/F39 -> 1
A40: Odvody z investičního fondu /spolufin. akcí/ | F40: 0 | G40: 0 | H40: v tis. Kč | I40: nerozp.
A41: Pozn.: Vynaložené odpisy nad stanovený limit byly finančně pokryty z provozních prostředků organizace- 3 049,- Kč.
A43: d) | B43: Fondy | H43: jednotka - Kč na 2 des. místa
E44: Stav k 1.1.2010 | F44: Tvorba | G44: Čerpání | H44: Stav k | I44: Finanční krytí k
H45: 40543 | I45: 40543
C48: Fond odměn | E48: 0 | F48: 31000 | G48: 30700 | H48: =E48+F48-G48 -> 300 | I48: =H48 -> 300
C49: FKSP | E49: 134671.32 | F49: 176915 | G49: 198980.81 | H49: =E49+F49-G49 -> 112605.51 | I49: 82781.24
C50: Fond rezervní | E50: 0 | F50: =500420.01 -> 500420.01 | G50: 500420.01 | H50: =E50+F50-G50 -> 0 | I50: =H50 -> 0
C51: Investiční fond | E51: 253534.16 | F51: 559509 | G51: 416000 | H51: =E51+F51-G51 -> 397043.16 | I51: =H51 -> 397043.16
A52: celkem | E52: =E48+E49+E50+E51 -> 388205.48 | F52: =F48+F49+F50+F51 -> 1267844 | G52: =G48+G49+G50+G51 -> 1146100.8 | H52: =H48+H49+H50+H51 -> 509948.67 | I52: =I48+I49+I50+I51 -> 480124.4

Sheet 1201
A1: REKAPITULACE ZA ORGANIZACI :
A2: Název organizace : | E2: Sigmundova střední škola strojírenská, Lutín
E3: ……………………………………….……..………………………………………..…………………………………
A4: Adresa : | E4: J. Sigmunda 242, Lutín
E5: ……………………………………….……..………………………………………..…………………………………
A6: IČ | E6: 66935733 | G6: ORG | H6: 1201
E7: ……………………………… ………….…..……………………………
E10: Schválený | F10: Upravený | G10: Skutečnost | H10: z toho:
E11: rozpočet | F11: rozpočet | G11: celkem | H11: Hlavní činnost | I11: Doplňková činnost
E12: celkem | F12: celkem | H12: jednotka - tis. Kč na 2 des. místa
A14: a) Náklady a výnosy
A15: Náklady | E15: 7940 | F15: 28641 | G15: =H15+I15 -> 28641 | H15: 28054 | I15: 587
A17: Výnosy | E17: 7940 | F17: 29023 | G17: =H17+I17 -> 28646 | H17: 27817 | I17: 829
A20: Doplňující údaje :
C21: daň z příjmů,dodatečné odvody daně z příjmů (nákladová položka) | G21: =H21+I21 -> 0 | H21: 0 | I21: 0
A23: Výsledek hospodaření /po zdanění/ | G23: =G17-G15-G21 -> 5 | H23: =H17-H15-H21 -> -237 | I23: =I17-I15-I21 -> 242
A27: b) | B27: Rozdělení výsledku hospodaření | G27: =SUM(G28:G30) -> 4753.2 | H27: v Kč
C28: - Návrh na příděly do fondů: | F28: Fond odměn | G28: 0 | H28: v Kč
F29: Fond rezervní | G29: 4753.2 | H29: v Kč
C30: - Způsob krytí ztráty : | F30: Částka | G30: 0 | H30: v Kč
A34: c) | B34: Závazné ukazatele
F35: Schválená částka | G35: Skutečnost | I35: % plnění
A36: Limit mzdových prostředků | F36: 19.5 | G36: 19.5 | H36: v tis. Kč | I36: =G36/F36 -> 1
A37: Neinvestiční příspěvek /odpisy/ | F37: 2798.363 | G37: 2828.038 | H37: v tis. Kč | I37: =G37/F37 -> 1.0106044
A38: Neinvestiční příspěvek /nájemné/ | F38: 0 | G38: 0 | H38: v tis. Kč | I38: nerozp.
A39: Odvody z investičního fondu /odpisy/ | F39: 2099 | G39: 2099 | H39: v tis. Kč | I39: =G39/F39 -> 1
A40: Odvody z investičního fondu /spolufin. akcí/ | F40: 0 | G40: 0 | H40: v tis. Kč | I40: nerozp.
A41: Pozn.1: Vynaložené odpisy nad stanovený limit byly finančně pokryty z provozních prostředků organizace- 29 675,- Kč.
A42: Pozn.2: Odvod z investičního fondu - ROP ve výši 8 159,23 tis. Kč, odvod z provozu - ROP ve výši 217,99 tis. Kč.
A44: d) | B44: Fondy | H44: jednotka - Kč na 2 des. místa
E45: Stav k 1.1.2010 | F45: Tvorba | G45: Čerpání | H45: Stav k | I45: Finanční krytí k
H46: 40543 | I46: 40543
C49: Fond odměn | E49: 31315 | F49: 18160 | G49: 29000 | H49: =E49+F49-G49 -> 20475 | I49: =H49 -> 20475
C50: FKSP | E50: 419825.78 | F50: 277931 | G50: 337676.5 | H50: =E50+F50-G50 -> 360080.28 | I50: 189007.94
C51: Fond rezervní | E51: 961123.03 | F51: =180836.89+62000 -> 242836.89 | G51: =72000+50000 -> 122000 | H51: =E51+F51-G51 -> 1081959.9 | I51: =534036.63+12000 -> 546036.63
C52: Investiční fond | E52: 870667.28 | F52: 3071892 | G52: 2870616.2 | H52: =E52+F52-G52 -> 1071943.1 | I52: =H52 -> 1071943.1
A53: celkem | E53: =E49+E50+E51+E52 -> 2282931.1 | F53: =F49+F50+F51+F52 -> 3610819.9 | G53: =G49+G50+G51+G52 -> 3359292.7 | H53: =H49+H50+H51+H52 -> 2534458.3 | I53: =I49+I50+I51+I52 -> 1827462.7

Sheet 1202
A1: REKAPITULACE ZA ORGANIZACI :
A2: Název organizace : | E2: Střední škola logistiky a chemie, Olomouc
E3: ……………………………………….……..………………………………………..…………………………………
A4: Adresa : | E4: U Hradiska 29, Olomouc
E5: ……………………………………….……..………………………………………..…………………………………
A6: IČ | E6: 00845337 | G6: ORG | H6: 1202
E7: ……………………………… ………….…..……………………………
E10: Schválený | F10: Upravený | G10: Skutečnost | H10: z toho:
E11: rozpočet | F11: rozpočet | G11: celkem | H11: Hlavní činnost | I11: Doplňková činnost
E12: celkem | F12: celkem | H12: jednotka - tis. Kč na 2 des. místa
A14: a) Náklady a výnosy
A15: Náklady | E15: 9313 | F15: 29472 | G15: =H15+I15 -> 29471 | H15: 28784 | I15: 687
A17: Výnosy | E17: 9418 | F17: 29641 | G17: =H17+I17 -> 29642 | H17: 28786 | I17: 856
A20: Doplňující údaje :
C21: daň z příjmů,dodatečné odvody daně z příjmů (nákladová položka) | G21: =H21+I21 -> 0 | H21: 0 | I21: 0
A23: Výsledek hospodaření /po zdanění/ | G23: =G17-G15-G21 -> 171 | H23: =H17-H15-H21 -> 2 | I23: =I17-I15-I21 -> 169
A27: b) | B27: Rozdělení výsledku hospodaření | G27: =SUM(G28:G30) -> 169084 | H27: v Kč
C28: - Návrh na příděly do fondů: | F28: Fond odměn | G28: 20000 | H28: v Kč
F29: Fond rezervní | G29: 149084 | H29: v Kč
C30: - Způsob krytí ztráty : | F30: Částka | G30: 0 | H30: v Kč
A34: c) | B34: Závazné ukazatele
F35: Schválená částka | G35: Skutečnost | I35: % plnění
A36: Limit mzdových prostředků | F36: 4.68 | G36: 4.68 | H36: v tis. Kč | I36: =G36/F36 -> 1
A37: Neinvestiční příspěvek /odpisy/ | F37: 956 | G37: 956 | H37: v tis. Kč | I37: =G37/F37 -> 1
A38: Neinvestiční příspěvek /nájemné/ | F38: 0 | G38: 0 | H38: v tis. Kč | I38: nerozp.
A39: Odvody z investičního fondu /odpisy/ | F39: 717 | G39: 717 | H39: v tis. Kč | I39: =G39/F39 -> 1
A40: Odvody z investičního fondu /spolufin. akcí/ | F40: 0 | G40: 0 | H40: v tis. Kč | I40: nerozp.
A43: d) | B43: Fondy | H43: jednotka - Kč na 2 des. místa
E44: Stav k 1.1.2010 | F44: Tvorba | G44: Čerpání | H44: Stav k | I44: Finanční krytí k
H45: 40543 | I45: 40543
C48: Fond odměn | E48: 5100 | F48: 30000 | G48: 7000 | H48: =E48+F48-G48 -> 28100 | I48: =H48 -> 28100
C49: FKSP | E49: 192253.87 | F49: 292216 | G49: 277657 | H49: =E49+F49-G49 -> 206812.87 | I49: 178094.92
C50: Fond rezervní | E50: =342796.04+61500 -> 404296.04 | F50: =90955.82+56175 -> 147130.82 | G50: 23855 | H50: =E50+F50-G50 -> 527571.86 | I50: =H50 -> 527571.86
C51: Investiční fond | E51: 442063.55 | F51: 978980 | G51: 1249886 | H51: =E51+F51-G51 -> 171157.55 | I51: =H51 -> 171157.55
A52: celkem | E52: =E48+E49+E50+E51 -> 1043713.5 | F52: =F48+F49+F50+F51 -> 1448326.8 | G52: =G48+G49+G50+G51 -> 1558398 | H52: =H48+H49+H50+H51 -> 933642.28 | I52: =I48+I49+I50+I51 -> 904924.33

Sheet 1204
A1: REKAPITULACE ZA ORGANIZACI :
A2: Název organizace : | E2: Střední škola polytechnická, Olomouc
E3: ……………………………………….……..………………………………………..…………………………………
A4: Adresa : | E4: Rooseveltova 79, Olomouc
E5: ……………………………………….……..………………………………………..…………………………………
A6: IČ | E6: 13643606 | G6: ORG | H6: 1204
E7: ……………………………… ………….…..……………………………
E10: Schválený | F10: Upravený | G10: Skutečnost | H10: z toho:
E11: rozpočet | F11: rozpočet | G11: celkem | H11: Hlavní činnost | I11: Doplňková činnost
E12: celkem | F12: celkem | H12: jednotka - tis. Kč na 2 des. místa
A14: a) Náklady a výnosy
A15: Náklady | E15: 19415 | F15: 72142 | G15: =H15+I15 -> 72844 | H15: 68962 | I15: 3882
A17: Výnosy | E17: 19415 | F17: 72792 | G17: =H17+I17 -> 73224 | H17: 67605 | I17: 5619
A20: Doplňující údaje :
C21: daň z příjmů,dodatečné odvody daně z příjmů (nákladová položka) | G21: =H21+I21 -> 247 | H21: 0 | I21: 247
A23: Výsledek hospodaření /po zdanění/ | G23: =G17-G15-G21 -> 133 | H23: =H17-H15-H21 -> -1357 | I23: =I17-I15-I21 -> 1490
A27: b) | B27: Rozdělení výsledku hospodaření | G27: =SUM(G28:G30) -> 132652.84 | H27: v Kč
C28: - Návrh na příděly do fondů: | F28: Fond odměn | G28: 15000 | H28: v Kč
F29: Fond rezervní | G29: 117652.84 | H29: v Kč
C30: - Způsob krytí ztráty : | F30: Částka | G30: 0 | H30: v Kč
A34: c) | B34: Závazné ukazatele
F35: Schválená částka | G35: Skutečnost | I35: % plnění
A36: Limit mzdových prostředků | F36: 3050 | G36: 2291.55 | H36: v tis. Kč | I36: =G36/F36 -> 0.75132787
A37: Neinvestiční příspěvek /odpisy/ | F37: 2414 | G37: 2407.825 | H37: v tis. Kč | I37: =G37/F37 -> 0.997442
A38: Neinvestiční příspěvek /nájemné/ | F38: 0 | G38: 0 | H38: v tis. Kč | I38: nerozp.
A39: Odvody z investičního fondu /odpisy/ | F39: 1811 | G39: 1811 | H39: v tis. Kč | I39: =G39/F39 -> 1
A40: Odvody z investičního fondu /spolufin. akcí/ | F40: 1150 | G40: 1150 | H40: v tis. Kč | I40: nerozp.
A42: d) | B42: Fondy | H42: jednotka - Kč na 2 des. místa
E43: Stav k 1.1.2010 | F43: Tvorba | G43: Čerpání | H43: Stav k | I43: Finanční krytí k
H44: 40543 | I44: 40543
C47: Fond odměn | E47: 110000 | F47: 2500 | G47: 36200 | H47: =E47+F47-G47 -> 76300 | I47: =H47 -> 76300
C48: FKSP | E48: 583644.8 | F48: 752050 | G48: 630794.5 | H48: =E48+F48-G48 -> 704900.3 | I48: 649267
C49: Fond rezervní | E49: 48909.43 | F49: =2993.35+29680 -> 32673.35 | G49: 29680 | H49: =E49+F49-G49 -> 51902.78 | I49: =H49 -> 51902.78
C50: Investiční fond | E50: 1529719.6 | F50: 3022341 | G50: 3548547 | H50: =E50+F50-G50 -> 1003513.6 | I50: =H50 -> 1003513.6
A51: celkem | E51: =E47+E48+E49+E50 -> 2272273.8 | F51: =F47+F48+F49+F50 -> 3809564.4 | G51: =G47+G48+G49+G50 -> 4245221.5 | H51: =H47+H48+H49+H50 -> 1836616.7 | I51: =I47+I48+I49+I50 -> 1780983.4

Sheet 1205
A1: REKAPITULACE ZA ORGANIZACI :
A2: Název organizace : | E2: Střední škola polygrafická, Olomouc
E3: ……………………………………….……..………………………………………..…………………………………
A4: Adresa : | E4: Střední Novosadská 55, Olomouc
E5: ……………………………………….……..………………………………………..…………………………………
A6: IČ | E6: 00848778 | G6: ORG | H6: 1205
E7: ……………………………… ………….…..……………………………
E10: Schválený | F10: Upravený | G10: Skutečnost | H10: z toho:
E11: rozpočet | F11: rozpočet | G11: celkem | H11: Hlavní činnost | I11: Doplňková činnost
E12: celkem | F12: celkem | H12: jednotka - tis. Kč na 2 des. místa
A14: a) Náklady a výnosy
A15: Náklady | E15: 9353 | F15: 28361 | G15: =H15+I15 -> 28093 | H15: 26746 | I15: 1347
A17: Výnosy | E17: 9353 | F17: 28361 | G17: =H17+I17 -> 28264 | H17: 26737 | I17: 1527
A20: Doplňující údaje :
C21: daň z příjmů,dodatečné odvody daně z příjmů (nákladová položka) | G21: =H21+I21 -> 0 | H21: 0 | I21: 0
A23: Výsledek hospodaření /po zdanění/ | G23: =G17-G15-G21 -> 171 | H23: =H17-H15-H21 -> -9 | I23: =I17-I15-I21 -> 180
A27: b) | B27: Rozdělení výsledku hospodaření | G27: =SUM(G28:G30) -> 170587.06 | H27: v Kč
C28: - Návrh na příděly do fondů: | F28: Fond odměn | G28: 20000 | H28: v Kč
F29: Fond rezervní | G29: 150587.06 | H29: v Kč
C30: - Způsob krytí ztráty : | F30: Částka | G30: 0 | H30: v Kč
A34: c) | B34: Závazné ukazatele
F35: Schválená částka | G35: Skutečnost | I35: % plnění
A36: Limit mzdových prostředků | F36: 650 | G36: 428.01 | H36: v tis. Kč | I36: =G36/F36 -> 0.65847692
A37: Neinvestiční příspěvek /odpisy/ | F37: 463 | G37: 474.211 | H37: v tis. Kč | I37: =G37/F37 -> 1.0242138
A38: Neinvestiční příspěvek /nájemné/ | F38: 0 | G38: 0 | H38: v tis. Kč | I38: nerozp.
A39: Odvody z investičního fondu /odpisy/ | F39: 347 | G39: 347 | H39: v tis. Kč | I39: =G39/F39 -> 1
A40: Odvody z investičního fondu /spolufin. akcí/ | F40: 0 | G40: 0 | H40: v tis. Kč | I40: nerozp.
A41: Pozn.: Vynaložené odpisy nad stanovený limit byly finančně pokryty z provozních prostředků organizace- 11 211,- Kč.
A43: d) | B43: Fondy | H43: jednotka - Kč na 2 des. místa
E44: Stav k 1.1.2010 | F44: Tvorba | G44: Čerpání | H44: Stav k | I44: Finanční krytí k
H45: 40543 | I45: 40543
C48: Fond odměn | E48: 31648 | F48: 30000 | G48: 19900 | H48: =E48+F48-G48 -> 41748 | I48: =H48 -> 41748
C49: FKSP | E49: 37243.74 | F49: 263429 | G49: 248292 | H49: =E49+F49-G49 -> 52380.74 | I49: 36962.95
C50: Fond rezervní | E50: =101575.89+203326 -> 304901.89 | F50: =170668.01+30500 -> 201168.01 | G50: =71280+159657 -> 230937 | H50: =E50+F50-G50 -> 275132.9 | I50: =H50 -> 275132.9
C51: Investiční fond | E51: 126305.6 | F51: 698138 | G51: 689829 | H51: =E51+F51-G51 -> 134614.6 | I51: =H51 -> 134614.6
A52: celkem | E52: =E48+E49+E50+E51 -> 500099.23 | F52: =F48+F49+F50+F51 -> 1192735 | G52: =G48+G49+G50+G51 -> 1188958 | H52: =H48+H49+H50+H51 -> 503876.24 | I52: =I48+I49+I50+I51 -> 488458.45

Sheet 1206
A1: REKAPITULACE ZA ORGANIZACI :
A2: Název organizace : | E2: SOŠ obchodu a služeb
E3: ……………………………………….……..………………………………………..…………………………………
A4: Adresa : | E4: Štursova 14, Olomouc
E5: ……………………………………….……..………………………………………..…………………………………
A6: IČ | E6: 00577448 | G6: ORG | H6: 1206
E7: ……………………………… ………….…..……………………………
E10: Schválený | F10: Upravený | G10: Skutečnost | H10: z toho:
E11: rozpočet | F11: rozpočet | G11: celkem | H11: Hlavní činnost | I11: Doplňková činnost
E12: celkem | F12: celkem | H12: jednotka - tis. Kč na 2 des. místa
A14: a) Náklady a výnosy
A15: Náklady | E15: 6730 | F15: 37302 | G15: =H15+I15 -> 37302 | H15: 36976 | I15: 326
A17: Výnosy | E17: 6730 | F17: 37366 | G17: =H17+I17 -> 37303 | H17: 36777 | I17: 526
A20: Doplňující údaje :
C21: daň z příjmů,dodatečné odvody daně z příjmů (nákladová položka) | G21: =H21+I21 -> 0 | H21: 0 | I21: 0
A23: Výsledek hospodaření /po zdanění/ | G23: =G17-G15-G21 -> 1 | H23: =H17-H15-H21 -> -199 | I23: =I17-I15-I21 -> 200
A27: b) | B27: Rozdělení výsledku hospodaření | G27: =SUM(G28:G30) -> 0 | H27: v Kč
C28: - Návrh na příděly do fondů: | F28: Fond odměn | G28: 0 | H28: v Kč
F29: Fond rezervní | G29: 0 | H29: v Kč
C30: - Způsob krytí ztráty : | F30: Částka | G30: 0 | H30: v Kč
A34: c) | B34: Závazné ukazatele
F35: Schválená částka | G35: Skutečnost | I35: % plnění
A36: Limit mzdových prostředků | F36: 390 | G36: 390 | H36: v tis. Kč | I36: =G36/F36 -> 1
A37: Neinvestiční příspěvek /odpisy/ | F37: 336 | G37: 336.48 | H37: v tis. Kč | I37: =G37/F37 -> 1.0014286
A38: Neinvestiční příspěvek /nájemné/ | F38: 0 | G38: 0 | H38: v tis. Kč | I38: nerozp.
A39: Odvody z investičního fondu /odpisy/ | F39: 252 | G39: 252 | H39: v tis. Kč | I39: =G39/F39 -> 1
A40: Odvody z investičního fondu /spolufin. akcí/ | F40: 0 | G40: 0 | H40: v tis. Kč | I40: nerozp.
A41: Pozn.: Vynaložené odpisy nad stanovený limit byly finančně pokryty z provozních prostředků organizace- 480,- Kč.
A43: d) | B43: Fondy | H43: jednotka - Kč na 2 des. místa
E44: Stav k 1.1.2010 | F44: Tvorba | G44: Čerpání | H44: Stav k | I44: Finanční krytí k
H45: 40543 | I45: 40543
C48: Fond odměn | E48: 181458.72 | F48: 0 | G48: 4000 | H48: =E48+F48-G48 -> 177458.72 | I48: =H48 -> 177458.72
C49: FKSP | E49: 961264.9 | F49: 429577 | G49: 359754 | H49: =E49+F49-G49 -> 1031087.9 | I49: 945082.65
C50: Fond rezervní | E50: 417501.55 | F50: 0 | G50: 0 | H50: =E50+F50-G50 -> 417501.55 | I50: =H50 -> 417501.55
C51: Investiční fond | E51: 156581.07 | F51: 338035 | G51: 295995 | H51: =E51+F51-G51 -> 198621.07 | I51: =H51 -> 198621.07
A52: celkem | E52: =E48+E49+E50+E51 -> 1716806.2 | F52: =F48+F49+F50+F51 -> 767612 | G52: =G48+G49+G50+G51 -> 659749 | H52: =H48+H49+H50+H51 -> 1824669.2 | I52: =I48+I49+I50+I51 -> 1738664

Sheet 1207
A1: REKAPITULACE ZA ORGANIZACI :
A2: Název organizace : | E2: Střední škola technická a obchodní, Olomouc
E3: ……………………………………….……..………………………………………..…………………………………
A4: Adresa : | E4: Kosinova 872/4, Olomouc
E5: ……………………………………….……..………………………………………..…………………………………
A6: IČ | E6: 14451085 | G6: ORG | H6: 1207
E7: ……………………………… ………….…..……………………………
E10: Schválený | F10: Upravený | G10: Skutečnost | H10: z toho:
E11: rozpočet | F11: rozpočet | G11: celkem | H11: Hlavní činnost | I11: Doplňková činnost
E12: celkem | F12: celkem | H12: jednotka - tis. Kč na 2 des. místa
A14: a) Náklady a výnosy
A15: Náklady | E15: 4738 | F15: 36630 | G15: =H15+I15 -> 36630 | H15: 36551 | I15: 79
A17: Výnosy | E17: 4889 | F17: 36806 | G17: =H17+I17 -> 36723 | H17: 36440 | I17: 283
A20: Doplňující údaje :
C21: daň z příjmů,dodatečné odvody daně z příjmů (nákladová položka) | G21: =H21+I21 -> 0 | H21: 0 | I21: 0
A23: Výsledek hospodaření /po zdanění/ | G23: =G17-G15-G21 -> 93 | H23: =H17-H15-H21 -> -111 | I23: =I17-I15-I21 -> 204
A27: b) | B27: Rozdělení výsledku hospodaření | G27: =SUM(G28:G30) -> 91486.31 | H27: v Kč
C28: - Návrh na příděly do fondů: | F28: Fond odměn | G28: 4000 | H28: v Kč
F29: Fond rezervní | G29: 87486.31 | H29: v Kč
C30: - Způsob krytí ztráty : | F30: Částka | G30: 0 | H30: v Kč
A34: c) | B34: Závazné ukazatele
F35: Schválená částka | G35: Skutečnost | I35: % plnění
A36: Limit mzdových prostředků | F36: 100 | G36: 98 | H36: v tis. Kč | I36: =G36/F36 -> 0.98
A37: Neinvestiční příspěvek /odpisy/ | F37: 762.266 | G37: 736.3715 | H37: v tis. Kč | I37: =G37/F37 -> 0.96602957
A38: Neinvestiční příspěvek /nájemné/ | F38: 0 | G38: 0 | H38: v tis. Kč | I38: nerozp.
A39: Odvody z investičního fondu /odpisy/ | F39: 572 | G39: 572 | H39: v tis. Kč | I39: =G39/F39 -> 1
A40: Odvody z investičního fondu /spolufin. akcí/ | F40: 0 | G40: 0 | H40: v tis. Kč | I40: nerozp.
A43: d) | B43: Fondy | H43: jednotka - Kč na 2 des. místa
E44: Stav k 1.1.2010 | F44: Tvorba | G44: Čerpání | H44: Stav k | I44: Finanční krytí k
H45: 40543 | I45: 40543
C48: Fond odměn | E48: 26000 | F48: 4000 | G48: 2000 | H48: =E48+F48-G48 -> 28000 | I48: =H48 -> 28000
C49: FKSP | E49: 93196.68 | F49: 454420 | G49: 484859 | H49: =E49+F49-G49 -> 62757.68 | I49: 20832.26
C50: Fond rezervní | E50: 408629.89 | F50: 81736.75 | G50: 150000 | H50: =E50+F50-G50 -> 340366.64 | I50: =H50 -> 340366.64
C51: Investiční fond | E51: 202703 | F51: 894066 | G51: 956198 | H51: =E51+F51-G51 -> 140571 | I51: =H51 -> 140571
A52: celkem | E52: =E48+E49+E50+E51 -> 730529.57 | F52: =F48+F49+F50+F51 -> 1434222.8 | G52: =G48+G49+G50+G51 -> 1593057 | H52: =H48+H49+H50+H51 -> 571695.32 | I52: =I48+I49+I50+I51 -> 529769.9

Sheet 1208
A1: REKAPITULACE ZA ORGANIZACI :
A2: Název organizace : | E2: SOU strojírenské a lesnické
E3: ……………………………………….……..………………………………………..…………………………………
A4: Adresa : | E4: Opavská 4, Šternberk
E5: ……………………………………….……..………………………………………..…………………………………
A6: IČ | E6: 00848794 | G6: ORG | H6: 1208
E7: ……………………………… ………….…..……………………………
E10: Schválený | F10: Upravený | G10: Skutečnost | H10: z toho:
E11: rozpočet | F11: rozpočet | G11: celkem | H11: Hlavní činnost | I11: Doplňková činnost
E12: celkem | F12: celkem | H12: jednotka - tis. Kč na 2 des. místa
A14: a) Náklady a výnosy
A15: Náklady | E15: 13129 | F15: 29400 | G15: =H15+I15 -> 29205 | H15: 26843 | I15: 2362
A17: Výnosy | E17: 13129 | F17: 30022 | G17: =H17+I17 -> 29221 | H17: 26525 | I17: 2696
A20: Doplňující údaje :
C21: daň z příjmů,dodatečné odvody daně z příjmů (nákladová položka) | G21: =H21+I21 -> 0 | H21: 0 | I21: 0
A23: Výsledek hospodaření /po zdanění/ | G23: =G17-G15-G21 -> 16 | H23: =H17-H15-H21 -> -318 | I23: =I17-I15-I21 -> 334
A27: b) | B27: Rozdělení výsledku hospodaření | G27: =SUM(G28:G30) -> 15828.71 | H27: v Kč
C28: - Návrh na příděly do fondů: | F28: Fond odměn | G28: 0 | H28: v Kč
F29: Fond rezervní | G29: 15828.71 | H29: v Kč
C30: - Způsob krytí ztráty : | F30: Částka | G30: 0 | H30: v Kč
A34: c) | B34: Závazné ukazatele
F35: Schválená částka | G35: Skutečnost | I35: % plnění
A36: Limit mzdových prostředků | F36: 400 | G36: 120 | H36: v tis. Kč | I36: =G36/F36 -> 0.3
A37: Neinvestiční příspěvek /odpisy/ | F37: 889 | G37: 933.77339 | H37: v tis. Kč | I37: =G37/F37 -> 1.0503638
A38: Neinvestiční příspěvek /nájemné/ | F38: 0 | G38: 0 | H38: v tis. Kč | I38: nerozp.
A39: Odvody z investičního fondu /odpisy/ | F39: 667 | G39: 667 | H39: v tis. Kč | I39: =G39/F39 -> 1
A40: Odvody z investičního fondu /spolufin. akcí/ | F40: 0 | G40: 0 | H40: v tis. Kč | I40: nerozp.
A41: Pozn.: Vynaložené odpisy nad stanovený limit byly finančně pokryty z provozních prostředků organizace- 44 773,39 Kč.
A43: d) | B43: Fondy | H43: jednotka - Kč na 2 des. místa
E44: Stav k 1.1.2010 | F44: Tvorba | G44: Čerpání | H44: Stav k | I44: Finanční krytí k
H45: 40543 | I45: 40543
C48: Fond odměn | E48: 47100 | F48: 20000 | G48: 14000 | H48: =E48+F48-G48 -> 53100 | I48: =H48 -> 53100
C49: FKSP | E49: 47725.3 | F49: 263676 | G49: 240679 | H49: =E49+F49-G49 -> 70722.3 | I49: 75734.3
C50: Fond rezervní | E50: 340622.51 | F50: 57322.14 | G50: 0 | H50: =E50+F50-G50 -> 397944.65 | I50: =H50 -> 397944.65
C51: Investiční fond | E51: 200896.92 | F51: 1122053.9 | G51: 759400 | H51: =E51+F51-G51 -> 563550.82 | I51: =H51 -> 563550.82
A52: celkem | E52: =E48+E49+E50+E51 -> 636344.73 | F52: =F48+F49+F50+F51 -> 1463052 | G52: =G48+G49+G50+G51 -> 1014079 | H52: =H48+H49+H50+H51 -> 1085317.8 | I52: =I48+I49+I50+I51 -> 1090329.8

Sheet 1300
A1: REKAPITULACE ZA ORGANIZACI :
A2: Název organizace : | E2: Základní umělecká škola Iši Krejčího Olomouc
E3: ……………………………………….……..………………………………………..…………………………………
A4: Adresa : | E4: Na Vozovce 32, Olomouc
E5: ……………………………………….……..………………………………………..…………………………………
A6: IČ | E6: 47654236 | G6: ORG | H6: 1300
E7: ……………………………… ………….…..……………………………
E10: Schválený | F10: Upravený | G10: Skutečnost | H10: z toho:
E11: rozpočet | F11: rozpočet | G11: celkem | H11: Hlavní činnost | I11: Doplňková činnost
E12: celkem | F12: celkem | H12: jednotka - tis. Kč na 2 des. místa
A14: a) Náklady a výnosy
A15: Náklady | E15: 2593 | F15: 15631 | G15: =H15+I15 -> 15631 | H15: 15585 | I15: 46
A17: Výnosy | E17: 2593 | F17: 15678 | G17: =H17+I17 -> 15678 | H17: 15589 | I17: 89
A20: Doplňující údaje :
C21: daň z příjmů,dodatečné odvody daně z příjmů (nákladová položka) | G21: =H21+I21 -> 0 | H21: 0 | I21: 0
A23: Výsledek hospodaření /po zdanění/ | G23: =G17-G15-G21 -> 47 | H23: =H17-H15-H21 -> 4 | I23: =I17-I15-I21 -> 43
A27: b) | B27: Rozdělení výsledku hospodaření | G27: =SUM(G28:G30) -> 45710.57 | H27: v Kč
C28: - Návrh na příděly do fondů: | F28: Fond odměn | G28: 12814.71 | H28: v Kč
F29: Fond rezervní | G29: 32895.86 | H29: v Kč
C30: - Způsob krytí ztráty : | F30: Částka | G30: 0 | H30: v Kč
A34: c) | B34: Závazné ukazatele
F35: Schválená částka | G35: Skutečnost | I35: % plnění
A36: Limit mzdových prostředků | F36: 0 | G36: 0 | H36: v tis. Kč | I36: 0
A37: Neinvestiční příspěvek /odpisy/ | F37: 442.391 | G37: 442.391 | H37: v tis. Kč | I37: =G37/F37 -> 1
A38: Neinvestiční příspěvek /nájemné/ | F38: 0 | G38: 0 | H38: v tis. Kč | I38: nerozp.
A39: Odvody z investičního fondu /odpisy/ | F39: 332 | G39: 332 | H39: v tis. Kč | I39: =G39/F39 -> 1
A40: Odvody z investičního fondu /spolufin. akcí/ | F40: 0 | G40: 0 | H40: v tis. Kč | I40: nerozp.
A43: d) | B43: Fondy | H43: jednotka - Kč na 2 des. místa
E44: Stav k 1.1.2010 | F44: Tvorba | G44: Čerpání | H44: Stav k | I44: Finanční krytí k
H45: 40543 | I45: 40543
C48: Fond odměn | E48: 15185.29 | F48: 2000 | G48: 8000 | H48: =E48+F48-G48 -> 9185.29 | I48: =H48 -> 9185.29
C49: FKSP | E49: 269779.92 | F49: 182580 | G49: 243551.8 | H49: =E49+F49-G49 -> 208808.12 | I49: 128156.61
C50: Fond rezervní | E50: 14670.62 | F50: =113819.34+55483 -> 169302.34 | G50: 0 | H50: =E50+F50-G50 -> 183972.96 | I50: =H50 -> 183972.96
C51: Investiční fond | E51: 168438.55 | F51: 465047 | G51: 531334 | H51: =E51+F51-G51 -> 102151.55 | I51: =H51 -> 102151.55
A52: celkem | E52: =E48+E49+E50+E51 -> 468074.38 | F52: =F48+F49+F50+F51 -> 818929.34 | G52: =G48+G49+G50+G51 -> 782885.8 | H52: =H48+H49+H50+H51 -> 504117.92 | I52: =I48+I49+I50+I51 -> 423466.41

Sheet 1301
A1: REKAPITULACE ZA ORGANIZACI :
A2: Název organizace : | E2: Základní umělecká škola "Žerotín", Olomouc
E3: ……………………………………….……..………………………………………..…………………………………
A4: Adresa : | E4: Kavaleristů 6, Olomouc
E5: ……………………………………….……..………………………………………..…………………………………
A6: IČ | E6: 00096725 | G6: ORG | H6: 1301
E7: ……………………………… ………….…..……………………………
E10: Schválený | F10: Upravený | G10: Skutečnost | H10: z toho:
E11: rozpočet | F11: rozpočet | G11: celkem | H11: Hlavní činnost | I11: Doplňková činnost
E12: celkem | F12: celkem | H12: jednotka - tis. Kč na 2 des. místa
A14: a) Náklady a výnosy
A15: Náklady | E15: 4696 | F15: 30433 | G15: =H15+I15 -> 30433 | H15: 30399 | I15: 34
A17: Výnosy | E17: 4717 | F17: 30520 | G17: =H17+I17 -> 30520 | H17: 30453 | I17: 67
A20: Doplňující údaje :
C21: daň z příjmů,dodatečné odvody daně z příjmů (nákladová položka) | G21: =H21+I21 -> 0 | H21: 0 | I21: 0
A23: Výsledek hospodaření /po zdanění/ | G23: =G17-G15-G21 -> 87 | H23: =H17-H15-H21 -> 54 | I23: =I17-I15-I21 -> 33
A27: b) | B27: Rozdělení výsledku hospodaření | G27: =SUM(G28:G30) -> 85362.52 | H27: v Kč
C28: - Návrh na příděly do fondů: | F28: Fond odměn | G28: 20000 | H28: v Kč
F29: Fond rezervní | G29: 65362.52 | H29: v Kč
C30: - Způsob krytí ztráty : | F30: Částka | G30: 0 | H30: v Kč
A34: c) | B34: Závazné ukazatele
F35: Schválená částka | G35: Skutečnost | I35: % plnění
A36: Limit mzdových prostředků | F36: 0 | G36: 0 | H36: v tis. Kč | I36: 0
A37: Neinvestiční příspěvek /odpisy/ | F37: 1335.419 | G37: 1335.419 | H37: v tis. Kč | I37: =G37/F37 -> 1
A38: Neinvestiční příspěvek /nájemné/ | F38: 0 | G38: 0 | H38: v tis. Kč | I38: nerozp.
A39: Odvody z investičního fondu /odpisy/ | F39: 1002 | G39: 1002 | H39: v tis. Kč | I39: =G39/F39 -> 1
A40: Odvody z investičního fondu /spolufin. akcí/ | F40: 0 | G40: 0 | H40: v tis. Kč | I40: nerozp.
A43: d) | B43: Fondy | H43: jednotka - Kč na 2 des. místa
E44: Stav k 1.1.2010 | F44: Tvorba | G44: Čerpání | H44: Stav k | I44: Finanční krytí k
H45: 40543 | I45: 40543
C48: Fond odměn | E48: 16001 | F48: 25000 | G48: 2000 | H48: =E48+F48-G48 -> 39001 | I48: =H48 -> 39001
C49: FKSP | E49: 407357.58 | F49: 374700 | G49: 402964.7 | H49: =E49+F49-G49 -> 379092.88 | I49: 263097.61
C50: Fond rezervní | E50: 56611.88 | F50: 113153.26 | G50: 0 | H50: =E50+F50-G50 -> 169765.14 | I50: =H50 -> 169765.14
C51: Investiční fond | E51: 198176.48 | F51: 1346493.1 | G51: 1002000 | H51: =E51+F51-G51 -> 542669.58 | I51: =H51 -> 542669.58
A52: celkem | E52: =E48+E49+E50+E51 -> 678146.94 | F52: =F48+F49+F50+F51 -> 1859346.4 | G52: =G48+G49+G50+G51 -> 1406964.7 | H52: =H48+H49+H50+H51 -> 1130528.6 | I52: =I48+I49+I50+I51 -> 1014533.3

Sheet 1302
A1: REKAPITULACE ZA ORGANIZACI :
A2: Název organizace : | E2: ZUŠ Miloslava Stibora - výtvarný obor, Olomouc
E3: ……………………………………….……..………………………………………..…………………………………
A4: Adresa : | E4: Pionýrská 4, Olomouc
E5: ……………………………………….……..………………………………………..…………………………………
A6: IČ | E6: 47654279 | G6: ORG | H6: 1302
E7: ……………………………… ………….…..……………………………
E10: Schválený | F10: Upravený | G10: Skutečnost | H10: z toho:
E11: rozpočet | F11: rozpočet | G11: celkem | H11: Hlavní činnost | I11: Doplňková činnost
E12: celkem | F12: celkem | H12: jednotka - tis. Kč na 2 des. místa
A14: a) Náklady a výnosy
A15: Náklady | E15: 1402 | F15: 5176 | G15: =H15+I15 -> 5456 | H15: 5446 | I15: 10
A17: Výnosy | E17: 1402 | F17: 5332 | G17: =H17+I17 -> 5486 | H17: 5475 | I17: 11
A20: Doplňující údaje :
C21: daň z příjmů,dodatečné odvody daně z příjmů (nákladová položka) | G21: =H21+I21 -> 0 | H21: 0 | I21: 0
A23: Výsledek hospodaření /po zdanění/ | G23: =G17-G15-G21 -> 30 | H23: =H17-H15-H21 -> 29 | I23: =I17-I15-I21 -> 1
A27: b) | B27: Rozdělení výsledku hospodaření | G27: =SUM(G28:G30) -> 31697.33 | H27: v Kč
C28: - Návrh na příděly do fondů: | F28: Fond odměn | G28: 10500 | H28: v Kč
F29: Fond rezervní | G29: 21197.33 | H29: v Kč
C30: - Způsob krytí ztráty : | F30: Částka | G30: 0 | H30: v Kč
A34: c) | B34: Závazné ukazatele
F35: Schválená částka | G35: Skutečnost | I35: % plnění
A36: Limit mzdových prostředků | F36: 0 | G36: 0 | H36: v tis. Kč | I36: 0
A37: Neinvestiční příspěvek /odpisy/ | F37: 112 | G37: 111.215 | H37: v tis. Kč | I37: =G37/F37 -> 0.99299107
A38: Neinvestiční příspěvek /nájemné/ | F38: 0 | G38: 0 | H38: v tis. Kč | I38: nerozp.
A39: Odvody z investičního fondu /odpisy/ | F39: 84 | G39: 84 | H39: v tis. Kč | I39: =G39/F39 -> 1
A40: Odvody z investičního fondu /spolufin. akcí/ | F40: 0 | G40: 0 | H40: v tis. Kč | I40: nerozp.
A43: d) | B43: Fondy | H43: jednotka - Kč na 2 des. místa
E44: Stav k 1.1.2010 | F44: Tvorba | G44: Čerpání | H44: Stav k | I44: Finanční krytí k
H45: 40543 | I45: 40543
C48: Fond odměn | E48: 9500 | F48: 30000 | G48: 30000 | H48: =E48+F48-G48 -> 9500 | I48: =H48 -> 9500
C49: FKSP | E49: 9978.73 | F49: 55160 | G49: 57011.43 | H49: =E49+F49-G49 -> 8127.3 | I49: 3477.89
C50: Fond rezervní | E50: 253252.29 | F50: 155233.71 | G50: 10800 | H50: =E50+F50-G50 -> 397686 | I50: =H50 -> 397686
C51: Investiční fond | E51: 47423.72 | F51: 111713 | G51: 84000 | H51: =E51+F51-G51 -> 75136.72 | I51: =H51 -> 75136.72
A52: celkem | E52: =E48+E49+E50+E51 -> 320154.74 | F52: =F48+F49+F50+F51 -> 352106.71 | G52: =G48+G49+G50+G51 -> 181811.43 | H52: =H48+H49+H50+H51 -> 490450.02 | I52: =I48+I49+I50+I51 -> 485800.61

Sheet 1303
A1: REKAPITULACE ZA ORGANIZACI :
A2: Název organizace : | E2: Základní umělecká škola Litovel
E3: ……………………………………….……..………………………………………..…………………………………
A4: Adresa : | E4: Jungmannova 740, Litovel
E5: ……………………………………….……..………………………………………..…………………………………
A6: IČ | E6: 47654325 | G6: ORG | H6: 1303
E7: ……………………………… ………….…..……………………………
E10: Schválený | F10: Upravený | G10: Skutečnost | H10: z toho:
E11: rozpočet | F11: rozpočet | G11: celkem | H11: Hlavní činnost | I11: Doplňková činnost
E12: celkem | F12: celkem | H12: jednotka - tis. Kč na 2 des. místa
A14: a) Náklady a výnosy
A15: Náklady | E15: 1308 | F15: 7627 | G15: =H15+I15 -> 7627 | H15: 7627 | I15: 0
A17: Výnosy | E17: 1308 | F17: 7799 | G17: =H17+I17 -> 7799 | H17: 7799 | I17: 0
A20: Doplňující údaje :
C21: daň z příjmů,dodatečné odvody daně z příjmů (nákladová položka) | G21: =H21+I21 -> 0 | H21: 0 | I21: 0
A23: Výsledek hospodaření /po zdanění/ | G23: =G17-G15-G21 -> 172 | H23: =H17-H15-H21 -> 172 | I23: =I17-I15-I21 -> 0
A27: b) | B27: Rozdělení výsledku hospodaření | G27: =SUM(G28:G30) -> 172638.7 | H27: v Kč
C28: - Návrh na příděly do fondů: | F28: Fond odměn | G28: 25000 | H28: v Kč
F29: Fond rezervní | G29: 147638.7 | H29: v Kč
C30: - Způsob krytí ztráty : | F30: Částka | G30: 0 | H30: v Kč
A34: c) | B34: Závazné ukazatele
F35: Schválená částka | G35: Skutečnost | I35: % plnění
A36: Limit mzdových prostředků | F36: 0 | G36: 0 | H36: v tis. Kč | I36: 0
A37: Neinvestiční příspěvek /odpisy/ | F37: 129.648 | G37: 129.648 | H37: v tis. Kč | I37: =G37/F37 -> 1
A38: Neinvestiční příspěvek /nájemné/ | F38: 0 | G38: 0 | H38: v tis. Kč | I38: nerozp.
A39: Odvody z investičního fondu /odpisy/ | F39: 97 | G39: 97 | H39: v tis. Kč | I39: =G39/F39 -> 1
A40: Odvody z investičního fondu /spolufin. akcí/ | F40: 0 | G40: 0 | H40: v tis. Kč | I40: nerozp.
A43: d) | B43: Fondy | H43: jednotka - Kč na 2 des. místa
E44: Stav k 1.1.2010 | F44: Tvorba | G44: Čerpání | H44: Stav k | I44: Finanční krytí k
H45: 40543 | I45: 40543
C48: Fond odměn | E48: 13642 | F48: 2000 | G48: 9000 | H48: =E48+F48-G48 -> 6642 | I48: =H48 -> 6642
C49: FKSP | E49: 160799.5 | F49: 94360 | G49: 83116 | H49: =E49+F49-G49 -> 172043.5 | I49: 118561.63
C50: Fond rezervní | E50: 337574.95 | F50: 93045.27 | G50: 0 | H50: =E50+F50-G50 -> 430620.22 | I50: =H50 -> 430620.22
C51: Investiční fond | E51: 61993.1 | F51: 129648 | G51: 153000 | H51: =E51+F51-G51 -> 38641.1 | I51: =H51 -> 38641.1
A52: celkem | E52: =E48+E49+E50+E51 -> 574009.55 | F52: =F48+F49+F50+F51 -> 319053.27 | G52: =G48+G49+G50+G51 -> 245116 | H52: =H48+H49+H50+H51 -> 647946.82 | I52: =I48+I49+I50+I51 -> 594464.95

Sheet 1304
A1: REKAPITULACE ZA ORGANIZACI :
A2: Název organizace : | E2: Základní umělecká škola, Uničov, Litovelská 190
E3: ……………………………………….……..………………………………………..…………………………………
A4: Adresa : | E4: Litovelská 190, Uničov
E5: ……………………………………….……..………………………………………..…………………………………
A6: IČ | E6: 47654244 | G6: ORG | H6: 1304
E7: ……………………………… ………….…..……………………………
E10: Schválený | F10: Upravený | G10: Skutečnost | H10: z toho:
E11: rozpočet | F11: rozpočet | G11: celkem | H11: Hlavní činnost | I11: Doplňková činnost
E12: celkem | F12: celkem | H12: jednotka - tis. Kč na 2 des. místa
A14: a) Náklady a výnosy
A15: Náklady | E15: 1671 | F15: 11864 | G15: =H15+I15 -> 11870 | H15: 11870 | I15: 0
A17: Výnosy | E17: 1671 | F17: 11874 | G17: =H17+I17 -> 11875 | H17: 11875 | I17: 0
A20: Doplňující údaje :
C21: daň z příjmů,dodatečné odvody daně z příjmů (nákladová položka) | G21: =H21+I21 -> 0 | H21: 0 | I21: 0
A23: Výsledek hospodaření /po zdanění/ | G23: =G17-G15-G21 -> 5 | H23: =H17-H15-H21 -> 5 | I23: =I17-I15-I21 -> 0
A27: b) | B27: Rozdělení výsledku hospodaření | G27: =SUM(G28:G30) -> 5066.94 | H27: v Kč
C28: - Návrh na příděly do fondů: | F28: Fond odměn | G28: 0 | H28: v Kč
F29: Fond rezervní | G29: 5066.94 | H29: v Kč
C30: - Způsob krytí ztráty : | F30: Částka | G30: 0 | H30: v Kč
A34: c) | B34: Závazné ukazatele
F35: Schválená částka | G35: Skutečnost | I35: % plnění
A36: Limit mzdových prostředků | F36: 0 | G36: 0 | H36: v tis. Kč | I36: 0
A37: Neinvestiční příspěvek /odpisy/ | F37: 122.144 | G37: 122.144 | H37: v tis. Kč | I37: =G37/F37 -> 1
A38: Neinvestiční příspěvek /nájemné/ | F38: 0 | G38: 0 | H38: v tis. Kč | I38: nerozp.
A39: Odvody z investičního fondu /odpisy/ | F39: 92 | G39: 92 | H39: v tis. Kč | I39: =G39/F39 -> 1
A40: Odvody z investičního fondu /spolufin. akcí/ | F40: 0 | G40: 0 | H40: v tis. Kč | I40: nerozp.
A43: d) | B43: Fondy | H43: jednotka - Kč na 2 des. místa
E44: Stav k 1.1.2010 | F44: Tvorba | G44: Čerpání | H44: Stav k | I44: Finanční krytí k
H45: 40543 | I45: 40543
C48: Fond odměn | E48: 83630 | F48: 0 | G48: 0 | H48: =E48+F48-G48 -> 83630 | I48: =H48 -> 83630
C49: FKSP | E49: 236967.67 | F49: 145200 | G49: 176489 | H49: =E49+F49-G49 -> 205678.67 | I49: 200337.65
C50: Fond rezervní | E50: 50954.79 | F50: 5024.9 | G50: 0 | H50: =E50+F50-G50 -> 55979.69 | I50: =H50 -> 55979.69
C51: Investiční fond | E51: 66484.6 | F51: 122144 | G51: 92000 | H51: =E51+F51-G51 -> 96628.6 | I51: =H51 -> 96628.6
A52: celkem | E52: =E48+E49+E50+E51 -> 438037.06 | F52: =F48+F49+F50+F51 -> 272368.9 | G52: =G48+G49+G50+G51 -> 268489 | H52: =H48+H49+H50+H51 -> 441916.96 | I52: =I48+I49+I50+I51 -> 436575.94

Sheet 1316
A1: REKAPITULACE ZA ORGANIZACI :
A2: Název organizace : | E2: Základní umělecká škola, Moravský Beroun
E3: ……………………………………….……..………………………………………..…………………………………
A4: Adresa : | E4: Dvořákova 349, Moravský Beroun
E5: ……………………………………….……..………………………………………..…………………………………
A6: IČ | E6: 00852716 | G6: ORG | H6: 1316
E7: ……………………………… ………….…..……………………………
E10: Schválený | F10: Upravený | G10: Skutečnost | H10: z toho:
E11: rozpočet | F11: rozpočet | G11: celkem | H11: Hlavní činnost | I11: Doplňková činnost
E12: celkem | F12: celkem | H12: jednotka - tis. Kč na 2 des. místa
A14: a) Náklady a výnosy
A15: Náklady | E15: 464 | F15: 3066 | G15: =H15+I15 -> 3138 | H15: 3138 | I15: 0
A17: Výnosy | E17: 464 | F17: 3062 | G17: =H17+I17 -> 3046 | H17: 3046 | I17: 0
A20: Doplňující údaje :
C21: daň z příjmů,dodatečné odvody daně z příjmů (nákladová položka) | G21: =H21+I21 -> 0 | H21: 0 | I21: 0
A23: Výsledek hospodaření /po zdanění/ | G23: =G17-G15-G21 -> -92 | H23: =H17-H15-H21 -> -92 | I23: =I17-I15-I21 -> 0
A27: b) | B27: Rozdělení výsledku hospodaření | G27: =SUM(G28:G30) -> -91929.07 | H27: v Kč
C28: - Návrh na příděly do fondů: | F28: Fond odměn | G28: 0 | H28: v Kč
F29: Fond rezervní | G29: 0 | H29: v Kč
C30: - Způsob krytí ztráty : | F30: Částka | G30: -91929.07 | H30: v Kč
A31: Ztráta 91 929,07 Kč bude pokryta ze zlepšeného hospodářského výsledku v následujících letech (81 878,35 Kč) a z prostředků rezervního fondu (10 050,72 Kč) v souladu s ust. § 30, odst. 3d) zákona č. 250/2000 Sb., o rozpočtových pravidlech územních rozpočtů ve znění pozdějších předpisů - použití prostředků rezervního fondu, vyjma poskytnutých darů.
A35: c) | B35: Závazné ukazatele
F36: Schválená částka | G36: Skutečnost | I36: % plnění
A37: Limit mzdových prostředků | F37: 0 | G37: 0 | H37: v tis. Kč | I37: 0
A38: Neinvestiční příspěvek /odpisy/ | F38: 6.976 | G38: 6.976 | H38: v tis. Kč | I38: =G38/F38 -> 1
A39: Neinvestiční příspěvek /nájemné/ | F39: 0 | G39: 0 | H39: v tis. Kč | I39: nerozp.
A40: Odvody z investičního fondu /odpisy/ | F40: 5 | G40: 5 | H40: v tis. Kč | I40: =G40/F40 -> 1
A41: Odvody z investičního fondu /spolufin. akcí/ | F41: 0 | G41: 0 | H41: v tis. Kč | I41: nerozp.
A43: d) | B43: Fondy | H43: jednotka - Kč na 2 des. místa
E44: Stav k 1.1.2010 | F44: Tvorba | G44: Čerpání | H44: Stav k | I44: Finanční krytí k
H45: 40543 | I45: 40543
C48: Fond odměn | E48: 43118 | F48: 0 | G48: 1551 | H48: =E48+F48-G48 -> 41567 | I48: =H48 -> 41567
C49: FKSP | E49: 77824.3 | F49: 33729 | G49: 33301 | H49: =E49+F49-G49 -> 78252.3 | I49: 70514.11
C50: Fond rezervní | E50: =8662.59+5000 -> 13662.59 | F50: 1388.13 | G50: 0 | H50: =E50+F50-G50 -> 15050.72 | I50: =H50 -> 15050.72
C51: Investiční fond | E51: 58381.52 | F51: 6976 | G51: 4972 | H51: =E51+F51-G51 -> 60385.52 | I51: =H51 -> 60385.52
A52: celkem | E52: =E48+E49+E50+E51 -> 192986.41 | F52: =F48+F49+F50+F51 -> 42093.13 | G52: =G48+G49+G50+G51 -> 39824 | H52: =H48+H49+H50+H51 -> 195255.54 | I52: =I48+I49+I50+I51 -> 187517.35

Sheet 1350
A1: REKAPITULACE ZA ORGANIZACI :
A2: Název organizace : | E2: Dům dětí a mládeže Olomouc
E3: ……………………………………….……..………………………………………..…………………………………
A4: Adresa : | E4: tř. 17. listopadu 47, Olomouc
E5: ……………………………………….……..………………………………………..…………………………………
A6: IČ | E6: 00096792 | G6: ORG | H6: 1350
E7: ……………………………… ………….…..……………………………
E10: Schválený | F10: Upravený | G10: Skutečnost | H10: z toho:
E11: rozpočet | F11: rozpočet | G11: celkem | H11: Hlavní činnost | I11: Doplňková činnost
E12: celkem | F12: celkem | H12: jednotka - tis. Kč na 2 des. místa
A14: a) Náklady a výnosy
A15: Náklady | E15: 8280 | F15: 21633 | G15: =H15+I15 -> 21531 | H15: 20882 | I15: 649
A17: Výnosy | E17: 8280 | F17: 22066 | G17: =H17+I17 -> 21595 | H17: 20694 | I17: 901
A20: Doplňující údaje :
C21: daň z příjmů,dodatečné odvody daně z příjmů (nákladová položka) | G21: =H21+I21 -> 0 | H21: 0 | I21: 0
A23: Výsledek hospodaření /po zdanění/ | G23: =G17-G15-G21 -> 64 | H23: =H17-H15-H21 -> -188 | I23: =I17-I15-I21 -> 252
A27: b) | B27: Rozdělení výsledku hospodaření | G27: =SUM(G28:G30) -> 62785.58 | H27: v Kč
C28: - Návrh na příděly do fondů: | F28: Fond odměn | G28: 1000 | H28: v Kč
F29: Fond rezervní | G29: 61785.58 | H29: v Kč
C30: - Způsob krytí ztráty : | F30: Částka | G30: 0 | H30: v Kč
A34: c) | B34: Závazné ukazatele
F35: Schválená částka | G35: Skutečnost | I35: % plnění
A36: Limit mzdových prostředků | F36: 1275 | G36: 772 | H36: v tis. Kč | I36: =G36/F36 -> 0.6054902
A37: Neinvestiční příspěvek /odpisy/ | F37: 334 | G37: 339.936 | H37: v tis. Kč | I37: =G37/F37 -> 1.0177725
A38: Neinvestiční příspěvek /nájemné/ | F38: 128.818 | G38: 128.818 | H38: v tis. Kč | I38: nerozp.
A39: Odvody z investičního fondu /odpisy/ | F39: 250 | G39: 250 | H39: v tis. Kč | I39: =G39/F39 -> 1
A40: Odvody z investičního fondu /spolufin. akcí/ | F40: 0 | G40: 0 | H40: v tis. Kč | I40: nerozp.
A41: Pozn.: Vynaložené odpisy nad stanovený limit byly finančně pokryty z provozních prostředků organizace- 5 936,- Kč.
A43: d) | B43: Fondy | H43: jednotka - Kč na 2 des. místa
E44: Stav k 1.1.2010 | F44: Tvorba | G44: Čerpání | H44: Stav k | I44: Finanční krytí k
H45: 40543 | I45: 40543
C48: Fond odměn | E48: 101000 | F48: 1000 | G48: 5000 | H48: =E48+F48-G48 -> 97000 | I48: =H48 -> 97000
C49: FKSP | E49: 114847.21 | F49: 158439.74 | G49: 204322 | H49: =E49+F49-G49 -> 68964.95 | I49: 35990.12
C50: Fond rezervní | E50: =45870.58+29764 -> 75634.58 | F50: =138886.4+20000 -> 158886.4 | G50: =100000+29467 -> 129467 | H50: =E50+F50-G50 -> 105053.98 | I50: =H50 -> 105053.98
C51: Investiční fond | E51: 471401.84 | F51: 491002 | G51: 344475 | H51: =E51+F51-G51 -> 617928.84 | I51: 300287.81
A52: celkem | E52: =E48+E49+E50+E51 -> 762883.63 | F52: =F48+F49+F50+F51 -> 809328.14 | G52: =G48+G49+G50+G51 -> 683264 | H52: =H48+H49+H50+H51 -> 888947.77 | I52: =I48+I49+I50+I51 -> 538331.91

Sheet 1351
A1: REKAPITULACE ZA ORGANIZACI :
A2: Název organizace : | E2: Dům dětí a mládeže Litovel
E3: ……………………………………….……..………………………………………..…………………………………
A4: Adresa : | E4: Komenského 719/6, Litovel
E5: ……………………………………….……..………………………………………..…………………………………
A6: IČ | E6: 61989738 | G6: ORG | H6: 1351
E7: ……………………………… ………….…..……………………………
E10: Schválený | F10: Upravený | G10: Skutečnost | H10: z toho:
E11: rozpočet | F11: rozpočet | G11: celkem | H11: Hlavní činnost | I11: Doplňková činnost
E12: celkem | F12: celkem | H12: jednotka - tis. Kč na 2 des. místa
A14: a) Náklady a výnosy
A15: Náklady | E15: 1822 | F15: 6072 | G15: =H15+I15 -> 6072 | H15: 5953 | I15: 119
A17: Výnosy | E17: 1912 | F17: 6425 | G17: =H17+I17 -> 6272 | H17: 5861 | I17: 411
A20: Doplňující údaje :
C21: daň z příjmů,dodatečné odvody daně z příjmů (nákladová položka) | G21: =H21+I21 -> 0 | H21: 0 | I21: 0
A23: Výsledek hospodaření /po zdanění/ | G23: =G17-G15-G21 -> 200 | H23: =H17-H15-H21 -> -92 | I23: =I17-I15-I21 -> 292
A27: b) | B27: Rozdělení výsledku hospodaření | G27: =SUM(G28:G30) -> 200735.44 | H27: v Kč
C28: - Návrh na příděly do fondů: | F28: Fond odměn | G28: 20000 | H28: v Kč
F29: Fond rezervní | G29: 180735.44 | H29: v Kč
C30: - Způsob krytí ztráty : | F30: Částka | G30: 0 | H30: v Kč
A34: c) | B34: Závazné ukazatele
F35: Schválená částka | G35: Skutečnost | I35: % plnění
A36: Limit mzdových prostředků | F36: 180 | G36: 112.67 | H36: v tis. Kč | I36: =G36/F36 -> 0.62594444
A37: Neinvestiční příspěvek /odpisy/ | F37: 30.13 | G37: 9.929 | H37: v tis. Kč | I37: =G37/F37 -> 0.32953867
A38: Neinvestiční příspěvek /nájemné/ | F38: 0 | G38: 0 | H38: v tis. Kč | I38: nerozp.
A39: Odvody z investičního fondu /odpisy/ | F39: 23 | G39: 23 | H39: v tis. Kč | I39: =G39/F39 -> 1
A40: Odvody z investičního fondu /spolufin. akcí/ | F40: 0 | G40: 0 | H40: v tis. Kč | I40: nerozp.
A41: Pozn.: Organizace obdržela příspěvek na odpisy v celkové výši 30 130,- Kč na pokrytí odpisů z hlavní činnosti, který plně vyčerpala, ale mylně účtovala v doplňkové činnosti. Organizace na toto byla upozorněna a sjedná nápravu.
A44: d) | B44: Fondy | H44: jednotka - Kč na 2 des. místa
E45: Stav k 1.1.2010 | F45: Tvorba | G45: Čerpání | H45: Stav k | I45: Finanční krytí k
H46: 40543 | I46: 40543
C49: Fond odměn | E49: 18753 | F49: 5000 | G49: 5000 | H49: =E49+F49-G49 -> 18753 | I49: =H49 -> 18753
C50: FKSP | E50: 66478.25 | F50: 59260 | G50: 51769.2 | H50: =E50+F50-G50 -> 73969.05 | I50: 63985.25
C51: Fond rezervní | E51: 30149.73 | F51: =28500+19017.12 -> 47517.12 | G51: 28500 | H51: =E51+F51-G51 -> 49166.85 | I51: =H51 -> 49166.85
C52: Investiční fond | E52: 129306.29 | F52: 54224 | G52: 23000 | H52: =E52+F52-G52 -> 160530.29 | I52: 144745.29
A53: celkem | E53: =E49+E50+E51+E52 -> 244687.27 | F53: =F49+F50+F51+F52 -> 166001.12 | G53: =G49+G50+G51+G52 -> 108269.2 | H53: =H49+H50+H51+H52 -> 302419.19 | I53: =I49+I50+I51+I52 -> 276650.39

Sheet 1352
A1: REKAPITULACE ZA ORGANIZACI :
A2: Název organizace : | E2: Dům dětí a mládeže Vila Tereza, Uničov
E3: ……………………………………….……..………………………………………..…………………………………
A4: Adresa : | E4: Nádražní 530, Uničov
E5: ……………………………………….……..………………………………………..…………………………………
A6: IČ | E6: 47654392 | G6: ORG | H6: 1352
E7: ……………………………… ………….…..……………………………
E10: Schválený | F10: Upravený | G10: Skutečnost | H10: z toho:
E11: rozpočet | F11: rozpočet | G11: celkem | H11: Hlavní činnost | I11: Doplňková činnost
E12: celkem | F12: celkem | H12: jednotka - tis. Kč na 2 des. místa
A14: a) Náklady a výnosy
A15: Náklady | E15: 4325 | F15: 6280 | G15: =H15+I15 -> 6090 | H15: 5642 | I15: 448
A17: Výnosy | E17: 4325 | F17: 6280 | G17: =H17+I17 -> 6139 | H17: 5532 | I17: 607
A20: Doplňující údaje :
C21: daň z příjmů,dodatečné odvody daně z příjmů (nákladová položka) | G21: =H21+I21 -> 0 | H21: 0 | I21: 0
A23: Výsledek hospodaření /po zdanění/ | G23: =G17-G15-G21 -> 49 | H23: =H17-H15-H21 -> -110 | I23: =I17-I15-I21 -> 159
A27: b) | B27: Rozdělení výsledku hospodaření | G27: =SUM(G28:G30) -> 46130.34 | H27: v Kč
C28: - Návrh na příděly do fondů: | F28: Fond odměn | G28: 20000 | H28: v Kč
F29: Fond rezervní | G29: 26130.34 | H29: v Kč
C30: - Způsob krytí ztráty : | F30: Částka | G30: 0 | H30: v Kč
A33: c) | B33: Závazné ukazatele
F34: Schválená částka | G34: Skutečnost | I34: % plnění
A35: Limit mzdových prostředků | F35: 130 | G35: 93.5 | H35: v tis. Kč | I35: =G35/F35 -> 0.71923077
A36: Neinvestiční příspěvek /odpisy/ | F36: 98.91 | G36: 98.91 | H36: v tis. Kč | I36: =G36/F36 -> 1
A37: Neinvestiční příspěvek /nájemné/ | F37: 0 | G37: 0 | H37: v tis. Kč | I37: nerozp.
A38: Odvody z investičního fondu /odpisy/ | F38: 74 | G38: 74 | H38: v tis. Kč | I38: =G38/F38 -> 1
A39: Odvody z investičního fondu /spolufin. akcí/ | F39: 0 | G39: 0 | H39: v tis. Kč | I39: nerozp.
A42: d) | B42: Fondy | H42: jednotka - Kč na 2 des. místa
E43: Stav k 1.1.2010 | F43: Tvorba | G43: Čerpání | H43: Stav k | I43: Finanční krytí k
H44: 40543 | I44: 40543
C47: Fond odměn | E47: 5159 | F47: 2000 | G47: 2000 | H47: =E47+F47-G47 -> 5159 | I47: =H47 -> 5159
C48: FKSP | E48: 9063.77 | F48: 39043 | G48: 37915 | H48: =E48+F48-G48 -> 10191.77 | I48: 6237.16
C49: Fond rezervní | E49: 66016.83 | F49: =24732.15+30600 -> 55332.15 | G49: 30600 | H49: =E49+F49-G49 -> 90748.98 | I49: =H49 -> 90748.98
C50: Investiční fond | E50: 37328.7 | F50: 274443.38 | G50: 74000 | H50: =E50+F50-G50 -> 237772.08 | I50: =H50 -> 237772.08
A51: celkem | E51: =E47+E48+E49+E50 -> 117568.3 | F51: =F47+F48+F49+F50 -> 370818.53 | G51: =G47+G48+G49+G50 -> 144515 | H51: =H47+H48+H49+H50 -> 343871.83 | I51: =I47+I48+I49+I50 -> 339917.22

Sheet 1400
A1: REKAPITULACE ZA ORGANIZACI :
A2: Název organizace : | E2: Dětský domov a Školní jídelna, Olomouc
E3: ……………………………………….……..………………………………………..…………………………………
A4: Adresa : | E4: U sportovní haly 1a/544, Olomouc
E5: ……………………………………….……..………………………………………..…………………………………
A6: IČ | E6: 00849235 | G6: ORG | H6: 1400
E7: ……………………………… ………….…..……………………………
E10: Schválený | F10: Upravený | G10: Skutečnost | H10: z toho:
E11: rozpočet | F11: rozpočet | G11: celkem | H11: Hlavní činnost | I11: Doplňková činnost
E12: celkem | F12: celkem | H12: jednotka - tis. Kč na 2 des. místa
A14: a) Náklady a výnosy
A15: Náklady | E15: 5940 | F15: 17446 | G15: =H15+I15 -> 17124 | H15: 16884 | I15: 240
A17: Výnosy | E17: 5940 | F17: 17446 | G17: =H17+I17 -> 17318 | H17: 17029 | I17: 289
A20: Doplňující údaje :
C21: daň z příjmů,dodatečné odvody daně z příjmů (nákladová položka) | G21: =H21+I21 -> 0 | H21: 0 | I21: 0
A23: Výsledek hospodaření /po zdanění/ | G23: =G17-G15-G21 -> 194 | H23: =H17-H15-H21 -> 145 | I23: =I17-I15-I21 -> 49
A27: b) | B27: Rozdělení výsledku hospodaření | G27: =SUM(G28:G30) -> 192974.35 | H27: v Kč
C28: - Návrh na příděly do fondů: | F28: Fond odměn | G28: 80000 | H28: v Kč
F29: Fond rezervní | G29: 112974.35 | H29: v Kč
C30: - Způsob krytí ztráty : | F30: Částka | G30: 0 | H30: v Kč
A34: c) | B34: Závazné ukazatele
F35: Schválená částka | G35: Skutečnost | I35: % plnění
A36: Limit mzdových prostředků | F36: 0 | G36: 0 | H36: v tis. Kč | I36: 0
A37: Neinvestiční příspěvek /odpisy/ | F37: 576.167 | G37: 577.008 | H37: v tis. Kč | I37: =G37/F37 -> 1.0014596
A38: Neinvestiční příspěvek /nájemné/ | F38: 0 | G38: 0 | H38: v tis. Kč | I38: nerozp.
A39: Odvody z investičního fondu /odpisy/ | F39: 432 | G39: 432 | H39: v tis. Kč | I39: =G39/F39 -> 1
A40: Odvody z investičního fondu /spolufin. akcí/ | F40: 0 | G40: 0 | H40: v tis. Kč | I40: nerozp.
A41: Pozn.: Vynaložené odpisy nad stanovený limit byly finančně pokryty z provozních prostředků organizace- 841,- Kč.
A43: d) | B43: Fondy | H43: jednotka - Kč na 2 des. místa
E44: Stav k 1.1.2010 | F44: Tvorba | G44: Čerpání | H44: Stav k | I44: Finanční krytí k
H45: 40543 | I45: 40543
C48: Fond odměn | E48: 0 | F48: 10000 | G48: 9100 | H48: =E48+F48-G48 -> 900 | I48: 900
C49: FKSP | E49: 7992.67 | F49: 160618 | G49: 165041 | H49: =E49+F49-G49 -> 3569.67 | I49: 2680.69
C50: Fond rezervní | E50: =31107.81+203145.32 -> 234253.13 | F50: =106599.74+817247 -> 923846.74 | G50: 446181 | H50: =E50+F50-G50 -> 711918.87 | I50: =685.75+574211.32 -> 574897.07
C51: Investiční fond | E51: 216.6 | F51: 580286 | G51: 532617.8 | H51: =E51+F51-G51 -> 47884.8 | I51: =H51 -> 47884.8
A52: celkem | E52: =E48+E49+E50+E51 -> 242462.4 | F52: =F48+F49+F50+F51 -> 1674750.7 | G52: =G48+G49+G50+G51 -> 1152939.8 | H52: =H48+H49+H50+H51 -> 764273.34 | I52: =I48+I49+I50+I51 -> 626362.56

Sheet 1450
A1: REKAPITULACE ZA ORGANIZACI :
A2: Název organizace : | E2: Pedagogicko - psychologická poradna Olomouckého kraje
E3: ……………………………………….……..………………………………………..…………………………………
A4: Adresa : | E4: U sportovní haly 1a, Olomouc
E5: ……………………………………….……..………………………………………..…………………………………
A6: IČ | E6: 60338911 | G6: ORG | H6: 1450
E7: ……………………………… ………….…..……………………………
E10: Schválený | F10: Upravený | G10: Skutečnost | H10: z toho:
E11: rozpočet | F11: rozpočet | G11: celkem | H11: Hlavní činnost | I11: Doplňková činnost
E12: celkem | F12: celkem | H12: jednotka - tis. Kč na 2 des. místa
A14: a) Náklady a výnosy
A15: Náklady | E15: 3196 | F15: 27218 | G15: =H15+I15 -> 27254 | H15: 27254 | I15: 0
A17: Výnosy | E17: 3196 | F17: 27218 | G17: =H17+I17 -> 27427 | H17: 27427 | I17: 0
A20: Doplňující údaje :
C21: daň z příjmů,dodatečné odvody daně z příjmů (nákladová položka) | G21: =H21+I21 -> 0 | H21: 0 | I21: 0
A23: Výsledek hospodaření /po zdanění/ | G23: =G17-G15-G21 -> 173 | H23: =H17-H15-H21 -> 173 | I23: =I17-I15-I21 -> 0
A27: b) | B27: Rozdělení výsledku hospodaření | G27: =SUM(G28:G30) -> 172654.21 | H27: v Kč
C28: - Návrh na příděly do fondů: | F28: Fond odměn | G28: 1000 | H28: v Kč
F29: Fond rezervní | G29: 171654.21 | H29: v Kč
C30: - Způsob krytí ztráty : | F30: Částka | G30: 0 | H30: v Kč
A34: c) | B34: Závazné ukazatele
F35: Schválená částka | G35: Skutečnost | I35: % plnění
A36: Limit mzdových prostředků | F36: 0 | G36: 0 | H36: v tis. Kč | I36: 0
A37: Neinvestiční příspěvek /odpisy/ | F37: 94.252 | G37: 94.252 | H37: v tis. Kč | I37: =G37/F37 -> 1
A38: Neinvestiční příspěvek /nájemné/ | F38: 0 | G38: 0 | H38: v tis. Kč | I38: nerozp.
A39: Odvody z investičního fondu /odpisy/ | F39: 71 | G39: 71 | H39: v tis. Kč | I39: =G39/F39 -> 1
A40: Odvody z investičního fondu /spolufin. akcí/ | F40: 0 | G40: 0 | H40: v tis. Kč | I40: nerozp.
A43: d) | B43: Fondy | H43: jednotka - Kč na 2 des. místa
E44: Stav k 1.1.2010 | F44: Tvorba | G44: Čerpání | H44: Stav k | I44: Finanční krytí k
H45: 40543 | I45: 40543
C48: Fond odměn | E48: 144325 | F48: 20000 | G48: 0 | H48: =E48+F48-G48 -> 164325 | I48: 90398
C49: FKSP | E49: 172247.47 | F49: 331895 | G49: 389802 | H49: =E49+F49-G49 -> 114340.47 | I49: 129842.93
C50: Fond rezervní | E50: 440565.89 | F50: 165085.32 | G50: 239124 | H50: =E50+F50-G50 -> 366527.21 | I50: 334453.17
C51: Investiční fond | E51: 890070.32 | F51: 94252 | G51: 71000 | H51: =E51+F51-G51 -> 913322.32 | I51: 269447.29
A52: celkem | E52: =SUM(E48:E51) -> 1647208.7 | F52: =F48+F49+F50+F51 -> 611232.32 | G52: =G48+G49+G50+G51 -> 699926 | H52: =H48+H49+H50+H51 -> 1558515 | I52: =I48+I49+I50+I51 -> 824141.39
