Workbook

Sheet Rekapitulace 
A1: a) Příspěvkové organizace v oblasti školství | M1: ORJ -10
A2: Správce: vedoucí odboru
A3: Mgr. Miroslav Gajdůšek, MBA
A5: Rekapitulace hospodaření /výsledek hospodaření/ za rok 2010 - okres Olomouc
I6: v tis. Kč | M6: v Kč
A7: ORG | B7: Název školy | C7: Adresa | E7: Náklady | F7: Výnosy | G7: Daň | H7: Výsledek hospodaření | J7: Rozdělení do fondů - v Kč | L7: Pokrytí ztráty z minulých období | O7: v tis. Kč
H8: zlepšený VH | I8: ztráta | J8: Fond rezervní | K8: Fond odměn | M8: Celkem
A9: 1000 | B9: Základní škola a Mateřská škola | C9: Náměstí 150 | D9: 783 04 Město Libavá | E9: ='1000'!G15 -> 10402 | F9: ='1000'!G17 -> 10463 | G9: 0 | H9: =F9-E9-G9 -> 61 | I9: 0 | J9: ='1000'!G29 -> 54460.01 | K9: ='1000'!G28 -> 7000 | L9: ='1000'!G30 -> 0.52 | M9: =J9+K9 -> 61460.01 | O9: kladný | P9: =44-P10-P11 -> 37
J10: =J9/M9 -> 0.8861048 | K10: =K9/M9 -> 0.1138952 | L10: 0 | M10: =J10+K10 -> 1 | O10: záporný | P10: 4
A11: 1001 | B11: Mateřská škola | C11: Blanická 16 | D11: 772 00 Olomouc | E11: ='1001'!G15 -> 2614 | F11: ='1001'!G17 -> 2614 | G11: 0 | H11: =F11-E11-G11 -> 0 | I11: 0 | J11: ='1001'!G29 -> 175.32 | K11: ='1001'!G28 -> 0 | L11: ='1001'!G30 -> 0 | M11: =J11+K11 -> 175.32 | N11: změna | O11: nulový | P11: 3
J12: =J11/M11 -> 1 | K12: =K11/M11 -> 0 | L12: 0 | M12: =J12+K12 -> 1
A13: 1010 | B13: Základní škola a Mateřská škola při FN | C13: I.P.Pavlova 6 | D13: 775 20 Olomouc | E13: ='1010'!G15 -> 6200 | F13: ='1010'!G17 -> 6200 | G13: 0 | H13: =F13-E13-G13 -> 0 | I13: 0 | J13: ='1010'!G29 -> 0 | K13: ='1010'!G28 -> 0 | L13: 0 | M13: =J13+K13+L13 -> 0 | O13: v Kč
J14: 0 | K14: 0 | L14: 0 | M14: =J14+K14+L14 -> 0 | O14: kladný | P14: =44-P15-P16 -> 36
A15: 1012 | B15: Základní škola a Mateřská škola logopedická | C15: tř. Svornosti 37/900 | D15: 779 00 Olomouc | E15: ='1012'!G15 -> 27831 | F15: ='1012'!G17 -> 27850 | G15: 0 | H15: =F15-E15-G15 -> 19 | I15: 0 | J15: ='1012'!G29 -> 12286.61 | K15: ='1012'!G28 -> 7000 | L15: ='1012'!G30 -> 0 | M15: =J15+K15 -> 19286.61 | O15: záporný | P15: 4
J16: =J15/M15 -> 0.63705389 | K16: =K15/M15 -> 0.36294611 | L16: 0 | M16: =J16+K16 -> 1 | O16: nulový | P16: 4
A17: 1013 | B17: Základní škola prof. V. Vejdovského | C17: nám. P. Otakara 777 | D17: 784 01 Litovel | E17: ='1013'!G15 -> 15835 | F17: ='1013'!G17 -> 15845 | G17: 0 | H17: =F17-E17-G17 -> 10 | I17: 0 | J17: ='1013'!G29 -> 10083.46 | K17: ='1013'!G28 -> 0 | L17: ='1013'!G30 -> 0 | M17: =J17+K17 -> 10083.46
J18: =J17/M17 -> 1 | K18: =K17/M17 -> 0 | L18: 0 | M18: =J18+K18 -> 1
A19: 1014 | B19: Základní škola prof. Z. Matějčka | C19: Svatoplukova 11 | D19: 779 00 Olomouc | E19: ='1014'!G15 -> 29668 | F19: ='1014'!G17 -> 29776 | G19: 0 | H19: =F19-E19-G19 -> 108 | I19: 0 | J19: ='1014'!G29 -> 105800 | K19: ='1014'!G28 -> 2000 | L19: ='1014'!G30 -> 0 | M19: =J19+K19 -> 107800
J20: =J19/M19 -> 0.98144712 | K20: =K19/M19 -> 0.018552876 | L20: 0 | M20: =J20+K20 -> 1 | P20: =102+14+10 -> 126
A21: 1015 | B21: Střední škola | C21: B. Dvorského 17 | D21: 783 51 | E21: ='1015'!G15 -> 21483 | F21: ='1015'!G17 -> 21571 | G21: 0 | H21: =F21-E21-G21 -> 88 | I21: 0 | J21: ='1015'!G29 -> 73292.6 | K21: ='1015'!G28 -> 13000 | L21: ='1015'!G30 -> 0 | M21: =J21+K21+L21 -> 86292.6 | P21: =101+14+11 -> 126
D22: Olomouc-Sv.K. | J22: =J21/M21 -> 0.84934977 | K22: =K21/M21 -> 0.15065023 | L22: =L21/M21 -> 0 | M22: =J22+K22+L22 -> 1
A23: 1032 | B23: Základní škola | C23: Olomoucká 76 | D23: 785 01 Šternberk | E23: ='1032'!G15 -> 8487 | F23: ='1032'!G17 -> 8510 | G23: 0 | H23: =F23-E23-G23 -> 23 | I23: 0 | J23: ='1032'!G31 -> 13930 | K23: ='1032'!G30 -> 10000 | L23: ='1032'!G32 -> 0 | M23: =J23+K23+L23 -> 23930
J24: =J23/M23 -> 0.5821145 | K24: =K23/M23 -> 0.4178855 | L24: =L23/M23 -> 0 | M24: =J24+K24+L24 -> 1
A25: 1033 | B25: Základní škola | C25: Šternberská 35 | D25: 783 91 Uničov | E25: ='1033'!G15 -> 6436 | F25: ='1033'!G17 -> 6471 | G25: 0 | H25: =F25-E25-G25 -> 35 | I25: 0 | J25: ='1033'!G29 -> 4008.39 | K25: ='1033'!G28 -> 0 | L25: ='1033'!G30 -> 32164.12 | M25: =J25+K25+L25 -> 36172.51
J26: 0 | K26: 0 | L26: 0 | M26: =J26+K26 -> 0
A27: 1034 | B27: Základní škola, Dětský domov a Školní jídelna | C27: Palackého 938 | D27: 784 01 Litovel | E27: ='1034'!G15 -> 13883 | F27: ='1034'!G17 -> 13932 | G27: 0 | H27: =F27-E27-G27 -> 49 | I27: 0 | J27: ='1034'!G29 -> 39699.38 | K27: ='1034'!G28 -> 10000 | L27: ='1034'!G30 -> 0 | M27: =J27+K27 -> 49699.38
J28: =J27/M27 -> 0.79879025 | K28: =K27/M27 -> 0.20120975 | L28: =L27/M27 -> 0 | M28: =J28+K28 -> 1
A29: 1044 | B29: Základní škola | C29: Masarykova 357 | D29: 793 05 Mor. Beroun | E29: ='1044'!G15 -> 4696 | F29: ='1044'!G17 -> 4697 | G29: 0 | H29: =F29-E29-G29 -> 1 | I29: 0 | J29: ='1044'!G29 -> 0 | K29: ='1044'!G28 -> 0 | L29: ='1044'!G30 -> 0 | M29: =J29+K29 -> 0 | N29: změna
J30: 0 | K30: 0 | L30: 0 | M30: 0
A31: 1100 | B31: Gymnázium Jana Opletala | C31: Opletalova 189 | D31: 784 01 Litovel | E31: ='1100'!G15 -> 21313 | F31: ='1100'!G17 -> 21328 | G31: ='1100'!G21 -> 0 | H31: =F31-E31-G31 -> 15 | I31: 0 | J31: ='1100'!G29 -> 13843.79 | K31: ='1100'!G28 -> 1000 | L31: ='1100'!G30 -> 0 | M31: =J31+K31+L31 -> 14843.79
J32: =J31/M31 -> 0.93263176 | K32: =K31/M31 -> 0.06736824 | L32: =L31/M31 -> 0 | M32: =J32+K32+L32 -> 1
A33: 1101 | B33: Gymnázium | C33: Čajkovského 9 | D33: 772 00 Olomouc | E33: ='1101'!G15 -> 32713 | F33: ='1101'!G17 -> 32913 | G33: 0 | H33: =F33-E33-G33 -> 200 | I33: 0 | J33: ='1101'!G29 -> 182872.19 | K33: ='1101'!G28 -> 15000 | L33: ='1101'!G30 -> 0 | M33: =J33+K33+L33 -> 197872.19
J34: =J33/M33 -> 0.92419349 | K34: =K33/M33 -> 0.075806509 | L34: =L33/M33 -> 0 | M34: =J34+K34+L34 -> 1
A35: 1102 | B35: Slovanské gymnázium | C35: tř. J. z Poděbrad 13 | D35: 771 11 Olomouc | E35: ='1102'!G15 -> 53879 | F35: ='1102'!G17 -> 53881 | G35: 0 | H35: =F35-E35-G35 -> 2 | I35: 0 | J35: ='1102'!G29 -> 0 | K35: ='1102'!G28 -> 0 | L35: ='1102'!G30 -> 1340.77 | M35: =J35+K35+L35 -> 1340.77
J36: =J35/M35 -> 0 | K36: =K35/M35 -> 0 | L36: =L35/M35 -> 1 | M36: =J36+K36+L36 -> 1
A37: 1103 | B37: Gymnázium | C37: Tomkova 45 | D37: 779 00 | E37: ='1103'!G15 -> 71590 | F37: ='1103'!G17 -> 70954 | G37: 0 | H37: 0 | I37: =F37-E37-G37 -> -636 | J37: ='1103'!G29 -> 0 | K37: ='1103'!G28 -> 0 | L37: 0 | M37: 0
D38: Olomouc-Hejčín | J38: 0 | K38: 0 | L38: 0 | M38: 0
A39: 1104 | B39: Gymnázium | C39: Horní nám. 5 | D39: 785 01 Šternberk | E39: ='1104'!G15 -> 29514 | F39: ='1104'!G17 -> 29436 | G39: 0 | H39: 0 | I39: =F39-E39-G39 -> -78 | J39: ='1104'!G29 -> 0 | K39: ='1104'!G28 -> 0 | L39: 0 | M39: =J39+K39 -> 0
J40: 0 | K40: 0 | L40: 0 | M40: =J40+K40 -> 0
A41: 1105 | B41: Gymnázium | C41: Gymnazijní 257 | D41: 783 91 Uničov | E41: ='1105'!G15 -> 20254 | F41: ='1105'!G17 -> 20403 | G41: 0 | H41: =F41-E41-G41 -> 149 | I41: 0 | J41: ='1105'!G29 -> 133148.03 | K41: ='1105'!G28 -> 15000 | L41: ='1105'!G30 -> 0 | M41: =J41+K41 -> 148148.03
...

Sheet 1000
A1: REKAPITULACE ZA ORGANIZACI :
A2: Název organizace : | E2: Základní škola a Mateřská škola Libavá
E3: ……………………………………….……..………………………………………..…………………………………
A4: Adresa : | E4: Náměstí 150, Město Libavá
E5: ……………………………………….……..………………………………………..…………………………………
A6: IČ | E6: 75007592 | G6: ORG | H6: 1000
E7: ……………………………… ………….…..……………………………
E10: Schválený | F10: Upravený | G10: Skutečnost | H10: z toho:
E11: rozpočet | F11: rozpočet | G11: celkem | H11: Hlavní činnost | I11: Doplňková činnost
E12: celkem | F12: celkem | H12: jednotka - tis. Kč na 2 des. místa
A14: a) Náklady a výnosy
A15: Náklady | E15: 3760 | F15: 10402 | G15: =H15+I15 -> 10402 | H15: 10372 | I15: 30
A17: Výnosy | E17: 3760 | F17: 10463 | G17: =H17+I17 -> 10463 | H17: 10381 | I17: 82
A20: Doplňující údaje :
C21: daň z příjmů,dodatečné odvody daně z příjmů (nákladová položka) | G21: =H21+I21 -> 0 | H21: 0 | I21: 0
A23: Výsledek hospodaření /po zdanění/ | G23: =G17-G15-G21 -> 61 | H23: =H17-H15-H21 -> 9 | I23: =I17-I15-I21 -> 52
A27: b) | B27: Rozdělení výsledku hospodaření | G27: =SUM(G28:G30) -> 61460.53 | H27: v Kč
C28: - Návrh na příděly do fondů: | F28: Fond odměn | G28: 7000 | H28: v Kč
F29: Fond rezervní | G29: 54460.01 | H29: v Kč
C30: - Způsob krytí ztráty : | F30: Částka | G30: 0.52 | H30: v Kč
A31: Pozn.Do fondů je rozděleno o 0,52 Kč méně než byl zlepšený hospodářský výsledek za rok 2010. Tato částka představuje chybné rozdělení hospodářského výsledku příspěvkové organizace ZŠ a MŠ Libavá za rok 2008 (v roce 2009 byl chybně přidělen do fondů organizace výsledek hospodaření z roku 2008 o 0,52 Kč více. Chyba vznikla vinou organizace).
A34: c) | B34: Závazné ukazatele
F35: Schválená částka | G35: Skutečnost | I35: % plnění
A36: Limit mzdových prostředků | F36: 925 | G36: 863 | H36: v tis. Kč | I36: =G36/F36 -> 0.93297297
A37: Neinvestiční příspěvek /odpisy/ | F37: 0 | G37: 0 | H37: v tis. Kč | I37: 0
A38: Neinvestiční příspěvek /nájemné/ | F38: 0 | G38: 0 | H38: v tis. Kč | I38: nerozp.
A39: Odvody z investičního fondu /odpisy/ | F39: 0 | G39: 0 | H39: v tis. Kč | I39: 0
A40: Odvody z investičního fondu /spolufin. akcí/ | F40: 0 | G40: 0 | H40: v tis. Kč | I40: nerozp.
A42: d) | B42: Fondy | H42: jednotka - Kč na 2 des. místa
E43: Stav k 1.1.2010 | F43: Tvorba | G43: Čerpání | H43: Stav k | I43: Finanční krytí k
H44: 40543 | I44: 40543
C47: Fond odměn | E47: 10500 | F47: 1000 | G47: 2000 | H47: =E47+F47-G47 -> 9500 | I47: =H47 -> 9500
C48: FKSP | E48: 147859.35 | F48: 118615 | G48: 112647 | H48: =E48+F48-G48 -> 153827.35 | I48: 148674.3
C49: Fond rezervní | E49: 32158.68 | F49: =13823.08+15000 -> 28823.08 | G49: 0 | H49: =E49+F49-G49 -> 60981.76 | I49: =H49 -> 60981.76
C50: Investiční fond | E50: 9480 | F50: 7110 | G50: 0 | H50: =E50+F50-G50 -> 16590 | I50: =H50 -> 16590
A51: celkem | E51: =E47+E48+E49+E50 -> 199998.03 | F51: =F47+F48+F49+F50 -> 155548.08 | G51: =G47+G48+G49+G50 -> 114647 | H51: =H47+H48+H49+H50 -> 240899.11 | I51: =I47+I48+I49+I50 -> 235746.06

Sheet 1001
A1: REKAPITULACE ZA ORGANIZACI :
A2: Název organizace : | E2: Mateřská škola Olomouc
E3: ……………………………………….……..………………………………………..…………………………………
A4: Adresa : | E4: Blanická 16, Olomouc
E5: ……………………………………….……..………………………………………..…………………………………
A6: IČ | E6: 66181500 | G6: ORG | H6: 1001
E7: ……………………………… ………….…..……………………………
E10: Schválený | F10: Upravený | G10: Skutečnost | H10: z toho:
E11: rozpočet | F11: rozpočet | G11: celkem | H11: Hlavní činnost | I11: Doplňková činnost
E12: celkem | F12: celkem | H12: jednotka - tis. Kč na 2 des. místa
A14: a) Náklady a výnosy
A15: Náklady | E15: 345 | F15: 2614 | G15: =H15+I15 -> 2614 | H15: 2614 | I15: 0
A17: Výnosy | E17: 345 | F17: 2633 | G17: =H17+I17 -> 2614 | H17: 2614 | I17: 0
A20: Doplňující údaje :
C21: daň z příjmů,dodatečné odvody daně z příjmů (nákladová položka) | G21: =H21+I21 -> 0 | H21: 0 | I21: 0
A23: Výsledek hospodaření /po zdanění/ | G23: =G17-G15-G21 -> 0 | H23: =H17-H15-H21 -> 0 | I23: =I17-I15-I21 -> 0
A27: b) | B27: Rozdělení výsledku hospodaření | G27: =SUM(G28:G30) -> 175.32 | H27: v Kč
C28: - Návrh na příděly do fondů: | F28: Fond odměn | G28: 0 | H28: v Kč
F29: Fond rezervní | G29: 175.32 | H29: v Kč
C30: - Způsob krytí ztráty : | F30: Částka | G30: 0 | H30: v Kč
A34: c) | B34: Závazné ukazatele
F35: Schválená částka | G35: Skutečnost | I35: % plnění
A36: Limit mzdových prostředků | F36: 0 | G36: 0 | H36: v tis. Kč | I36: 0
A37: Neinvestiční příspěvek /odpisy/ | F37: 44.632 | G37: 44.632 | H37: v tis. Kč | I37: =G37/F37 -> 1
A38: Neinvestiční příspěvek /nájemné/ | F38: 0 | G38: 0 | H38: v tis. Kč | I38: nerozp.
A39: Odvody z investičního fondu /odpisy/ | F39: 33 | G39: 33 | H39: v tis. Kč | I39: =G39/F39 -> 1
A40: Odvody z investičního fondu /spolufin. akcí/ | F40: 0 | G40: 0 | H40: v tis. Kč | I40: nerozp.
A43: d) | B43: Fondy | H43: jednotka - Kč na 2 des. místa
E44: Stav k 1.1.2010 | F44: Tvorba | G44: Čerpání | H44: Stav k | I44: Finanční krytí k
H45: 40543 | I45: 40543
C48: Fond odměn | E48: 2050 | F48: 0 | G48: 0 | H48: =(E48+F48)-G48 -> 2050 | I48: =H48 -> 2050
C49: FKSP | E49: 15048.7 | F49: 30822 | G49: 22146 | H49: =(E49+F49)-G49 -> 23724.7 | I49: 19699.03
C50: Fond rezervní | E50: 187814.63 | F50: =52.1+40863 -> 40915.1 | G50: 114022.52 | H50: =(E50+F50)-G50 -> 114707.21 | I50: =H50 -> 114707.21
C51: Investiční fond | E51: 47344.39 | F51: 44632 | G51: 37023.6 | H51: =(E51+F51)-G51 -> 54952.79 | I51: =H51 -> 54952.79
A52: celkem | E52: =E48+E49+E50+E51 -> 252257.72 | F52: =F48+F49+F50+F51 -> 116369.1 | G52: =G48+G49+G50+G51 -> 173192.12 | H52: =H48+H49+H50+H51 -> 195434.7 | I52: =I48+I49+I50+I51 -> 191409.03

Sheet 1010
A1: REKAPITULACE ZA ORGANIZACI :
A2: Název organizace : | E2: Základní škola a Mateřská škola při FN Olomouc
E3: ……………………………………….……..………………………………………..…………………………………
A4: Adresa : | E4: I.P.Pavlova 6, Olomouc
E5: ……………………………………….……..………………………………………..…………………………………
A6: IČ | E6: 70631174 | G6: ORG | H6: 1010
E7: ……………………………… ………….…..……………………………
E10: Schválený | F10: Upravený | G10: Skutečnost | H10: z toho:
E11: rozpočet | F11: rozpočet | G11: celkem | H11: Hlavní činnost | I11: Doplňková činnost
E12: celkem | F12: celkem | H12: jednotka - tis. Kč na 2 des. místa
A14: a) Náklady a výnosy
A15: Náklady | E15: 640 | F15: 6200 | G15: =H15+I15 -> 6200 | H15: 6200 | I15: 0
A17: Výnosy | E17: 640 | F17: 6200 | G17: =H17+I17 -> 6200 | H17: 6200 | I17: 0
A20: Doplňující údaje :
C21: daň z příjmů,dodatečné odvody daně z příjmů (nákladová položka) | G21: =H21+I21 -> 0 | H21: 0 | I21: 0
A23: Výsledek hospodaření /po zdanění/ | G23: =G17-G15-G21 -> 0 | H23: =H17-H15-H21 -> 0 | I23: =I17-I15-I21 -> 0
A27: b) | B27: Rozdělení výsledku hospodaření | G27: =SUM(G28:G30) -> 0 | H27: v Kč
C28: - Návrh na příděly do fondů: | F28: Fond odměn | G28: 0 | H28: v Kč
F29: Fond rezervní | G29: 0 | H29: v Kč
C30: - Způsob krytí ztráty : | F30: Částka | G30: 0 | H30: v Kč
A35: c) | B35: Závazné ukazatele
F36: Schválená částka | G36: Skutečnost | I36: % plnění
A37: Limit mzdových prostředků | F37: 0 | G37: 0 | H37: v tis. Kč | I37: 0
A38: Neinvestiční příspěvek /odpisy/ | F38: 6.748 | G38: 6.748 | H38: v tis. Kč | I38: =G38/F38 -> 1
A39: Neinvestiční příspěvek /nájemné/ | F39: 0 | G39: 0 | H39: v tis. Kč | I39: nerozp.
A40: Odvody z investičního fondu /odpisy/ | F40: 5 | G40: 5 | H40: v tis. Kč | I40: =G40/F40 -> 1
A41: Odvody z investičního fondu /spolufin. akcí/ | F41: 0 | G41: 0 | H41: v tis. Kč | I41: nerozp.
A44: d) | B44: Fondy | H44: jednotka - Kč na 2 des. místa
E45: Stav k 1.1.2010 | F45: Tvorba | G45: Čerpání | H45: Stav k | I45: Finanční krytí k
H46: 40543 | I46: 40543
C49: Fond odměn | E49: 16500 | F49: 5000 | G49: 0 | H49: =E49+F49-G49 -> 21500 | I49: =H49 -> 21500
C50: FKSP | E50: 29253.11 | F50: 81415 | G50: 73631 | H50: =E50+F50-G50 -> 37037.11 | I50: =H50 -> 37037.11
C51: Fond rezervní | E51: 160589.33 | F51: 224266.8 | G51: =160589.33+64174.24 -> 224763.57 | H51: =E51+F51-G51 -> 160092.56 | I51: 160092.57
C52: Investiční fond | E52: 79313.1 | F52: 6748 | G52: 5000 | H52: =E52+F52-G52 -> 81061.1 | I52: =H52 -> 81061.1
A53: celkem | E53: =E49+E50+E51+E52 -> 285655.54 | F53: =F49+F50+F51+F52 -> 317429.8 | G53: =G49+G50+G51+G52 -> 303394.57 | H53: =H49+H50+H51+H52 -> 299690.77 | I53: =I49+I50+I51+I52 -> 299690.78

Sheet 1012
A1: REKAPITULACE ZA ORGANIZACI :
A2: Název organizace : | E2: Základní škola a Mateřská škola logopedická Olomouc
E3: ……………………………………….……..………………………………………..…………………………………
A4: Adresa : | E4: tř. Svornosti 37/900, Olomouc
E5: ……………………………………….……..………………………………………..…………………………………
A6: IČ | E6: 00601683 | G6: ORG | H6: 1012
E7: ……………………………… ………….…..……………………………
E10: Schválený | F10: Upravený | G10: Skutečnost | H10: z toho:
E11: rozpočet | F11: rozpočet | G11: celkem | H11: Hlavní činnost | I11: Doplňková činnost
E12: celkem | F12: celkem | H12: jednotka - tis. Kč na 2 des. místa
A14: a) Náklady a výnosy
A15: Náklady | E15: 6069 | F15: 27827 | G15: =H15+I15 -> 27831 | H15: 27387 | I15: 444
A17: Výnosy | E17: 6079 | F17: 27844 | G17: =H17+I17 -> 27850 | H17: 27304 | I17: 546
A20: Doplňující údaje :
C21: daň z příjmů,dodatečné odvody daně z příjmů (nákladová položka) | G21: =H21+I21 -> 0 | H21: 0 | I21: 0
A23: Výsledek hospodaření /po zdanění/ | G23: =G17-G15-G21 -> 19 | H23: =H17-H15-H21 -> -83 | I23: =I17-I15-I21 -> 102
A27: b) | B27: Rozdělení výsledku hospodaření | G27: =SUM(G28:G30) -> 19286.61 | H27: v Kč
C28: - Návrh na příděly do fondů: | F28: Fond odměn | G28: 7000 | H28: v Kč
F29: Fond rezervní | G29: 12286.61 | H29: v Kč
C30: - Způsob krytí ztráty : | F30: Částka | G30: 0 | H30: v Kč
A34: c) | B34: Závazné ukazatele
F35: Schválená částka | G35: Skutečnost | I35: % plnění
A36: Limit mzdových prostředků | F36: 0 | G36: 0 | H36: v tis. Kč | I36: 0
A37: Neinvestiční příspěvek /odpisy/ | F37: 1068.241 | G37: 1067.327 | H37: v tis. Kč | I37: =G37/F37 -> 0.99914439
A38: Neinvestiční příspěvek /nájemné/ | F38: 0 | G38: 0 | H38: v tis. Kč | I38: nerozp.
A39: Odvody z investičního fondu /odpisy/ | F39: 801 | G39: 801 | H39: v tis. Kč | I39: =G39/F39 -> 1
A40: Odvody z investičního fondu /spolufin. akcí/ | F40: 0 | G40: 0 | H40: v tis. Kč | I40: nerozp.
A42: d) | B42: Fondy | H42: jednotka - Kč na 2 des. místa
E43: Stav k 1.1.2010 | F43: Tvorba | G43: Čerpání | H43: Stav k | I43: Finanční krytí k
H44: 40543 | I44: 40543
C47: Fond odměn | E47: 0 | F47: 7000 | G47: 4000 | H47: =E47+F47-G47 -> 3000 | I47: =H47 -> 3000
C48: FKSP | E48: 383932.62 | F48: 313327 | G48: 363463.74 | H48: =E48+F48-G48 -> 333795.88 | I48: 310656.88
C49: Fond rezervní | E49: =8243.74+30000 -> 38243.74 | F49: 2632.2 | G49: 0 | H49: =E49+F49-G49 -> 40875.94 | I49: =H49 -> 40875.94
C50: Investiční fond | E50: 310712.29 | F50: 1083603 | G50: 1188484 | H50: =E50+F50-G50 -> 205831.29 | I50: =H50 -> 205831.29
A51: celkem | E51: =E47+E48+E49+E50 -> 732888.65 | F51: =F47+F48+F49+F50 -> 1406562.2 | G51: =G47+G48+G49+G50 -> 1555947.7 | H51: =H47+H48+H49+H50 -> 583503.11 | I51: =I47+I48+I49+I50 -> 560364.11

Sheet 1013
A1: REKAPITULACE ZA ORGANIZACI :
A2: Název organizace : | E2: Základní škola prof. V. Vejdovského Litovel
E3: ……………………………………….……..………………………………………..…………………………………
A4: Adresa : | E4: nám. P. Otakara 777, Litovel
E5: ……………………………………….……..………………………………………..…………………………………
A6: IČ | E6: 00601802 | G6: ORG | H6: 1013
E7: ……………………………… ………….…..……………………………
E10: Schválený | F10: Upravený | G10: Skutečnost | H10: z toho:
E11: rozpočet | F11: rozpočet | G11: celkem | H11: Hlavní činnost | I11: Doplňková činnost
E12: celkem | F12: celkem | H12: jednotka - tis. Kč na 2 des. místa
A14: a) Náklady a výnosy
A15: Náklady | E15: 3305 | F15: 15834 | G15: =H15+I15 -> 15835 | H15: 15516 | I15: 319
A17: Výnosy | E17: 3305 | F17: 15843 | G17: =H17+I17 -> 15845 | H17: 15516 | I17: 329
A20: Doplňující údaje :
C21: daň z příjmů,dodatečné odvody daně z příjmů (nákladová položka) | G21: =H21+I21 -> 0 | H21: 0 | I21: 0
A23: Výsledek hospodaření /po zdanění/ | G23: =G17-G15-G21 -> 10 | H23: =H17-H15-H21 -> 0 | I23: =I17-I15-I21 -> 10
A27: b) | B27: Rozdělení výsledku hospodaření | G27: =SUM(G28:G30) -> 10083.46 | H27: v Kč
C28: - Návrh na příděly do fondů: | F28: Fond odměn | G28: 0 | H28: v Kč
F29: Fond rezervní | G29: 10083.46 | H29: v Kč
C30: - Způsob krytí ztráty : | F30: Částka | G30: 0 | H30: v Kč
A34: c) | B34: Závazné ukazatele
F35: Schválená částka | G35: Skutečnost | I35: % plnění
A36: Limit mzdových prostředků | F36: 0 | G36: 0 | H36: v tis. Kč | I36: 0
A37: Neinvestiční příspěvek /odpisy/ | F37: 291.8 | G37: 291.88542 | H37: v tis. Kč | I37: =G37/F37 -> 1.0002927
A38: Neinvestiční příspěvek /nájemné/ | F38: 0 | G38: 0 | H38: v tis. Kč | I38: nerozp.
A39: Odvody z investičního fondu /odpisy/ | F39: 219 | G39: 219 | H39: v tis. Kč | I39: =G39/F39 -> 1
A40: Odvody z investičního fondu /spolufin. akcí/ | F40: 0 | G40: 0 | H40: v tis. Kč | I40: nerozp.
A41: Pozn.: Vynaložené odpisy nad stanovený limit byly finančně pokryty z provozních prostředků organizace- 85,42 Kč.
A43: d) | B43: Fondy | H43: jednotka - Kč na 2 des. místa
E44: Stav k 1.1.2010 | F44: Tvorba | G44: Čerpání | H44: Stav k | I44: Finanční krytí k
H45: 40543 | I45: 40543
C48: Fond odměn | E48: 29906 | F48: 20000 | G48: 2000 | H48: =E48+F48-G48 -> 47906 | I48: =H48 -> 47906
C49: FKSP | E49: 392759.9 | F49: 172954 | G49: 178152.7 | H49: =E49+F49-G49 -> 387561.2 | I49: 302269.04
C50: Fond rezervní | E50: 393231.48 | F50: =71172.71+153600.29 -> 224773 | G50: 211762.31 | H50: =E50+F50-G50 -> 406242.17 | I50: =H50 -> 406242.17
C51: Investiční fond | E51: 155977.94 | F51: 512886.74 | G51: 437163 | H51: =E51+F51-G51 -> 231701.68 | I51: =H51 -> 231701.68
A52: celkem | E52: =E48+E49+E50+E51 -> 971875.32 | F52: =F48+F49+F50+F51 -> 930613.74 | G52: =G48+G49+G50+G51 -> 829078.01 | H52: =H48+H49+H50+H51 -> 1073411 | I52: =I48+I49+I50+I51 -> 988118.89

Sheet 1014
A1: REKAPITULACE ZA ORGANIZACI :
A2: Název organizace : | E2: Základní škola prof. Z. Matějčka Olomouc
E3: ……………………………………….……..………………………………………..…………………………………
A4: Adresa : | E4: Svatoplukova 11, Olomouc - Řepčín
E5: ……………………………………….……..………………………………………..…………………………………
A6: IČ | E6: 70863598 | G6: ORG | H6: 1014
E7: ……………………………… ………….…..……………………………
E10: Schválený | F10: Upravený | G10: Skutečnost | H10: z toho:
E11: rozpočet | F11: rozpočet | G11: celkem | H11: Hlavní činnost | I11: Doplňková činnost
E12: celkem | F12: celkem | H12: jednotka - tis. Kč na 2 des. místa
A14: a) Náklady a výnosy
A15: Náklady | E15: 3728 | F15: 30065 | G15: =H15+I15 -> 29668 | H15: 29644 | I15: 24
A17: Výnosy | E17: 3816 | F17: 30153 | G17: =H17+I17 -> 29776 | H17: 29644 | I17: 132
A20: Doplňující údaje :
C21: daň z příjmů,dodatečné odvody daně z příjmů (nákladová položka) | G21: =H21+I21 -> 0 | H21: 0 | I21: 0
A23: Výsledek hospodaření /po zdanění/ | G23: =G17-G15-G21 -> 108 | H23: =H17-H15-H21 -> 0 | I23: =I17-I15-I21 -> 108
A27: b) | B27: Rozdělení výsledku hospodaření | G27: =SUM(G28:G30) -> 107800 | H27: v Kč
C28: - Návrh na příděly do fondů: | F28: Fond odměn | G28: 2000 | H28: v Kč
F29: Fond rezervní | G29: 105800 | H29: v Kč
C30: - Způsob krytí ztráty : | F30: Částka | G30: 0 | H30: v Kč
A34: c) | B34: Závazné ukazatele
F35: Schválená částka | G35: Skutečnost | I35: % plnění
A36: Limit mzdových prostředků | F36: 710 | G36: 648.31 | H36: v tis. Kč | I36: =G36/F36 -> 0.91311268
A37: Neinvestiční příspěvek /odpisy/ | F37: 34.357 | G37: 34.357 | H37: v tis. Kč | I37: =G37/F37 -> 1
A38: Neinvestiční příspěvek /nájemné/ | F38: 0 | G38: 0 | H38: v tis. Kč | I38: nerozp.
A39: Odvody z investičního fondu /odpisy/ | F39: 26 | G39: 26 | H39: v tis. Kč | I39: =G39/F39 -> 1
A40: Odvody z investičního fondu /spolufin. akcí/ | F40: 0 | G40: 0 | H40: v tis. Kč | I40: nerozp.
A43: d) | B43: Fondy | H43: jednotka - Kč na 2 des. místa
E44: Stav k 1.1.2010 | F44: Tvorba | G44: Čerpání | H44: Stav k | I44: Finanční krytí k
H45: 40543 | I45: 40543
C48: Fond odměn | E48: 43103 | F48: 2000 | G48: 4000 | H48: =E48+F48-G48 -> 41103 | I48: =H48 -> 41103
C49: FKSP | E49: 159992.28 | F49: 363454 | G49: 410877.78 | H49: =E49+F49-G49 -> 112568.5 | I49: =H49 -> 112568.5
C50: Fond rezervní | E50: =228673.13+18625 -> 247298.13 | F50: =98076.2+8000 -> 106076.2 | G50: =90622.4+2045 -> 92667.4 | H50: =E50+F50-G50 -> 260706.93 | I50: =H50 -> 260706.93
C51: Investiční fond | E51: 26592.43 | F51: 174357 | G51: 166000 | H51: =E51+F51-G51 -> 34949.43 | I51: =H51 -> 34949.43
A52: celkem | E52: =E48+E49+E50+E51 -> 476985.84 | F52: =F48+F49+F50+F51 -> 645887.2 | G52: =G48+G49+G50+G51 -> 673545.18 | H52: =H48+H49+H50+H51 -> 449327.86 | I52: =I48+I49+I50+I51 -> 449327.86

Sheet 1015
A1: REKAPITULACE ZA ORGANIZACI :
A2: Název organizace : | E2: Střední škola
E3: ……………………………………….……..………………………………………..…………………………………
A4: Adresa : | E4: B. Dvorského 17, Olomouc - Svatý Kopeček
E5: ……………………………………….……..………………………………………..…………………………………
A6: IČ | E6: 00601691 | G6: ORG | H6: 1015
E7: ……………………………… ………….…..……………………………
E10: Schválený | F10: Upravený | G10: Skutečnost | H10: z toho:
E11: rozpočet | F11: rozpočet | G11: celkem | H11: Hlavní činnost | I11: Doplňková činnost
E12: celkem | F12: celkem | H12: jednotka - tis. Kč na 2 des. místa
A14: a) Náklady a výnosy
A15: Náklady | E15: 3844 | F15: 3844 | G15: =H15+I15 -> 21483 | H15: 21483 | I15: 0
A17: Výnosy | E17: 3844 | F17: 21681 | G17: =H17+I17 -> 21571 | H17: 21571 | I17: 0
A20: Doplňující údaje :
C21: daň z příjmů,dodatečné odvody daně z příjmů (nákladová položka) | G21: =H21+I21 -> 0 | H21: 0 | I21: 0
A23: Výsledek hospodaření /po zdanění/ | G23: =G17-G15-G21 -> 88 | H23: =H17-H15-H21 -> 88 | I23: =I17-I15-I21 -> 0
A27: b) | B27: Rozdělení výsledku hospodaření | G27: =SUM(G28:G30) -> 86292.6 | H27: v Kč
C28: - Návrh na příděly do fondů: | F28: Fond odměn | G28: 13000 | H28: v Kč
F29: Fond rezervní | G29: 73292.6 | H29: v Kč
C30: - Způsob krytí ztráty : | F30: Částka | G30: 0 | H30: v Kč
A34: c) | B34: Závazné ukazatele
F35: Schválená částka | G35: Skutečnost | I35: % plnění
A36: Limit mzdových prostředků | F36: 71 | G36: 64.96 | H36: v tis. Kč | I36: =G36/F36 -> 0.91492958
A37: Neinvestiční příspěvek /odpisy/ | F37: 170 | G37: 197.89227 | H37: v tis. Kč | I37: =G37/F37 -> 1.1640722
A38: Neinvestiční příspěvek /nájemné/ | F38: 0 | G38: 0 | H38: v tis. Kč | I38: nerozp.
A39: Odvody z investičního fondu /odpisy/ | F39: 128 | G39: 128 | H39: v tis. Kč | I39: =G39/F39 -> 1
A40: Odvody z investičního fondu /spolufin. akcí/ | F40: 0 | G40: 0 | H40: v tis. Kč | I40: nerozp.
A41: Pozn.: Vynaložené odpisy nad stanovený limit byly finančně pokryty z provozních prostředků organizace- 27 892,27 Kč.
A43: d) | B43: Fondy | H43: jednotka - Kč na 2 des. místa
E44: Stav k 1.1.2010 | F44: Tvorba | G44: Čerpání | H44: Stav k | I44: Finanční krytí k
H45: 40543 | I45: 40543
C48: Fond odměn | E48: 6995 | F48: 10000 | G48: 0 | H48: =E48+F48-G48 -> 16995 | I48: =H48 -> 16995
C49: FKSP | E49: 127157.54 | F49: 290388.54 | G49: 340616.76 | H49: =E49+F49-G49 -> 76929.32 | I49: 157009.84
C50: Fond rezervní | E50: 67041.76 | F50: 27832 | G50: 0 | H50: =E50+F50-G50 -> 94873.76 | I50: =H50 -> 94873.76
C51: Investiční fond | E51: 118329 | F51: 197892.27 | G51: 155892.27 | H51: =E51+F51-G51 -> 160329 | I51: =H51 -> 160329
A52: celkem | E52: =E48+E49+E50+E51 -> 319523.3 | F52: =F48+F49+F50+F51 -> 526112.81 | G52: =G48+G49+G50+G51 -> 496509.03 | H52: =H48+H49+H50+H51 -> 349127.08 | I52: =I48+I49+I50+I51 -> 429207.6

Sheet 1032
A1: REKAPITULACE ZA ORGANIZACI :
A2: Název organizace : | E2: Základní škola Šternberk
E3: ……………………………………….……..………………………………………..…………………………………
A4: Adresa : | E4: Olomoucká 76, Šternberk
E5: ……………………………………….……..………………………………………..…………………………………
A6: IČ | E6: 61989789 | G6: ORG | H6: 1032
E7: ……………………………… ………….…..……………………………
E10: Schválený | F10: Upravený | G10: Skutečnost | H10: z toho:
E11: rozpočet | F11: rozpočet | G11: celkem | H11: Hlavní činnost | I11: Doplňková činnost
E12: celkem | F12: celkem | H12: jednotka - tis. Kč na 2 des. místa
A14: a) Náklady a výnosy
A15: Náklady | E15: 1131 | F15: 8461 | G15: =H15+I15 -> 8487 | H15: 8487 | I15: 0
A17: Výnosy | E17: 1131 | F17: 8461 | G17: =H17+I17 -> 8510 | H17: 8510 | I17: 0
A20: Doplňující údaje :
C21: daň z příjmů,dodatečné odvody daně z příjmů (nákladová položka) | G21: =H21+I21 -> 0 | H21: 0 | I21: 0
A23: Výsledek hospodaření /po zdanění/ | G23: =G17-G15-G21 -> 23 | H23: =H17-H15-H21 -> 23 | I23: =I17-I15-I21 -> 0
A29: b) | B29: Rozdělení výsledku hospodaření | G29: =SUM(G30:G32) -> 23930 | H29: v Kč
C30: - Návrh na příděly do fondů: | F30: Fond odměn | G30: 10000 | H30: v Kč
F31: Fond rezervní | G31: 13930 | H31: v Kč
C32: - Způsob krytí ztráty : | F32: Částka | G32: 0 | H32: v Kč
A35: c) | B35: Závazné ukazatele
F36: Schválená částka | G36: Skutečnost | I36: % plnění
A37: Limit mzdových prostředků | F37: 0 | G37: 0 | H37: v tis. Kč | I37: 0
A38: Neinvestiční příspěvek /odpisy/ | F38: 184.35 | G38: 184.66902 | H38: v tis. Kč | I38: =G38/F38 -> 1.0017305
A39: Neinvestiční příspěvek /nájemné/ | F39: 0 | G39: 0 | H39: v tis. Kč | I39: nerozp.
A40: Odvody z investičního fondu /odpisy/ | F40: 138 | G40: 138 | H40: v tis. Kč | I40: =G40/F40 -> 1
A41: Odvody z investičního fondu /spolufin. akcí/ | F41: 0 | G41: 0 | H41: v tis. Kč | I41: nerozp.
A42: Pozn.: Vynaložené odpisy nad stanovený limit byly finančně pokryty z provozních prostředků organizace- 319,02 Kč.
A44: d) | B44: Fondy | H44: jednotka - Kč na 2 des. místa
E45: Stav k 1.1.2010 | F45: Tvorba | G45: Čerpání | H45: Stav k | I45: Finanční krytí k
H46: 40543 | I46: 40543
C49: Fond odměn | E49: 5000 | F49: 1000 | G49: 2000 | H49: =E49+F49-G49 -> 4000 | I49: =H49 -> 4000
C50: FKSP | E50: 61296.07 | F50: 105128 | G50: 75920 | H50: =E50+F50-G50 -> 90504.07 | I50: 82302.84
C51: Fond rezervní | E51: 158564.84 | F51: 44388.36 | G51: 0 | H51: =E51+F51-G51 -> 202953.2 | I51: =H51 -> 202953.2
C52: Investiční fond | E52: 122717.61 | F52: 184669.02 | G52: 179975 | H52: =E52+F52-G52 -> 127411.63 | I52: =H52 -> 127411.63
A53: celkem | E53: =E49+E50+E51+E52 -> 347578.52 | F53: =F49+F50+F51+F52 -> 335185.38 | G53: =G49+G50+G51+G52 -> 257895 | H53: =H49+H50+H51+H52 -> 424868.9 | I53: =I49+I50+I51+I52 -> 416667.67

Sheet 1033
A1: REKAPITULACE ZA ORGANIZACI :
A2: Název organizace : | E2: Základní škola, Šternberská 35, Uničov
E3: ……………………………………….……..………………………………………..…………………………………
A4: Adresa : | E4: Šternberská 35, Uničov
E5: ……………………………………….……..………………………………………..…………………………………
A6: IČ | E6: 61989762 | G6: ORG | H6: 1033
E7: ……………………………… ………….…..……………………………
E10: Schválený | F10: Upravený | G10: Skutečnost | H10: z toho:
E11: rozpočet | F11: rozpočet | G11: celkem | H11: Hlavní činnost | I11: Doplňková činnost
E12: celkem | F12: celkem | H12: jednotka - tis. Kč na 2 des. místa
A14: a) Náklady a výnosy
A15: Náklady | E15: 811 | F15: 6435 | G15: =H15+I15 -> 6436 | H15: 6436 | I15: 0
A17: Výnosy | E17: 811 | F17: 6470 | G17: =H17+I17 -> 6471 | H17: 6471 | I17: 0
A20: Doplňující údaje :
C21: daň z příjmů,dodatečné odvody daně z příjmů (nákladová položka) | G21: =H21+I21 -> 0 | H21: 0 | I21: 0
A23: Výsledek hospodaření /po zdanění/ | G23: =G17-G15-G21 -> 35 | H23: =H17-H15-H21 -> 35 | I23: =I17-I15-I21 -> 0
A27: b) | B27: Rozdělení výsledku hospodaření | G27: =SUM(G28:G30) -> 36172.51 | H27: v Kč
C28: - Návrh na příděly do fondů: | F28: Fond odměn | G28: 0 | H28: v Kč
F29: Fond rezervní | G29: 4008.39 | H29: v Kč
C30: - Způsob krytí ztráty : | F30: Částka | G30: 32164.12 | H30: v Kč
A31: Pozn.: Výsledek hospodaření upraven o neuhrazenou ztrátu minulých let- 32 164,12 Kč.
A34: c) | B34: Závazné ukazatele
F35: Schválená částka | G35: Skutečnost | I35: % plnění
A36: Limit mzdových prostředků | F36: 0 | G36: 0 | H36: v tis. Kč | I36: 0
A37: Neinvestiční příspěvek /odpisy/ | F37: 16 | G37: 16.37 | H37: v tis. Kč | I37: =G37/F37 -> 1.023125
A38: Neinvestiční příspěvek /nájemné/ | F38: 0 | G38: 0 | H38: v tis. Kč | I38: nerozp.
A39: Odvody z investičního fondu /odpisy/ | F39: 12 | G39: 12 | H39: v tis. Kč | I39: =G39/F39 -> 1
A40: Odvody z investičního fondu /spolufin. akcí/ | F40: 0 | G40: 0 | H40: v tis. Kč | I40: nerozp.
A41: Pozn.: Vynaložené odpisy nad stanovený limit byly finančně pokryty z provozních prostředků organizace- 370,- Kč.
A43: d) | B43: Fondy | H43: jednotka - Kč na 2 des. místa
E44: Stav k 1.1.2010 | F44: Tvorba | G44: Čerpání | H44: Stav k | I44: Finanční krytí k
H45: 40543 | I45: 40543
C48: Fond odměn | E48: 1000 | F48: 0 | G48: 0 | H48: =E48+F48-G48 -> 1000 | I48: =H48 -> 1000
C49: FKSP | E49: 24814.13 | F49: 78980 | G49: 81028 | H49: =E49+F49-G49 -> 22766.13 | I49: 19621.57
C50: Fond rezervní | E50: 32356.87 | F50: 47856.87 | G50: =32356.87+40500 -> 72856.87 | H50: =E50+F50-G50 -> 7356.87 | I50: =H50 -> 7356.87
C51: Investiční fond | E51: 670 | F51: 16370 | G51: 12000 | H51: =E51+F51-G51 -> 5040 | I51: =H51 -> 5040
A52: celkem | E52: =E48+E49+E50+E51 -> 58841 | F52: =F48+F49+F50+F51 -> 143206.87 | G52: =G48+G49+G50+G51 -> 165884.87 | H52: =H48+H49+H50+H51 -> 36163 | I52: =I48+I49+I50+I51 -> 33018.44

Sheet 1034
A1: REKAPITULACE ZA ORGANIZACI :
A2: Název organizace : | E2: Základní škola, Dětský domov a Školní jídelna Litovel
E3: ……………………………………….……..………………………………………..…………………………………
A4: Adresa : | E4: Palackého 938, Litovel
E5: ……………………………………….……..………………………………………..…………………………………
A6: IČ | E6: 61989771 | G6: ORG | H6: 1034
E7: ……………………………… ………….…..……………………………
E10: Schválený | F10: Upravený | G10: Skutečnost | H10: z toho:
E11: rozpočet | F11: rozpočet | G11: celkem | H11: Hlavní činnost | I11: Doplňková činnost
E12: celkem | F12: celkem | H12: jednotka - tis. Kč na 2 des. místa
A14: a) Náklady a výnosy
A15: Náklady | E15: 2631 | F15: 13932 | G15: =H15+I15 -> 13883 | H15: 13860 | I15: 23
A17: Výnosy | E17: 2631 | F17: 13932 | G17: =H17+I17 -> 13932 | H17: 13909 | I17: 23
A20: Doplňující údaje :
C21: daň z příjmů,dodatečné odvody daně z příjmů (nákladová položka) | G21: =H21+I21 -> 0 | H21: 0 | I21: 0
A23: Výsledek hospodaření /po zdanění/ | G23: =G17-G15-G21 -> 49 | H23: =H17-H15-H21 -> 49 | I23: =I17-I15-I21 -> 0
A27: b) | B27: Rozdělení výsledku hospodaření | G27: =SUM(G28:G30) -> 49699.38 | H27: v Kč
C28: - Návrh na příděly do fondů: | F28: Fond odměn | G28: 10000 | H28: v Kč
F29: Fond rezervní | G29: 39699.38 | H29: v Kč
C30: - Způsob krytí ztráty : | F30: Částka | G30: 0 | H30: v Kč
A34: c) | B34: Závazné ukazatele
F35: Schválená částka | G35: Skutečnost | I35: % plnění
A36: Limit mzdových prostředků | F36: 0 | G36: 0 | H36: v tis. Kč | I36: 0
A37: Neinvestiční příspěvek /odpisy/ | F37: 311.873 | G37: 311.873 | H37: v tis. Kč | I37: =G37/F37 -> 1
A38: Neinvestiční příspěvek /nájemné/ | F38: 0 | G38: 0 | H38: v tis. Kč | I38: nerozp.
A39: Odvody z investičního fondu /odpisy/ | F39: 234 | G39: 234 | H39: v tis. Kč | I39: =G39/F39 -> 1
A40: Odvody z investičního fondu /spolufin. akcí/ | F40: 0 | G40: 0 | H40: v tis. Kč | I40: nerozp.
A43: d) | B43: Fondy | H43: jednotka - Kč na 2 des. místa
E44: Stav k 1.1.2010 | F44: Tvorba | G44: Čerpání | H44: Stav k | I44: Finanční krytí k
H45: 40543 | I45: 40543
C48: Fond odměn | E48: 6000 | F48: 0 | G48: 0 | H48: =E48+F48-G48 -> 6000 | I48: =H48 -> 6000
C49: FKSP | E49: 193161.65 | F49: 162320 | G49: 118730 | H49: =E49+F49-G49 -> 236751.65 | I49: 222500.34
C50: Fond rezervní | E50: 245779.49 | F50: =26.22+80200 -> 80226.22 | G50: 80200 | H50: =E50+F50-G50 -> 245805.71 | I50: =207011.71 -> 207011.71
C51: Investiční fond | E51: 125345.19 | F51: 311873 | G51: 339490 | H51: =E51+F51-G51 -> 97728.19 | I51: =H51 -> 97728.19
A52: celkem | E52: =E48+E49+E50+E51 -> 570286.33 | F52: =F48+F49+F50+F51 -> 554419.22 | G52: =G48+G49+G50+G51 -> 538420 | H52: =H48+H49+H50+H51 -> 586285.55 | I52: =I48+I49+I50+I51 -> 533240.24

Sheet 1044
A1: REKAPITULACE ZA ORGANIZACI :
A2: Název organizace : | E2: Základní škola Moravský Beroun
E3: ……………………………………….……..………………………………………..…………………………………
A4: Adresa : | E4: Masarykova 357, Moravský Beroun
E5: ……………………………………….……..………………………………………..…………………………………
A6: IČ | E6: 60802782 | G6: ORG | H6: 1044
E7: ……………………………… ………….…..……………………………
E10: Schválený | F10: Upravený | G10: Skutečnost | H10: z toho:
E11: rozpočet | F11: rozpočet | G11: celkem | H11: Hlavní činnost | I11: Doplňková činnost
E12: celkem | F12: celkem | H12: jednotka - tis. Kč na 2 des. místa
A14: a) Náklady a výnosy
A15: Náklady | E15: 400 | F15: 4680 | G15: =H15+I15 -> 4696 | H15: 4696 | I15: 0
A17: Výnosy | E17: 400 | F17: 4986 | G17: =H17+I17 -> 4697 | H17: 4697 | I17: 0
A20: Doplňující údaje :
C21: daň z příjmů,dodatečné odvody daně z příjmů (nákladová položka) | G21: =H21+I21 -> 0 | H21: 0 | I21: 0
A23: Výsledek hospodaření /po zdanění/ | G23: =G17-G15-G21 -> 1 | H23: =H17-H15-H21 -> 1 | I23: =I17-I15-I21 -> 0
A27: b) | B27: Rozdělení výsledku hospodaření | G27: =SUM(G28:G30) -> 0 | H27: v Kč
C28: - Návrh na příděly do fondů: | F28: Fond odměn | G28: 0 | H28: v Kč
F29: Fond rezervní | G29: 0 | H29: v Kč
C30: - Způsob krytí ztráty : | F30: Částka | G30: 0 | H30: v Kč
A34: c) | B34: Závazné ukazatele
F35: Schválená částka | G35: Skutečnost | I35: % plnění
A36: Limit mzdových prostředků | F36: 0 | G36: 0 | H36: v tis. Kč | I36: 0
A37: Neinvestiční příspěvek /odpisy/ | F37: 3.495 | G37: 3.495 | H37: v tis. Kč | I37: =G37/F37 -> 1
A38: Neinvestiční příspěvek /nájemné/ | F38: 0 | G38: 0 | H38: v tis. Kč | I38: nerozp.
A39: Odvody z investičního fondu /odpisy/ | F39: 3 | G39: 3 | H39: v tis. Kč | I39: =G39/F39 -> 1
A40: Odvody z investičního fondu /spolufin. akcí/ | F40: 0 | G40: 0 | H40: v tis. Kč | I40: nerozp.
A42: d) | B42: Fondy | H42: jednotka - Kč na 2 des. místa
E43: Stav k 1.1.2010 | F43: Tvorba | G43: Čerpání | H43: Stav k | I43: Finanční krytí k
H44: 40543 | I44: 40543
C47: Fond odměn | E47: 14806 | F47: 0 | G47: 0 | H47: =E47+F47-G47 -> 14806 | I47: =H47 -> 14806
C48: FKSP | E48: 75894.74 | F48: 60127 | G48: 43303.63 | H48: =E48+F48-G48 -> 92718.11 | I48: =H48 -> 92718.11
C49: Fond rezervní | E49: 8352.29 | F49: 2730 | G49: 0 | H49: =E49+F49-G49 -> 11082.29 | I49: =H49 -> 11082.29
C50: Investiční fond | E50: 35516 | F50: 3495 | G50: 12328 | H50: =E50+F50-G50 -> 26683 | I50: =H50 -> 26683
A51: celkem | E51: =E47+E48+E49+E50 -> 134569.03 | F51: =F47+F48+F49+F50 -> 66352 | G51: =G47+G48+G49+G50 -> 55631.63 | H51: =H47+H48+H49+H50 -> 145289.4 | I51: =I47+I48+I49+I50 -> 145289.4

Sheet 1100
A1: REKAPITULACE ZA ORGANIZACI :
A2: Název organizace : | E2: Gymnázium Jana Opletala, Litovel
E3: ……………………………………….……..………………………………………..…………………………………
A4: Adresa : | E4: Opletalova 189, Litovel
E5: ……………………………………….……..………………………………………..…………………………………
A6: IČ | E6: 00601772 | G6: ORG | H6: 1100
E7: ……………………………… ………….…..……………………………
E10: Schválený | F10: Upravený | G10: Skutečnost | H10: z toho:
E11: rozpočet | F11: rozpočet | G11: celkem | H11: Hlavní činnost | I11: Doplňková činnost
E12: celkem | F12: celkem | H12: jednotka - tis. Kč na 2 des. místa
A14: a) Náklady a výnosy
A15: Náklady | E15: 3874 | F15: 21328 | G15: =H15+I15 -> 21313 | H15: 21285 | I15: 28
A17: Výnosy | E17: 3874 | F17: 21403 | G17: =H17+I17 -> 21328 | H17: 21287 | I17: 41
A20: Doplňující údaje :
C21: daň z příjmů,dodatečné odvody daně z příjmů (nákladová položka) | G21: =H21+I21 -> 0 | H21: 0 | I21: 0
A23: Výsledek hospodaření /po zdanění/ | G23: =G17-G15-G21 -> 15 | H23: =H17-H15-H21 -> 2 | I23: =I17-I15-I21 -> 13
A27: b) | B27: Rozdělení výsledku hospodaření | G27: =SUM(G28:G30) -> 14843.79 | H27: v Kč
C28: - Návrh na příděly do fondů: | F28: Fond odměn | G28: 1000 | H28: v Kč
F29: Fond rezervní | G29: 13843.79 | H29: v Kč
C30: - Způsob krytí ztráty : | F30: Částka | G30: 0 | H30: v Kč
A34: c) | B34: Závazné ukazatele
F35: Schválená částka | G35: Skutečnost | I35: % plnění
A36: Limit mzdových prostředků | F36: 9.7 | G36: 9.7 | H36: v tis. Kč | I36: =G36/F36 -> 1
A37: Neinvestiční příspěvek /odpisy/ | F37: 74.667 | G37: 74.667 | H37: v tis. Kč | I37: =G37/F37 -> 1
A38: Neinvestiční příspěvek /nájemné/ | F38: 0 | G38: 0 | H38: v tis. Kč | I38: nerozp.
A39: Odvody z investičního fondu /odpisy/ | F39: 56 | G39: 56 | H39: v tis. Kč | I39: =G39/F39 -> 1
A40: Odvody z investičního fondu /spolufin. akcí/ | F40: 0 | G40: 0 | H40: v tis. Kč | I40: nerozp.
A43: d) | B43: Fondy | H43: jednotka - Kč na 2 des. místa
E44: Stav k 1.1.2010 | F44: Tvorba | G44: Čerpání | H44: Stav k | I44: Finanční krytí k
H45: 40543 | I45: 40543
C48: Fond odměn | E48: 2000 | F48: 3000 | G48: 2000 | H48: =E48+F48-G48 -> 3000 | I48: =H48 -> 3000
C49: FKSP | E49: 327818.64 | F49: 241522 | G49: 149989.8 | H49: =E49+F49-G49 -> 419350.84 | I49: 340772.35
C50: Fond rezervní | E50: =166356.66+9892.9 -> 176249.56 | F50: =25796.26+117502.73 -> 143298.99 | G50: =192152.92+42506 -> 234658.92 | H50: =E50+F50-G50 -> 84889.63 | I50: 74872.73
C51: Investiční fond | E51: 22136.47 | F51: 184667 | G51: 185700 | H51: =E51+F51-G51 -> 21103.47 | I51: =H51 -> 21103.47
A52: celkem | E52: =E48+E49+E50+E51 -> 528204.67 | F52: =F48+F49+F50+F51 -> 572487.99 | G52: =G48+G49+G50+G51 -> 572348.72 | H52: =H48+H49+H50+H51 -> 528343.94 | I52: =I48+I49+I50+I51 -> 439748.55

Sheet 1101
A1: REKAPITULACE ZA ORGANIZACI :
A2: Název organizace : | E2: Gymnázium, Olomouc, Čajkovského 9
E3: ……………………………………….……..………………………………………..…………………………………
A4: Adresa : | E4: Čajkovského 9, Olomouc
E5: ……………………………………….……..………………………………………..…………………………………
A6: IČ | E6: 00848956 | G6: ORG | H6: 1101
E7: ……………………………… ………….…..……………………………
E10: Schválený | F10: Upravený | G10: Skutečnost | H10: z toho:
E11: rozpočet | F11: rozpočet | G11: celkem | H11: Hlavní činnost | I11: Doplňková činnost
E12: celkem | F12: celkem | H12: jednotka - tis. Kč na 2 des. místa
A14: a) Náklady a výnosy
A15: Náklady | E15: 4791 | F15: 32713 | G15: =H15+I15 -> 32713 | H15: 32531 | I15: 182
A17: Výnosy | E17: 4791 | F17: 34070 | G17: =H17+I17 -> 32913 | H17: 32574 | I17: 339
A20: Doplňující údaje :
C21: daň z příjmů,dodatečné odvody daně z příjmů (nákladová položka) | G21: =H21+I21 -> 0 | H21: 0 | I21: 0
A23: Výsledek hospodaření /po zdanění/ | G23: =G17-G15-G21 -> 200 | H23: =H17-H15-H21 -> 43 | I23: =I17-I15-I21 -> 157
A27: b) | B27: Rozdělení výsledku hospodaření | G27: =SUM(G28:G30) -> 197872.19 | H27: v Kč
C28: - Návrh na příděly do fondů: | F28: Fond odměn | G28: 15000 | H28: v Kč
F29: Fond rezervní | G29: 182872.19 | H29: v Kč
C30: - Způsob krytí ztráty : | F30: Částka | G30: 0 | H30: v Kč
A35: c) | B35: Závazné ukazatele
F36: Schválená částka | G36: Skutečnost | I36: % plnění
A37: Limit mzdových prostředků | F37: 0 | G37: 0 | H37: v tis. Kč | I37: 0
A38: Neinvestiční příspěvek /odpisy/ | F38: 323.051 | G38: 321.078 | H38: v tis. Kč | I38: =G38/F38 -> 0.99389261
A39: Neinvestiční příspěvek /nájemné/ | F39: 0 | G39: 0 | H39: v tis. Kč | I39: nerozp.
A40: Odvody z investičního fondu /odpisy/ | F40: 242 | G40: 242 | H40: v tis. Kč | I40: =G40/F40 -> 1
A41: Odvody z investičního fondu /spolufin. akcí/ | F41: 0 | G41: 0 | H41: v tis. Kč | I41: nerozp.
A44: d) | B44: Fondy | H44: jednotka - Kč na 2 des. místa
E45: Stav k 1.1.2010 | F45: Tvorba | G45: Čerpání | H45: Stav k | I45: Finanční krytí k
H46: 40543 | I46: 40543
C49: Fond odměn | E49: 100 | F49: 4000 | G49: 4000 | H49: =E49+F49-G49 -> 100 | I49: =H49 -> 100
C50: FKSP | E50: 335228.92 | F50: 383686 | G50: 308547.93 | H50: =E50+F50-G50 -> 410366.99 | I50: 295994.99
C51: Fond rezervní | E51: 0 | F51: 16280.43 | G51: 0 | H51: =E51+F51-G51 -> 16280.43 | I51: =H51 -> 16280.43
C52: Investiční fond | E52: 36594 | F52: 323051 | G52: 242000 | H52: =E52+F52-G52 -> 117645 | I52: =H52 -> 117645
A53: celkem | E53: =E49+E50+E51+E52 -> 371922.92 | F53: =F49+F50+F51+F52 -> 727017.43 | G53: =G49+G50+G51+G52 -> 554547.93 | H53: =H49+H50+H51+H52 -> 544392.42 | I53: =I49+I50+I51+I52 -> 430020.42

Sheet 1102
A1: REKAPITULACE ZA ORGANIZACI :
A2: Název organizace : | E2: Slovanské gymnázium Olomouc
E3: ……………………………………….……..………………………………………..…………………………………
A4: Adresa : | E4: tř. Jiřího z Poděbrad 13, Olomouc
E5: ……………………………………….……..………………………………………..…………………………………
A6: IČ | E6: 00601781 | G6: ORG | H6: 1102
E7: ……………………………… ………….…..……………………………
E10: Schválený | F10: Upravený | G10: Skutečnost | H10: z toho:
E11: rozpočet | F11: rozpočet | G11: celkem | H11: Hlavní činnost | I11: Doplňková činnost
E12: celkem | F12: celkem | H12: jednotka - tis. Kč na 2 des. místa
A14: a) Náklady a výnosy
A15: Náklady | E15: 10449 | F15: 53074 | G15: =H15+I15 -> 53879 | H15: 53203 | I15: 676
A17: Výnosy | E17: 10449 | F17: 53074 | G17: =H17+I17 -> 53881 | H17: 53100 | I17: 781
A20: Doplňující údaje :
C21: daň z příjmů,dodatečné odvody daně z příjmů (nákladová položka) | G21: =H21+I21 -> 0 | H21: 0 | I21: 0
A23: Výsledek hospodaření /po zdanění/ | G23: =G17-G15-G21 -> 2 | H23: =H17-H15-H21 -> -103 | I23: =I17-I15-I21 -> 105
A27: b) | B27: Rozdělení výsledku hospodaření | G27: =SUM(G28:G30) -> 1340.77 | H27: v Kč
C28: - Návrh na příděly do fondů: | F28: Fond odměn | G28: 0 | H28: v Kč
F29: Fond rezervní | G29: 0 | H29: v Kč
C30: - Způsob krytí ztráty : | F30: Částka | G30: 1340.77 | H30: v Kč
A31: Zlepšený výsledek hospodaření za rok 2010 ve výši 1 340,77 Kč bude použit k úhradě ztráty z minulých let, která je k 31.12. 2010 ve výši -2 539 667,54 Kč. Zbylá část bude uhrazena ze zlepšeného výsledku hospodaření v následujících letech.
A34: c) | B34: Závazné ukazatele
F35: Schválená částka | G35: Skutečnost | I35: % plnění
A36: Limit mzdových prostředků | F36: 1707 | G36: 1937 | H36: v tis. Kč | I36: =G36/F36 -> 1.1347393
A37: Neinvestiční příspěvek /odpisy/ | F37: 456.818 | G37: 456.891 | H37: v tis. Kč | I37: =G37/F37 -> 1.0001598
A38: Neinvestiční příspěvek /nájemné/ | F38: 0 | G38: 0 | H38: v tis. Kč | I38: nerozp.
A39: Odvody z investičního fondu /odpisy/ | F39: 343 | G39: 343 | H39: v tis. Kč | I39: =G39/F39 -> 1
A40: Odvody z investičního fondu /spolufin. akcí/ | F40: 0 | G40: 0 | H40: v tis. Kč | I40: nerozp.
A41: Pozn. 1: Překročení limitu mzdových prostředků o 230 tis. Kč bylo z důvodu výplaty OON ze dvou projektů z ESF, které byly zahájeny k 1.11.2010, překročení bylo hrazeno z finančních prostředků těchto projektů.
A43: Pozn. 2: Vynaložené odpisy nad stanovený limit byly finančně pokryty z provozních prostředků organizace- 73,- Kč.
A45: d) | B45: Fondy | H45: jednotka - Kč na 2 des. místa
E46: Stav k 1.1.2010 | F46: Tvorba | G46: Čerpání | H46: Stav k | I46: Finanční krytí k
H47: 40543 | I47: 40543
C50: Fond odměn | E50: 0 | F50: 0 | G50: 0 | H50: =E50+F50-G50 -> 0 | I50: 0
C51: FKSP | E51: 96348.28 | F51: 570945 | G51: 558774 | H51: =E51+F51-G51 -> 108519.28 | I51: 79226.81
C52: Fond rezervní | E52: 349298.61 | F52: =464112+146510 -> 610622 | G52: =464112+21510 -> 485622 | H52: =E52+F52-G52 -> 474298.61 | I52: 125000
C53: Investiční fond | E53: 456074.05 | F53: 598927 | G53: 875054 | H53: =E53+F53-G53 -> 179947.05 | I53: 52259.15
A54: celkem | E54: =E50+E51+E52+E53 -> 901720.94 | F54: =F50+F51+F52+F53 -> 1780494 | G54: =G50+G51+G52+G53 -> 1919450 | H54: =H50+H51+H52+H53 -> 762764.94 | I54: =I50+I51+I52+I53 -> 256485.96

Sheet 1103
A1: REKAPITULACE ZA ORGANIZACI :
A2: Název organizace : | E2: Gymnázium Olomouc - Hejčín
E3: ……………………………………….……..………………………………………..…………………………………
A4: Adresa : | E4: Tomkova 45, Olomouc - Hejčín
E5: ……………………………………….……..………………………………………..…………………………………
A6: IČ | E6: 00601799 | G6: ORG | H6: 1103
E7: ……………………………… ………….…..……………………………
E10: Schválený | F10: Upravený | G10: Skutečnost | H10: z toho:
E11: rozpočet | F11: rozpočet | G11: celkem | H11: Hlavní činnost | I11: Doplňková činnost
E12: celkem | F12: celkem | H12: jednotka - tis. Kč na 2 des. místa
A14: a) Náklady a výnosy
A15: Náklady | E15: 20150 | F15: 70022 | G15: =H15+I15 -> 71590 | H15: 70136 | I15: 1454
A17: Výnosy | E17: 20150 | F17: 70316 | G17: =H17+I17 -> 70954 | H17: 69487 | I17: 1467
A20: Doplňující údaje :
C21: daň z příjmů,dodatečné odvody daně z příjmů (nákladová položka) | G21: =H21+I21 -> 0 | H21: 0 | I21: 0
A23: Výsledek hospodaření /po zdanění/ | G23: =G17-G15-G21 -> -636 | H23: =H17-H15-H21 -> -649 | I23: =I17-I15-I21 -> 13
A27: b) | B27: Rozdělení výsledku hospodaření | G27: =SUM(G28:G30) -> -637476.83 | H27: v Kč
C28: - Návrh na příděly do fondů: | F28: Fond odměn | G28: 0 | H28: v Kč
F29: Fond rezervní | G29: 0 | H29: v Kč
C30: - Způsob krytí ztráty : | F30: Částka | G30: -637476.83 | H30: v Kč
A31: Ztráta 637 476,83 Kč bude hrazena ze zlepšeného výsledku hospodaření v následujících letech (neuhrazená ztráta minulých let k 31.12.2010 je - 2 377 616,96 Kč).
A34: c) | B34: Závazné ukazatele
F35: Schválená částka | G35: Skutečnost | I35: % plnění
A36: Limit mzdových prostředků | F36: 1197.3 | G36: 1197.3 | H36: v tis. Kč | I36: =G36/F36 -> 1
A37: Neinvestiční příspěvek /odpisy/ | F37: 6776.425 | G37: 6741.3065 | H37: v tis. Kč | I37: =G37/F37 -> 0.99481755
A38: Neinvestiční příspěvek /nájemné/ | F38: 0 | G38: 0 | H38: v tis. Kč | I38: nerozp.
A39: Odvody z investičního fondu /odpisy/ | F39: 5082 | G39: 5082 | H39: v tis. Kč | I39: =G39/F39 -> 1
A40: Odvody z investičního fondu /spolufin. akcí/ | F40: 0 | G40: 0 | H40: v tis. Kč | I40: nerozp.
A43: d) | B43: Fondy | H43: jednotka - Kč na 2 des. místa
E44: Stav k 1.1.2010 | F44: Tvorba | G44: Čerpání | H44: Stav k | I44: Finanční krytí k
H45: 40543 | I45: 40543
C48: Fond odměn | E48: 0 | F48: 0 | G48: 0 | H48: =E48+F48-G48 -> 0 | I48: =H48 -> 0
C49: FKSP | E49: 532698.06 | F49: 711948 | G49: 728741.75 | H49: =E49+F49-G49 -> 515904.31 | I49: 482611.78
C50: Fond rezervní | E50: 512874.25 | F50: 0 | G50: 512111.25 | H50: =E50+F50-G50 -> 763 | I50: =H50 -> 763
C51: Investiční fond | E51: 56725.83 | F51: 6777606.5 | G51: 5852277 | H51: =E51+F51-G51 -> 982055.33 | I51: =H51 -> 982055.33
A52: celkem | E52: =E48+E49+E50+E51 -> 1102298.1 | F52: =F48+F49+F50+F51 -> 7489554.5 | G52: =G48+G49+G50+G51 -> 7093130 | H52: =H48+H49+H50+H51 -> 1498722.6 | I52: =I48+I49+I50+I51 -> 1465430.1

Sheet 1104
A1: REKAPITULACE ZA ORGANIZACI :
A2: Název organizace : | E2: Gymnázium, Šternberk
E3: ……………………………………….……..………………………………………..…………………………………
A4: Adresa : | E4: Horní nám. 5, Šternberk
E5: ……………………………………….……..………………………………………..…………………………………
A6: IČ | E6: 00601764 | G6: ORG | H6: 1104
E7: ……………………………… ………….…..……………………………
E10: Schválený | F10: Upravený | G10: Skutečnost | H10: z toho:
E11: rozpočet | F11: rozpočet | G11: celkem | H11: Hlavní činnost | I11: Doplňková činnost
E12: celkem | F12: celkem | H12: jednotka - tis. Kč na 2 des. místa
A14: a) Náklady a výnosy
A15: Náklady | E15: 7256 | F15: 28660 | G15: =H15+I15 -> 29514 | H15: 29032 | I15: 482
A17: Výnosy | E17: 7304 | F17: 28710 | G17: =H17+I17 -> 29436 | H17: 28875 | I17: 561
A20: Doplňující údaje :
C21: daň z příjmů,dodatečné odvody daně z příjmů (nákladová položka) | G21: =H21+I21 -> 0 | H21: 0 | I21: 0
A23: Výsledek hospodaření /po zdanění/ | G23: =G17-G15-G21 -> -78 | H23: =H17-H15-H21 -> -157 | I23: =I17-I15-I21 -> 79
A27: b) | B27: Rozdělení výsledku hospodaření | G27: =SUM(G28:G30) -> -77629.1 | H27: v Kč
C28: - Návrh na příděly do fondů: | F28: Fond odměn | G28: 0 | H28: v Kč
F29: Fond rezervní | G29: 0 | H29: v Kč
C30: - Způsob krytí ztráty : | F30: Částka | G30: -77629.1 | H30: v Kč
A31: Ztráta 77 629,10 Kč bude pokryta z prostředků rezervního fondu v souladu s ust. § 30, odst. 3d) zákona č. 250/2000 Sb., o rozpočtových pravidlech územních rozpočtů ve znění pozdějších předpisů - použití prostředků rezervního fondu, vyjma poskytnutých darů.
A34: c) | B34: Závazné ukazatele
F35: Schválená částka | G35: Skutečnost | I35: % plnění
A36: Limit mzdových prostředků | F36: 0 | G36: 0 | H36: v tis. Kč | I36: 0
A37: Neinvestiční příspěvek /odpisy/ | F37: 1554.307 | G37: 1542.499 | H37: v tis. Kč | I37: =G37/F37 -> 0.99240305
A38: Neinvestiční příspěvek /nájemné/ | F38: 0 | G38: 0 | H38: v tis. Kč | I38: nerozp.
A39: Odvody z investičního fondu /odpisy/ | F39: 1166 | G39: 1166 | H39: v tis. Kč | I39: =G39/F39 -> 1
A40: Odvody z investičního fondu /spolufin. akcí/ | F40: 0 | G40: 0 | H40: v tis. Kč | I40: nerozp.
A42: d) | B42: Fondy | H42: jednotka - Kč na 2 des. místa
E43: Stav k 1.1.2010 | F43: Tvorba | G43: Čerpání | H43: Stav k | I43: Finanční krytí k
H44: 40543 | I44: 40543
C47: Fond odměn | E47: 6945 | F47: 1000 | G47: 7000 | H47: =E47+F47-G47 -> 945 | I47: =H47 -> 945
C48: FKSP | E48: 309870.22 | F48: 308984 | G48: 378536.5 | H48: =E48+F48-G48 -> 240317.72 | I48: 145915.72
C49: Fond rezervní | E49: =244554.11+27647 -> 272201.11 | F49: =15013.87+281039 -> 296052.87 | G49: =16800+308686 -> 325486 | H49: =E49+F49-G49 -> 242767.98 | I49: =H49-113400 -> 129367.98
C50: Investiční fond | E50: 112070.47 | F50: 1653332 | G50: 1420725.4 | H50: =E50+F50-G50 -> 344677.07 | I50: 356485.07
A51: celkem | E51: =E47+E48+E49+E50 -> 701086.8 | F51: =F47+F48+F49+F50 -> 2259368.9 | G51: =G47+G48+G49+G50 -> 2131747.9 | H51: =H47+H48+H49+H50 -> 828707.77 | I51: =I47+I48+I49+I50 -> 632713.77

Sheet 1105
A1: REKAPITULACE ZA ORGANIZACI :
A2: Název organizace : | E2: Gymnázium, Uničov, Gymnazijní 257
E3: ……………………………………….……..………………………………………..…………………………………
A4: Adresa : | E4: Gymnazijní 257, Uničov
E5: ……………………………………….……..………………………………………..…………………………………
A6: IČ | E6: 00601756 | G6: ORG | H6: 1105
E7: ……………………………… ………….…..……………………………
E10: Schválený | F10: Upravený | G10: Skutečnost | H10: z toho:
E11: rozpočet | F11: rozpočet | G11: celkem | H11: Hlavní činnost | I11: Doplňková činnost
E12: celkem | F12: celkem | H12: jednotka - tis. Kč na 2 des. místa
A14: a) Náklady a výnosy
A15: Náklady | E15: 3381 | F15: 20254 | G15: =H15+I15 -> 20254 | H15: 19691 | I15: 563
A17: Výnosy | E17: 3381 | F17: 20403 | G17: =H17+I17 -> 20403 | H17: 19691 | I17: 712
A20: Doplňující údaje :
C21: daň z příjmů,dodatečné odvody daně z příjmů (nákladová položka) | G21: =H21+I21 -> 0 | H21: 0 | I21: 0
A23: Výsledek hospodaření /po zdanění/ | G23: =G17-G15-G21 -> 149 | H23: =H17-H15-H21 -> 0 | I23: =I17-I15-I21 -> 149
A27: b) | B27: Rozdělení výsledku hospodaření | G27: =SUM(G28:G30) -> 148148.03 | H27: v Kč
C28: - Návrh na příděly do fondů: | F28: Fond odměn | G28: 15000 | H28: v Kč
F29: Fond rezervní | G29: 133148.03 | H29: v Kč
C30: - Způsob krytí ztráty : | F30: Částka | G30: 0 | H30: v Kč
A34: c) | B34: Závazné ukazatele
F35: Schválená částka | G35: Skutečnost | I35: % plnění
A36: Limit mzdových prostředků | F36: 0 | G36: 0 | H36: v tis. Kč | I36: 0
A37: Neinvestiční příspěvek /odpisy/ | F37: 908.687 | G37: 908.687 | H37: v tis. Kč | I37: =G37/F37 -> 1
A38: Neinvestiční příspěvek /nájemné/ | F38: 0 | G38: 0 | H38: v tis. Kč | I38: nerozp.
A39: Odvody z investičního fondu /odpisy/ | F39: 682 | G39: 682 | H39: v tis. Kč | I39: =G39/F39 -> 1
A40: Odvody z investičního fondu /spolufin. akcí/ | F40: 0 | G40: 0 | H40: v tis. Kč | I40: nerozp.
A43: d) | B43: Fondy | H43: jednotka - Kč na 2 des. místa
E44: Stav k 1.1.2010 | F44: Tvorba | G44: Čerpání | H44: Stav k | I44: Finanční krytí k
H45: 40543 | I45: 40543
C48: Fond odměn | E48: 48000 | F48: 10000 | G48: 5000 | H48: =E48+F48-G48 -> 53000 | I48: =H48 -> 53000
C49: FKSP | E49: 67837.26 | F49: 238160.5 | G49: 244426 | H49: =E49+F49-G49 -> 61571.76 | I49: 49239.76
C50: Fond rezervní | E50: 63323.69 | F50: =92812.56+43119 -> 135931.56 | G50: =32127.8+43019 -> 75146.8 | H50: =E50+F50-G50 -> 124108.45 | I50: =H50 -> 124108.45
C51: Investiční fond | E51: 327345.43 | F51: 987942 | G51: 775000 | H51: =E51+F51-G51 -> 540287.43 | I51: =H51 -> 540287.43
A52: celkem | E52: =E48+E49+E50+E51 -> 506506.38 | F52: =F48+F49+F50+F51 -> 1372034.1 | G52: =G48+G49+G50+G51 -> 1099572.8 | H52: =H48+H49+H50+H51 -> 778967.64 | I52: =I48+I49+I50+I51 -> 766635.64

Sheet 1120
A1: REKAPITULACE ZA ORGANIZACI :
A2: Název organizace : | E2: VOŠ a SPŠ elektrotechnická
E3: ……………………………………….……..………………………………………..…………………………………
A4: Adresa : | E4: Božetěchova 3, Olomouc
E5: ……………………………………….……..………………………………………..…………………………………
A6: IČ | E6: 00844012 | G6: ORG | H6: 1120
E7: ……………………………… ………….…..……………………………
E10: Schválený | F10: Upravený | G10: Skutečnost | H10: z toho:
E11: rozpočet | F11: rozpočet | G11: celkem | H11: Hlavní činnost | I11: Doplňková činnost
E12: celkem | F12: celkem | H12: jednotka - tis. Kč na 2 des. místa
A14: a) Náklady a výnosy
A15: Náklady | E15: 3678 | F15: 36111 | G15: =H15+I15 -> 36453 | H15: 36440 | I15: 13
A17: Výnosy | E17: 3678 | F17: 37206 | G17: =H17+I17 -> 36553 | H17: 36506 | I17: 47
A20: Doplňující údaje :
C21: daň z příjmů,dodatečné odvody daně z příjmů (nákladová položka) | G21: =H21+I21 -> 0 | H21: 0 | I21: 0
A23: Výsledek hospodaření /po zdanění/ | G23: =G17-G15-G21 -> 100 | H23: =H17-H15-H21 -> 66 | I23: =I17-I15-I21 -> 34
A27: b) | B27: Rozdělení výsledku hospodaření | G27: =SUM(G28:G30) -> 99879.23 | H27: v Kč
C28: - Návrh na příděly do fondů: | F28: Fond odměn | G28: 10000 | H28: v Kč
F29: Fond rezervní | G29: 89879.23 | H29: v Kč
C30: - Způsob krytí ztráty : | F30: Částka | G30: 0 | H30: v Kč
A35: c) | B35: Závazné ukazatele
F36: Schválená částka | G36: Skutečnost | I36: % plnění
A37: Limit mzdových prostředků | F37: 0 | G37: 0 | H37: v tis. Kč | I37: 0
A38: Neinvestiční příspěvek /odpisy/ | F38: 401 | G38: 400.963 | H38: v tis. Kč | I38: =G38/F38 -> 0.99990773
A39: Neinvestiční příspěvek /nájemné/ | F39: 0 | G39: 0 | H39: v tis. Kč | I39: nerozp.
A40: Odvody z investičního fondu /odpisy/ | F40: 301 | G40: 301 | H40: v tis. Kč | I40: =G40/F40 -> 1
A41: Odvody z investičního fondu /spolufin. akcí/ | F41: 0 | G41: 0 | H41: v tis. Kč | I41: nerozp.
A44: d) | B44: Fondy | H44: jednotka - Kč na 2 des. místa
E45: Stav k 1.1.2010 | F45: Tvorba | G45: Čerpání | H45: Stav k | I45: Finanční krytí k
H46: 40543 | I46: 40543
C49: Fond odměn | E49: 0 | F49: 8900 | G49: 2000 | H49: =E49+F49-G49 -> 6900 | I49: =H49 -> 6900
C50: FKSP | E50: 183338.45 | F50: 372760 | G50: 308596.5 | H50: =E50+F50-G50 -> 247501.95 | I50: 200163.43
C51: Fond rezervní | E51: =70196.65+1710576.94 -> 1780773.6 | F51: 35758.53 | G51: 1710576.9 | H51: =E51+F51-G51 -> 105955.18 | I51: =H51 -> 105955.18
C52: Investiční fond | E52: 377397.25 | F52: 400963 | G52: 509560 | H52: =E52+F52-G52 -> 268800.25 | I52: 268837.25
A53: celkem | E53: =E49+E50+E51+E52 -> 2341509.3 | F53: =F49+F50+F51+F52 -> 818381.53 | G53: =G49+G50+G51+G52 -> 2530733.4 | H53: =H49+H50+H51+H52 -> 629157.38 | I53: =I49+I50+I51+I52 -> 581855.86

Sheet 1121
A1: REKAPITULACE ZA ORGANIZACI :
A2: Název organizace : | E2: Střední průmyslová škola strojnická Olomouc
E3: ……………………………………….……..………………………………………..…………………………………
A4: Adresa : | E4: tř. 17. listopadu 49, Olomouc
E5: ……………………………………….……..………………………………………..…………………………………
A6: IČ | E6: 00601748 | G6: ORG | H6: 1121
E7: ……………………………… ………….…..……………………………
E10: Schválený | F10: Upravený | G10: Skutečnost | H10: z toho:
E11: rozpočet | F11: rozpočet | G11: celkem | H11: Hlavní činnost | I11: Doplňková činnost
E12: celkem | F12: celkem | H12: jednotka - tis. Kč na 2 des. místa
A14: a) Náklady a výnosy
A15: Náklady | E15: 3042 | F15: 23600 | G15: =H15+I15 -> 23899 | H15: 23776 | I15: 123
A17: Výnosy | E17: 3042 | F17: 23861 | G17: =H17+I17 -> 23970 | H17: 23477 | I17: 493
A20: Doplňující údaje :
C21: daň z příjmů,dodatečné odvody daně z příjmů (nákladová položka) | G21: =H21+I21 -> 0 | H21: 0 | I21: 0
A23: Výsledek hospodaření /po zdanění/ | G23: =G17-G15-G21 -> 71 | H23: =H17-H15-H21 -> -299 | I23: =I17-I15-I21 -> 370
A27: b) | B27: Rozdělení výsledku hospodaření | G27: =SUM(G28:G30) -> 70111.87 | H27: v Kč
C28: - Návrh na příděly do fondů: | F28: Fond odměn | G28: 15000 | H28: v Kč
F29: Fond rezervní | G29: 55111.87 | H29: v Kč
C30: - Způsob krytí ztráty : | F30: Částka | G30: 0 | H30: v Kč
A34: c) | B34: Závazné ukazatele
F35: Schválená částka | G35: Skutečnost | I35: % plnění
A36: Limit mzdových prostředků | F36: 0 | G36: 0 | H36: v tis. Kč | I36: 0
A37: Neinvestiční příspěvek /odpisy/ | F37: 330.886 | G37: 330.35 | H37: v tis. Kč | I37: =G37/F37 -> 0.99838011
A38: Neinvestiční příspěvek /nájemné/ | F38: 0 | G38: 0 | H38: v tis. Kč | I38: nerozp.
A39: Odvody z investičního fondu /odpisy/ | F39: 248 | G39: 248 | H39: v tis. Kč | I39: =G39/F39 -> 1
A40: Odvody z investičního fondu /spolufin. akcí/ | F40: 0 | G40: 0 | H40: v tis. Kč | I40: nerozp.
A42: d) | B42: Fondy | H42: jednotka - Kč na 2 des. místa
E43: Stav k 1.1.2010 | F43: Tvorba | G43: Čerpání | H43: Stav k | I43: Finanční krytí k
H44: 40543 | I44: 40543
C47: Fond odměn | E47: 22000 | F47: 15000 | G47: 16500 | H47: =E47+F47-G47 -> 20500 | I47: =H47 -> 20500
C48: FKSP | E48: 131759.69 | F48: 233668.46 | G48: 261145 | H48: =E48+F48-G48 -> 104283.15 | I48: 90029.67
C49: Fond rezervní | E49: 42451.05 | F49: =431735.42+32451.05+245048 -> 709234.47 | G49: 249099.05 | H49: =E49+F49-G49 -> 502586.47 | I49: =H49 -> 502586.47
C50: Investiční fond | E50: 47505.12 | F50: 333916 | G50: 381421.12 | H50: =E50+F50-G50 -> 0 | I50: =H50 -> 0
A51: celkem | E51: =E47+E48+E49+E50 -> 243715.86 | F51: =F47+F48+F49+F50 -> 1291818.9 | G51: =G47+G48+G49+G50 -> 908165.17 | H51: =H47+H48+H49+H50 -> 627369.62 | I51: =I47+I48+I49+I50 -> 613116.14

Sheet 1122
A1: REKAPITULACE ZA ORGANIZACI :
A2: Název organizace : | E2: Střední průmyslová škola a Obchodní akademie Uničov
