Workbook
Name názvy.tisku: Rekapitulace!$7:$8
Name názvy.tisku: #REF!

Sheet Rekapitulace
A1: a) Příspěvkové organizace v oblasti školství | M1: ORJ -10
A2: Správce: vedoucí odboru
A3: Mgr. Miroslav Gajdůšek , MBA
A5: Rekapitulace hospodaření /výsledek hospodaření/ za rok 2010 - okres Přerov
I6: v tis. Kč | M6: v Kč
A7: ORG | B7: Název školy | C7: Adresa | E7: Náklady | F7: Výnosy | G7: Daň | H7: Výsledek hospodaření | J7: Rozdělení do fondů - v Kč | L7: Pokrytí ztráty z minulých let
H8: zlepšený VH | I8: ztráta | J8: Fond rezervní | K8: Fond odměn | M8: Celkem
A9: 1035 | B9: Základní škola | J9: ='1035'!G30 -> 25253.64 | K9: ='1035'!G29 -> 0 | L9: 0 | M9: =J9+K9 -> 25253.64
C10: Sladovní 492 | D10: Kojetín | E10: ='1035'!G16 -> 7027 | F10: ='1035'!G18 -> 7053 | G10: 0 | H10: =(F10-E10) -> 26 | I10: 0 | J10: 0 | K10: 0 | L10: 0 | M10: 0
A11: 1036 | B11: Základní škola a Mateřská škola | J11: ='1036'!G30 -> 0 | K11: ='1036'!G29 -> 0 | L11: 0 | M11: =J11+K11 -> 0
C12: Nová 1820 | D12: Hranice | E12: ='1036'!G16 -> 16053 | F12: ='1036'!G18 -> 16053 | G12: 0 | H12: =(F12-E12-G12) -> 0 | I12: 0 | J12: 0 | K12: 0 | L12: 0 | M12: 0
A13: 1037 | B13: Základní škola a Mateřská škola | J13: 0 | K13: 0 | L13: 0 | M13: =J13+K13 -> 0
C14: Malá Dlážka 4 | D14: Přerov | E14: ='1037'!G16 -> 15757 | F14: ='1037'!G18 -> 15757 | G14: 0 | H14: =(F14-E14-G14) -> 0 | I14: 0 | J14: 0 | K14: 0 | L14: 0 | M14: 0
A15: 1038 | B15: Základní škola | J15: ='1038'!G30 -> 0 | K15: ='1038'!G29 -> 0 | L15: ='1038'!G3 -> 0 | M15: =J15+K15+L15 -> 0
C16: Osecká 301 | D16: Lipník n.B. | E16: ='1038'!G16 -> 12305 | F16: ='1038'!G18 -> 12156 | G16: 0 | H16: 0 | I16: =F16-E16-G16 -> -149 | J16: 0 | K16: 0 | L16: 0 | M16: =J16+K16 -> 0
A17: 1108 | B17: Gymnázium Jakuba Škody | J17: ='1108'!G30 -> 45855.34 | K17: ='1108'!G29 -> 20000 | L17: 0 | M17: =J17+K17 -> 65855.34
C18: Komenského 29 | D18: Přerov | E18: ='1108'!G16 -> 40923 | F18: ='1108'!G18 -> 40989 | G18: 0 | H18: =(F18-E18-G18) -> 66 | I18: 0 | J18: =J17/M17 -> 0.69630405 | K18: =K17/M17 -> 0.30369595 | L18: 0 | M18: 1
A19: 1109 | B19: Gymnázium | J19: ='1109'!G30 -> 11043.29 | K19: ='1109'!G29 -> 1000 | L19: 0 | M19: =J19+K19 -> 12043.29
C20: Zborovská 293 | D20: Hranice | E20: ='1109'!G16 -> 22531 | F20: ='1109'!G18 -> 22544 | G20: 0 | H20: =(F20-E20-G20) -> 13 | I20: 0 | J20: =J19/M19 -> 0.91696621 | K20: =K19/M19 -> 0.083033789 | L20: 0 | M20: 1
A21: 1110 | B21: Gymnázium | J21: ='1110'!G30 -> 162897.73 | K21: ='1110'!G29 -> 25000 | L21: 0 | M21: =J21+K21 -> 187897.73
C22: Svat. Čecha 683 | D22: Kojetín | E22: ='1110'!G16 -> 20244 | F22: ='1110'!G18 -> 20432 | G22: 0 | H22: =F22-E22-G22 -> 188 | I22: 0 | J22: =J21/M21 -> 0.8669489 | K22: =K21/M21 -> 0.1330511 | L22: 0 | M22: 1
A23: 1128 | B23: Střední průmyslová škola | J23: ='1128'!G30 -> 621765.88 | K23: ='1128'!G29 -> 33700 | L23: ='1128'!G31 -> 0 | M23: =J23+K23+L23 -> 655465.88
C24: Studentská 1384 | D24: Hranice | E24: ='1128'!G16 -> 46434 | F24: ='1128'!G18 -> 47247 | G24: ='1128'!G22 -> 159 | H24: =F24-E24-G24 -> 654 | I24: 0 | J24: 0 | K24: 0 | L24: 0 | M24: 1
A25: 1129 | B25: Střední průmyslová škola stavební | J25: ='1129'!G30 -> 13545.86 | K25: ='1129'!G29 -> 0 | L25: 0 | M25: =J25+K25 -> 13545.86
C26: Komen.sady 257 | D26: Lipník n.B. | E26: ='1129'!G16 -> 22336 | F26: ='1129'!G18 -> 22349 | G26: 0 | H26: =(F26-E26-G26) -> 13 | I26: 0 | J26: =J25/M25 -> 1 | K26: =K25/M25 -> 0 | L26: 0 | M26: 0
A27: 1130 | B27: Střední průmyslová škola | J27: ='1130'!G30 -> 80121.12 | K27: ='1130'!G29 -> 6000 | L27: 0 | M27: =J27+K27 -> 86121.12
C28: Havlíčkova 2 | D28: Přerov | E28: ='1130'!G16 -> 21398 | F28: ='1130'!G18 -> 21484 | G28: 0 | H28: =(F28-E28-G28) -> 86 | I28: 0 | J28: =J27/M27 -> 0.93033068 | K28: =K27/M27 -> 0.069669322 | L28: 0 | M28: 1
A29: 1131 | B29: Střední škola gastronomie a služeb | J29: ='1131'!G30 -> 243473.74 | K29: ='1131'!G29 -> 1000 | L29: 0 | M29: =J29+K29 -> 244473.74
C30: Šířava 7 | D30: Přerov | E30: ='1131'!G16 -> 43770 | F30: ='1131'!G18 -> 44018 | G30: 0 | H30: =(F30-E30-G30) -> 248 | I30: 0 | J30: =J29/M29 -> 0.99590958 | K30: =K29/M29 -> 0.0040904189 | L30: 0 | M30: 1
A31: 1132 | B31: Střední lesnická škola | J31: ='1132'!G30 -> 175466.71 | K31: ='1132'!G29 -> 1000 | L31: 0 | M31: =J31+K31 -> 176466.71
C32: Jurikova 588 | D32: Hranice | E32: ='1132'!G16 -> 50832 | F32: ='1132'!G18 -> 51013 | G32: ='1132'!G22 -> 5 | H32: =(F32-E32-G32) -> 176 | I32: 0 | J32: =J31/M31 -> 0.99433321 | K32: =K31/M31 -> 0.0056667912 | L32: 0 | M32: 1
A33: 1133 | B33: Gymnázium Jana Blahoslava a Střední pedagogická škola | J33: ='1133'!G30 -> 2411.65 | K33: ='1133'!G29 -> 1500 | L33: 0 | M33: =J33+K33 -> 3911.65
C34: Denisova 3 | D34: Přerov | E34: ='1133'!G16 -> 54370 | F34: ='1133'!G18 -> 54374 | G34: 0 | H34: =(F34-E34-G34) -> 4 | I34: 0 | J34: =J33/M33 -> 0.61653011 | K34: =K33/M33 -> 0.38346989 | L34: 0 | M34: 1
A35: 1134 | B35: Střední škola zemědělská | J35: ='1134'!G30 -> 0 | K35: ='1134'!G29 -> 0 | L35: 0 | M35: 0
C36: Osmek 47 | D36: Přerov | E36: ='1134'!G16 -> 35840 | F36: ='1134'!G18 -> 35835 | G36: ='1134'!G22 -> 96 | H36: 0 | I36: =F36-E36-G36 -> -101 | J36: 0 | K36: 0 | L36: 0 | M36: 0
A37: 1152 | B37: Obchodní akademie a Jazyková škola | J37: ='1152'!G30 -> 8937.79 | K37: ='1152'!G29 -> 1000 | L37: 0 | M37: =J37+K37 -> 9937.79
C38: Bartošova 24 | D38: Přerov | E38: ='1152'!G16 -> 20021 | F38: ='1152'!G18 -> 20030 | G38: 0 | H38: =(F38-E38-G38) -> 9 | I38: 0 | J38: =J37/M37 -> 0.89937401 | K38: =K37/M37 -> 0.10062599 | L38: 0 | M38: 1
A39: 1162 | B39: Střední zdravotnická škola | J39: ='1162'!G30 -> 202129.81 | K39: ='1162'!G29 -> 20000 | L39: 0 | M39: =J39+K39 -> 222129.81
C40: Studentská 1095 | D40: Hranice | E40: ='1162'!G16 -> 16342 | F40: ='1162'!G18 -> 16565 | G40: 0 | H40: =(F40-E40-G40) -> 223 | I40: 0 | J40: =J39/M39 -> 0.90996256 | K40: =K39/M39 -> 0.090037443 | L40: 0 | M40: 1
A41: 1171 | B41: Střední škola elektrotechnická | J41: ='1171'!G30 -> 98974.73 | K41: ='1171'!G29 -> 1000 | L41: 0 | M41: =J41+K41 -> 99974.73
...

Sheet 1035
A1: REKAPITULACE ZA ORGANIZACI :
A2: Název organizace : | E2: Základní škola Kojetín, Sladovní 492
E3: ……………………………………….……..………………………………………..…………………………………
A4: Adresa : | E4: Sladovní 492, Kojetín
E5: ……………………………………….……..………………………………………..…………………………………
A6: IČ | E6: 61985937 | G6: ORG | I6: 1035
E7: ……………………………… ………….…..……………………………
E11: Schválený | F11: Upravený | G11: Skutečnost | H11: z toho:
E12: rozpočet | F12: rozpočet | G12: celkem | H12: Hlavní činnost | I12: Doplňková činnost
E13: celkem | F13: celkem | H13: jednotka - tis. Kč na 2 des. místa
A15: a) Náklady a výnosy
A16: Náklady | E16: 680 | F16: 6959 | G16: =H16+I16 -> 7027 | H16: 7027 | I16: 0
A18: Výnosy | E18: 680 | F18: 7247 | G18: =H18+I18 -> 7053 | H18: 7053 | I18: 0
A21: Doplňující údaje :
C22: daň z příjmů,dodatečné odvody daně z příjmů (nákladová položka) | G22: =H22+I22 -> 0 | H22: 0 | I22: 0
A24: Výsledek hospodaření /po zdanění/ | G24: =G18-G16-G22 -> 26 | H24: =H18-H16-H22 -> 26 | I24: =I18-I16-I22 -> 0
A28: b) | B28: Rozdělení výsledku hospodaření | G28: =G29+G30+G31 -> 25253.64 | H28: v Kč
C29: - Návrh na příděly do fondů: | F29: Fond odměn | G29: 0 | H29: v Kč
F30: Fond rezervní | G30: 25253.64 | H30: v Kč
C31: - Způsob krytí ztráty : | F31: Částka | G31: 0 | H31: v Kč
A35: c) | B35: Závazné ukazatele
F36: Schválená částka | G36: Skutečnost | I36: % plnění
A37: Limit mzdových prostředků | F37: 0 | G37: 0 | H37: v tis. Kč | I37: 0
A38: Neinvestiční příspěvek /odpisy/ | F38: 9.99 | G38: 9.996 | H38: v tis. Kč | I38: =G38/F38 -> 1.0006006
A39: Neinvestiční příspěvek /nájemné/ | F39: 0 | G39: 0 | H39: v tis. Kč | I39: nerozp.
A40: Odvody z investičního fondu /odpisy/ | F40: 8 | G40: 8 | H40: v tis. Kč | I40: =G40/F40 -> 1
A41: Odvody z investičního fondu | E41: /spolufin. akcí/ | F41: 0 | G41: 0 | H41: v tis. Kč | I41: nerozp.
A42: Pozn.: Vynaložené odpisy nad stanovený limit byly finančně pokryty z provozních prostředků organizace- 6,- Kč.
A44: d) | B44: Fondy | H44: jednotka - Kč na 2 des. místa
E45: Stav k 1.1.2010 | F45: Tvorba | G45: Čerpání | H45: Stav k | I45: Finanční krytí k
H46: 40543 | I46: 40543
C49: Fond odměn | E49: 525476 | F49: 0 | G49: 0 | H49: =E49+F49-G49 -> 525476 | I49: =H49 -> 525476
C50: FKSP | E50: 13528.2 | F50: 84226 | G50: 51018 | H50: =E50+F50-G50 -> 46736.2 | I50: 31765.2
C51: Fond rezervní | E51: 162046.54 | F51: 0 | G51: 0 | H51: =E51+F51-G51 -> 162046.54 | I51: =H51 -> 162046.54
C52: Investiční fond | E52: 171063.73 | F52: 9996 | G52: 8000 | H52: =E52+F52-G52 -> 173059.73 | I52: =H52 -> 173059.73
A53: celkem | E53: =E49+E50+E51+E52 -> 872114.47 | F53: =F49+F50+F51+F52 -> 94222 | G53: =G49+G50+G51+G52 -> 59018 | H53: =H49+H50+H51+H52 -> 907318.47 | I53: =I49+I50+I51+I52 -> 892347.47

Sheet 1036
A1: REKAPITULACE ZA ORGANIZACI :
A2: Název organizace : | E2: Základní škola a Mateřská škola Hranice, Nová 1820
E3: ……………………………………….……..………………………………………..…………………………………
A4: Adresa : | E4: Nová 1820, Hranice
E5: ……………………………………….……..………………………………………..…………………………………
A6: IČ | E6: 61985988 | G6: ORG | I6: 1036
E7: ……………………………… ………….…..……………………………
E11: Schválený | F11: Upravený | G11: Skutečnost | H11: z toho:
E12: rozpočet | F12: rozpočet | G12: celkem | H12: Hlavní činnost | I12: Doplňková činnost
E13: celkem | F13: celkem | H13: jednotka - tis. Kč na 2 des. místa
A15: a) Náklady a výnosy
A16: Náklady | E16: 3043 | F16: 15976 | G16: =H16+I16 -> 16053 | H16: 15917 | I16: 136
A18: Výnosy | E18: 3043 | F18: 15945 | G18: =H18+I18 -> 16053 | H18: 15856 | I18: 197
A21: Doplňující údaje :
C22: daň z příjmů,dodatečné odvody daně z příjmů (nákladová položka) | G22: =H22+I22 -> 0 | H22: 0 | I22: 0
A24: Výsledek hospodaření /po zdanění/ | G24: =G18-G16-G22 -> 0 | H24: =H18-H16-H22 -> -61 | I24: =I18-I16-I22 -> 61
A28: b) | B28: Rozdělení výsledku hospodaření | G28: =G29+G30+G31 -> 0 | H28: v Kč
C29: - Návrh na příděly do fondů: | F29: Fond odměn | G29: 0 | H29: v Kč
F30: Fond rezervní | G30: 0 | H30: v Kč
C31: - Způsob krytí ztráty : | F31: Částka | G31: 0 | H31: v Kč
A35: c) | B35: Závazné ukazatele
F36: Schválená částka | G36: Skutečnost | I36: % plnění
A37: Limit mzdových prostředků | F37: 0 | G37: 0 | H37: v tis. Kč | I37: 0
A38: Neinvestiční příspěvek /odpisy/ | F38: 390.941 | G38: 390.9408 | H38: v tis. Kč | I38: =G38/F38 -> 0.99999949
A39: Neinvestiční příspěvek /nájemné/ | F39: 0 | G39: 0 | H39: v tis. Kč | I39: nerozp.
A40: Odvody z investičního fondu /odpisy/ | F40: 293 | G40: 293 | H40: v tis. Kč | I40: =G40/F40 -> 1
A41: Odvody z investičního fondu | E41: /spolufin. akcí/ | F41: 0 | G41: 0 | H41: v tis. Kč | I41: nerozp.
A43: d) | B43: Fondy | H43: jednotka - Kč na 2 des. místa
E44: Stav k 1.1.2010 | F44: Tvorba | G44: Čerpání | H44: Stav k | I44: Finanční krytí k
H45: 40543 | I45: 40543
C48: Fond odměn | E48: 175060 | F48: 10000 | G48: 13970 | H48: =E48+F48-G48 -> 171090 | I48: =H48 -> 171090
C49: FKSP | E49: 66685.31 | F49: 183036.4 | G49: 121927 | H49: =E49+F49-G49 -> 127794.71 | I49: 109039.52
C50: Fond rezervní | E50: 274954.64 | F50: 120835.68 | G50: 109783.71 | H50: =E50+F50-G50 -> 286006.61 | I50: =H50 -> 286006.61
C51: Investiční fond | E51: 202252.83 | F51: 401986.8 | G51: 293000 | H51: =E51+F51-G51 -> 311239.63 | I51: =H51 -> 311239.63
A52: celkem | E52: =E48+E49+E50+E51 -> 718952.78 | F52: =F48+F49+F50+F51 -> 715858.88 | G52: =G48+G49+G50+G51 -> 538680.71 | H52: =H48+H49+H50+H51 -> 896130.95 | I52: =I48+I49+I50+I51 -> 877375.76

Sheet 1037
A1: REKAPITULACE ZA ORGANIZACI :
A2: Název organizace : | E2: Základní škola a Mateřská škola Přerov, Malá dlážka 4
E3: ……………………………………….……..………………………………………..…………………………………
A4: Adresa : | E4: Malá Dlážka 4, Přerov
E5: ……………………………………….……..………………………………………..…………………………………
A6: IČ | E6: 49558978 | G6: ORG | I6: 1037
E7: ……………………………… ………….…..……………………………
E11: Schválený | F11: Upravený | G11: Skutečnost | H11: z toho:
E12: rozpočet | F12: rozpočet | G12: celkem | H12: Hlavní činnost | I12: Doplňková činnost
E13: celkem | F13: celkem | H13: jednotka - tis. Kč na 2 des. místa
A15: a) Náklady a výnosy
A16: Náklady | E16: 2722 | F16: 15725 | G16: =H16+I16 -> 15757 | H16: 15757 | I16: 0
A18: Výnosy | E18: 2722 | F18: 16374 | G18: =H18+I18 -> 15757 | H18: 15757 | I18: 0
A21: Doplňující údaje :
C22: daň z příjmů,dodatečné odvody daně z příjmů (nákladová položka) | G22: =H22+I22 -> 0 | H22: 0 | I22: 0
A24: Výsledek hospodaření /po zdanění/ | G24: =G18-G16-G22 -> 0 | H24: =H18-H16-H22 -> 0 | I24: =I18-I16-I22 -> 0
A28: b) | B28: Rozdělení výsledku hospodaření | G28: =G29+G30+G31 -> 0 | H28: v Kč
C29: - Návrh na příděly do fondů: | F29: Fond odměn | G29: 0 | H29: v Kč
F30: Fond rezervní | G30: 0 | H30: v Kč
C31: - Způsob krytí ztráty : | F31: Částka | G31: 0 | H31: v Kč
A35: c) | B35: Závazné ukazatele
F36: Schválená částka | G36: Skutečnost | I36: % plnění
A37: Limit mzdových prostředků | F37: 306 | G37: 300.9 | H37: v tis. Kč | I37: =G37/F37 -> 0.98333333
A38: Neinvestiční příspěvek /odpisy/ | F38: 0 | G38: 0 | H38: v tis. Kč | I38: 0
A39: Neinvestiční příspěvek /nájemné/ | F39: 0 | G39: 0 | H39: v tis. Kč | I39: nerozp.
A40: Odvody z investičního fondu /odpisy/ | F40: 0 | G40: 0 | H40: v tis. Kč | I40: 0
A41: Odvody z investičního fondu | E41: /spolufin. akcí/ | F41: 0 | G41: 0 | H41: v tis. Kč | I41: nerozp.
A43: d) | B43: Fondy | H43: jednotka - Kč na 2 des. místa
E44: Stav k 1.1.2010 | F44: Tvorba | G44: Čerpání | H44: Stav k | I44: Finanční krytí k
H45: 40543 | I45: 40543
C48: Fond odměn | E48: 279829 | F48: 0 | G48: 0 | H48: =E48+F48-G48 -> 279829 | I48: =H48 -> 279829
C49: FKSP | E49: 90187.12 | F49: 188228 | G49: 162232 | H49: =E49+F49-G49 -> 116183.12 | I49: 97910.59
C50: Fond rezervní | E50: =68566.79+228654.85 -> 297221.64 | F50: 0 | G50: 228654.85 | H50: =E50+F50-G50 -> 68566.79 | I50: =H50 -> 68566.79
C51: Investiční fond | E51: 96818.4 | F51: 0 | G51: 0 | H51: =E51+F51-G51 -> 96818.4 | I51: =H51 -> 96818.4
A52: celkem | E52: =E48+E49+E50+E51 -> 764056.16 | F52: =F48+F49+F50+F51 -> 188228 | G52: =G48+G49+G50+G51 -> 390886.85 | H52: =H48+H49+H50+H51 -> 561397.31 | I52: =I48+I49+I50+I51 -> 543124.78

Sheet 1038
A1: REKAPITULACE ZA ORGANIZACI :
A2: Název organizace : | E2: Základní škola Lipník nad Bečvou, Osecká 301
E3: ……………………………………….……..………………………………………..…………………………………
A4: Adresa : | E4: Osecká 301, Lipník nad Bečvou
E5: ……………………………………….……..………………………………………..…………………………………
A6: IČ | E6: 61985953 | G6: ORG | I6: 1038
E7: ……………………………… ………….…..……………………………
E11: Schválený | F11: Upravený | G11: Skutečnost | H11: z toho:
E12: rozpočet | F12: rozpočet | G12: celkem | H12: Hlavní činnost | I12: Doplňková činnost
E13: celkem | F13: celkem | H13: jednotka - tis. Kč na 2 des. místa
A15: a) Náklady a výnosy
A16: Náklady | E16: 1363 | F16: 12524 | G16: =H16+I16 -> 12305 | H16: 12213 | I16: 92
A18: Výnosy | E18: 1363 | F18: 12550 | G18: =H18+I18 -> 12156 | H18: 12013 | I18: 143
A21: Doplňující údaje :
C22: daň z příjmů,dodatečné odvody daně z příjmů (nákladová položka) | G22: =H22+I22 -> 0 | H22: 0 | I22: 0
A24: Výsledek hospodaření /po zdanění/ | G24: =G18-G16-G22 -> -149 | H24: =H18-H16-H22 -> -200 | I24: =I18-I16-I22 -> 51
A28: b) | B28: Rozdělení výsledku hospodaření | G28: =G29+G30+G31 -> -146436.74 | H28: v Kč
C29: - Návrh na příděly do fondů: | F29: Fond odměn | G29: 0 | H29: v Kč
F30: Fond rezervní | G30: 0 | H30: v Kč
C31: - Způsob krytí ztráty : | F31: Částka | G31: -146436.74 | H31: v Kč
A32: Ztráta 146 436,74 Kč bude pokryta ze zlepšeného hospodářského výsledku v následujících letech (103 931,76 Kč) a z prostředků rezervního fondu (42 504,98 Kč) v souladu s ust. § 30, odst. 3d) zákona č. 250/2000 Sb., o rozpočtových pravidlech územních rozpočtů ve znění pozdějších předpisů - použití prostředků rezervního fondu, vyjma poskytnutých darů.
A36: c) | B36: Závazné ukazatele
F37: Schválená částka | G37: Skutečnost | I37: % plnění
A38: Limit mzdových prostředků | F38: 0 | G38: 0 | H38: v tis. Kč | I38: 0
A39: Neinvestiční příspěvek /odpisy/ | F39: 575 | G39: 565.871 | H39: v tis. Kč | I39: =G39/F39 -> 0.98412348
A40: Neinvestiční příspěvek /nájemné/ | F40: 0 | G40: 0 | H40: v tis. Kč | I40: nerozp.
A41: Odvody z investičního fondu /odpisy/ | F41: 431 | G41: 431 | H41: v tis. Kč | I41: =G41/F41 -> 1
A42: Odvody z investičního fondu | E42: /spolufin. akcí/ | F42: 0 | G42: 0 | H42: v tis. Kč | I42: nerozp.
A44: d) | B44: Fondy | H44: jednotka - Kč na 2 des. místa
E45: Stav k 1.1.2010 | F45: Tvorba | G45: Čerpání | H45: Stav k | I45: Finanční krytí k
H46: 40543 | I46: 40543
C49: Fond odměn | E49: 2475 | F49: 5370 | G49: 2000 | H49: =E49+F49-G49 -> 5845 | I49: =H49 -> 5845
C50: FKSP | E50: 86075.75 | F50: 151623.44 | G50: 180486 | H50: =E50+F50-G50 -> 57213.19 | I50: 38887.06
C51: Fond rezervní | E51: 555.8 | F51: 45794.96 | G51: 3845.78 | H51: =E51+F51-G51 -> 42504.98 | I51: =H51 -> 42504.98
C52: Investiční fond | E52: 38599.46 | F52: 610582 | G52: 495138.8 | H52: =E52+F52-G52 -> 154042.66 | I52: =H52 -> 154042.66
A53: celkem | E53: =E49+E50+E51+E52 -> 127706.01 | F53: =F49+F50+F51+F52 -> 813370.4 | G53: =G49+G50+G51+G52 -> 681470.58 | H53: =H49+H50+H51+H52 -> 259605.83 | I53: =I49+I50+I51+I52 -> 241279.7

Sheet 1108
A1: REKAPITULACE ZA ORGANIZACI :
A2: Název organizace : | E2: Gymnázium Jakuba Škody, Přerov, Komenského 29
E3: ……………………………………….……..………………………………………..…………………………………
A4: Adresa : | E4: Komenského 29, Přerov
E5: ……………………………………….……..………………………………………..…………………………………
A6: IČ | E6: 00842966 | G6: ORG | I6: 1108
E7: ……………………………… ………….…..……………………………
E11: Schválený | F11: Upravený | G11: Skutečnost | H11: z toho:
E12: rozpočet | F12: rozpočet | G12: celkem | H12: Hlavní činnost | I12: Doplňková činnost
E13: celkem | F13: celkem | H13: jednotka - tis. Kč na 2 des. místa
A15: a) Náklady a výnosy
A16: Náklady | E16: 10708 | F16: 40886 | G16: =H16+I16 -> 40923 | H16: 40696 | I16: 227
A18: Výnosy | E18: 10708 | F18: 40886 | G18: =H18+I18 -> 40989 | H18: 40696 | I18: 293
A21: Doplňující údaje :
C22: daň z příjmů,dodatečné odvody daně z příjmů (nákladová položka) | G22: =H22+I22 -> 0 | H22: 0 | I22: 0
A24: Výsledek hospodaření /po zdanění/ | G24: =G18-G16-G22 -> 66 | H24: =H18-H16-H22 -> 0 | I24: =I18-I16-I22 -> 66
A28: b) | B28: Rozdělení výsledku hospodaření | G28: =G29+G30+G31 -> 65855.34 | H28: v Kč
C29: - Návrh na příděly do fondů: | F29: Fond odměn | G29: 20000 | H29: v Kč
F30: Fond rezervní | G30: 45855.34 | H30: v Kč
C31: - Způsob krytí ztráty : | F31: Částka | G31: 0 | H31: v Kč
A35: c) | B35: Závazné ukazatele
F36: Schválená částka | G36: Skutečnost | I36: % plnění
A37: Limit mzdových prostředků | F37: 1140 | G37: 723.7 | H37: v tis. Kč | I37: =G37/F37 -> 0.63482456
A38: Neinvestiční příspěvek /odpisy/ | F38: 452.668 | G38: 457.22302 | H38: v tis. Kč | I38: =G38/F38 -> 1.0100626
A39: Neinvestiční příspěvek /nájemné/ | F39: 0 | G39: 0 | H39: v tis. Kč | I39: nerozp.
A40: Odvody z investičního fondu /odpisy/ | F40: 340 | G40: 340 | H40: v tis. Kč | I40: =G40/F40 -> 1
A41: Odvody z investičního fondu | E41: /spolufin. akcí/ | F41: 0 | G41: 0 | H41: v tis. Kč | I41: nerozp.
A42: Pozn.: Vynaložené odpisy nad stanovený limit byly finančně pokryty z provozních prostředků organizace- 4 555,02 Kč.
A44: d) | B44: Fondy | H44: jednotka - Kč na 2 des. místa
E45: Stav k 1.1.2010 | F45: Tvorba | G45: Čerpání | H45: Stav k | I45: Finanční krytí k
H46: 40543 | I46: 40543
C49: Fond odměn | E49: 53830.71 | F49: 15000 | G49: 33721.56 | H49: =E49+F49-G49 -> 35109.15 | I49: =H49 -> 35109.15
C50: FKSP | E50: 88062.63 | F50: 419337.64 | G50: 503232 | H50: =E50+F50-G50 -> 4168.27 | I50: 11764.27
C51: Fond rezervní | E51: 516282.68 | F51: =56443.08+155727.86 -> 212170.94 | G51: =61721+518365.82 -> 580086.82 | H51: =E51+F51-G51 -> 148366.8 | I51: =54359.94+93932.86 -> 148292.8
C52: Investiční fond | E52: 63811.14 | F52: 470816.8 | G52: 375278.4 | H52: =E52+F52-G52 -> 159349.54 | I52: =H52 -> 159349.54
A53: celkem | E53: =E49+E50+E51+E52 -> 721987.16 | F53: =F49+F50+F51+F52 -> 1117325.4 | G53: =G49+G50+G51+G52 -> 1492318.8 | H53: =H49+H50+H51+H52 -> 346993.76 | I53: =I49+I50+I51+I52 -> 354515.76

Sheet 1109
A1: REKAPITULACE ZA ORGANIZACI :
A2: Název organizace : | E2: Gymnázium, Hranice, Zborovská 293
E3: ……………………………………….……..………………………………………..…………………………………
A4: Adresa : | E4: Zborovská 293, Hranice
E5: ……………………………………….……..………………………………………..…………………………………
A6: IČ | E6: 70259909 | G6: ORG | I6: 1109
E7: ……………………………… ………….…..……………………………
E11: Schválený | F11: Upravený | G11: Skutečnost | H11: z toho:
E12: rozpočet | F12: rozpočet | G12: celkem | H12: Hlavní činnost | I12: Doplňková činnost
E13: celkem | F13: celkem | H13: jednotka - tis. Kč na 2 des. místa
A15: a) Náklady a výnosy
A16: Náklady | E16: 3661 | F16: 21986 | G16: =H16+I16 -> 22531 | H16: 22324 | I16: 207
A18: Výnosy | E18: 3661 | F18: 22729 | G18: =H18+I18 -> 22544 | H18: 22281 | I18: 263
A21: Doplňující údaje :
C22: daň z příjmů,dodatečné odvody daně z příjmů (nákladová položka) | G22: =H22+I22 -> 0 | H22: 0 | I22: 0
A24: Výsledek hospodaření /po zdanění/ | G24: =G18-G16-G22 -> 13 | H24: =H18-H16-H22 -> -43 | I24: =I18-I16-I22 -> 56
A28: b) | B28: Rozdělení výsledku hospodaření | G28: =G29+G30+G31 -> 12043.29 | H28: v Kč
C29: - Návrh na příděly do fondů: | F29: Fond odměn | G29: 1000 | H29: v Kč
F30: Fond rezervní | G30: 11043.29 | H30: v Kč
C31: - Způsob krytí ztráty : | F31: Částka | G31: 0 | H31: v Kč
A35: c) | B35: Závazné ukazatele
F36: Schválená částka | G36: Skutečnost | I36: % plnění
A37: Limit mzdových prostředků | F37: 121 | G37: 120.78 | H37: v tis. Kč | I37: =G37/F37 -> 0.99818182
A38: Neinvestiční příspěvek /odpisy/ | F38: 814.98 | G38: 814.9805 | H38: v tis. Kč | I38: =G38/F38 -> 1.0000006
A39: Neinvestiční příspěvek /nájemné/ | F39: 0 | G39: 0 | H39: v tis. Kč | I39: nerozp.
A40: Odvody z investičního fondu /odpisy/ | F40: 611 | G40: 611 | H40: v tis. Kč | I40: =G40/F40 -> 1
A41: Odvody z investičního fondu | E41: /spolufin. akcí/ | F41: 0 | G41: 0 | H41: v tis. Kč | I41: nerozp.
A42: Pozn.: Vynaložené odpisy nad stanovený limit byly finančně pokryty z provozních prostředků organizace- 0,50 Kč.
A44: d) | B44: Fondy | H44: jednotka - Kč na 2 des. místa
E45: Stav k 1.1.2010 | F45: Tvorba | G45: Čerpání | H45: Stav k | I45: Finanční krytí k
H46: 40543 | I46: 40543
C49: Fond odměn | E49: 12100 | F49: 1000 | G49: 2000 | H49: =E49+F49-G49 -> 11100 | I49: =H49 -> 11100
C50: FKSP | E50: 147968.95 | F50: 261408.32 | G50: 260092 | H50: =E50+F50-G50 -> 149285.27 | I50: =H50 -> 149285.27
C51: Fond rezervní | E51: 35537.05 | F51: =24745.55+63376.6 -> 88122.15 | G51: 5815 | H51: =E51+F51-G51 -> 117844.2 | I51: =50202.1+63376.6 -> 113578.7
C52: Investiční fond | E52: 351778.61 | F52: 878674.5 | G52: 827868 | H52: =E52+F52-G52 -> 402585.11 | I52: =H52 -> 402585.11
A53: celkem | E53: =E49+E50+E51+E52 -> 547384.61 | F53: =F49+F50+F51+F52 -> 1229205 | G53: =G49+G50+G51+G52 -> 1095775 | H53: =H49+H50+H51+H52 -> 680814.58 | I53: =I49+I50+I51+I52 -> 676549.08

Sheet 1110
A1: REKAPITULACE ZA ORGANIZACI :
A2: Název organizace : | E2: Gymnázium, Kojetín, Svatopluka Čecha 683
E3: ……………………………………….……..………………………………………..…………………………………
A4: Adresa : | E4: Svatopluka Čecha 683, Kojetín
E5: ……………………………………….……..………………………………………..…………………………………
A6: IČ | E6: 70259861 | G6: ORG | I6: 1110
E7: ……………………………… ………….…..……………………………
E11: Schválený | F11: Upravený | G11: Skutečnost | H11: z toho:
E12: rozpočet | F12: rozpočet | G12: celkem | H12: Hlavní činnost | I12: Doplňková činnost
E13: celkem | F13: celkem | H13: jednotka - tis. Kč na 2 des. místa
A15: a) Náklady a výnosy
A16: Náklady | E16: 3385 | F16: 20141 | G16: =H16+I16 -> 20244 | H16: 20123 | I16: 121
A18: Výnosy | E18: 3385 | F18: 19541 | G18: =H18+I18 -> 20432 | H18: 20128 | I18: 304
A21: Doplňující údaje :
C22: daň z příjmů,dodatečné odvody daně z příjmů (nákladová položka) | G22: =H22+I22 -> 0 | H22: 0 | I22: 0
A24: Výsledek hospodaření /po zdanění/ | G24: =G18-G16-G22 -> 188 | H24: =H18-H16-H22 -> 5 | I24: =I18-I16-I22 -> 183
A28: b) | B28: Rozdělení výsledku hospodaření | G28: =G29+G30+G31 -> 187897.73 | H28: v Kč
C29: - Návrh na příděly do fondů: | F29: Fond odměn | G29: 25000 | H29: v Kč
F30: Fond rezervní | G30: 162897.73 | H30: v Kč
C31: - Způsob krytí ztráty : | F31: Částka | G31: 0 | H31: v Kč
A35: c) | B35: Závazné ukazatele
F36: Schválená částka | G36: Skutečnost | I36: % plnění
A37: Limit mzdových prostředků | F37: 0 | G37: 0 | H37: v tis. Kč | I37: 0
A38: Neinvestiční příspěvek /odpisy/ | F38: 975.828 | G38: 975.828 | H38: v tis. Kč | I38: =G38/F38 -> 1
A39: Neinvestiční příspěvek /nájemné/ | F39: 0 | G39: 0 | H39: v tis. Kč | I39: nerozp.
A40: Odvody z investičního fondu /odpisy/ | F40: 732 | G40: 732 | H40: v tis. Kč | I40: =G40/F40 -> 1
A41: Odvody z investičního fondu | E41: /spolufin. akcí/ | F41: 0 | G41: 0 | H41: v tis. Kč | I41: nerozp.
A42: Pozn.: Odvod z investičního fondu - ROP ve výši 12 793,32 tis. Kč
A44: d) | B44: Fondy | H44: jednotka - Kč na 2 des. místa
E45: Stav k 1.1.2010 | F45: Tvorba | G45: Čerpání | H45: Stav k | I45: Finanční krytí k
H46: 40543 | I46: 40543
C49: Fond odměn | E49: 5800 | F49: 12300 | G49: 2000 | H49: =E49+F49-G49 -> 16100 | I49: =H49 -> 16100
C50: FKSP | E50: 153164.52 | F50: 198654 | G50: 248017 | H50: =E50+F50-G50 -> 103801.52 | I50: 88312.04
C51: Fond rezervní | E51: =387855.56+234435.59 -> 622291.15 | F51: =166945.64+85112 -> 252057.64 | G51: =141160.8+90888 -> 232048.8 | H51: =E51+F51-G51 -> 642299.99 | I51: =H51 -> 642299.99
C52: Investiční fond | E52: 4412718.6 | F52: 19431376 | G52: 22538549 | H52: =E52+F52-G52 -> 1305546.5 | I52: =H52 -> 1305546.5
A53: celkem | E53: =E49+E50+E51+E52 -> 5193974.2 | F53: =F49+F50+F51+F52 -> 19894388 | G53: =G49+G50+G51+G52 -> 23020614 | H53: =H49+H50+H51+H52 -> 2067748 | I53: =I49+I50+I51+I52 -> 2052258.5

Sheet 1128
A1: REKAPITULACE ZA ORGANIZACI :
A2: Název organizace : | E2: Střední průmyslová škola, Hranice, Studentská 1384
E3: ……………………………………….……..………………………………………..…………………………………
A4: Adresa : | E4: Studentská 1384, Hranice
E5: ……………………………………….……..………………………………………..…………………………………
A6: IČ | E6: 00842893 | G6: ORG | I6: 1128
E7: ……………………………… ………….…..……………………………
E11: Schválený | F11: Upravený | G11: Skutečnost | H11: z toho:
E12: rozpočet | F12: rozpočet | G12: celkem | H12: Hlavní činnost | I12: Doplňková činnost
E13: celkem | F13: celkem | H13: jednotka - tis. Kč na 2 des. místa
A15: a) Náklady a výnosy
A16: Náklady | E16: 17454 | F16: 46433 | G16: =H16+I16 -> 46434 | H16: 41911 | I16: 4523
A18: Výnosy | E18: 17454 | F18: 48271 | G18: =H18+I18 -> 47247 | H18: 41727 | I18: 5520
A21: Doplňující údaje :
C22: daň z příjmů,dodatečné odvody daně z příjmů (nákladová položka) | G22: =H22+I22 -> 159 | H22: 0 | I22: 159
A24: Výsledek hospodaření /po zdanění/ | G24: =G18-G16-G22 -> 654 | H24: =H18-H16-H22 -> -184 | I24: =I18-I16-I22 -> 838
A28: b) | B28: Rozdělení výsledku hospodaření | G28: =G29+G30+G31 -> 655465.88 | H28: v Kč
C29: - Návrh na příděly do fondů: | F29: Fond odměn | G29: 33700 | H29: v Kč
F30: Fond rezervní | G30: 621765.88 | H30: v Kč
C31: - Způsob krytí ztráty : | F31: Částka | G31: 0 | H31: v Kč
A35: c) | B35: Závazné ukazatele
F36: Schválená částka | G36: Skutečnost | I36: % plnění
A37: Limit mzdových prostředků | F37: 315 | G37: 309.39 | H37: v tis. Kč | I37: =G37/F37 -> 0.98219048
A38: Neinvestiční příspěvek /odpisy/ | F38: 1244.672 | G38: 1244.672 | H38: v tis. Kč | I38: =G38/F38 -> 1
A39: Neinvestiční příspěvek /nájemné/ | F39: 0 | G39: 0 | H39: v tis. Kč | I39: nerozp.
A40: Odvody z investičního fondu /odpisy/ | F40: 934 | G40: 934 | H40: v tis. Kč | I40: =G40/F40 -> 1
A41: Odvody z investičního fondu | E41: /spolufin. akcí/ | F41: 0 | G41: 0 | H41: v tis. Kč | I41: nerozp.
A43: d) | B43: Fondy | H43: jednotka - Kč na 2 des. místa
E44: Stav k 1.1.2010 | F44: Tvorba | G44: Čerpání | H44: Stav k | I44: Finanční krytí k
H45: 40543 | I45: 40543
C48: Fond odměn | E48: 0 | F48: 35000 | G48: 34400 | H48: =E48+F48-G48 -> 600 | I48: =H48 -> 600
C49: FKSP | E49: 379970.72 | F49: 446965 | G49: 458097.4 | H49: =E49+F49-G49 -> 368838.32 | I49: 344257.59
C50: Fond rezervní | E50: =38249.82+16969.6 -> 55219.42 | F50: =36712.6+110000 -> 146712.6 | G50: 0 | H50: =E50+F50-G50 -> 201932.02 | I50: =57652.42+126969.6 -> 184622.02
C51: Investiční fond | E51: 6041.81 | F51: 1607942 | G51: 1345740 | H51: =E51+F51-G51 -> 268243.81 | I51: =H51 -> 268243.81
A52: celkem | E52: =E48+E49+E50+E51 -> 441231.95 | F52: =F48+F49+F50+F51 -> 2236619.6 | G52: =G48+G49+G50+G51 -> 1838237.4 | H52: =H48+H49+H50+H51 -> 839614.15 | I52: =I48+I49+I50+I51 -> 797723.42

Sheet 1129
A1: REKAPITULACE ZA ORGANIZACI :
A2: Název organizace : | E2: SPŠ stavební, Lipník nad Bečvou, Komenského sady 257
E3: ……………………………………….……..………………………………………..…………………………………
A4: Adresa : | E4: Komenského sady 257
E5: ……………………………………….……..………………………………………..…………………………………
A6: IČ | E6: 70259941 | G6: ORG | I6: 1129
E7: ……………………………… ………….…..……………………………
E11: Schválený | F11: Upravený | G11: Skutečnost | H11: z toho:
E12: rozpočet | F12: rozpočet | G12: celkem | H12: Hlavní činnost | I12: Doplňková činnost
E13: celkem | F13: celkem | H13: jednotka - tis. Kč na 2 des. místa
A15: a) Náklady a výnosy
A16: Náklady | E16: 4504 | F16: 22336 | G16: =H16+I16 -> 22336 | H16: 21879 | I16: 457
A18: Výnosy | E18: 4504 | F18: 22571 | G18: =H18+I18 -> 22349 | H18: 21879 | I18: 470
A21: Doplňující údaje :
C22: daň z příjmů,dodatečné odvody daně z příjmů (nákladová položka) | G22: =H22+I22 -> 0 | H22: 0 | I22: 0
A24: Výsledek hospodaření /po zdanění/ | G24: =G18-G16-G22 -> 13 | H24: =H18-H16-H22 -> 0 | I24: =I18-I16-I22 -> 13
A28: b) | B28: Rozdělení výsledku hospodaření | G28: =G29+G30+G31 -> 13545.86 | H28: v Kč
C29: - Návrh na příděly do fondů: | F29: Fond odměn | G29: 0 | H29: v Kč
F30: Fond rezervní | G30: 13545.86 | H30: v Kč
C31: - Způsob krytí ztráty : | F31: Částka | G31: 0 | H31: v Kč
A35: c) | B35: Závazné ukazatele
F36: Schválená částka | G36: Skutečnost | I36: % plnění
A37: Limit mzdových prostředků | F37: 0 | G37: 0 | H37: v tis. Kč | I37: 0
A38: Neinvestiční příspěvek /odpisy/ | F38: 455 | G38: 457.33118 | H38: v tis. Kč | I38: =G38/F38 -> 1.0051235
A39: Neinvestiční příspěvek /nájemné/ | F39: 0 | G39: 0 | H39: v tis. Kč | I39: nerozp.
A40: Odvody z investičního fondu /odpisy/ | F40: 341 | G40: 341 | H40: v tis. Kč | I40: =G40/F40 -> 1
A41: Odvody z investičního fondu | E41: /spolufin. akcí/ | F41: 0 | G41: 0 | H41: v tis. Kč | I41: nerozp.
A42: Pozn.: Vynaložené odpisy nad stanovený limit byly finančně pokryty z provozních prostředků organizace- 2 331,18 Kč.
A44: d) | B44: Fondy | H44: jednotka - Kč na 2 des. místa
E45: Stav k 1.1.2010 | F45: Tvorba | G45: Čerpání | H45: Stav k | I45: Finanční krytí k
H46: 40543 | I46: 40543
C49: Fond odměn | E49: 58874 | F49: 15000 | G49: 4000 | H49: =E49+F49-G49 -> 69874 | I49: =H49 -> 69874
C50: FKSP | E50: 101434.52 | F50: 230375 | G50: 229255.88 | H50: =E50+F50-G50 -> 102553.64 | I50: 80384.64
C51: Fond rezervní | E51: =200265.12+13081 -> 213346.12 | F51: =285179.16+554452 -> 839631.16 | G51: =166055+511952 -> 678007 | H51: =E51+F51-G51 -> 374970.28 | I51: =152459.28+55581 -> 208040.28
C52: Investiční fond | E52: 14949.94 | F52: 540811.18 | G52: 430480 | H52: =E52+F52-G52 -> 125281.12 | I52: 131472.35
A53: celkem | E53: =E49+E50+E51+E52 -> 388604.58 | F53: =F49+F50+F51+F52 -> 1625817.3 | G53: =G49+G50+G51+G52 -> 1341742.9 | H53: =H49+H50+H51+H52 -> 672679.04 | I53: =I49+I50+I51+I52 -> 489771.27

Sheet 1130
A1: REKAPITULACE ZA ORGANIZACI :
A2: Název organizace : | E2: Střední průmyslová škola, Přerov, Havlíčkova 2
E3: ……………………………………….……..………………………………………..…………………………………
A4: Adresa : | E4: Havlíčkova 2, Přerov
E5: ……………………………………….……..………………………………………..…………………………………
A6: IČ | E6: 70259925 | G6: ORG | I6: 1130
E7: ……………………………… ………….…..……………………………
E11: Schválený | F11: Upravený | G11: Skutečnost | H11: z toho:
E12: rozpočet | F12: rozpočet | G12: celkem | H12: Hlavní činnost | I12: Doplňková činnost
E13: celkem | F13: celkem | H13: jednotka - tis. Kč na 2 des. místa
A15: a) Náklady a výnosy
A16: Náklady | E16: 3431 | F16: 21235 | G16: =H16+I16 -> 21398 | H16: 21254 | I16: 144
A18: Výnosy | E18: 3451 | F18: 22693 | G18: =H18+I18 -> 21484 | H18: 21254 | I18: 230
A21: Doplňující údaje :
C22: daň z příjmů,dodatečné odvody daně z příjmů (nákladová položka) | G22: =H22+I22 -> 0 | H22: 0 | I22: 0
A24: Výsledek hospodaření /po zdanění/ | G24: =G18-G16-G22 -> 86 | H24: =H18-H16-H22 -> 0 | I24: =I18-I16-I22 -> 86
A28: b) | B28: Rozdělení výsledku hospodaření | G28: =G29+G30+G31 -> 86121.12 | H28: v Kč
C29: - Návrh na příděly do fondů: | F29: Fond odměn | G29: 6000 | H29: v Kč
F30: Fond rezervní | G30: 80121.12 | H30: v Kč
C31: - Způsob krytí ztráty : | F31: Částka | G31: 0 | H31: v Kč
A35: c) | B35: Závazné ukazatele
F36: Schválená částka | G36: Skutečnost | I36: % plnění
A37: Limit mzdových prostředků | F37: 0 | G37: 0 | H37: v tis. Kč | I37: 0
A38: Neinvestiční příspěvek /odpisy/ | F38: 781.76 | G38: 781.76 | H38: v tis. Kč | I38: =G38/F38 -> 1
A39: Neinvestiční příspěvek /nájemné/ | F39: 0 | G39: 0 | H39: v tis. Kč | I39: nerozp.
A40: Odvody z investičního fondu /odpisy/ | F40: 586 | G40: 586 | H40: v tis. Kč | I40: =G40/F40 -> 1
A41: Odvody z investičního fondu | E41: /spolufin. akcí/ | F41: 0 | G41: 0 | H41: v tis. Kč | I41: nerozp.
A43: d) | B43: Fondy | H43: jednotka - Kč na 2 des. místa
E44: Stav k 1.1.2010 | F44: Tvorba | G44: Čerpání | H44: Stav k | I44: Finanční krytí k
H45: 40543 | I45: 40543
C48: Fond odměn | E48: 0 | F48: 5000 | G48: 2000 | H48: =E48+F48-G48 -> 3000 | I48: =H48 -> 3000
C49: FKSP | E49: 72509.96 | F49: 257001 | G49: 278010 | H49: =E49+F49-G49 -> 51500.96 | I49: 25233.53
C50: Fond rezervní | E50: 132186.39 | F50: =72340.13+2500 -> 74840.13 | G50: =23863.51+2500 -> 26363.51 | H50: =E50+F50-G50 -> 180663.01 | I50: =H50 -> 180663.01
C51: Investiční fond | E51: 121230 | F51: 796626 | G51: 773206.4 | H51: =E51+F51-G51 -> 144649.6 | I51: =H51 -> 144649.6
A52: celkem | E52: =E48+E49+E50+E51 -> 325926.35 | F52: =F48+F49+F50+F51 -> 1133467.1 | G52: =G48+G49+G50+G51 -> 1079579.9 | H52: =H48+H49+H50+H51 -> 379813.57 | I52: =I48+I49+I50+I51 -> 353546.14

Sheet 1131
A1: REKAPITULACE ZA ORGANIZACI :
A2: Název organizace : | E2: Střední škola gastronomie a služeb, Přerov, Šířava 7
E3: ……………………………………….……..………………………………………..…………………………………
A4: Adresa : | E4: Šířava 7, Přerov
E5: ……………………………………….……..………………………………………..…………………………………
A6: IČ | E6: 00577227 | G6: ORG | I6: 1131
E7: ……………………………… ………….…..……………………………
E11: Schválený | F11: Upravený | G11: Skutečnost | H11: z toho:
E12: rozpočet | F12: rozpočet | G12: celkem | H12: Hlavní činnost | I12: Doplňková činnost
E13: celkem | F13: celkem | H13: jednotka - tis. Kč na 2 des. místa
A15: a) Náklady a výnosy
A16: Náklady | E16: 14455 | F16: 43856 | G16: =H16+I16 -> 43770 | H16: 43248 | I16: 522
A18: Výnosy | E18: 14505 | F18: 44397 | G18: =H18+I18 -> 44018 | H18: 43250 | I18: 768
A21: Doplňující údaje :
C22: daň z příjmů,dodatečné odvody daně z příjmů (nákladová položka) | G22: =H22+I22 -> 0 | H22: 0 | I22: 0
A24: Výsledek hospodaření /po zdanění/ | G24: =G18-G16-G22 -> 248 | H24: =H18-H16-H22 -> 2 | I24: =I18-I16-I22 -> 246
A28: b) | B28: Rozdělení výsledku hospodaření | G28: =G29+G30+G31 -> 244473.74 | H28: v Kč
C29: - Návrh na příděly do fondů: | F29: Fond odměn | G29: 1000 | H29: v Kč
F30: Fond rezervní | G30: 243473.74 | H30: v Kč
C31: - Způsob krytí ztráty : | F31: Částka | G31: 0 | H31: v Kč
A35: c) | B35: Závazné ukazatele
F36: Schválená částka | G36: Skutečnost | I36: % plnění
A37: Limit mzdových prostředků | F37: 1630 | G37: 1323.19 | H37: v tis. Kč | I37: =G37/F37 -> 0.81177301
A38: Neinvestiční příspěvek /odpisy/ | F38: 840.193 | G38: 840.026 | H38: v tis. Kč | I38: =G38/F38 -> 0.99980124
A39: Neinvestiční příspěvek /nájemné/ | F39: 0 | G39: 0 | H39: v tis. Kč | I39: nerozp.
A40: Odvody z investičního fondu /odpisy/ | F40: 630 | G40: 630 | H40: v tis. Kč | I40: =G40/F40 -> 1
A41: Odvody z investičního fondu | E41: /spolufin. akcí/ | F41: 0 | G41: 0 | H41: v tis. Kč | I41: nerozp.
A42: Pozn.: Odvod z investičního fondu - ROP ve výši 17 174,80 tis. Kč
A44: d) | B44: Fondy | H44: jednotka - Kč na 2 des. místa
E45: Stav k 1.1.2010 | F45: Tvorba | G45: Čerpání | H45: Stav k | I45: Finanční krytí k
H46: 40543 | I46: 40543
C49: Fond odměn | E49: 1158589 | F49: 1000 | G49: 9000 | H49: =E49+F49-G49 -> 1150589 | I49: =H49 -> 1150589
C50: FKSP | E50: 495676.96 | F50: 421638 | G50: 425646 | H50: =E50+F50-G50 -> 491668.96 | I50: 454760.92
C51: Fond rezervní | E51: =268802.23+659744.26 -> 928546.49 | F51: =165324.32+1500 -> 166824.32 | G51: 473231.34 | H51: =E51+F51-G51 -> 622139.47 | I51: =H51 -> 622139.47
C52: Investiční fond | E52: 2397862.1 | F52: 35113841 | G52: 36571870 | H52: =E52+F52-G52 -> 939832.62 | I52: =H52 -> 939832.62
A53: celkem | E53: =E49+E50+E51+E52 -> 4980674.6 | F53: =F49+F50+F51+F52 -> 35703303 | G53: =G49+G50+G51+G52 -> 37479748 | H53: =H49+H50+H51+H52 -> 3204230 | I53: =I49+I50+I51+I52 -> 3167322

Sheet 1132
A1: REKAPITULACE ZA ORGANIZACI :
A2: Název organizace : | E2: Střední lesnická škola, Hranice, Jurikova 588
E3: ……………………………………….……..………………………………………..…………………………………
A4: Adresa : | E4: Jurikova 588, Hranice
E5: ……………………………………….……..………………………………………..…………………………………
A6: IČ | E6: 61986038 | G6: ORG | I6: 1132
E7: ……………………………… ………….…..……………………………
E11: Schválený | F11: Upravený | G11: Skutečnost | H11: z toho:
E12: rozpočet | F12: rozpočet | G12: celkem | H12: Hlavní činnost | I12: Doplňková činnost
E13: celkem | F13: celkem | H13: jednotka - tis. Kč na 2 des. místa
A15: a) Náklady a výnosy
A16: Náklady | E16: 21845 | F16: 47586 | G16: =H16+I16 -> 50832 | H16: 38601 | I16: 12231
A18: Výnosy | E18: 21845 | F18: 50565 | G18: =H18+I18 -> 51013 | H18: 38644 | I18: 12369
A21: Doplňující údaje :
C22: daň z příjmů,dodatečné odvody daně z příjmů (nákladová položka) | G22: =H22+I22 -> 5 | H22: 0 | I22: =13-8 -> 5
A24: Výsledek hospodaření /po zdanění/ | G24: =G18-G16-G22 -> 176 | H24: =H18-H16-H22 -> 43 | I24: =I18-I16-I22 -> 133
A28: b) | B28: Rozdělení výsledku hospodaření | G28: =G29+G30+G31 -> 176466.71 | H28: v Kč
C29: - Návrh na příděly do fondů: | F29: Fond odměn | G29: 1000 | H29: v Kč
F30: Fond rezervní | G30: 175466.71 | H30: v Kč
C31: - Způsob krytí ztráty : | F31: Částka | G31: 0 | H31: v Kč
A35: c) | B35: Závazné ukazatele
F36: Schválená částka | G36: Skutečnost | I36: % plnění
A37: Limit mzdových prostředků | F37: 0 | G37: 0 | H37: v tis. Kč | I37: 0
A38: Neinvestiční příspěvek /odpisy/ | F38: 1241 | G38: 1234.731 | H38: v tis. Kč | I38: =G38/F38 -> 0.99494843
A39: Neinvestiční příspěvek /nájemné/ | F39: 0 | G39: 0 | H39: v tis. Kč | I39: nerozp.
A40: Odvody z investičního fondu /odpisy/ | F40: 931 | G40: 931 | H40: v tis. Kč | I40: =G40/F40 -> 1
A41: Odvody z investičního fondu | E41: /spolufin. akcí/ | F41: 0 | G41: 0 | H41: v tis. Kč | I41: nerozp.
A44: d) | B44: Fondy | H44: jednotka - Kč na 2 des. místa
E45: Stav k 1.1.2010 | F45: Tvorba | G45: Čerpání | H45: Stav k | I45: Finanční krytí k
H46: 40543 | I46: 40543
C49: Fond odměn | E49: 816890 | F49: 1000 | G49: 24600 | H49: =E49+F49-G49 -> 793290 | I49: =H49 -> 793290
C50: FKSP | E50: 383322.27 | F50: 496817 | G50: 396069 | H50: =E50+F50-G50 -> 484070.27 | I50: 403909.58
C51: Fond rezervní | E51: 2704317.2 | F51: =214187.05+382279.34 -> 596466.39 | G51: 578716.5 | H51: =E51+F51-G51 -> 2722067.1 | I51: =214187.05+661252.55 -> 875439.6
C52: Investiční fond | E52: 309568.49 | F52: 2063758 | G52: 1181285 | H52: =E52+F52-G52 -> 1192041.5 | I52: 1198310.5
A53: celkem | E53: =E49+E50+E51+E52 -> 4214098 | F53: =F49+F50+F51+F52 -> 3158041.4 | G53: =G49+G50+G51+G52 -> 2180670.5 | H53: =H49+H50+H51+H52 -> 5191468.9 | I53: =I49+I50+I51+I52 -> 3270949.7

Sheet 1133
A1: REKAPITULACE ZA ORGANIZACI :
A2: Název organizace : | E2: Gymnázium Jana Blahoslava a Střední pedagogická škola, Přerov, Denisova 3
E3: ……………………………………….……..………………………………………..…………………………………
A4: Adresa : | E4: Denisova 3, Přerov
E5: ……………………………………….……..………………………………………..…………………………………
A6: IČ | E6: 61985759 | G6: ORG | I6: 1133
E7: ……………………………… ………….…..……………………………
E11: Schválený | F11: Upravený | G11: Skutečnost | H11: z toho:
E12: rozpočet | F12: rozpočet | G12: celkem | H12: Hlavní činnost | I12: Doplňková činnost
E13: celkem | F13: celkem | H13: jednotka - tis. Kč na 2 des. místa
A15: a) Náklady a výnosy
A16: Náklady | E16: 6935 | F16: 54374 | G16: =H16+I16 -> 54370 | H16: 53924 | I16: 446
A18: Výnosy | E18: 6935 | F18: 52820.53 | G18: =H18+I18 -> 54374 | H18: 53924 | I18: 450
A21: Doplňující údaje :
C22: daň z příjmů,dodatečné odvody daně z příjmů (nákladová položka) | G22: =H22+I22 -> 0 | H22: 0 | I22: 0
A24: Výsledek hospodaření /po zdanění/ | G24: =G18-G16-G22 -> 4 | H24: =H18-H16-H22 -> 0 | I24: =I18-I16-I22 -> 4
A28: b) | B28: Rozdělení výsledku hospodaření | G28: =G29+G30+G31 -> 3911.65 | H28: v Kč
C29: - Návrh na příděly do fondů: | F29: Fond odměn | G29: 1500 | H29: v Kč
F30: Fond rezervní | G30: 2411.65 | H30: v Kč
C31: - Způsob krytí ztráty : | F31: Částka | G31: 0 | H31: v Kč
A35: c) | B35: Závazné ukazatele
F36: Schválená částka | G36: Skutečnost | I36: % plnění
A37: Limit mzdových prostředků | F37: 2911.87 | G37: 2911.87 | H37: v tis. Kč | I37: =G37/F37 -> 1
A38: Neinvestiční příspěvek /odpisy/ | F38: 1054.903 | G38: 1054.9032 | H38: v tis. Kč | I38: =G38/F38 -> 1.0000002
A39: Neinvestiční příspěvek /nájemné/ | F39: 0 | G39: 0 | H39: v tis. Kč | I39: nerozp.
A40: Odvody z investičního fondu /odpisy/ | F40: 791 | G40: 791 | H40: v tis. Kč | I40: =G40/F40 -> 1
A41: Odvody z investičního fondu | E41: /spolufin. akcí/ | F41: 0 | G41: 0 | H41: v tis. Kč | I41: nerozp.
A42: Pozn.: Vynaložené odpisy nad stanovený limit byly finančně pokryty z provozních prostředků organizace- 0,20 Kč.
A44: d) | B44: Fondy | H44: jednotka - Kč na 2 des. místa
E45: Stav k 1.1.2010 | F45: Tvorba | G45: Čerpání | H45: Stav k | I45: Finanční krytí k
H46: 40543 | I46: 40543
C49: Fond odměn | E49: 37500 | F49: 2500 | G49: 4000 | H49: =E49+F49-G49 -> 36000 | I49: =H49 -> 36000
C50: FKSP | E50: 391737.24 | F50: 588197 | G50: 550948.96 | H50: =E50+F50-G50 -> 428985.28 | I50: 448262.76
C51: Fond rezervní | E51: 280570.11 | F51: =3078.53+95989.78+3320 -> 102388.31 | G51: 282190.11 | H51: =E51+F51-G51 -> 100768.31 | I51: =H51 -> 100768.31
C52: Investiční fond | E52: 31190.4 | F52: 1204903.2 | G52: 991330 | H52: =E52+F52-G52 -> 244763.6 | I52: =H52 -> 244763.6
A53: celkem | E53: =E49+E50+E51+E52 -> 740997.75 | F53: =F49+F50+F51+F52 -> 1897988.5 | G53: =G49+G50+G51+G52 -> 1828469.1 | H53: =H49+H50+H51+H52 -> 810517.19 | I53: =I49+I50+I51+I52 -> 829794.67

Sheet 1134
A1: REKAPITULACE ZA ORGANIZACI :
A2: Název organizace : | E2: Střední škola zemědělská, Přerov, Osmek 47
E3: ……………………………………….……..………………………………………..…………………………………
A4: Adresa : | E4: Osmek 47, Přerov
E5: ……………………………………….……..………………………………………..…………………………………
A6: IČ | E6: 63701171 | G6: ORG | I6: 1134
E7: ……………………………… ………….…..……………………………
E11: Schválený | F11: Upravený | G11: Skutečnost | H11: z toho:
E12: rozpočet | F12: rozpočet | G12: celkem | H12: Hlavní činnost | I12: Doplňková činnost
E13: celkem | F13: celkem | H13: jednotka - tis. Kč na 2 des. místa
A15: a) Náklady a výnosy
A16: Náklady | E16: 14308 | F16: 35813 | G16: =H16+I16 -> 35840 | H16: 34191 | I16: 1649
A18: Výnosy | E18: 14308 | F18: 36129 | G18: =H18+I18 -> 35835 | H18: 33593 | I18: 2242
A21: Doplňující údaje :
C22: daň z příjmů,dodatečné odvody daně z příjmů (nákladová položka) | G22: =H22+I22 -> 96 | H22: 7 | I22: 89
A24: Výsledek hospodaření /po zdanění/ | G24: =G18-G16-G22 -> -101 | H24: =H18-H16-H22 -> -605 | I24: =I18-I16-I22 -> 504
A28: b) | B28: Rozdělení výsledku hospodaření | G28: =G29+G30+G31 -> -100475.79 | H28: v Kč
C29: - Návrh na příděly do fondů: | F29: Fond odměn | G29: 0 | H29: v Kč
F30: Fond rezervní | G30: 0 | H30: v Kč
C31: - Způsob krytí ztráty : | F31: Částka | G31: -100475.79 | H31: v Kč
A32: Ztráta 100 475,79 Kč bude pokryta ze zlepšeného hospodářského výsledku v následujících letech (74 444,79 Kč) a z prostředků rezervního fondu (26 031,- Kč) v souladu s ust. § 30, odst. 3d) zákona č. 250/2000 Sb., o rozpočtových pravidlech územních rozpočtů ve znění pozdějších předpisů - použití prostředků rezervního fondu, vyjma poskytnutých darů.
A36: c) | B36: Závazné ukazatele
F37: Schválená částka | G37: Skutečnost | I37: % plnění
A38: Limit mzdových prostředků | F38: 25 | G38: 13.5 | H38: v tis. Kč | I38: =G38/F38 -> 0.54
A39: Neinvestiční příspěvek /odpisy/ | F39: 1296 | G39: 1296 | H39: v tis. Kč | I39: =G39/F39 -> 1
A40: Neinvestiční příspěvek /nájemné/ | F40: 0 | G40: 0 | H40: v tis. Kč | I40: nerozp.
A41: Odvody z investičního fondu /odpisy/ | F41: 972 | G41: 972 | H41: v tis. Kč | I41: =G41/F41 -> 1
A42: Odvody z investičního fondu | E42: /spolufin. akcí/ | F42: 0 | G42: 0 | H42: v tis. Kč | I42: nerozp.
A44: d) | B44: Fondy | H44: jednotka - Kč na 2 des. místa
E45: Stav k 1.1.2010 | F45: Tvorba | G45: Čerpání | H45: Stav k | I45: Finanční krytí k
H46: 40543 | I46: 40543
C49: Fond odměn | E49: 23000 | F49: 0 | G49: 7000 | H49: =E49+F49-G49 -> 16000 | I49: =H49 -> 16000
C50: FKSP | E50: 149310.82 | F50: 319563 | G50: 364203.75 | H50: =E50+F50-G50 -> 104670.07 | I50: 32985.24
C51: Fond rezervní | E51: 706867.68 | F51: 706867.68 | G51: =680836.68+706867.68 -> 1387704.4 | H51: =E51+F51-G51 -> 26031 | I51: =H51 -> 26031
C52: Investiční fond | E52: 609472.54 | F52: 1773254.7 | G52: 2306913 | H52: =E52+F52-G52 -> 75814.24 | I52: =H52 -> 75814.24
A53: celkem | E53: =E49+E50+E51+E52 -> 1488651 | F53: =F49+F50+F51+F52 -> 2799685.4 | G53: =G49+G50+G51+G52 -> 4065821.1 | H53: =H49+H50+H51+H52 -> 222515.31 | I53: =I49+I50+I51+I52 -> 150830.48

Sheet 1152
A1: REKAPITULACE ZA ORGANIZACI :
A2: Název organizace : | E2: Obchodní akademie a Jazyková škola, Přerov, Bartošova 24
E3: ……………………………………….……..………………………………………..…………………………………
A4: Adresa : | E4: Bartošova 24, Přerov
E5: ……………………………………….……..………………………………………..…………………………………
A6: IČ | E6: 61985996 | G6: ORG | I6: 1152
E7: ……………………………… ………….…..……………………………
E11: Schválený | F11: Upravený | G11: Skutečnost | H11: z toho:
E12: rozpočet | F12: rozpočet | G12: celkem | H12: Hlavní činnost | I12: Doplňková činnost
E13: celkem | F13: celkem | H13: jednotka - tis. Kč na 2 des. místa
A15: a) Náklady a výnosy
A16: Náklady | E16: 4579 | F16: 127439.5 | G16: =H16+I16 -> 20021 | H16: 19975 | I16: 46
A18: Výnosy | E18: 4639 | F18: 20991 | G18: =H18+I18 -> 20030 | H18: 19744 | I18: 286
A21: Doplňující údaje :
C22: daň z příjmů,dodatečné odvody daně z příjmů (nákladová položka) | G22: =H22+I22 -> 0 | H22: 0 | I22: 0
A24: Výsledek hospodaření /po zdanění/ | G24: =G18-G16-G22 -> 9 | H24: =H18-H16-H22 -> -231 | I24: =I18-I16-I22 -> 240
A28: b) | B28: Rozdělení výsledku hospodaření | G28: =G29+G30+G31 -> 9937.79 | H28: v Kč
C29: - Návrh na příděly do fondů: | F29: Fond odměn | G29: 1000 | H29: v Kč
F30: Fond rezervní | G30: 8937.79 | H30: v Kč
C31: - Způsob krytí ztráty : | F31: Částka | G31: 0 | H31: v Kč
A35: c) | B35: Závazné ukazatele
F36: Schválená částka | G36: Skutečnost | I36: % plnění
A37: Limit mzdových prostředků | F37: 1250 | G37: 813.45 | H37: v tis. Kč | I37: =G37/F37 -> 0.65076
A38: Neinvestiční příspěvek /odpisy/ | F38: 424 | G38: 424 | H38: v tis. Kč | I38: =G38/F38 -> 1
A39: Neinvestiční příspěvek /nájemné/ | F39: 0 | G39: 0 | H39: v tis. Kč | I39: nerozp.
A40: Odvody z investičního fondu /odpisy/ | F40: 318 | G40: 318 | H40: v tis. Kč | I40: =G40/F40 -> 1
A41: Odvody z investičního fondu | E41: /spolufin. akcí/ | F41: 0 | G41: 0 | H41: v tis. Kč | I41: nerozp.
A44: d) | B44: Fondy | H44: jednotka - Kč na 2 des. místa
E45: Stav k 1.1.2010 | F45: Tvorba | G45: Čerpání | H45: Stav k | I45: Finanční krytí k
H46: 40543 | I46: 40543
C49: Fond odměn | E49: 11000 | F49: 0 | G49: 4000 | H49: =E49+F49-G49 -> 7000 | I49: =H49 -> 7000
C50: FKSP | E50: 22438.72 | F50: 215855 | G50: 188513 | H50: =E50+F50-G50 -> 49780.72 | I50: 53176.05
C51: Fond rezervní | E51: 560277.88 | F51: 8820.29 | G51: 256329.21 | H51: =E51+F51-G51 -> 312768.96 | I51: =H51 -> 312768.96
C52: Investiční fond | E52: 105143.14 | F52: 527696 | G52: 565415.5 | H52: =E52+F52-G52 -> 67423.64 | I52: =H52 -> 67423.64
A53: celkem | E53: =E49+E50+E51+E52 -> 698859.74 | F53: =F49+F50+F51+F52 -> 752371.29 | G53: =G49+G50+G51+G52 -> 1014257.7 | H53: =H49+H50+H51+H52 -> 436973.32 | I53: =I49+I50+I51+I52 -> 440368.65

Sheet 1162
A1: REKAPITULACE ZA ORGANIZACI :
A2: Název organizace : | E2: Střední zdravotnická škola, Hranice, Studentská 1095
E3: ……………………………………….……..………………………………………..…………………………………
A4: Adresa : | E4: Studentská 1095, Hranice
E5: ……………………………………….……..………………………………………..…………………………………
A6: IČ | E6: 00600903 | G6: ORG | I6: 1162
E7: ……………………………… ………….…..……………………………
E11: Schválený | F11: Upravený | G11: Skutečnost | H11: z toho:
E12: rozpočet | F12: rozpočet | G12: celkem | H12: Hlavní činnost | I12: Doplňková činnost
E13: celkem | F13: celkem | H13: jednotka - tis. Kč na 2 des. místa
A15: a) Náklady a výnosy
A16: Náklady | E16: 2920 | F16: 15686 | G16: =H16+I16 -> 16342 | H16: 15760 | I16: 582
A18: Výnosy | E18: 2920 | F18: 15842 | G18: =H18+I18 -> 16565 | H18: 15663 | I18: 902
A21: Doplňující údaje :
C22: daň z příjmů,dodatečné odvody daně z příjmů (nákladová položka) | G22: =H22+I22 -> 0 | H22: 0 | I22: 0
A24: Výsledek hospodaření /po zdanění/ | G24: =G18-G16-G22 -> 223 | H24: =H18-H16-H22 -> -97 | I24: =I18-I16-I22 -> 320
A28: b) | B28: Rozdělení výsledku hospodaření | G28: =G29+G30+G31 -> 222129.81 | H28: v Kč
C29: - Návrh na příděly do fondů: | F29: Fond odměn | G29: 20000 | H29: v Kč
F30: Fond rezervní | G30: 202129.81 | H30: v Kč
C31: - Způsob krytí ztráty : | F31: Částka | G31: 0 | H31: v Kč
A35: c) | B35: Závazné ukazatele
F36: Schválená částka | G36: Skutečnost | I36: % plnění
A37: Limit mzdových prostředků | F37: 0 | G37: 0 | H37: v tis. Kč | I37: 0
A38: Neinvestiční příspěvek /odpisy/ | F38: 252.981 | G38: 250.595 | H38: v tis. Kč | I38: =G38/F38 -> 0.99056846
A39: Neinvestiční příspěvek /nájemné/ | F39: 0 | G39: 0 | H39: v tis. Kč | I39: nerozp.
A40: Odvody z investičního fondu /odpisy/ | F40: 190 | G40: 190 | H40: v tis. Kč | I40: =G40/F40 -> 1
A41: Odvody z investičního fondu | E41: /spolufin. akcí/ | F41: 0 | G41: 0 | H41: v tis. Kč | I41: nerozp.
A44: d) | B44: Fondy | H44: jednotka - Kč na 2 des. místa
E45: Stav k 1.1.2010 | F45: Tvorba | G45: Čerpání | H45: Stav k | I45: Finanční krytí k
H46: 40543 | I46: 40543
C49: Fond odměn | E49: 16807 | F49: 25000 | G49: 18500 | H49: =E49+F49-G49 -> 23307 | I49: =H49 -> 23307
C50: FKSP | E50: 37885.44 | F50: 181443.24 | G50: 196931 | H50: =E50+F50-G50 -> 22397.68 | I50: 5833.68
C51: Fond rezervní | E51: =158487.05+529 -> 159016.05 | F51: 174280.66 | G51: 250000 | H51: =E51+F51-G51 -> 83296.71 | I51: =H51 -> 83296.71
C52: Investiční fond | E52: 134230.34 | F52: 502981 | G52: 581678 | H52: =E52+F52-G52 -> 55533.34 | I52: =H52 -> 55533.34
A53: celkem | E53: =E49+E50+E51+E52 -> 347938.83 | F53: =F49+F50+F51+F52 -> 883704.9 | G53: =G49+G50+G51+G52 -> 1047109 | H53: =H49+H50+H51+H52 -> 184534.73 | I53: =I49+I50+I51+I52 -> 167970.73

Sheet 1171
A1: REKAPITULACE ZA ORGANIZACI :
A2: Název organizace : | E2: SŠ elektrotechnická, Tyršova 781, Lipník nad Bečvou
E3: ……………………………………….……..………………………………………..…………………………………
A4: Adresa : | E4: Tyršova 781, Lipník nad Bečvou
E5: ……………………………………….……..………………………………………..…………………………………
A6: IČ | E6: 00845370 | G6: ORG | I6: 1171
E7: ……………………………… ………….…..……………………………
E11: Schválený | F11: Upravený | G11: Skutečnost | H11: z toho:
E12: rozpočet | F12: rozpočet | G12: celkem | H12: Hlavní činnost | I12: Doplňková činnost
E13: celkem | F13: celkem | H13: jednotka - tis. Kč na 2 des. místa
A15: a) Náklady a výnosy
A16: Náklady | E16: 13176 | F16: 32036 | G16: =H16+I16 -> 32045 | H16: 29947 | I16: 2098
A18: Výnosy | E18: 12176 | F18: 32118 | G18: =H18+I18 -> 32145 | H18: 29858 | I18: 2287
A21: Doplňující údaje :
C22: daň z příjmů,dodatečné odvody daně z příjmů (nákladová položka) | G22: =H22+I22 -> 0 | H22: 0 | I22: 0
A24: Výsledek hospodaření /po zdanění/ | G24: =G18-G16-G22 -> 100 | H24: =H18-H16-H22 -> -89 | I24: =I18-I16-I22 -> 189
A28: b) | B28: Rozdělení výsledku hospodaření | G28: =G29+G30+G31 -> 99974.73 | H28: v Kč
C29: - Návrh na příděly do fondů: | F29: Fond odměn | G29: 1000 | H29: v Kč
F30: Fond rezervní | G30: 98974.73 | H30: v Kč
C31: - Způsob krytí ztráty : | F31: Částka | G31: 0 | H31: v Kč
A35: c) | B35: Závazné ukazatele
F36: Schválená částka | G36: Skutečnost | I36: % plnění
A37: Limit mzdových prostředků | F37: 0 | G37: 0 | H37: v tis. Kč | I37: 0
A38: Neinvestiční příspěvek /odpisy/ | F38: 1363.822 | G38: 1359.9672 | H38: v tis. Kč | I38: =G38/F38 -> 0.99717353
A39: Neinvestiční příspěvek /nájemné/ | F39: 0 | G39: 0 | H39: v tis. Kč | I39: nerozp.
A40: Odvody z investičního fondu /odpisy/ | F40: 1023 | G40: 1023 | H40: v tis. Kč | I40: =G40/F40 -> 1
A41: Odvody z investičního fondu | E41: /spolufin. akcí/ | F41: 0 | G41: 0 | H41: v tis. Kč | I41: nerozp.
A43: d) | B43: Fondy | H43: jednotka - Kč na 2 des. místa
E44: Stav k 1.1.2010 | F44: Tvorba | G44: Čerpání | H44: Stav k | I44: Finanční krytí k
H45: 40543 | I45: 40543
C48: Fond odměn | E48: 192126 | F48: 10000 | G48: 93900 | H48: =E48+F48-G48 -> 108226 | I48: =H48 -> 108226
C49: FKSP | E49: 109857.57 | F49: 268669 | G49: 221789.09 | H49: =E49+F49-G49 -> 156737.48 | I49: 136621.48
C50: Fond rezervní | E50: 404178.23 | F50: 114704.19 | G50: 0 | H50: =E50+F50-G50 -> 518882.42 | I50: =H50 -> 518882.42
C51: Investiční fond | E51: 593831.52 | F51: 1593958.7 | G51: 1235672 | H51: =E51+F51-G51 -> 952118.22 | I51: =H51 -> 952118.22
A52: celkem | E52: =E48+E49+E50+E51 -> 1299993.3 | F52: =F48+F49+F50+F51 -> 1987331.9 | G52: =G48+G49+G50+G51 -> 1551361.1 | H52: =H48+H49+H50+H51 -> 1735964.1 | I52: =I48+I49+I50+I51 -> 1715848.1

Sheet 1173
A1: REKAPITULACE ZA ORGANIZACI :
A2: Název organizace : | E2: Střední škola technická, Přerov, Kouřílkova 8
E3: ……………………………………….……..………………………………………..…………………………………
A4: Adresa : | E4: Kouřílkova 8, Přerov
E5: ……………………………………….……..………………………………………..…………………………………
A6: IČ | E6: 19013833 | G6: ORG | I6: 1173
E7: ……………………………… ………….…..……………………………
E11: Schválený | F11: Upravený | G11: Skutečnost | H11: z toho:
E12: rozpočet | F12: rozpočet | G12: celkem | H12: Hlavní činnost | I12: Doplňková činnost
E13: celkem | F13: celkem | H13: jednotka - tis. Kč na 2 des. místa
A15: a) Náklady a výnosy
A16: Náklady | E16: 21720 | F16: 60639 | G16: =H16+I16 -> 60640 | H16: 58413 | I16: 2227
A18: Výnosy | E18: 21720 | F18: 61238 | G18: =H18+I18 -> 60666 | H18: 57737 | I18: 2929
A21: Doplňující údaje :
C22: daň z příjmů,dodatečné odvody daně z příjmů (nákladová položka) | G22: =H22+I22 -> 0 | H22: 0 | I22: 0
A24: Výsledek hospodaření /po zdanění/ | G24: =G18-G16-G22 -> 26 | H24: =H18-H16-H22 -> -676 | I24: =I18-I16-I22 -> 702
A28: b) | B28: Rozdělení výsledku hospodaření | G28: =G29+G30+G31 -> 25891.74 | H28: v Kč
C29: - Návrh na příděly do fondů: | F29: Fond odměn | G29: 3500 | H29: v Kč
F30: Fond rezervní | G30: 22391.74 | H30: v Kč
C31: - Způsob krytí ztráty : | F31: Částka | G31: 0 | H31: v Kč
A35: c) | B35: Závazné ukazatele
F36: Schválená částka | G36: Skutečnost | I36: % plnění
A37: Limit mzdových prostředků | F37: 1720 | G37: 1661 | H37: v tis. Kč | I37: =G37/F37 -> 0.96569767
A38: Neinvestiční příspěvek /odpisy/ | F38: 2750 | G38: 2750 | H38: v tis. Kč | I38: =G38/F38 -> 1
A39: Neinvestiční příspěvek /nájemné/ | F39: 0 | G39: 0 | H39: v tis. Kč | I39: nerozp.
A40: Odvody z investičního fondu /odpisy/ | F40: 2062 | G40: 2062 | H40: v tis. Kč | I40: =G40/F40 -> 1
A41: Odvody z investičního fondu | E41: /spolufin. akcí/ | F41: 0 | G41: 0 | H41: v tis. Kč | I41: nerozp.
A42: Pozn.: Odvod z investičního fondu - ROP ve výši 4 954,98 tis. Kč
A44: d) | B44: Fondy | H44: jednotka - Kč na 2 des. místa
E45: Stav k 1.1.2010 | F45: Tvorba | G45: Čerpání | H45: Stav k | I45: Finanční krytí k
H46: 40543 | I46: 40543
C49: Fond odměn | E49: 55434.11 | F49: 25000 | G49: 23100 | H49: =E49+F49-G49 -> 57334.11 | I49: =H49 -> 57334.11
C50: FKSP | E50: 172052.99 | F50: 538050.8 | G50: 618478.92 | H50: =E50+F50-G50 -> 91624.87 | I50: 95604.52
C51: Fond rezervní | E51: =532044.9+51333 -> 583377.9 | F51: =532671.6+51333 -> 584004.6 | G51: 51333 | H51: =E51+F51-G51 -> 1116049.5 | I51: 941938.5
C52: Investiční fond | E52: 5298367.7 | F52: 2961323.6 | G52: 7691280.3 | H52: =E52+F52-G52 -> 568411 | I52: =H52 -> 568411
A53: celkem | E53: =E49+E50+E51+E52 -> 6109232.7 | F53: =F49+F50+F51+F52 -> 4108379 | G53: =G49+G50+G51+G52 -> 8384192.3 | H53: =H49+H50+H51+H52 -> 1833419.5 | I53: =I49+I50+I51+I52 -> 1663288.1

Sheet 1216
A1: REKAPITULACE ZA ORGANIZACI :
A2: Název organizace : | E2: Střední škola řezbářská, Tovačov, Nádražní 146
E3: ……………………………………….……..………………………………………..…………………………………
A4: Adresa : | E4: Nádražní 146, Tovačov
E5: ……………………………………….……..………………………………………..…………………………………
A6: IČ | E6: 14616831 | G6: ORG | I6: 1216
E7: ……………………………… ………….…..……………………………
E11: Schválený | F11: Upravený | G11: Skutečnost | H11: z toho:
E12: rozpočet | F12: rozpočet | G12: celkem | H12: Hlavní činnost | I12: Doplňková činnost
E13: celkem | F13: celkem | H13: jednotka - tis. Kč na 2 des. místa
A15: a) Náklady a výnosy
A16: Náklady | E16: 3401 | F16: 3401 | G16: =H16+I16 -> 14676 | H16: 14603 | I16: 73
A18: Výnosy | E18: 3508 | F18: 15850 | G18: =H18+I18 -> 14795 | H18: 14612 | I18: 183
A21: Doplňující údaje :
C22: daň z příjmů,dodatečné odvody daně z příjmů (nákladová položka) | G22: =H22+I22 -> 0 | H22: 0 | I22: 0
A24: Výsledek hospodaření /po zdanění/ | G24: =G18-G16-G22 -> 119 | H24: =H18-H16-H22 -> 9 | I24: =I18-I16-I22 -> 110
A28: b) | B28: Rozdělení výsledku hospodaření | G28: =G29+G30+G31 -> 118218.94 | H28: v Kč
C29: - Návrh na příděly do fondů: | F29: Fond odměn | G29: 2000 | H29: v Kč
F30: Fond rezervní | G30: 116218.94 | H30: v Kč
C31: - Způsob krytí ztráty : | F31: Částka | G31: 0 | H31: v Kč
A35: c) | B35: Závazné ukazatele
F36: Schválená částka | G36: Skutečnost | I36: % plnění
A37: Limit mzdových prostředků | F37: 150 | G37: 150 | H37: v tis. Kč | I37: =G37/F37 -> 1
A38: Neinvestiční příspěvek /odpisy/ | F38: 308 | G38: 302.775 | H38: v tis. Kč | I38: =G38/F38 -> 0.98303571
A39: Neinvestiční příspěvek /nájemné/ | F39: 0 | G39: 0 | H39: v tis. Kč | I39: nerozp.
A40: Odvody z investičního fondu /odpisy/ | F40: 231 | G40: 231 | H40: v tis. Kč | I40: =G40/F40 -> 1
A41: Odvody z investičního fondu | E41: /spolufin. akcí/ | F41: 0 | G41: 0 | H41: v tis. Kč | I41: nerozp.
A44: d) | B44: Fondy | H44: jednotka - Kč na 2 des. místa
E45: Stav k 1.1.2010 | F45: Tvorba | G45: Čerpání | H45: Stav k | I45: Finanční krytí k
H46: 40543 | I46: 40543
C49: Fond odměn | E49: 3350 | F49: 5000 | G49: 2000 | H49: =E49+F49-G49 -> 6350 | I49: =H49 -> 6350
C50: FKSP | E50: 208020.28 | F50: 160848 | G50: 138173 | H50: =E50+F50-G50 -> 230695.28 | I50: 220699
C51: Fond rezervní | E51: 189547.12 | F51: 123894.91 | G51: 313442.03 | H51: =E51+F51-G51 -> 0 | I51: =H51 -> 0
C52: Investiční fond | E52: 90886.05 | F52: 1010153 | G52: 1077051.8 | H52: =E52+F52-G52 -> 23987.29 | I52: 24231.29
A53: celkem | E53: =E49+E50+E51+E52 -> 491803.45 | F53: =F49+F50+F51+F52 -> 1299895.9 | G53: =G49+G50+G51+G52 -> 1530666.8 | H53: =H49+H50+H51+H52 -> 261032.57 | I53: =I49+I50+I51+I52 -> 251280.29

Sheet 1218
A1: REKAPITULACE ZA ORGANIZACI :
A2: Název organizace : | E2: Odborné učiliště, Křenovice 8
E3: ……………………………………….……..………………………………………..…………………………………
A4: Adresa : | E4: Křenovice 8
E5: ……………………………………….……..………………………………………..…………………………………
A6: IČ | E6: 00842800 | G6: ORG | I6: 1218
E7: ……………………………… ………….…..……………………………
E11: Schválený | F11: Upravený | G11: Skutečnost | H11: z toho:
E12: rozpočet | F12: rozpočet | G12: celkem | H12: Hlavní činnost | I12: Doplňková činnost
E13: celkem | F13: celkem | H13: jednotka - tis. Kč na 2 des. místa
