Workbook
Name názvy.tisku: Rekapitulace!$7:$8
Name názvy.tisku: #REF!

Sheet Rekapitulace
A1: a) Příspěvkové organizace v oblasti školství | M1: ORJ -10
A2: Správce: vedoucí odboru
A3: Mgr. Miroslav Gajdůšek , MBA
A5: Rekapitulace hospodaření /výsledek hospodaření/ za rok 2010 - okres Přerov
I6: v tis. Kč | M6: v Kč
A7: ORG | B7: Název školy | C7: Adresa | E7: Náklady | F7: Výnosy | G7: Daň | H7: Výsledek hospodaření | J7: Rozdělení do fondů - v Kč | L7: Pokrytí ztráty z minulých let
H8: zlepšený VH | I8: ztráta | J8: Fond rezervní | K8: Fond odměn | M8: Celkem
A9: 1035 | B9: Základní škola | J9: ='1035'!G30 -> 25253.64 | K9: ='1035'!G29 -> 0 | L9: 0 | M9: =J9+K9 -> 25253.64
C10: Sladovní 492 | D10: Kojetín | E10: ='1035'!G16 -> 7027 | F10: ='1035'!G18 -> 7053 | G10: 0 | H10: =(F10-E10) -> 26 | I10: 0 | J10: 0 | K10: 0 | L10: 0 | M10: 0
A11: 1036 | B11: Základní škola a Mateřská škola | J11: ='1036'!G30 -> 0 | K11: ='1036'!G29 -> 0 | L11: 0 | M11: =J11+K11 -> 0
C12: Nová 1820 | D12: Hranice | E12: ='1036'!G16 -> 16053 | F12: ='1036'!G18 -> 16053 | G12: 0 | H12: =(F12-E12-G12) -> 0 | I12: 0 | J12: 0 | K12: 0 | L12: 0 | M12: 0
A13: 1037 | B13: Základní škola a Mateřská škola | J13: 0 | K13: 0 | L13: 0 | M13: =J13+K13 -> 0
C14: Malá Dlážka 4 | D14: Přerov | E14: ='1037'!G16 -> 15757 | F14: ='1037'!G18 -> 15757 | G14: 0 | H14: =(F14-E14-G14) -> 0 | I14: 0 | J14: 0 | K14: 0 | L14: 0 | M14: 0
A15: 1038 | B15: Základní škola | J15: ='1038'!G30 -> 0 | K15: ='1038'!G29 -> 0 | L15: ='1038'!G3 -> 0 | M15: =J15+K15+L15 -> 0
C16: Osecká 301 | D16: Lipník n.B. | E16: ='1038'!G16 -> 12305 | F16: ='1038'!G18 -> 12156 | G16: 0 | H16: 0 | I16: =F16-E16-G16 -> -149 | J16: 0 | K16: 0 | L16: 0 | M16: =J16+K16 -> 0
A17: 1108 | B17: Gymnázium Jakuba Škody | J17: ='1108'!G30 -> 45855.34 | K17: ='1108'!G29 -> 20000 | L17: 0 | M17: =J17+K17 -> 65855.34
C18: Komenského 29 | D18: Přerov | E18: ='1108'!G16 -> 40923 | F18: ='1108'!G18 -> 40989 | G18: 0 | H18: =(F18-E18-G18) -> 66 | I18: 0 | J18: =J17/M17 -> 0.69630405 | K18: =K17/M17 -> 0.30369595 | L18: 0 | M18: 1
A19: 1109 | B19: Gymnázium | J19: ='1109'!G30 -> 11043.29 | K19: ='1109'!G29 -> 1000 | L19: 0 | M19: =J19+K19 -> 12043.29
C20: Zborovská 293 | D20: Hranice | E20: ='1109'!G16 -> 22531 | F20: ='1109'!G18 -> 22544 | G20: 0 | H20: =(F20-E20-G20) -> 13 | I20: 0 | J20: =J19/M19 -> 0.91696621 | K20: =K19/M19 -> 0.083033789 | L20: 0 | M20: 1
A21: 1110 | B21: Gymnázium | J21: ='1110'!G30 -> 162897.73 | K21: ='1110'!G29 -> 25000 | L21: 0 | M21: =J21+K21 -> 187897.73
C22: Svat. Čecha 683 | D22: Kojetín | E22: ='1110'!G16 -> 20244 | F22: ='1110'!G18 -> 20432 | G22: 0 | H22: =F22-E22-G22 -> 188 | I22: 0 | J22: =J21/M21 -> 0.8669489 | K22: =K21/M21 -> 0.1330511 | L22: 0 | M22: 1
A23: 1128 | B23: Střední průmyslová škola | J23: ='1128'!G30 -> 621765.88 | K23: ='1128'!G29 -> 33700 | L23: ='1128'!G31 -> 0 | M23: =J23+K23+L23 -> 655465.88
C24: Studentská 1384 | D24: Hranice | E24: ='1128'!G16 -> 46434 | F24: ='1128'!G18 -> 47247 | G24: ='1128'!G22 -> 159 | H24: =F24-E24-G24 -> 654 | I24: 0 | J24: 0 | K24: 0 | L24: 0 | M24: 1
A25: 1129 | B25: Střední průmyslová škola stavební | J25: ='1129'!G30 -> 13545.86 | K25: ='1129'!G29 -> 0 | L25: 0 | M25: =J25+K25 -> 13545.86
C26: Komen.sady 257 | D26: Lipník n.B. | E26: ='1129'!G16 -> 22336 | F26: ='1129'!G18 -> 22349 | G26: 0 | H26: =(F26-E26-G26) -> 13 | I26: 0 | J26: =J25/M25 -> 1 | K26: =K25/M25 -> 0 | L26: 0 | M26: 0
A27: 1130 | B27: Střední průmyslová škola | J27: ='1130'!G30 -> 80121.12 | K27: ='1130'!G29 -> 6000 | L27: 0 | M27: =J27+K27 -> 86121.12
C28: Havlíčkova 2 | D28: Přerov | E28: ='1130'!G16 -> 21398 | F28: ='1130'!G18 -> 21484 | G28: 0 | H28: =(F28-E28-G28) -> 86 | I28: 0 | J28: =J27/M27 -> 0.93033068 | K28: =K27/M27 -> 0.069669322 | L28: 0 | M28: 1
A29: 1131 | B29: Střední škola gastronomie a služeb | J29: ='1131'!G30 -> 243473.74 | K29: ='1131'!G29 -> 1000 | L29: 0 | M29: =J29+K29 -> 244473.74
C30: Šířava 7 | D30: Přerov | E30: ='1131'!G16 -> 43770 | F30: ='1131'!G18 -> 44018 | G30: 0 | H30: =(F30-E30-G30) -> 248 | I30: 0 | J30: =J29/M29 -> 0.99590958 | K30: =K29/M29 -> 0.0040904189 | L30: 0 | M30: 1
A31: 1132 | B31: Střední lesnická škola | J31: ='1132'!G30 -> 175466.71 | K31: ='1132'!G29 -> 1000 | L31: 0 | M31: =J31+K31 -> 176466.71
C32: Jurikova 588 | D32: Hranice | E32: ='1132'!G16 -> 50832 | F32: ='1132'!G18 -> 51013 | G32: ='1132'!G22 -> 5 | H32: =(F32-E32-G32) -> 176 | I32: 0 | J32: =J31/M31 -> 0.99433321 | K32: =K31/M31 -> 0.0056667912 | L32: 0 | M32: 1
A33: 1133 | B33: Gymnázium Jana Blahoslava a Střední pedagogická škola | J33: ='1133'!G30 -> 2411.65 | K33: ='1133'!G29 -> 1500 | L33: 0 | M33: =J33+K33 -> 3911.65
C34: Denisova 3 | D34: Přerov | E34: ='1133'!G16 -> 54370 | F34: ='1133'!G18 -> 54374 | G34: 0 | H34: =(F34-E34-G34) -> 4 | I34: 0 | J34: =J33/M33 -> 0.61653011 | K34: =K33/M33 -> 0.38346989 | L34: 0 | M34: 1
A35: 1134 | B35: Střední škola zemědělská | J35: ='1134'!G30 -> 0 | K35: ='1134'!G29 -> 0 | L35: 0 | M35: 0
C36: Osmek 47 | D36: Přerov | E36: ='1134'!G16 -> 35840 | F36: ='1134'!G18 -> 35835 | G36: ='1134'!G22 -> 96 | H36: 0 | I36: =F36-E36-G36 -> -101 | J36: 0 | K36: 0 | L36: 0 | M36: 0
A37: 1152 | B37: Obchodní akademie a Jazyková škola | J37: ='1152'!G30 -> 8937.79 | K37: ='1152'!G29 -> 1000 | L37: 0 | M37: =J37+K37 -> 9937.79
C38: Bartošova 24 | D38: Přerov | E38: ='1152'!G16 -> 20021 | F38: ='1152'!G18 -> 20030 | G38: 0 | H38: =(F38-E38-G38) -> 9 | I38: 0 | J38: =J37/M37 -> 0.89937401 | K38: =K37/M37 -> 0.10062599 | L38: 0 | M38: 1
A39: 1162 | B39: Střední zdravotnická škola | J39: ='1162'!G30 -> 202129.81 | K39: ='1162'!G29 -> 20000 | L39: 0 | M39: =J39+K39 -> 222129.81
C40: Studentská 1095 | D40: Hranice | E40: ='1162'!G16 -> 16342 | F40: ='1162'!G18 -> 16565 | G40: 0 | H40: =(F40-E40-G40) -> 223 | I40: 0 | J40: =J39/M39 -> 0.90996256 | K40: =K39/M39 -> 0.090037443 | L40: 0 | M40: 1
A41: 1171 | B41: Střední škola elektrotechnická | J41: ='1171'!G30 -> 98974.73 | K41: ='1171'!G29 -> 1000 | L41: 0 | M41: =J41+K41 -> 99974.73
C42: Tyršova 781 | D42: Lipník n.B. | E42: ='1171'!G16 -> 32045 | F42: ='1171'!G18 -> 32145 | G42: 0 | H42: =(F42-E42-G42) -> 100 | I42: 0 | J42: =J41/M41 -> 0.98999747 | K42: =K41/M41 -> 0.010002528 | L42: 0 | M42: 1
A43: 1173 | B43: Střední škola technická | J43: ='1173'!G30 -> 22391.74 | K43: ='1173'!G29 -> 3500 | L43: 0 | M43: =J43+K43 -> 25891.74
C44: Kouřilkova 8 | D44: Přerov | E44: ='1173'!G16 -> 60640 | F44: ='1173'!G18 -> 60666 | G44: 0 | H44: =(F44-E44-G44) -> 26 | I44: 0 | J44: 0 | K44: 0 | L44: 0 | M44: 1
A45: 1216 | B45: Střední škola řezbářská | J45: ='1216'!G30 -> 116218.94 | K45: ='1216'!G29 -> 2000 | L45: 0 | M45: =J45+K45 -> 118218.94
C46: Nádražní 146 | D46: Tovačov | E46: ='1216'!G16 -> 14676 | F46: ='1216'!G18 -> 14795 | G46: 0 | H46: =(F46-E46-G46) -> 119 | I46: 0 | J46: =J45/M45 -> 0.98308224 | K46: =K45/M45 -> 0.016917763 | L46: 0 | M46: 1
A47: 1218 | B47: Odborné učiliště | J47: ='1218'!G30 -> 7144.36 | K47: ='1218'!G29 -> 6000 | L47: 0 | M47: =J47+K47 -> 13144.36
C48: Křenovice 8 | D48: Kojetín | E48: ='1218'!G16 -> 15277 | F48: ='1218'!G18 -> 15289 | G48: 0 | H48: =(F48-E48-G48) -> 12 | I48: 0 | J48: =J47/M47 -> 0.54353046 | K48: =K47/M47 -> 0.45646954 | L48: 0 | M48: 1
A49: 1306 | B49: Základní umělecká škola | J49: ='1306'!G30 -> 4084.95 | K49: ='1306'!G29 -> 3400 | L49: 0 | M49: =J49+K49 -> 7484.95
C50: Potštát 36 | D50: Potštát | E50: ='1306'!G16 -> 3658 | F50: ='1306'!G18 -> 3666 | G50: 0 | H50: =(F50-E50-G50) -> 8 | I50: 0 | J50: =J49/M49 -> 0.54575515 | K50: =K49/M49 -> 0.45424485 | L50: 0 | M50: 1
A51: 1307 | B51: Základní umělecká škola | J51: ='1307'!G30 -> 0 | K51: ='1307'!G29 -> 0 | L51: 0 | M51: =J51+K51 -> 0
C52: Škol.nám. 35 | D52: Hranice | E52: ='1307'!G16 -> 15023 | F52: ='1307'!G18 -> 15023 | G52: 0 | H52: =(F52-E52-G52) -> 0 | I52: 0 | J52: 0 | K52: 0 | L52: 0 | M52: 0
A53: 1308 | B53: Základní umělecká škola | J53: ='1308'!G30 -> 10027.19 | K53: ='1308'!G29 -> 0 | L53: 0 | M53: =J53+K53 -> 10027.19
C54: Hanusíkova 197 | D54: Kojetín | E54: ='1308'!G16 -> 5258 | F54: ='1308'!G18 -> 5268 | G54: 0 | H54: =F54-E54-G54 -> 10 | I54: 0 | J54: 0 | K54: 0 | L54: 0 | M54: 0
A55: 1309 | B55: Základní umělecká škola B. Kozánka | J55: ='1309'!G30 -> 143270.69 | K55: ='1309'!G29 -> 10000 | L55: 0 | M55: =J55+K55 -> 153270.69
C56: tř. 17.listopadu 2 | D56: Přerov | E56: ='1309'!G16 -> 20015 | F56: ='1309'!G18 -> 20168 | G56: ='1309'!G22 -> 0 | H56: =(F56-E56-G56) -> 153 | I56: 0 | J56: =J55/M55 -> 0.93475595 | K56: =K55/M55 -> 0.065244046 | L56: 0 | M56: 1
A57: 1310 | B57: Základní umělecká škola A. Dvořáka | J57: ='1310'!G30 -> 0 | K57: ='1310'!G29 -> 0 | L57: 0 | M57: =J57+K57 -> 0
C58: Havlíčkova 643 | D58: Lipník n.B. | E58: ='1310'!G16 -> 6668 | F58: ='1310'!G18 -> 6661 | G58: 0 | H58: 0 | I58: =F58-E58-G58 -> -7 | J58: 0 | K58: 0 | L58: 0 | M58: 1
A59: 1353 | B59: Středisko volného času ATLAS a BIOS | J59: ='1353'!G30 -> 27937.37 | K59: ='1353'!G29 -> 8000 | L59: 0 | M59: =J59+K59 -> 35937.37
C60: Žižkova 12 | D60: Přerov | E60: ='1353'!G16 -> 10417 | F60: ='1353'!G18 -> 10453 | G60: 0 | H60: =(F60-E60) -> 36 | I60: 0 | J60: =J59/M59 -> 0.7773905 | K60: =K59/M59 -> 0.2226095 | L60: 0 | M60: 1
A61: 1403 | B61: Dětský domov a Školní jídelna | J61: ='1403'!G30 -> 160000.37 | K61: ='1403'!G29 -> 6511 | L61: 0 | M61: =J61+K61 -> 166511.37
C62: Purgešova 847 | D62: Hranice | E62: ='1403'!G16 -> 10166 | F62: ='1403'!G18 -> 10333 | G62: 0 | H62: =F62-E62-G62 -> 167 | I62: 0 | J62: =J61/M61 -> 0.96089757 | K62: =K61/M61 -> 0.039102435 | L62: 0 | M62: =J62+K62 -> 1
A63: 1404 | B63: Dětský domov a Školní jídelna | J63: ='1404'!G30 -> 136057.42 | K63: ='1404'!G29 -> 1000 | L63: 0 | M63: =J63+K63 -> 137057.42
C64: Tyršova 772 | D64: Lipník n.B. | E64: ='1404'!G16 -> 7805 | F64: ='1404'!G18 -> 7942 | G64: 0 | H64: =(F64-E64-G64) -> 137 | I64: 0 | J64: =J63/M63 -> 0.99270379 | K64: =K63/M63 -> 0.0072962121 | L64: 0 | M64: 1
A65: 1405 | B65: Dětský domov a Školní jídelna | J65: ='1405'!G30 -> 85484.65 | K65: ='1405'!G29 -> 2000 | L65: 0 | M65: =J65+K65 -> 87484.65
C66: Sušilova 25/2392 | D66: Přerov | E66: ='1405'!G16 -> 8008 | F66: ='1405'!G18 -> 8096 | G66: 0 | H66: =(F66-E66-G66) -> 88 | I66: 0 | J66: =J65/M65 -> 0.97713885 | K66: =K65/M65 -> 0.022861153 | L66: 0 | M66: 1
A68: CELKEM | E68: =SUM(E9:E66) -> 655839 | F68: =SUM(F9:F66) -> 658404 | G68: =SUM(G9:G66) -> 260 | H68: =SUM(H9:H66) -> 2562 | I68: =SUM(I9:I66) -> -257 | J68: =J65+J63+J61+J59+J57+J55+J53+J51+J49+J47+J45+J43+J41+J39+J37+J35+J33+J31+J29+J27+J25+J23+J21+J19+J17+J15+J13+J11+J9 -> 2404495 | K68: =K65+K63+K61+K59+K57+K55+K53+K51+K49+K47+K45+K43+K41+K39+K37+K35+K33+K31+K29+K27+K25+K23+K21+K19+K17+K15+K13+K11+K9 -> 153611 | L68: =L65+L63+L61+L59+L57+L55+L53+L51+L49+L47+L45+L43+L41+L39+L37+L35+L33+L31+L29+L27+L25+L23+L21+L19+L17+L15+L13+L11+L9 -> 0 | M68: =M65+M63+M61+M59+M57+M55+M53+M51+M49+M47+M45+M43+M41+M39+M37+M35+M33+M31+M29+M27+M25+M23+M21+M19+M17+M15+M13+M11+M9 -> 2558106
H69: saldo | I69: =F68-E68-G68 -> 2305
A73: Z celkového počtu 29 organizací okresu Přerov skončilo:
C74: - 3 organizace ve ztrátě v celkové výši -257 tis. Kč
C75: - 23 organizací se zlepšeným výsledkem hospodaření v celkové výši 2 562 tis. Kč
C76: - 3 organizace s vyrovnaným výsledkem hospodaření

Sheet 1035
A1: REKAPITULACE ZA ORGANIZACI :
A2: Název organizace : | E2: Základní škola Kojetín, Sladovní 492
E3: ……………………………………….……..………………………………………..…………………………………
A4: Adresa : | E4: Sladovní 492, Kojetín
E5: ……………………………………….……..………………………………………..…………………………………
A6: IČ | E6: 61985937 | G6: ORG | I6: 1035
E7: ……………………………… ………….…..……………………………
E11: Schválený | F11: Upravený | G11: Skutečnost | H11: z toho:
E12: rozpočet | F12: rozpočet | G12: celkem | H12: Hlavní činnost | I12: Doplňková činnost
E13: celkem | F13: celkem | H13: jednotka - tis. Kč na 2 des. místa
A15: a) Náklady a výnosy
A16: Náklady | E16: 680 | F16: 6959 | G16: =H16+I16 -> 7027 | H16: 7027 | I16: 0
A18: Výnosy | E18: 680 | F18: 7247 | G18: =H18+I18 -> 7053 | H18: 7053 | I18: 0
A21: Doplňující údaje :
C22: daň z příjmů,dodatečné odvody daně z příjmů (nákladová položka) | G22: =H22+I22 -> 0 | H22: 0 | I22: 0
A24: Výsledek hospodaření /po zdanění/ | G24: =G18-G16-G22 -> 26 | H24: =H18-H16-H22 -> 26 | I24: =I18-I16-I22 -> 0
A28: b) | B28: Rozdělení výsledku hospodaření | G28: =G29+G30+G31 -> 25253.64 | H28: v Kč
C29: - Návrh na příděly do fondů: | F29: Fond odměn | G29: 0 | H29: v Kč
F30: Fond rezervní | G30: 25253.64 | H30: v Kč
C31: - Způsob krytí ztráty : | F31: Částka | G31: 0 | H31: v Kč
A35: c) | B35: Závazné ukazatele
F36: Schválená částka | G36: Skutečnost | I36: % plnění
A37: Limit mzdových prostředků | F37: 0 | G37: 0 | H37: v tis. Kč | I37: 0
A38: Neinvestiční příspěvek /odpisy/ | F38: 9.99 | G38: 9.996 | H38: v tis. Kč | I38: =G38/F38 -> 1.0006006
A39: Neinvestiční příspěvek /nájemné/ | F39: 0 | G39: 0 | H39: v tis. Kč | I39: nerozp.
A40: Odvody z investičního fondu /odpisy/ | F40: 8 | G40: 8 | H40: v tis. Kč | I40: =G40/F40 -> 1
A41: Odvody z investičního fondu | E41: /spolufin. akcí/ | F41: 0 | G41: 0 | H41: v tis. Kč | I41: nerozp.
A42: Pozn.: Vynaložené odpisy nad stanovený limit byly finančně pokryty z provozních prostředků organizace- 6,- Kč.
A44: d) | B44: Fondy | H44: jednotka - Kč na 2 des. místa
E45: Stav k 1.1.2010 | F45: Tvorba | G45: Čerpání | H45: Stav k | I45: Finanční krytí k
H46: 40543 | I46: 40543
C49: Fond odměn | E49: 525476 | F49: 0 | G49: 0 | H49: =E49+F49-G49 -> 525476 | I49: =H49 -> 525476
C50: FKSP | E50: 13528.2 | F50: 84226 | G50: 51018 | H50: =E50+F50-G50 -> 46736.2 | I50: 31765.2
C51: Fond rezervní | E51: 162046.54 | F51: 0 | G51: 0 | H51: =E51+F51-G51 -> 162046.54 | I51: =H51 -> 162046.54
C52: Investiční fond | E52: 171063.73 | F52: 9996 | G52: 8000 | H52: =E52+F52-G52 -> 173059.73 | I52: =H52 -> 173059.73
A53: celkem | E53: =E49+E50+E51+E52 -> 872114.47 | F53: =F49+F50+F51+F52 -> 94222 | G53: =G49+G50+G51+G52 -> 59018 | H53: =H49+H50+H51+H52 -> 907318.47 | I53: =I49+I50+I51+I52 -> 892347.47

Sheet 1036
A1: REKAPITULACE ZA ORGANIZACI :
A2: Název organizace : | E2: Základní škola a Mateřská škola Hranice, Nová 1820
E3: ……………………………………….……..………………………………………..…………………………………
A4: Adresa : | E4: Nová 1820, Hranice
E5: ……………………………………….……..………………………………………..…………………………………
A6: IČ | E6: 61985988 | G6: ORG | I6: 1036
E7: ……………………………… ………….…..……………………………
E11: Schválený | F11: Upravený | G11: Skutečnost | H11: z toho:
E12: rozpočet | F12: rozpočet | G12: celkem | H12: Hlavní činnost | I12: Doplňková činnost
E13: celkem | F13: celkem | H13: jednotka - tis. Kč na 2 des. místa
A15: a) Náklady a výnosy
A16: Náklady | E16: 3043 | F16: 15976 | G16: =H16+I16 -> 16053 | H16: 15917 | I16: 136
A18: Výnosy | E18: 3043 | F18: 15945 | G18: =H18+I18 -> 16053 | H18: 15856 | I18: 197
A21: Doplňující údaje :
C22: daň z příjmů,dodatečné odvody daně z příjmů (nákladová položka) | G22: =H22+I22 -> 0 | H22: 0 | I22: 0
A24: Výsledek hospodaření /po zdanění/ | G24: =G18-G16-G22 -> 0 | H24: =H18-H16-H22 -> -61 | I24: =I18-I16-I22 -> 61
A28: b) | B28: Rozdělení výsledku hospodaření | G28: =G29+G30+G31 -> 0 | H28: v Kč
C29: - Návrh na příděly do fondů: | F29: Fond odměn | G29: 0 | H29: v Kč
F30: Fond rezervní | G30: 0 | H30: v Kč
C31: - Způsob krytí ztráty : | F31: Částka | G31: 0 | H31: v Kč
A35: c) | B35: Závazné ukazatele
F36: Schválená částka | G36: Skutečnost | I36: % plnění
A37: Limit mzdových prostředků | F37: 0 | G37: 0 | H37: v tis. Kč | I37: 0
A38: Neinvestiční příspěvek /odpisy/ | F38: 390.941 | G38: 390.9408 | H38: v tis. Kč | I38: =G38/F38 -> 0.99999949
A39: Neinvestiční příspěvek /nájemné/ | F39: 0 | G39: 0 | H39: v tis. Kč | I39: nerozp.
A40: Odvody z investičního fondu /odpisy/ | F40: 293 | G40: 293 | H40: v tis. Kč | I40: =G40/F40 -> 1
A41: Odvody z investičního fondu | E41: /spolufin. akcí/ | F41: 0 | G41: 0 | H41: v tis. Kč | I41: nerozp.
A43: d) | B43: Fondy | H43: jednotka - Kč na 2 des. místa
E44: Stav k 1.1.2010 | F44: Tvorba | G44: Čerpání | H44: Stav k | I44: Finanční krytí k
H45: 40543 | I45: 40543
C48: Fond odměn | E48: 175060 | F48: 10000 | G48: 13970 | H48: =E48+F48-G48 -> 171090 | I48: =H48 -> 171090
C49: FKSP | E49: 66685.31 | F49: 183036.4 | G49: 121927 | H49: =E49+F49-G49 -> 127794.71 | I49: 109039.52
C50: Fond rezervní | E50: 274954.64 | F50: 120835.68 | G50: 109783.71 | H50: =E50+F50-G50 -> 286006.61 | I50: =H50 -> 286006.61
C51: Investiční fond | E51: 202252.83 | F51: 401986.8 | G51: 293000 | H51: =E51+F51-G51 -> 311239.63 | I51: =H51 -> 311239.63
A52: celkem | E52: =E48+E49+E50+E51 -> 718952.78 | F52: =F48+F49+F50+F51 -> 715858.88 | G52: =G48+G49+G50+G51 -> 538680.71 | H52: =H48+H49+H50+H51 -> 896130.95 | I52: =I48+I49+I50+I51 -> 877375.76

Sheet 1037
A1: REKAPITULACE ZA ORGANIZACI :
A2: Název organizace : | E2: Základní škola a Mateřská škola Přerov, Malá dlážka 4
E3: ……………………………………….……..………………………………………..…………………………………
A4: Adresa : | E4: Malá Dlážka 4, Přerov
E5: ……………………………………….……..………………………………………..…………………………………
A6: IČ | E6: 49558978 | G6: ORG | I6: 1037
E7: ……………………………… ………….…..……………………………
E11: Schválený | F11: Upravený | G11: Skutečnost | H11: z toho:
E12: rozpočet | F12: rozpočet | G12: celkem | H12: Hlavní činnost | I12: Doplňková činnost
E13: celkem | F13: celkem | H13: jednotka - tis. Kč na 2 des. místa
A15: a) Náklady a výnosy
A16: Náklady | E16: 2722 | F16: 15725 | G16: =H16+I16 -> 15757 | H16: 15757 | I16: 0
A18: Výnosy | E18: 2722 | F18: 16374 | G18: =H18+I18 -> 15757 | H18: 15757 | I18: 0
A21: Doplňující údaje :
C22: daň z příjmů,dodatečné odvody daně z příjmů (nákladová položka) | G22: =H22+I22 -> 0 | H22: 0 | I22: 0
A24: Výsledek hospodaření /po zdanění/ | G24: =G18-G16-G22 -> 0 | H24: =H18-H16-H22 -> 0 | I24: =I18-I16-I22 -> 0
A28: b) | B28: Rozdělení výsledku hospodaření | G28: =G29+G30+G31 -> 0 | H28: v Kč
C29: - Návrh na příděly do fondů: | F29: Fond odměn | G29: 0 | H29: v Kč
F30: Fond rezervní | G30: 0 | H30: v Kč
C31: - Způsob krytí ztráty : | F31: Částka | G31: 0 | H31: v Kč
A35: c) | B35: Závazné ukazatele
F36: Schválená částka | G36: Skutečnost | I36: % plnění
A37: Limit mzdových prostředků | F37: 306 | G37: 300.9 | H37: v tis. Kč | I37: =G37/F37 -> 0.98333333
A38: Neinvestiční příspěvek /odpisy/ | F38: 0 | G38: 0 | H38: v tis. Kč | I38: 0
A39: Neinvestiční příspěvek /nájemné/ | F39: 0 | G39: 0 | H39: v tis. Kč | I39: nerozp.
A40: Odvody z investičního fondu /odpisy/ | F40: 0 | G40: 0 | H40: v tis. Kč | I40: 0
A41: Odvody z investičního fondu | E41: /spolufin. akcí/ | F41: 0 | G41: 0 | H41: v tis. Kč | I41: nerozp.
A43: d) | B43: Fondy | H43: jednotka - Kč na 2 des. místa
E44: Stav k 1.1.2010 | F44: Tvorba | G44: Čerpání | H44: Stav k | I44: Finanční krytí k
H45: 40543 | I45: 40543
C48: Fond odměn | E48: 279829 | F48: 0 | G48: 0 | H48: =E48+F48-G48 -> 279829 | I48: =H48 -> 279829
C49: FKSP | E49: 90187.12 | F49: 188228 | G49: 162232 | H49: =E49+F49-G49 -> 116183.12 | I49: 97910.59
C50: Fond rezervní | E50: =68566.79+228654.85 -> 297221.64 | F50: 0 | G50: 228654.85 | H50: =E50+F50-G50 -> 68566.79 | I50: =H50 -> 68566.79
C51: Investiční fond | E51: 96818.4 | F51: 0 | G51: 0 | H51: =E51+F51-G51 -> 96818.4 | I51: =H51 -> 96818.4
A52: celkem | E52: =E48+E49+E50+E51 -> 764056.16 | F52: =F48+F49+F50+F51 -> 188228 | G52: =G48+G49+G50+G51 -> 390886.85 | H52: =H48+H49+H50+H51 -> 561397.31 | I52: =I48+I49+I50+I51 -> 543124.78

Sheet 1038
A1: REKAPITULACE ZA ORGANIZACI :
A2: Název organizace : | E2: Základní škola Lipník nad Bečvou, Osecká 301
E3: ……………………………………….……..………………………………………..…………………………………
A4: Adresa : | E4: Osecká 301, Lipník nad Bečvou
E5: ……………………………………….……..………………………………………..…………………………………
A6: IČ | E6: 61985953 | G6: ORG | I6: 1038
E7: ……………………………… ………….…..……………………………
E11: Schválený | F11: Upravený | G11: Skutečnost | H11: z toho:
E12: rozpočet | F12: rozpočet | G12: celkem | H12: Hlavní činnost | I12: Doplňková činnost
E13: celkem | F13: celkem | H13: jednotka - tis. Kč na 2 des. místa
A15: a) Náklady a výnosy
A16: Náklady | E16: 1363 | F16: 12524 | G16: =H16+I16 -> 12305 | H16: 12213 | I16: 92
A18: Výnosy | E18: 1363 | F18: 12550 | G18: =H18+I18 -> 12156 | H18: 12013 | I18: 143
A21: Doplňující údaje :
C22: daň z příjmů,dodatečné odvody daně z příjmů (nákladová položka) | G22: =H22+I22 -> 0 | H22: 0 | I22: 0
A24: Výsledek hospodaření /po zdanění/ | G24: =G18-G16-G22 -> -149 | H24: =H18-H16-H22 -> -200 | I24: =I18-I16-I22 -> 51
A28: b) | B28: Rozdělení výsledku hospodaření | G28: =G29+G30+G31 -> -146436.74 | H28: v Kč
C29: - Návrh na příděly do fondů: | F29: Fond odměn | G29: 0 | H29: v Kč
F30: Fond rezervní | G30: 0 | H30: v Kč
C31: - Způsob krytí ztráty : | F31: Částka | G31: -146436.74 | H31: v Kč
A32: Ztráta 146 436,74 Kč bude pokryta ze zlepšeného hospodářského výsledku v následujících letech (103 931,76 Kč) a z prostředků rezervního fondu (42 504,98 Kč) v souladu s ust. § 30, odst. 3d) zákona č. 250/2000 Sb., o rozpočtových pravidlech územních rozpočtů ve znění pozdějších předpisů - použití prostředků rezervního fondu, vyjma poskytnutých darů.
A36: c) | B36: Závazné ukazatele
F37: Schválená částka | G37: Skutečnost | I37: % plnění
A38: Limit mzdových prostředků | F38: 0 | G38: 0 | H38: v tis. Kč | I38: 0
A39: Neinvestiční příspěvek /odpisy/ | F39: 575 | G39: 565.871 | H39: v tis. Kč | I39: =G39/F39 -> 0.98412348
A40: Neinvestiční příspěvek /nájemné/ | F40: 0 | G40: 0 | H40: v tis. Kč | I40: nerozp.
A41: Odvody z investičního fondu /odpisy/ | F41: 431 | G41: 431 | H41: v tis. Kč | I41: =G41/F41 -> 1
A42: Odvody z investičního fondu | E42: /spolufin. akcí/ | F42: 0 | G42: 0 | H42: v tis. Kč | I42: nerozp.
A44: d) | B44: Fondy | H44: jednotka - Kč na 2 des. místa
E45: Stav k 1.1.2010 | F45: Tvorba | G45: Čerpání | H45: Stav k | I45: Finanční krytí k
H46: 40543 | I46: 40543
C49: Fond odměn | E49: 2475 | F49: 5370 | G49: 2000 | H49: =E49+F49-G49 -> 5845 | I49: =H49 -> 5845
C50: FKSP | E50: 86075.75 | F50: 151623.44 | G50: 180486 | H50: =E50+F50-G50 -> 57213.19 | I50: 38887.06
C51: Fond rezervní | E51: 555.8 | F51: 45794.96 | G51: 3845.78 | H51: =E51+F51-G51 -> 42504.98 | I51: =H51 -> 42504.98
C52: Investiční fond | E52: 38599.46 | F52: 610582 | G52: 495138.8 | H52: =E52+F52-G52 -> 154042.66 | I52: =H52 -> 154042.66
A53: celkem | E53: =E49+E50+E51+E52 -> 127706.01 | F53: =F49+F50+F51+F52 -> 813370.4 | G53: =G49+G50+G51+G52 -> 681470.58 | H53: =H49+H50+H51+H52 -> 259605.83 | I53: =I49+I50+I51+I52 -> 241279.7

Sheet 1108
A1: REKAPITULACE ZA ORGANIZACI :
A2: Název organizace : | E2: Gymnázium Jakuba Škody, Přerov, Komenského 29
E3: ……………………………………….……..………………………………………..…………………………………
A4: Adresa : | E4: Komenského 29, Přerov
E5: ……………………………………….……..………………………………………..…………………………………
A6: IČ | E6: 00842966 | G6: ORG | I6: 1108
E7: ……………………………… ………….…..……………………………
E11: Schválený | F11: Upravený | G11: Skutečnost | H11: z toho:
E12: rozpočet | F12: rozpočet | G12: celkem | H12: Hlavní činnost | I12: Doplňková činnost
E13: celkem | F13: celkem | H13: jednotka - tis. Kč na 2 des. místa
A15: a) Náklady a výnosy
A16: Náklady | E16: 10708 | F16: 40886 | G16: =H16+I16 -> 40923 | H16: 40696 | I16: 227
A18: Výnosy | E18: 10708 | F18: 40886 | G18: =H18+I18 -> 40989 | H18: 40696 | I18: 293
A21: Doplňující údaje :
C22: daň z příjmů,dodatečné odvody daně z příjmů (nákladová položka) | G22: =H22+I22 -> 0 | H22: 0 | I22: 0
A24: Výsledek hospodaření /po zdanění/ | G24: =G18-G16-G22 -> 66 | H24: =H18-H16-H22 -> 0 | I24: =I18-I16-I22 -> 66
A28: b) | B28: Rozdělení výsledku hospodaření | G28: =G29+G30+G31 -> 65855.34 | H28: v Kč
C29: - Návrh na příděly do fondů: | F29: Fond odměn | G29: 20000 | H29: v Kč
F30: Fond rezervní | G30: 45855.34 | H30: v Kč
C31: - Způsob krytí ztráty : | F31: Částka | G31: 0 | H31: v Kč
A35: c) | B35: Závazné ukazatele
F36: Schválená částka | G36: Skutečnost | I36: % plnění
A37: Limit mzdových prostředků | F37: 1140 | G37: 723.7 | H37: v tis. Kč | I37: =G37/F37 -> 0.63482456
A38: Neinvestiční příspěvek /odpisy/ | F38: 452.668 | G38: 457.22302 | H38: v tis. Kč | I38: =G38/F38 -> 1.0100626
A39: Neinvestiční příspěvek /nájemné/ | F39: 0 | G39: 0 | H39: v tis. Kč | I39: nerozp.
A40: Odvody z investičního fondu /odpisy/ | F40: 340 | G40: 340 | H40: v tis. Kč | I40: =G40/F40 -> 1
A41: Odvody z investičního fondu | E41: /spolufin. akcí/ | F41: 0 | G41: 0 | H41: v tis. Kč | I41: nerozp.
A42: Pozn.: Vynaložené odpisy nad stanovený limit byly finančně pokryty z provozních prostředků organizace- 4 555,02 Kč.
A44: d) | B44: Fondy | H44: jednotka - Kč na 2 des. místa
E45: Stav k 1.1.2010 | F45: Tvorba | G45: Čerpání | H45: Stav k | I45: Finanční krytí k
H46: 40543 | I46: 40543
C49: Fond odměn | E49: 53830.71 | F49: 15000 | G49: 33721.56 | H49: =E49+F49-G49 -> 35109.15 | I49: =H49 -> 35109.15
C50: FKSP | E50: 88062.63 | F50: 419337.64 | G50: 503232 | H50: =E50+F50-G50 -> 4168.27 | I50: 11764.27
C51: Fond rezervní | E51: 516282.68 | F51: =56443.08+155727.86 -> 212170.94 | G51: =61721+518365.82 -> 580086.82 | H51: =E51+F51-G51 -> 148366.8 | I51: =54359.94+93932.86 -> 148292.8
C52: Investiční fond | E52: 63811.14 | F52: 470816.8 | G52: 375278.4 | H52: =E52+F52-G52 -> 159349.54 | I52: =H52 -> 159349.54
A53: celkem | E53: =E49+E50+E51+E52 -> 721987.16 | F53: =F49+F50+F51+F52 -> 1117325.4 | G53: =G49+G50+G51+G52 -> 1492318.8 | H53: =H49+H50+H51+H52 -> 346993.76 | I53: =I49+I50+I51+I52 -> 354515.76

Sheet 1109
A1: REKAPITULACE ZA ORGANIZACI :
A2: Název organizace : | E2: Gymnázium, Hranice, Zborovská 293
E3: ……………………………………….……..………………………………………..…………………………………
A4: Adresa : | E4: Zborovská 293, Hranice
E5: ……………………………………….……..………………………………………..…………………………………
A6: IČ | E6: 70259909 | G6: ORG | I6: 1109
E7: ……………………………… ………….…..……………………………
E11: Schválený | F11: Upravený | G11: Skutečnost | H11: z toho:
E12: rozpočet | F12: rozpočet | G12: celkem | H12: Hlavní činnost | I12: Doplňková činnost
E13: celkem | F13: celkem | H13: jednotka - tis. Kč na 2 des. místa
A15: a) Náklady a výnosy
A16: Náklady | E16: 3661 | F16: 21986 | G16: =H16+I16 -> 22531 | H16: 22324 | I16: 207
A18: Výnosy | E18: 3661 | F18: 22729 | G18: =H18+I18 -> 22544 | H18: 22281 | I18: 263
A21: Doplňující údaje :
C22: daň z příjmů,dodatečné odvody daně z příjmů (nákladová položka) | G22: =H22+I22 -> 0 | H22: 0 | I22: 0
A24: Výsledek hospodaření /po zdanění/ | G24: =G18-G16-G22 -> 13 | H24: =H18-H16-H22 -> -43 | I24: =I18-I16-I22 -> 56
A28: b) | B28: Rozdělení výsledku hospodaření | G28: =G29+G30+G31 -> 12043.29 | H28: v Kč
C29: - Návrh na příděly do fondů: | F29: Fond odměn | G29: 1000 | H29: v Kč
F30: Fond rezervní | G30: 11043.29 | H30: v Kč
C31: - Způsob krytí ztráty : | F31: Částka | G31: 0 | H31: v Kč
A35: c) | B35: Závazné ukazatele
F36: Schválená částka | G36: Skutečnost | I36: % plnění
A37: Limit mzdových prostředků | F37: 121 | G37: 120.78 | H37: v tis. Kč | I37: =G37/F37 -> 0.99818182
A38: Neinvestiční příspěvek /odpisy/ | F38: 814.98 | G38: 814.9805 | H38: v tis. Kč | I38: =G38/F38 -> 1.0000006
A39: Neinvestiční příspěvek /nájemné/ | F39: 0 | G39: 0 | H39: v tis. Kč | I39: nerozp.
A40: Odvody z investičního fondu /odpisy/ | F40: 611 | G40: 611 | H40: v tis. Kč | I40: =G40/F40 -> 1
A41: Odvody z investičního fondu | E41: /spolufin. akcí/ | F41: 0 | G41: 0 | H41: v tis. Kč | I41: nerozp.
A42: Pozn.: Vynaložené odpisy nad stanovený limit byly finančně pokryty z provozních prostředků organizace- 0,50 Kč.
A44: d) | B44: Fondy | H44: jednotka - Kč na 2 des. místa
E45: Stav k 1.1.2010 | F45: Tvorba | G45: Čerpání | H45: Stav k | I45: Finanční krytí k
H46: 40543 | I46: 40543
C49: Fond odměn | E49: 12100 | F49: 1000 | G49: 2000 | H49: =E49+F49-G49 -> 11100 | I49: =H49 -> 11100
C50: FKSP | E50: 147968.95 | F50: 261408.32 | G50: 260092 | H50: =E50+F50-G50 -> 149285.27 | I50: =H50 -> 149285.27
C51: Fond rezervní | E51: 35537.05 | F51: =24745.55+63376.6 -> 88122.15 | G51: 5815 | H51: =E51+F51-G51 -> 117844.2 | I51: =50202.1+63376.6 -> 113578.7
C52: Investiční fond | E52: 351778.61 | F52: 878674.5 | G52: 827868 | H52: =E52+F52-G52 -> 402585.11 | I52: =H52 -> 402585.11
A53: celkem | E53: =E49+E50+E51+E52 -> 547384.61 | F53: =F49+F50+F51+F52 -> 1229205 | G53: =G49+G50+G51+G52 -> 1095775 | H53: =H49+H50+H51+H52 -> 680814.58 | I53: =I49+I50+I51+I52 -> 676549.08

Sheet 1110
A1: REKAPITULACE ZA ORGANIZACI :
A2: Název organizace : | E2: Gymnázium, Kojetín, Svatopluka Čecha 683
E3: ……………………………………….……..………………………………………..…………………………………
A4: Adresa : | E4: Svatopluka Čecha 683, Kojetín
E5: ……………………………………….……..………………………………………..…………………………………
A6: IČ | E6: 70259861 | G6: ORG | I6: 1110
E7: ……………………………… ………….…..……………………………
E11: Schválený | F11: Upravený | G11: Skutečnost | H11: z toho:
E12: rozpočet | F12: rozpočet | G12: celkem | H12: Hlavní činnost | I12: Doplňková činnost
E13: celkem | F13: celkem | H13: jednotka - tis. Kč na 2 des. místa
A15: a) Náklady a výnosy
A16: Náklady | E16: 3385 | F16: 20141 | G16: =H16+I16 -> 20244 | H16: 20123 | I16: 121
A18: Výnosy | E18: 3385 | F18: 19541 | G18: =H18+I18 -> 20432 | H18: 20128 | I18: 304
A21: Doplňující údaje :
C22: daň z příjmů,dodatečné odvody daně z příjmů (nákladová položka) | G22: =H22+I22 -> 0 | H22: 0 | I22: 0
A24: Výsledek hospodaření /po zdanění/ | G24: =G18-G16-G22 -> 188 | H24: =H18-H16-H22 -> 5 | I24: =I18-I16-I22 -> 183
A28: b) | B28: Rozdělení výsledku hospodaření | G28: =G29+G30+G31 -> 187897.73 | H28: v Kč
C29: - Návrh na příděly do fondů: | F29: Fond odměn | G29: 25000 | H29: v Kč
F30: Fond rezervní | G30: 162897.73 | H30: v Kč
C31: - Způsob krytí ztráty : | F31: Částka | G31: 0 | H31: v Kč
A35: c) | B35: Závazné ukazatele
F36: Schválená částka | G36: Skutečnost | I36: % plnění
A37: Limit mzdových prostředků | F37: 0 | G37: 0 | H37: v tis. Kč | I37: 0
A38: Neinvestiční příspěvek /odpisy/ | F38: 975.828 | G38: 975.828 | H38: v tis. Kč | I38: =G38/F38 -> 1
A39: Neinvestiční příspěvek /nájemné/ | F39: 0 | G39: 0 | H39: v tis. Kč | I39: nerozp.
A40: Odvody z investičního fondu /odpisy/ | F40: 732 | G40: 732 | H40: v tis. Kč | I40: =G40/F40 -> 1
A41: Odvody z investičního fondu | E41: /spolufin. akcí/ | F41: 0 | G41: 0 | H41: v tis. Kč | I41: nerozp.
A42: Pozn.: Odvod z investičního fondu - ROP ve výši 12 793,32 tis. Kč
A44: d) | B44: Fondy | H44: jednotka - Kč na 2 des. místa
E45: Stav k 1.1.2010 | F45: Tvorba | G45: Čerpání | H45: Stav k | I45: Finanční krytí k
H46: 40543 | I46: 40543
C49: Fond odměn | E49: 5800 | F49: 12300 | G49: 2000 | H49: =E49+F49-G49 -> 16100 | I49: =H49 -> 16100
C50: FKSP | E50: 153164.52 | F50: 198654 | G50: 248017 | H50: =E50+F50-G50 -> 103801.52 | I50: 88312.04
C51: Fond rezervní | E51: =387855.56+234435.59 -> 622291.15 | F51: =166945.64+85112 -> 252057.64 | G51: =141160.8+90888 -> 232048.8 | H51: =E51+F51-G51 -> 642299.99 | I51: =H51 -> 642299.99
C52: Investiční fond | E52: 4412718.6 | F52: 19431376 | G52: 22538549 | H52: =E52+F52-G52 -> 1305546.5 | I52: =H52 -> 1305546.5
A53: celkem | E53: =E49+E50+E51+E52 -> 5193974.2 | F53: =F49+F50+F51+F52 -> 19894388 | G53: =G49+G50+G51+G52 -> 23020614 | H53: =H49+H50+H51+H52 -> 2067748 | I53: =I49+I50+I51+I52 -> 2052258.5

Sheet 1128
A1: REKAPITULACE ZA ORGANIZACI :
A2: Název organizace : | E2: Střední průmyslová škola, Hranice, Studentská 1384
E3: ……………………………………….……..………………………………………..…………………………………
A4: Adresa : | E4: Studentská 1384, Hranice
E5: ……………………………………….……..………………………………………..…………………………………
A6: IČ | E6: 00842893 | G6: ORG | I6: 1128
E7: ……………………………… ………….…..……………………………
E11: Schválený | F11: Upravený | G11: Skutečnost | H11: z toho:
E12: rozpočet | F12: rozpočet | G12: celkem | H12: Hlavní činnost | I12: Doplňková činnost
E13: celkem | F13: celkem | H13: jednotka - tis. Kč na 2 des. místa
A15: a) Náklady a výnosy
A16: Náklady | E16: 17454 | F16: 46433 | G16: =H16+I16 -> 46434 | H16: 41911 | I16: 4523
A18: Výnosy | E18: 17454 | F18: 48271 | G18: =H18+I18 -> 47247 | H18: 41727 | I18: 5520
A21: Doplňující údaje :
C22: daň z příjmů,dodatečné odvody daně z příjmů (nákladová položka) | G22: =H22+I22 -> 159 | H22: 0 | I22: 159
A24: Výsledek hospodaření /po zdanění/ | G24: =G18-G16-G22 -> 654 | H24: =H18-H16-H22 -> -184 | I24: =I18-I16-I22 -> 838
A28: b) | B28: Rozdělení výsledku hospodaření | G28: =G29+G30+G31 -> 655465.88 | H28: v Kč
C29: - Návrh na příděly do fondů: | F29: Fond odměn | G29: 33700 | H29: v Kč
F30: Fond rezervní | G30: 621765.88 | H30: v Kč
C31: - Způsob krytí ztráty : | F31: Částka | G31: 0 | H31: v Kč
A35: c) | B35: Závazné ukazatele
F36: Schválená částka | G36: Skutečnost | I36: % plnění
A37: Limit mzdových prostředků | F37: 315 | G37: 309.39 | H37: v tis. Kč | I37: =G37/F37 -> 0.98219048
A38: Neinvestiční příspěvek /odpisy/ | F38: 1244.672 | G38: 1244.672 | H38: v tis. Kč | I38: =G38/F38 -> 1
A39: Neinvestiční příspěvek /nájemné/ | F39: 0 | G39: 0 | H39: v tis. Kč | I39: nerozp.
A40: Odvody z investičního fondu /odpisy/ | F40: 934 | G40: 934 | H40: v tis. Kč | I40: =G40/F40 -> 1
A41: Odvody z investičního fondu | E41: /spolufin. akcí/ | F41: 0 | G41: 0 | H41: v tis. Kč | I41: nerozp.
A43: d) | B43: Fondy | H43: jednotka - Kč na 2 des. místa
E44: Stav k 1.1.2010 | F44: Tvorba | G44: Čerpání | H44: Stav k | I44: Finanční krytí k
H45: 40543 | I45: 40543
C48: Fond odměn | E48: 0 | F48: 35000 | G48: 34400 | H48: =E48+F48-G48 -> 600 | I48: =H48 -> 600
C49: FKSP | E49: 379970.72 | F49: 446965 | G49: 458097.4 | H49: =E49+F49-G49 -> 368838.32 | I49: 344257.59
C50: Fond rezervní | E50: =38249.82+16969.6 -> 55219.42 | F50: =36712.6+110000 -> 146712.6 | G50: 0 | H50: =E50+F50-G50 -> 201932.02 | I50: =57652.42+126969.6 -> 184622.02
C51: Investiční fond | E51: 6041.81 | F51: 1607942 | G51: 1345740 | H51: =E51+F51-G51 -> 268243.81 | I51: =H51 -> 268243.81
A52: celkem | E52: =E48+E49+E50+E51 -> 441231.95 | F52: =F48+F49+F50+F51 -> 2236619.6 | G52: =G48+G49+G50+G51 -> 1838237.4 | H52: =H48+H49+H50+H51 -> 839614.15 | I52: =I48+I49+I50+I51 -> 797723.42

Sheet 1129
A1: REKAPITULACE ZA ORGANIZACI :
A2: Název organizace : | E2: SPŠ stavební, Lipník nad Bečvou, Komenského sady 257
E3: ……………………………………….……..………………………………………..…………………………………
A4: Adresa : | E4: Komenského sady 257
E5: ……………………………………….……..………………………………………..…………………………………
A6: IČ | E6: 70259941 | G6: ORG | I6: 1129
E7: ……………………………… ………….…..……………………………
E11: Schválený | F11: Upravený | G11: Skutečnost | H11: z toho:
E12: rozpočet | F12: rozpočet | G12: celkem | H12: Hlavní činnost | I12: Doplňková činnost
E13: celkem | F13: celkem | H13: jednotka - tis. Kč na 2 des. místa
A15: a) Náklady a výnosy
A16: Náklady | E16: 4504 | F16: 22336 | G16: =H16+I16 -> 22336 | H16: 21879 | I16: 457
A18: Výnosy | E18: 4504 | F18: 22571 | G18: =H18+I18 -> 22349 | H18: 21879 | I18: 470
A21: Doplňující údaje :
C22: daň z příjmů,dodatečné odvody daně z příjmů (nákladová položka) | G22: =H22+I22 -> 0 | H22: 0 | I22: 0
A24: Výsledek hospodaření /po zdanění/ | G24: =G18-G16-G22 -> 13 | H24: =H18-H16-H22 -> 0 | I24: =I18-I16-I22 -> 13
A28: b) | B28: Rozdělení výsledku hospodaření | G28: =G29+G30+G31 -> 13545.86 | H28: v Kč
C29: - Návrh na příděly do fondů: | F29: Fond odměn | G29: 0 | H29: v Kč
F30: Fond rezervní | G30: 13545.86 | H30: v Kč
C31: - Způsob krytí ztráty : | F31: Částka | G31: 0 | H31: v Kč
A35: c) | B35: Závazné ukazatele
F36: Schválená částka | G36: Skutečnost | I36: % plnění
A37: Limit mzdových prostředků | F37: 0 | G37: 0 | H37: v tis. Kč | I37: 0
A38: Neinvestiční příspěvek /odpisy/ | F38: 455 | G38: 457.33118 | H38: v tis. Kč | I38: =G38/F38 -> 1.0051235
A39: Neinvestiční příspěvek /nájemné/ | F39: 0 | G39: 0 | H39: v tis. Kč | I39: nerozp.
A40: Odvody z investičního fondu /odpisy/ | F40: 341 | G40: 341 | H40: v tis. Kč | I40: =G40/F40 -> 1
A41: Odvody z investičního fondu | E41: /spolufin. akcí/ | F41: 0 | G41: 0 | H41: v tis. Kč | I41: nerozp.
A42: Pozn.: Vynaložené odpisy nad stanovený limit byly finančně pokryty z provozních prostředků organizace- 2 331,18 Kč.
A44: d) | B44: Fondy | H44: jednotka - Kč na 2 des. místa
E45: Stav k 1.1.2010 | F45: Tvorba | G45: Čerpání | H45: Stav k | I45: Finanční krytí k
H46: 40543 | I46: 40543
C49: Fond odměn | E49: 58874 | F49: 15000 | G49: 4000 | H49: =E49+F49-G49 -> 69874 | I49: =H49 -> 69874
C50: FKSP | E50: 101434.52 | F50: 230375 | G50: 229255.88 | H50: =E50+F50-G50 -> 102553.64 | I50: 80384.64
C51: Fond rezervní | E51: =200265.12+13081 -> 213346.12 | F51: =285179.16+554452 -> 839631.16 | G51: =166055+511952 -> 678007 | H51: =E51+F51-G51 -> 374970.28 | I51: =152459.28+55581 -> 208040.28
C52: Investiční fond | E52: 14949.94 | F52: 540811.18 | G52: 430480 | H52: =E52+F52-G52 -> 125281.12 | I52: 131472.35
A53: celkem | E53: =E49+E50+E51+E52 -> 388604.58 | F53: =F49+F50+F51+F52 -> 1625817.3 | G53: =G49+G50+G51+G52 -> 1341742.9 | H53: =H49+H50+H51+H52 -> 672679.04 | I53: =I49+I50+I51+I52 -> 489771.27

Sheet 1130
A1: REKAPITULACE ZA ORGANIZACI :
A2: Název organizace : | E2: Střední průmyslová škola, Přerov, Havlíčkova 2
E3: ……………………………………….……..………………………………………..…………………………………
A4: Adresa : | E4: Havlíčkova 2, Přerov
E5: ……………………………………….……..………………………………………..…………………………………
A6: IČ | E6: 70259925 | G6: ORG | I6: 1130
E7: ……………………………… ………….…..……………………………
E11: Schválený | F11: Upravený | G11: Skutečnost | H11: z toho:
E12: rozpočet | F12: rozpočet | G12: celkem | H12: Hlavní činnost | I12: Doplňková činnost
E13: celkem | F13: celkem | H13: jednotka - tis. Kč na 2 des. místa
A15: a) Náklady a výnosy
A16: Náklady | E16: 3431 | F16: 21235 | G16: =H16+I16 -> 21398 | H16: 21254 | I16: 144
A18: Výnosy | E18: 3451 | F18: 22693 | G18: =H18+I18 -> 21484 | H18: 21254 | I18: 230
A21: Doplňující údaje :
C22: daň z příjmů,dodatečné odvody daně z příjmů (nákladová položka) | G22: =H22+I22 -> 0 | H22: 0 | I22: 0
A24: Výsledek hospodaření /po zdanění/ | G24: =G18-G16-G22 -> 86 | H24: =H18-H16-H22 -> 0 | I24: =I18-I16-I22 -> 86
A28: b) | B28: Rozdělení výsledku hospodaření | G28: =G29+G30+G31 -> 86121.12 | H28: v Kč
C29: - Návrh na příděly do fondů: | F29: Fond odměn | G29: 6000 | H29: v Kč
F30: Fond rezervní | G30: 80121.12 | H30: v Kč
C31: - Způsob krytí ztráty : | F31: Částka | G31: 0 | H31: v Kč
A35: c) | B35: Závazné ukazatele
F36: Schválená částka | G36: Skutečnost | I36: % plnění
A37: Limit mzdových prostředků | F37: 0 | G37: 0 | H37: v tis. Kč | I37: 0
A38: Neinvestiční příspěvek /odpisy/ | F38: 781.76 | G38: 781.76 | H38: v tis. Kč | I38: =G38/F38 -> 1
A39: Neinvestiční příspěvek /nájemné/ | F39: 0 | G39: 0 | H39: v tis. Kč | I39: nerozp.
A40: Odvody z investičního fondu /odpisy/ | F40: 586 | G40: 586 | H40: v tis. Kč | I40: =G40/F40 -> 1
A41: Odvody z investičního fondu | E41: /spolufin. akcí/ | F41: 0 | G41: 0 | H41: v tis. Kč | I41: nerozp.
A43: d) | B43: Fondy | H43: jednotka - Kč na 2 des. místa
E44: Stav k 1.1.2010 | F44: Tvorba | G44: Čerpání | H44: Stav k | I44: Finanční krytí k
H45: 40543 | I45: 40543
C48: Fond odměn | E48: 0 | F48: 5000 | G48: 2000 | H48: =E48+F48-G48 -> 3000 | I48: =H48 -> 3000
C49: FKSP | E49: 72509.96 | F49: 257001 | G49: 278010 | H49: =E49+F49-G49 -> 51500.96 | I49: 25233.53
C50: Fond rezervní | E50: 132186.39 | F50: =72340.13+2500 -> 74840.13 | G50: =23863.51+2500 -> 26363.51 | H50: =E50+F50-G50 -> 180663.01 | I50: =H50 -> 180663.01
C51: Investiční fond | E51: 121230 | F51: 796626 | G51: 773206.4 | H51: =E51+F51-G51 -> 144649.6 | I51: =H51 -> 144649.6
A52: celkem | E52: =E48+E49+E50+E51 -> 325926.35 | F52: =F48+F49+F50+F51 -> 1133467.1 | G52: =G48+G49+G50+G51 -> 1079579.9 | H52: =H48+H49+H50+H51 -> 379813.57 | I52: =I48+I49+I50+I51 -> 353546.14

Sheet 1131
A1: REKAPITULACE ZA ORGANIZACI :
A2: Název organizace : | E2: Střední škola gastronomie a služeb, Přerov, Šířava 7
E3: ……………………………………….……..………………………………………..…………………………………
A4: Adresa : | E4: Šířava 7, Přerov
E5: ……………………………………….……..………………………………………..…………………………………
A6: IČ | E6: 00577227 | G6: ORG | I6: 1131
E7: ……………………………… ………….…..……………………………
E11: Schválený | F11: Upravený | G11: Skutečnost | H11: z toho:
E12: rozpočet | F12: rozpočet | G12: celkem | H12: Hlavní činnost | I12: Doplňková činnost
E13: celkem | F13: celkem | H13: jednotka - tis. Kč na 2 des. místa
A15: a) Náklady a výnosy
A16: Náklady | E16: 14455 | F16: 43856 | G16: =H16+I16 -> 43770 | H16: 43248 | I16: 522
A18: Výnosy | E18: 14505 | F18: 44397 | G18: =H18+I18 -> 44018 | H18: 43250 | I18: 768
A21: Doplňující údaje :
C22: daň z příjmů,dodatečné odvody daně z příjmů (nákladová položka) | G22: =H22+I22 -> 0 | H22: 0 | I22: 0
A24: Výsledek hospodaření /po zdanění/ | G24: =G18-G16-G22 -> 248 | H24: =H18-H16-H22 -> 2 | I24: =I18-I16-I22 -> 246
A28: b) | B28: Rozdělení výsledku hospodaření | G28: =G29+G30+G31 -> 244473.74 | H28: v Kč
C29: - Návrh na příděly do fondů: | F29: Fond odměn | G29: 1000 | H29: v Kč
F30: Fond rezervní | G30: 243473.74 | H30: v Kč
C31: - Způsob krytí ztráty : | F31: Částka | G31: 0 | H31: v Kč
A35: c) | B35: Závazné ukazatele
F36: Schválená částka | G36: Skutečnost | I36: % plnění
A37: Limit mzdových prostředků | F37: 1630 | G37: 1323.19 | H37: v tis. Kč | I37: =G37/F37 -> 0.81177301
A38: Neinvestiční příspěvek /odpisy/ | F38: 840.193 | G38: 840.026 | H38: v tis. Kč | I38: =G38/F38 -> 0.99980124
A39: Neinvestiční příspěvek /nájemné/ | F39: 0 | G39: 0 | H39: v tis. Kč | I39: nerozp.
A40: Odvody z investičního fondu /odpisy/ | F40: 630 | G40: 630 | H40: v tis. Kč | I40: =G40/F40 -> 1
A41: Odvody z investičního fondu | E41: /spolufin. akcí/ | F41: 0 | G41: 0 | H41: v tis. Kč | I41: nerozp.
A42: Pozn.: Odvod z investičního fondu - ROP ve výši 17 174,80 tis. Kč
A44: d) | B44: Fondy | H44: jednotka - Kč na 2 des. místa
E45: Stav k 1.1.2010 | F45: Tvorba | G45: Čerpání | H45: Stav k | I45: Finanční krytí k
H46: 40543 | I46: 40543
C49: Fond odměn | E49: 1158589 | F49: 1000 | G49: 9000 | H49: =E49+F49-G49 -> 1150589 | I49: =H49 -> 1150589
C50: FKSP | E50: 495676.96 | F50: 421638 | G50: 425646 | H50: =E50+F50-G50 -> 491668.96 | I50: 454760.92
C51: Fond rezervní | E51: =268802.23+659744.26 -> 928546.49 | F51: =165324.32+1500 -> 166824.32 | G51: 473231.34 | H51: =E51+F51-G51 -> 622139.47 | I51: =H51 -> 622139.47
C52: Investiční fond | E52: 2397862.1 | F52: 35113841 | G52: 36571870 | H52: =E52+F52-G52 -> 939832.62 | I52: =H52 -> 939832.62
A53: celkem | E53: =E49+E50+E51+E52 -> 4980674.6 | F53: =F49+F50+F51+F52 -> 35703303 | G53: =G49+G50+G51+G52 -> 37479748 | H53: =H49+H50+H51+H52 -> 3204230 | I53: =I49+I50+I51+I52 -> 3167322

Sheet 1132
A1: REKAPITULACE ZA ORGANIZACI :
A2: Název organizace : | E2: Střední lesnická škola, Hranice, Jurikova 588
E3: ……………………………………….……..………………………………………..…………………………………
A4: Adresa : | E4: Jurikova 588, Hranice
E5: ……………………………………….……..………………………………………..…………………………………
A6: IČ | E6: 61986038 | G6: ORG | I6: 1132
E7: ……………………………… ………….…..……………………………
E11: Schválený | F11: Upravený | G11: Skutečnost | H11: z toho:
E12: rozpočet | F12: rozpočet | G12: celkem | H12: Hlavní činnost | I12: Doplňková činnost
E13: celkem | F13: celkem | H13: jednotka - tis. Kč na 2 des. místa
A15: a) Náklady a výnosy
A16: Náklady | E16: 21845 | F16: 47586 | G16: =H16+I16 -> 50832 | H16: 38601 | I16: 12231
A18: Výnosy | E18: 21845 | F18: 50565 | G18: =H18+I18 -> 51013 | H18: 38644 | I18: 12369
A21: Doplňující údaje :
C22: daň z příjmů,dodatečné odvody daně z příjmů (nákladová položka) | G22: =H22+I22 -> 5 | H22: 0 | I22: =13-8 -> 5
A24: Výsledek hospodaření /po zdanění/ | G24: =G18-G16-G22 -> 176 | H24: =H18-H16-H22 -> 43 | I24: =I18-I16-I22 -> 133
A28: b) | B28: Rozdělení výsledku hospodaření | G28: =G29+G30+G31 -> 176466.71 | H28: v Kč
C29: - Návrh na příděly do fondů: | F29: Fond odměn | G29: 1000 | H29: v Kč
F30: Fond rezervní | G30: 175466.71 | H30: v Kč
C31: - Způsob krytí ztráty : | F31: Částka | G31: 0 | H31: v Kč
A35: c) | B35: Závazné ukazatele
F36: Schválená částka | G36: Skutečnost | I36: % plnění
A37: Limit mzdových prostředků | F37: 0 | G37: 0 | H37: v tis. Kč | I37: 0
A38: Neinvestiční příspěvek /odpisy/ | F38: 1241 | G38: 1234.731 | H38: v tis. Kč | I38: =G38/F38 -> 0.99494843
A39: Neinvestiční příspěvek /nájemné/ | F39: 0 | G39: 0 | H39: v tis. Kč | I39: nerozp.
A40: Odvody z investičního fondu /odpisy/ | F40: 931 | G40: 931 | H40: v tis. Kč | I40: =G40/F40 -> 1
A41: Odvody z investičního fondu | E41: /spolufin. akcí/ | F41: 0 | G41: 0 | H41: v tis. Kč | I41: nerozp.
A44: d) | B44: Fondy | H44: jednotka - Kč na 2 des. místa
E45: Stav k 1.1.2010 | F45: Tvorba | G45: Čerpání | H45: Stav k | I45: Finanční krytí k
H46: 40543 | I46: 40543
C49: Fond odměn | E49: 816890 | F49: 1000 | G49: 24600 | H49: =E49+F49-G49 -> 793290 | I49: =H49 -> 793290
C50: FKSP | E50: 383322.27 | F50: 496817 | G50: 396069 | H50: =E50+F50-G50 -> 484070.27 | I50: 403909.58
C51: Fond rezervní | E51: 2704317.2 | F51: =214187.05+382279.34 -> 596466.39 | G51: 578716.5 | H51: =E51+F51-G51 -> 2722067.1 | I51: =214187.05+661252.55 -> 875439.6
C52: Investiční fond | E52: 309568.49 | F52: 2063758 | G52: 1181285 | H52: =E52+F52-G52 -> 1192041.5 | I52: 1198310.5
A53: celkem | E53: =E49+E50+E51+E52 -> 4214098 | F53: =F49+F50+F51+F52 -> 3158041.4 | G53: =G49+G50+G51+G52 -> 2180670.5 | H53: =H49+H50+H51+H52 -> 5191468.9 | I53: =I49+I50+I51+I52 -> 3270949.7

Sheet 1133
A1: REKAPITULACE ZA ORGANIZACI :
A2: Název organizace : | E2: Gymnázium Jana Blahoslava a Střední pedagogická škola, Přerov, Denisova 3
E3: ……………………………………….……..………………………………………..…………………………………
A4: Adresa : | E4: Denisova 3, Přerov
E5: ……………………………………….……..………………………………………..…………………………………
A6: IČ | E6: 61985759 | G6: ORG | I6: 1133
E7: ……………………………… ………….…..……………………………
E11: Schválený | F11: Upravený | G11: Skutečnost | H11: z toho:
E12: rozpočet | F12: rozpočet | G12: celkem | H12: Hlavní činnost | I12: Doplňková činnost
E13: celkem | F13: celkem | H13: jednotka - tis. Kč na 2 des. místa
A15: a) Náklady a výnosy
A16: Náklady | E16: 6935 | F16: 54374 | G16: =H16+I16 -> 54370 | H16: 53924 | I16: 446
A18: Výnosy | E18: 6935 | F18: 52820.53 | G18: =H18+I18 -> 54374 | H18: 53924 | I18: 450
A21: Doplňující údaje :
C22: daň z příjmů,dodatečné odvody daně z příjmů (nákladová položka) | G22: =H22+I22 -> 0 | H22: 0 | I22: 0
A24: Výsledek hospodaření /po zdanění/ | G24: =G18-G16-G22 -> 4 | H24: =H18-H16-H22 -> 0 | I24: =I18-I16-I22 -> 4
A28: b) | B28: Rozdělení výsledku hospodaření | G28: =G29+G30+G31 -> 3911.65 | H28: v Kč
C29: - Návrh na příděly do fondů: | F29: Fond odměn | G29: 1500 | H29: v Kč
F30: Fond rezervní | G30: 2411.65 | H30: v Kč
C31: - Způsob krytí ztráty : | F31: Částka | G31: 0 | H31: v Kč
A35: c) | B35: Závazné ukazatele
F36: Schválená částka | G36: Skutečnost | I36: % plnění
A37: Limit mzdových prostředků | F37: 2911.87 | G37: 2911.87 | H37: v tis. Kč | I37: =G37/F37 -> 1
A38: Neinvestiční příspěvek /odpisy/ | F38: 1054.903 | G38: 1054.9032 | H38: v tis. Kč | I38: =G38/F38 -> 1.0000002
A39: Neinvestiční příspěvek /nájemné/ | F39: 0 | G39: 0 | H39: v tis. Kč | I39: nerozp.
A40: Odvody z investičního fondu /odpisy/ | F40: 791 | G40: 791 | H40: v tis. Kč | I40: =G40/F40 -> 1
A41: Odvody z investičního fondu | E41: /spolufin. akcí/ | F41: 0 | G41: 0 | H41: v tis. Kč | I41: nerozp.
A42: Pozn.: Vynaložené odpisy nad stanovený limit byly finančně pokryty z provozních prostředků organizace- 0,20 Kč.
A44: d) | B44: Fondy | H44: jednotka - Kč na 2 des. místa
E45: Stav k 1.1.2010 | F45: Tvorba | G45: Čerpání | H45: Stav k | I45: Finanční krytí k
H46: 40543 | I46: 40543
C49: Fond odměn | E49: 37500 | F49: 2500 | G49: 4000 | H49: =E49+F49-G49 -> 36000 | I49: =H49 -> 36000
C50: FKSP | E50: 391737.24 | F50: 588197 | G50: 550948.96 | H50: =E50+F50-G50 -> 428985.28 | I50: 448262.76
C51: Fond rezervní | E51: 280570.11 | F51: =3078.53+95989.78+3320 -> 102388.31 | G51: 282190.11 | H51: =E51+F51-G51 -> 100768.31 | I51: =H51 -> 100768.31
C52: Investiční fond | E52: 31190.4 | F52: 1204903.2 | G52: 991330 | H52: =E52+F52-G52 -> 244763.6 | I52: =H52 -> 244763.6
A53: celkem | E53: =E49+E50+E51+E52 -> 740997.75 | F53: =F49+F50+F51+F52 -> 1897988.5 | G53: =G49+G50+G51+G52 -> 1828469.1 | H53: =H49+H50+H51+H52 -> 810517.19 | I53: =I49+I50+I51+I52 -> 829794.67

Sheet 1134
A1: REKAPITULACE ZA ORGANIZACI :
A2: Název organizace : | E2: Střední škola zemědělská, Přerov, Osmek 47
E3: ……………………………………….……..………………………………………..…………………………………
A4: Adresa : | E4: Osmek 47, Přerov
E5: ……………………………………….……..………………………………………..…………………………………
A6: IČ | E6: 63701171 | G6: ORG | I6: 1134
E7: ……………………………… ………….…..……………………………
E11: Schválený | F11: Upravený | G11: Skutečnost | H11: z toho:
E12: rozpočet | F12: rozpočet | G12: celkem | H12: Hlavní činnost | I12: Doplňková činnost
E13: celkem | F13: celkem | H13: jednotka - tis. Kč na 2 des. místa
A15: a) Náklady a výnosy
A16: Náklady | E16: 14308 | F16: 35813 | G16: =H16+I16 -> 35840 | H16: 34191 | I16: 1649
A18: Výnosy | E18: 14308 | F18: 36129 | G18: =H18+I18 -> 35835 | H18: 33593 | I18: 2242
A21: Doplňující údaje :
C22: daň z příjmů,dodatečné odvody daně z příjmů (nákladová položka) | G22: =H22+I22 -> 96 | H22: 7 | I22: 89
A24: Výsledek hospodaření /po zdanění/ | G24: =G18-G16-G22 -> -101 | H24: =H18-H16-H22 -> -605 | I24: =I18-I16-I22 -> 504
A28: b) | B28: Rozdělení výsledku hospodaření | G28: =G29+G30+G31 -> -100475.79 | H28: v Kč
C29: - Návrh na příděly do fondů: | F29: Fond odměn | G29: 0 | H29: v Kč
F30: Fond rezervní | G30: 0 | H30: v Kč
C31: - Způsob krytí ztráty : | F31: Částka | G31: -100475.79 | H31: v Kč
A32: Ztráta 100 475,79 Kč bude pokryta ze zlepšeného hospodářského výsledku v následujících letech (74 444,79 Kč) a z prostředků rezervního fondu (26 031,- Kč) v souladu s ust. § 30, odst. 3d) zákona č. 250/2000 Sb., o rozpočtových pravidlech územních rozpočtů ve znění pozdějších předpisů - použití prostředků rezervního fondu, vyjma poskytnutých darů.
A36: c) | B36: Závazné ukazatele
F37: Schválená částka | G37: Skutečnost | I37: % plnění
A38: Limit mzdových prostředků | F38: 25 | G38: 13.5 | H38: v tis. Kč | I38: =G38/F38 -> 0.54
A39: Neinvestiční příspěvek /odpisy/ | F39: 1296 | G39: 1296 | H39: v tis. Kč | I39: =G39/F39 -> 1
A40: Neinvestiční příspěvek /nájemné/ | F40: 0 | G40: 0 | H40: v tis. Kč | I40: nerozp.
A41: Odvody z investičního fondu /odpisy/ | F41: 972 | G41: 972 | H41: v tis. Kč | I41: =G41/F41 -> 1
A42: Odvody z investičního fondu | E42: /spolufin. akcí/ | F42: 0 | G42: 0 | H42: v tis. Kč | I42: nerozp.
A44: d) | B44: Fondy | H44: jednotka - Kč na 2 des. místa
E45: Stav k 1.1.2010 | F45: Tvorba | G45: Čerpání | H45: Stav k | I45: Finanční krytí k
H46: 40543 | I46: 40543
C49: Fond odměn | E49: 23000 | F49: 0 | G49: 7000 | H49: =E49+F49-G49 -> 16000 | I49: =H49 -> 16000
C50: FKSP | E50: 149310.82 | F50: 319563 | G50: 364203.75 | H50: =E50+F50-G50 -> 104670.07 | I50: 32985.24
C51: Fond rezervní | E51: 706867.68 | F51: 706867.68 | G51: =680836.68+706867.68 -> 1387704.4 | H51: =E51+F51-G51 -> 26031 | I51: =H51 -> 26031
C52: Investiční fond | E52: 609472.54 | F52: 1773254.7 | G52: 2306913 | H52: =E52+F52-G52 -> 75814.24 | I52: =H52 -> 75814.24
A53: celkem | E53: =E49+E50+E51+E52 -> 1488651 | F53: =F49+F50+F51+F52 -> 2799685.4 | G53: =G49+G50+G51+G52 -> 4065821.1 | H53: =H49+H50+H51+H52 -> 222515.31 | I53: =I49+I50+I51+I52 -> 150830.48

Sheet 1152
A1: REKAPITULACE ZA ORGANIZACI :
A2: Název organizace : | E2: Obchodní akademie a Jazyková škola, Přerov, Bartošova 24
E3: ……………………………………….……..………………………………………..…………………………………
A4: Adresa : | E4: Bartošova 24, Přerov
E5: ……………………………………….……..………………………………………..…………………………………
A6: IČ | E6: 61985996 | G6: ORG | I6: 1152
E7: ……………………………… ………….…..……………………………
E11: Schválený | F11: Upravený | G11: Skutečnost | H11: z toho:
E12: rozpočet | F12: rozpočet | G12: celkem | H12: Hlavní činnost | I12: Doplňková činnost
E13: celkem | F13: celkem | H13: jednotka - tis. Kč na 2 des. místa
A15: a) Náklady a výnosy
A16: Náklady | E16: 4579 | F16: 127439.5 | G16: =H16+I16 -> 20021 | H16: 19975 | I16: 46
A18: Výnosy | E18: 4639 | F18: 20991 | G18: =H18+I18 -> 20030 | H18: 19744 | I18: 286
A21: Doplňující údaje :
C22: daň z příjmů,dodatečné odvody daně z příjmů (nákladová položka) | G22: =H22+I22 -> 0 | H22: 0 | I22: 0
A24: Výsledek hospodaření /po zdanění/ | G24: =G18-G16-G22 -> 9 | H24: =H18-H16-H22 -> -231 | I24: =I18-I16-I22 -> 240
A28: b) | B28: Rozdělení výsledku hospodaření | G28: =G29+G30+G31 -> 9937.79 | H28: v Kč
C29: - Návrh na příděly do fondů: | F29: Fond odměn | G29: 1000 | H29: v Kč
F30: Fond rezervní | G30: 8937.79 | H30: v Kč
C31: - Způsob krytí ztráty : | F31: Částka | G31: 0 | H31: v Kč
A35: c) | B35: Závazné ukazatele
F36: Schválená částka | G36: Skutečnost | I36: % plnění
A37: Limit mzdových prostředků | F37: 1250 | G37: 813.45 | H37: v tis. Kč | I37: =G37/F37 -> 0.65076
A38: Neinvestiční příspěvek /odpisy/ | F38: 424 | G38: 424 | H38: v tis. Kč | I38: =G38/F38 -> 1
A39: Neinvestiční příspěvek /nájemné/ | F39: 0 | G39: 0 | H39: v tis. Kč | I39: nerozp.
A40: Odvody z investičního fondu /odpisy/ | F40: 318 | G40: 318 | H40: v tis. Kč | I40: =G40/F40 -> 1
A41: Odvody z investičního fondu | E41: /spolufin. akcí/ | F41: 0 | G41: 0 | H41: v tis. Kč | I41: nerozp.
A44: d) | B44: Fondy | H44: jednotka - Kč na 2 des. místa
E45: Stav k 1.1.2010 | F45: Tvorba | G45: Čerpání | H45: Stav k | I45: Finanční krytí k
H46: 40543 | I46: 40543
C49: Fond odměn | E49: 11000 | F49: 0 | G49: 4000 | H49: =E49+F49-G49 -> 7000 | I49: =H49 -> 7000
C50: FKSP | E50: 22438.72 | F50: 215855 | G50: 188513 | H50: =E50+F50-G50 -> 49780.72 | I50: 53176.05
C51: Fond rezervní | E51: 560277.88 | F51: 8820.29 | G51: 256329.21 | H51: =E51+F51-G51 -> 312768.96 | I51: =H51 -> 312768.96
C52: Investiční fond | E52: 105143.14 | F52: 527696 | G52: 565415.5 | H52: =E52+F52-G52 -> 67423.64 | I52: =H52 -> 67423.64
A53: celkem | E53: =E49+E50+E51+E52 -> 698859.74 | F53: =F49+F50+F51+F52 -> 752371.29 | G53: =G49+G50+G51+G52 -> 1014257.7 | H53: =H49+H50+H51+H52 -> 436973.32 | I53: =I49+I50+I51+I52 -> 440368.65

Sheet 1162
A1: REKAPITULACE ZA ORGANIZACI :
A2: Název organizace : | E2: Střední zdravotnická škola, Hranice, Studentská 1095
E3: ……………………………………….……..………………………………………..…………………………………
A4: Adresa : | E4: Studentská 1095, Hranice
E5: ……………………………………….……..………………………………………..…………………………………
A6: IČ | E6: 00600903 | G6: ORG | I6: 1162
E7: ……………………………… ………….…..……………………………
E11: Schválený | F11: Upravený | G11: Skutečnost | H11: z toho:
E12: rozpočet | F12: rozpočet | G12: celkem | H12: Hlavní činnost | I12: Doplňková činnost
E13: celkem | F13: celkem | H13: jednotka - tis. Kč na 2 des. místa
A15: a) Náklady a výnosy
A16: Náklady | E16: 2920 | F16: 15686 | G16: =H16+I16 -> 16342 | H16: 15760 | I16: 582
A18: Výnosy | E18: 2920 | F18: 15842 | G18: =H18+I18 -> 16565 | H18: 15663 | I18: 902
A21: Doplňující údaje :
C22: daň z příjmů,dodatečné odvody daně z příjmů (nákladová položka) | G22: =H22+I22 -> 0 | H22: 0 | I22: 0
A24: Výsledek hospodaření /po zdanění/ | G24: =G18-G16-G22 -> 223 | H24: =H18-H16-H22 -> -97 | I24: =I18-I16-I22 -> 320
A28: b) | B28: Rozdělení výsledku hospodaření | G28: =G29+G30+G31 -> 222129.81 | H28: v Kč
C29: - Návrh na příděly do fondů: | F29: Fond odměn | G29: 20000 | H29: v Kč
F30: Fond rezervní | G30: 202129.81 | H30: v Kč
C31: - Způsob krytí ztráty : | F31: Částka | G31: 0 | H31: v Kč
A35: c) | B35: Závazné ukazatele
F36: Schválená částka | G36: Skutečnost | I36: % plnění
A37: Limit mzdových prostředků | F37: 0 | G37: 0 | H37: v tis. Kč | I37: 0
A38: Neinvestiční příspěvek /odpisy/ | F38: 252.981 | G38: 250.595 | H38: v tis. Kč | I38: =G38/F38 -> 0.99056846
A39: Neinvestiční příspěvek /nájemné/ | F39: 0 | G39: 0 | H39: v tis. Kč | I39: nerozp.
A40: Odvody z investičního fondu /odpisy/ | F40: 190 | G40: 190 | H40: v tis. Kč | I40: =G40/F40 -> 1
A41: Odvody z investičního fondu | E41: /spolufin. akcí/ | F41: 0 | G41: 0 | H41: v tis. Kč | I41: nerozp.
A44: d) | B44: Fondy | H44: jednotka - Kč na 2 des. místa
E45: Stav k 1.1.2010 | F45: Tvorba | G45: Čerpání | H45: Stav k | I45: Finanční krytí k
H46: 40543 | I46: 40543
C49: Fond odměn | E49: 16807 | F49: 25000 | G49: 18500 | H49: =E49+F49-G49 -> 23307 | I49: =H49 -> 23307
C50: FKSP | E50: 37885.44 | F50: 181443.24 | G50: 196931 | H50: =E50+F50-G50 -> 22397.68 | I50: 5833.68
C51: Fond rezervní | E51: =158487.05+529 -> 159016.05 | F51: 174280.66 | G51: 250000 | H51: =E51+F51-G51 -> 83296.71 | I51: =H51 -> 83296.71
C52: Investiční fond | E52: 134230.34 | F52: 502981 | G52: 581678 | H52: =E52+F52-G52 -> 55533.34 | I52: =H52 -> 55533.34
A53: celkem | E53: =E49+E50+E51+E52 -> 347938.83 | F53: =F49+F50+F51+F52 -> 883704.9 | G53: =G49+G50+G51+G52 -> 1047109 | H53: =H49+H50+H51+H52 -> 184534.73 | I53: =I49+I50+I51+I52 -> 167970.73

Sheet 1171
A1: REKAPITULACE ZA ORGANIZACI :
A2: Název organizace : | E2: SŠ elektrotechnická, Tyršova 781, Lipník nad Bečvou
E3: ……………………………………….……..………………………………………..…………………………………
A4: Adresa : | E4: Tyršova 781, Lipník nad Bečvou
E5: ……………………………………….……..………………………………………..…………………………………
A6: IČ | E6: 00845370 | G6: ORG | I6: 1171
E7: ……………………………… ………….…..……………………………
E11: Schválený | F11: Upravený | G11: Skutečnost | H11: z toho:
E12: rozpočet | F12: rozpočet | G12: celkem | H12: Hlavní činnost | I12: Doplňková činnost
E13: celkem | F13: celkem | H13: jednotka - tis. Kč na 2 des. místa
A15: a) Náklady a výnosy
A16: Náklady | E16: 13176 | F16: 32036 | G16: =H16+I16 -> 32045 | H16: 29947 | I16: 2098
A18: Výnosy | E18: 12176 | F18: 32118 | G18: =H18+I18 -> 32145 | H18: 29858 | I18: 2287
A21: Doplňující údaje :
C22: daň z příjmů,dodatečné odvody daně z příjmů (nákladová položka) | G22: =H22+I22 -> 0 | H22: 0 | I22: 0
A24: Výsledek hospodaření /po zdanění/ | G24: =G18-G16-G22 -> 100 | H24: =H18-H16-H22 -> -89 | I24: =I18-I16-I22 -> 189
A28: b) | B28: Rozdělení výsledku hospodaření | G28: =G29+G30+G31 -> 99974.73 | H28: v Kč
C29: - Návrh na příděly do fondů: | F29: Fond odměn | G29: 1000 | H29: v Kč
F30: Fond rezervní | G30: 98974.73 | H30: v Kč
C31: - Způsob krytí ztráty : | F31: Částka | G31: 0 | H31: v Kč
A35: c) | B35: Závazné ukazatele
F36: Schválená částka | G36: Skutečnost | I36: % plnění
A37: Limit mzdových prostředků | F37: 0 | G37: 0 | H37: v tis. Kč | I37: 0
A38: Neinvestiční příspěvek /odpisy/ | F38: 1363.822 | G38: 1359.9672 | H38: v tis. Kč | I38: =G38/F38 -> 0.99717353
A39: Neinvestiční příspěvek /nájemné/ | F39: 0 | G39: 0 | H39: v tis. Kč | I39: nerozp.
A40: Odvody z investičního fondu /odpisy/ | F40: 1023 | G40: 1023 | H40: v tis. Kč | I40: =G40/F40 -> 1
A41: Odvody z investičního fondu | E41: /spolufin. akcí/ | F41: 0 | G41: 0 | H41: v tis. Kč | I41: nerozp.
A43: d) | B43: Fondy | H43: jednotka - Kč na 2 des. místa
E44: Stav k 1.1.2010 | F44: Tvorba | G44: Čerpání | H44: Stav k | I44: Finanční krytí k
H45: 40543 | I45: 40543
C48: Fond odměn | E48: 192126 | F48: 10000 | G48: 93900 | H48: =E48+F48-G48 -> 108226 | I48: =H48 -> 108226
C49: FKSP | E49: 109857.57 | F49: 268669 | G49: 221789.09 | H49: =E49+F49-G49 -> 156737.48 | I49: 136621.48
C50: Fond rezervní | E50: 404178.23 | F50: 114704.19 | G50: 0 | H50: =E50+F50-G50 -> 518882.42 | I50: =H50 -> 518882.42
C51: Investiční fond | E51: 593831.52 | F51: 1593958.7 | G51: 1235672 | H51: =E51+F51-G51 -> 952118.22 | I51: =H51 -> 952118.22
A52: celkem | E52: =E48+E49+E50+E51 -> 1299993.3 | F52: =F48+F49+F50+F51 -> 1987331.9 | G52: =G48+G49+G50+G51 -> 1551361.1 | H52: =H48+H49+H50+H51 -> 1735964.1 | I52: =I48+I49+I50+I51 -> 1715848.1

Sheet 1173
A1: REKAPITULACE ZA ORGANIZACI :
A2: Název organizace : | E2: Střední škola technická, Přerov, Kouřílkova 8
E3: ……………………………………….……..………………………………………..…………………………………
A4: Adresa : | E4: Kouřílkova 8, Přerov
E5: ……………………………………….……..………………………………………..…………………………………
A6: IČ | E6: 19013833 | G6: ORG | I6: 1173
E7: ……………………………… ………….…..……………………………
E11: Schválený | F11: Upravený | G11: Skutečnost | H11: z toho:
E12: rozpočet | F12: rozpočet | G12: celkem | H12: Hlavní činnost | I12: Doplňková činnost
E13: celkem | F13: celkem | H13: jednotka - tis. Kč na 2 des. místa
A15: a) Náklady a výnosy
A16: Náklady | E16: 21720 | F16: 60639 | G16: =H16+I16 -> 60640 | H16: 58413 | I16: 2227
A18: Výnosy | E18: 21720 | F18: 61238 | G18: =H18+I18 -> 60666 | H18: 57737 | I18: 2929
A21: Doplňující údaje :
C22: daň z příjmů,dodatečné odvody daně z příjmů (nákladová položka) | G22: =H22+I22 -> 0 | H22: 0 | I22: 0
A24: Výsledek hospodaření /po zdanění/ | G24: =G18-G16-G22 -> 26 | H24: =H18-H16-H22 -> -676 | I24: =I18-I16-I22 -> 702
A28: b) | B28: Rozdělení výsledku hospodaření | G28: =G29+G30+G31 -> 25891.74 | H28: v Kč
C29: - Návrh na příděly do fondů: | F29: Fond odměn | G29: 3500 | H29: v Kč
F30: Fond rezervní | G30: 22391.74 | H30: v Kč
C31: - Způsob krytí ztráty : | F31: Částka | G31: 0 | H31: v Kč
A35: c) | B35: Závazné ukazatele
F36: Schválená částka | G36: Skutečnost | I36: % plnění
A37: Limit mzdových prostředků | F37: 1720 | G37: 1661 | H37: v tis. Kč | I37: =G37/F37 -> 0.96569767
A38: Neinvestiční příspěvek /odpisy/ | F38: 2750 | G38: 2750 | H38: v tis. Kč | I38: =G38/F38 -> 1
A39: Neinvestiční příspěvek /nájemné/ | F39: 0 | G39: 0 | H39: v tis. Kč | I39: nerozp.
A40: Odvody z investičního fondu /odpisy/ | F40: 2062 | G40: 2062 | H40: v tis. Kč | I40: =G40/F40 -> 1
A41: Odvody z investičního fondu | E41: /spolufin. akcí/ | F41: 0 | G41: 0 | H41: v tis. Kč | I41: nerozp.
A42: Pozn.: Odvod z investičního fondu - ROP ve výši 4 954,98 tis. Kč
A44: d) | B44: Fondy | H44: jednotka - Kč na 2 des. místa
E45: Stav k 1.1.2010 | F45: Tvorba | G45: Čerpání | H45: Stav k | I45: Finanční krytí k
H46: 40543 | I46: 40543
C49: Fond odměn | E49: 55434.11 | F49: 25000 | G49: 23100 | H49: =E49+F49-G49 -> 57334.11 | I49: =H49 -> 57334.11
C50: FKSP | E50: 172052.99 | F50: 538050.8 | G50: 618478.92 | H50: =E50+F50-G50 -> 91624.87 | I50: 95604.52
C51: Fond rezervní | E51: =532044.9+51333 -> 583377.9 | F51: =532671.6+51333 -> 584004.6 | G51: 51333 | H51: =E51+F51-G51 -> 1116049.5 | I51: 941938.5
C52: Investiční fond | E52: 5298367.7 | F52: 2961323.6 | G52: 7691280.3 | H52: =E52+F52-G52 -> 568411 | I52: =H52 -> 568411
A53: celkem | E53: =E49+E50+E51+E52 -> 6109232.7 | F53: =F49+F50+F51+F52 -> 4108379 | G53: =G49+G50+G51+G52 -> 8384192.3 | H53: =H49+H50+H51+H52 -> 1833419.5 | I53: =I49+I50+I51+I52 -> 1663288.1

Sheet 1216
A1: REKAPITULACE ZA ORGANIZACI :
A2: Název organizace : | E2: Střední škola řezbářská, Tovačov, Nádražní 146
E3: ……………………………………….……..………………………………………..…………………………………
A4: Adresa : | E4: Nádražní 146, Tovačov
E5: ……………………………………….……..………………………………………..…………………………………
A6: IČ | E6: 14616831 | G6: ORG | I6: 1216
E7: ……………………………… ………….…..……………………………
E11: Schválený | F11: Upravený | G11: Skutečnost | H11: z toho:
E12: rozpočet | F12: rozpočet | G12: celkem | H12: Hlavní činnost | I12: Doplňková činnost
E13: celkem | F13: celkem | H13: jednotka - tis. Kč na 2 des. místa
A15: a) Náklady a výnosy
A16: Náklady | E16: 3401 | F16: 3401 | G16: =H16+I16 -> 14676 | H16: 14603 | I16: 73
A18: Výnosy | E18: 3508 | F18: 15850 | G18: =H18+I18 -> 14795 | H18: 14612 | I18: 183
A21: Doplňující údaje :
C22: daň z příjmů,dodatečné odvody daně z příjmů (nákladová položka) | G22: =H22+I22 -> 0 | H22: 0 | I22: 0
A24: Výsledek hospodaření /po zdanění/ | G24: =G18-G16-G22 -> 119 | H24: =H18-H16-H22 -> 9 | I24: =I18-I16-I22 -> 110
A28: b) | B28: Rozdělení výsledku hospodaření | G28: =G29+G30+G31 -> 118218.94 | H28: v Kč
C29: - Návrh na příděly do fondů: | F29: Fond odměn | G29: 2000 | H29: v Kč
F30: Fond rezervní | G30: 116218.94 | H30: v Kč
C31: - Způsob krytí ztráty : | F31: Částka | G31: 0 | H31: v Kč
A35: c) | B35: Závazné ukazatele
F36: Schválená částka | G36: Skutečnost | I36: % plnění
A37: Limit mzdových prostředků | F37: 150 | G37: 150 | H37: v tis. Kč | I37: =G37/F37 -> 1
A38: Neinvestiční příspěvek /odpisy/ | F38: 308 | G38: 302.775 | H38: v tis. Kč | I38: =G38/F38 -> 0.98303571
A39: Neinvestiční příspěvek /nájemné/ | F39: 0 | G39: 0 | H39: v tis. Kč | I39: nerozp.
A40: Odvody z investičního fondu /odpisy/ | F40: 231 | G40: 231 | H40: v tis. Kč | I40: =G40/F40 -> 1
A41: Odvody z investičního fondu | E41: /spolufin. akcí/ | F41: 0 | G41: 0 | H41: v tis. Kč | I41: nerozp.
A44: d) | B44: Fondy | H44: jednotka - Kč na 2 des. místa
E45: Stav k 1.1.2010 | F45: Tvorba | G45: Čerpání | H45: Stav k | I45: Finanční krytí k
H46: 40543 | I46: 40543
C49: Fond odměn | E49: 3350 | F49: 5000 | G49: 2000 | H49: =E49+F49-G49 -> 6350 | I49: =H49 -> 6350
C50: FKSP | E50: 208020.28 | F50: 160848 | G50: 138173 | H50: =E50+F50-G50 -> 230695.28 | I50: 220699
C51: Fond rezervní | E51: 189547.12 | F51: 123894.91 | G51: 313442.03 | H51: =E51+F51-G51 -> 0 | I51: =H51 -> 0
C52: Investiční fond | E52: 90886.05 | F52: 1010153 | G52: 1077051.8 | H52: =E52+F52-G52 -> 23987.29 | I52: 24231.29
A53: celkem | E53: =E49+E50+E51+E52 -> 491803.45 | F53: =F49+F50+F51+F52 -> 1299895.9 | G53: =G49+G50+G51+G52 -> 1530666.8 | H53: =H49+H50+H51+H52 -> 261032.57 | I53: =I49+I50+I51+I52 -> 251280.29

Sheet 1218
A1: REKAPITULACE ZA ORGANIZACI :
A2: Název organizace : | E2: Odborné učiliště, Křenovice 8
E3: ……………………………………….……..………………………………………..…………………………………
A4: Adresa : | E4: Křenovice 8
E5: ……………………………………….……..………………………………………..…………………………………
A6: IČ | E6: 00842800 | G6: ORG | I6: 1218
E7: ……………………………… ………….…..……………………………
E11: Schválený | F11: Upravený | G11: Skutečnost | H11: z toho:
E12: rozpočet | F12: rozpočet | G12: celkem | H12: Hlavní činnost | I12: Doplňková činnost
E13: celkem | F13: celkem | H13: jednotka - tis. Kč na 2 des. místa
A15: a) Náklady a výnosy
A16: Náklady | E16: 3861 | F16: 15233 | G16: =H16+I16 -> 15277 | H16: 14444 | I16: 833
A18: Výnosy | E18: 3861 | F18: 15233 | G18: =H18+I18 -> 15289 | H18: 14443 | I18: 846
A21: Doplňující údaje :
C22: daň z příjmů,dodatečné odvody daně z příjmů (nákladová položka) | G22: =H22+I22 -> 0 | H22: 0 | I22: 0
A24: Výsledek hospodaření /po zdanění/ | G24: =G18-G16-G22 -> 12 | H24: =H18-H16-H22 -> -1 | I24: =I18-I16-I22 -> 13
A28: b) | B28: Rozdělení výsledku hospodaření | G28: =G29+G30+G31 -> 13144.36 | H28: v Kč
C29: - Návrh na příděly do fondů: | F29: Fond odměn | G29: 6000 | H29: v Kč
F30: Fond rezervní | G30: 7144.36 | H30: v Kč
C31: - Způsob krytí ztráty : | F31: Částka | G31: 0 | H31: v Kč
A35: c) | B35: Závazné ukazatele
F36: Schválená částka | G36: Skutečnost | I36: % plnění
A37: Limit mzdových prostředků | F37: 180 | G37: 133 | H37: v tis. Kč | I37: =G37/F37 -> 0.73888889
A38: Neinvestiční příspěvek /odpisy/ | F38: 366.334 | G38: 366.334 | H38: v tis. Kč | I38: =G38/F38 -> 1
A39: Neinvestiční příspěvek /nájemné/ | F39: 0 | G39: 0 | H39: v tis. Kč | I39: nerozp.
A40: Odvody z investičního fondu /odpisy/ | F40: 275 | G40: 275 | H40: v tis. Kč | I40: =G40/F40 -> 1
A41: Odvody z investičního fondu | E41: /spolufin. akcí/ | F41: 0 | G41: 0 | H41: v tis. Kč | I41: nerozp.
A43: d) | B43: Fondy | H43: jednotka - Kč na 2 des. místa
E44: Stav k 1.1.2010 | F44: Tvorba | G44: Čerpání | H44: Stav k | I44: Finanční krytí k
H45: 40543 | I45: 40543
C48: Fond odměn | E48: 5657 | F48: 6000 | G48: 4800 | H48: =E48+F48-G48 -> 6857 | I48: =H48 -> 6857
C49: FKSP | E49: 241415.81 | F49: 161605.48 | G49: 156380 | H49: =E49+F49-G49 -> 246641.29 | I49: 246519.29
C50: Fond rezervní | E50: 290221.06 | F50: 34242.55 | G50: 114552.74 | H50: =E50+F50-G50 -> 209910.87 | I50: =H50 -> 209910.87
C51: Investiční fond | E51: 503362.79 | F51: 389773.25 | G51: 481883 | H51: =E51+F51-G51 -> 411253.04 | I51: =H51 -> 411253.04
A52: celkem | E52: =E48+E49+E50+E51 -> 1040656.7 | F52: =F48+F49+F50+F51 -> 591621.28 | G52: =G48+G49+G50+G51 -> 757615.74 | H52: =H48+H49+H50+H51 -> 874662.2 | I52: =I48+I49+I50+I51 -> 874540.2

Sheet 1306
A1: REKAPITULACE ZA ORGANIZACI :
A2: Název organizace : | E2: Základní umělecká škola, Potštát 36
E3: ……………………………………….……..………………………………………..…………………………………
A4: Adresa : | E4: Potštát 36
E5: ……………………………………….……..………………………………………..…………………………………
A6: IČ | E6: 47184434 | G6: ORG | I6: 1306
E7: ……………………………… ………….…..……………………………
E11: Schválený | F11: Upravený | G11: Skutečnost | H11: z toho:
E12: rozpočet | F12: rozpočet | G12: celkem | H12: Hlavní činnost | I12: Doplňková činnost
E13: celkem | F13: celkem | H13: jednotka - tis. Kč na 2 des. místa
A15: a) Náklady a výnosy
A16: Náklady | E16: 471 | F16: 457 | G16: =H16+I16 -> 3658 | H16: 3658 | I16: 0
A18: Výnosy | E18: 471 | F18: 3589 | G18: =H18+I18 -> 3666 | H18: 3666 | I18: 0
A21: Doplňující údaje :
C22: daň z příjmů,dodatečné odvody daně z příjmů (nákladová položka) | G22: =H22+I22 -> 0 | H22: 0 | I22: 0
A24: Výsledek hospodaření /po zdanění/ | G24: =G18-G16-G22 -> 8 | H24: =H18-H16-H22 -> 8 | I24: =I18-I16-I22 -> 0
A28: b) | B28: Rozdělení výsledku hospodaření | G28: =G29+G30+G31 -> 7484.95 | H28: v Kč
C29: - Návrh na příděly do fondů: | F29: Fond odměn | G29: 3400 | H29: v Kč
F30: Fond rezervní | G30: 4084.95 | H30: v Kč
C31: - Způsob krytí ztráty : | F31: Částka | G31: 0 | H31: v Kč
A35: c) | B35: Závazné ukazatele
F36: Schválená částka | G36: Skutečnost | I36: % plnění
A37: Limit mzdových prostředků | F37: 0 | G37: 0 | H37: v tis. Kč | I37: 0
A38: Neinvestiční příspěvek /odpisy/ | F38: 11 | G38: 10.2357 | H38: v tis. Kč | I38: =G38/F38 -> 0.93051818
A39: Neinvestiční příspěvek /nájemné/ | F39: 0 | G39: 0 | H39: v tis. Kč | I39: nerozp.
A40: Odvody z investičního fondu /odpisy/ | F40: 8 | G40: 8 | H40: v tis. Kč | I40: =G40/F40 -> 1
A41: Odvody z investičního fondu | E41: /spolufin. akcí/ | F41: 0 | G41: 0 | H41: v tis. Kč | I41: nerozp.
A44: d) | B44: Fondy | H44: jednotka - Kč na 2 des. místa
E45: Stav k 1.1.2010 | F45: Tvorba | G45: Čerpání | H45: Stav k | I45: Finanční krytí k
H46: 40543 | I46: 40543
C49: Fond odměn | E49: 3380 | F49: 3152 | G49: 0 | H49: =E49+F49-G49 -> 6532 | I49: =H49 -> 6532
C50: FKSP | E50: 46179.44 | F50: 52810 | G50: 48573.4 | H50: =E50+F50-G50 -> 50416.04 | I50: =H50 -> 50416.04
C51: Fond rezervní | E51: 13009.3 | F51: 3153.32 | G51: 0 | H51: =E51+F51-G51 -> 16162.62 | I51: =H51 -> 16162.62
C52: Investiční fond | E52: 127652.4 | F52: 10235.7 | G52: 8000 | H52: =E52+F52-G52 -> 129888.1 | I52: =H52 -> 129888.1
A53: celkem | E53: =E49+E50+E51+E52 -> 190221.14 | F53: =F49+F50+F51+F52 -> 69351.02 | G53: =G49+G50+G51+G52 -> 56573.4 | H53: =H49+H50+H51+H52 -> 202998.76 | I53: =I49+I50+I51+I52 -> 202998.76

Sheet 1307
A1: REKAPITULACE ZA ORGANIZACI :
A2: Název organizace : | E2: Základní umělecká škola, Hranice, Školní náměstí 35
E3: ……………………………………….……..………………………………………..…………………………………
A4: Adresa : | E4: Školní náměstí 35, Hranice
E5: ……………………………………….……..………………………………………..…………………………………
A6: IČ | E6: 47184477 | G6: ORG | I6: 1307
E7: ……………………………… ………….…..……………………………
E11: Schválený | F11: Upravený | G11: Skutečnost | H11: z toho:
E12: rozpočet | F12: rozpočet | G12: celkem | H12: Hlavní činnost | I12: Doplňková činnost
E13: celkem | F13: celkem | H13: jednotka - tis. Kč na 2 des. místa
A15: a) Náklady a výnosy
A16: Náklady | E16: 2087 | F16: 15045 | G16: =H16+I16 -> 15023 | H16: 15023 | I16: 0
A18: Výnosy | E18: 2087 | F18: 15045 | G18: =H18+I18 -> 15023 | H18: 15023 | I18: 0
A21: Doplňující údaje :
C22: daň z příjmů,dodatečné odvody daně z příjmů (nákladová položka) | G22: =H22+I22 -> 0 | H22: 0 | I22: 0
A24: Výsledek hospodaření /po zdanění/ | G24: =G18-G16-G22 -> 0 | H24: =H18-H16-H22 -> 0 | I24: =I18-I16-I22 -> 0
A28: b) | B28: Rozdělení výsledku hospodaření | G28: =G29+G30+G31 -> 0 | H28: v Kč
C29: - Návrh na příděly do fondů: | F29: Fond odměn | G29: 0 | H29: v Kč
F30: Fond rezervní | G30: 0 | H30: v Kč
C31: - Způsob krytí ztráty : | F31: Částka | G31: 0 | H31: v Kč
A35: c) | B35: Závazné ukazatele
F36: Schválená částka | G36: Skutečnost | I36: % plnění
A37: Limit mzdových prostředků | F37: 0 | G37: 0 | H37: v tis. Kč | I37: 0
A38: Neinvestiční příspěvek /odpisy/ | F38: 78 | G38: 78.1 | H38: v tis. Kč | I38: =G38/F38 -> 1.0012821
A39: Neinvestiční příspěvek /nájemné/ | F39: 0 | G39: 0 | H39: v tis. Kč | I39: nerozp.
A40: Odvody z investičního fondu /odpisy/ | F40: 59 | G40: 59 | H40: v tis. Kč | I40: =G40/F40 -> 1
A41: Odvody z investičního fondu | E41: /spolufin. akcí/ | F41: 0 | G41: 0 | H41: v tis. Kč | I41: nerozp.
A42: Pozn.: Vynaložené odpisy nad stanovený limit byly finančně pokryty z provozních prostředků organizace- 100,- Kč.
A44: d) | B44: Fondy | H44: jednotka - Kč na 2 des. místa
E45: Stav k 1.1.2010 | F45: Tvorba | G45: Čerpání | H45: Stav k | I45: Finanční krytí k
H46: 40543 | I46: 40543
C49: Fond odměn | E49: 293134 | F49: 0 | G49: 924 | H49: =E49+F49-G49 -> 292210 | I49: =H49 -> 292210
C50: FKSP | E50: 190976.75 | F50: 169121 | G50: 163294.2 | H50: =E50+F50-G50 -> 196803.55 | I50: 196661.81
C51: Fond rezervní | E51: 424682.01 | F51: 0 | G51: 119001.48 | H51: =E51+F51-G51 -> 305680.53 | I51: =H51 -> 305680.53
C52: Investiční fond | E52: 47890.2 | F52: 78100 | G52: 59000 | H52: =E52+F52-G52 -> 66990.2 | I52: =H52 -> 66990.2
A53: celkem | E53: =E49+E50+E51+E52 -> 956682.96 | F53: =F49+F50+F51+F52 -> 247221 | G53: =G49+G50+G51+G52 -> 342219.68 | H53: =H49+H50+H51+H52 -> 861684.28 | I53: =I49+I50+I51+I52 -> 861542.54

Sheet 1308
A1: REKAPITULACE ZA ORGANIZACI :
A2: Název organizace : | E2: Základní umělecká škola, Kojetín, Hanusíkova 197
E3: ……………………………………….……..………………………………………..…………………………………
A4: Adresa : | E4: Hanusíkova 197, Kojetín
E5: ……………………………………….……..………………………………………..…………………………………
A6: IČ | E6: 60782170 | G6: ORG | I6: 1308
E7: ……………………………… ………….…..……………………………
E11: Schválený | F11: Upravený | G11: Skutečnost | H11: z toho:
E12: rozpočet | F12: rozpočet | G12: celkem | H12: Hlavní činnost | I12: Doplňková činnost
E13: celkem | F13: celkem | H13: jednotka - tis. Kč na 2 des. místa
A15: a) Náklady a výnosy
A16: Náklady | E16: 425 | F16: 5258 | G16: =H16+I16 -> 5258 | H16: 5258 | I16: 0
A18: Výnosy | E18: 425 | F18: 5268.38 | G18: =H18+I18 -> 5268 | H18: 5268 | I18: 0
A21: Doplňující údaje :
C22: daň z příjmů,dodatečné odvody daně z příjmů (nákladová položka) | G22: =H22+I22 -> 0 | H22: 0 | I22: 0
A24: Výsledek hospodaření /po zdanění/ | G24: =G18-G16-G22 -> 10 | H24: =H18-H16-H22 -> 10 | I24: =I18-I16-I22 -> 0
A28: b) | B28: Rozdělení výsledku hospodaření | G28: =G29+G30+G31 -> 10027.19 | H28: v Kč
C29: - Návrh na příděly do fondů: | F29: Fond odměn | G29: 0 | H29: v Kč
F30: Fond rezervní | G30: 10027.19 | H30: v Kč
C31: - Způsob krytí ztráty : | F31: Částka | G31: 0 | H31: v Kč
A35: c) | B35: Závazné ukazatele
F36: Schválená částka | G36: Skutečnost | I36: % plnění
A37: Limit mzdových prostředků | F37: 0 | G37: 0 | H37: v tis. Kč | I37: 0
A38: Neinvestiční příspěvek /odpisy/ | F38: 0 | G38: 0 | H38: v tis. Kč | I38: 0
A39: Neinvestiční příspěvek /nájemné/ | F39: 0 | G39: 0 | H39: v tis. Kč | I39: nerozp.
A40: Odvody z investičního fondu /odpisy/ | F40: 0 | G40: 0 | H40: v tis. Kč | I40: 0
A41: Odvody z investičního fondu | E41: /spolufin. akcí/ | F41: 0 | G41: 0 | H41: v tis. Kč | I41: nerozp.
A43: d) | B43: Fondy | H43: jednotka - Kč na 2 des. místa
E44: Stav k 1.1.2010 | F44: Tvorba | G44: Čerpání | H44: Stav k | I44: Finanční krytí k
H45: 40543 | I45: 40543
C48: Fond odměn | E48: 182892 | F48: 0 | G48: 0 | H48: =E48+F48-G48 -> 182892 | I48: =H48 -> 182892
C49: FKSP | E49: 12906.55 | F49: 69300 | G49: 63848 | H49: =E49+F49-G49 -> 18358.55 | I49: 12095.55
C50: Fond rezervní | E50: 12438.46 | F50: 0 | G50: 0 | H50: =E50+F50-G50 -> 12438.46 | I50: =H50 -> 12438.46
C51: Investiční fond | E51: 36329.74 | F51: 0 | G51: 7000 | H51: =E51+F51-G51 -> 29329.74 | I51: =H51 -> 29329.74
A52: celkem | E52: =E48+E49+E50+E51 -> 244566.75 | F52: =F48+F49+F50+F51 -> 69300 | G52: =G48+G49+G50+G51 -> 70848 | H52: =H48+H49+H50+H51 -> 243018.75 | I52: =I48+I49+I50+I51 -> 236755.75

Sheet 1309
A1: REKAPITULACE ZA ORGANIZACI :
A2: Název organizace : | E2: Základní umělecká škola Bedřicha Kozánka, Přerov
E3: ……………………………………….……..………………………………………..…………………………………
A4: Adresa : | E4: tř. 17. listopadu 2, Přerov
E5: ……………………………………….……..………………………………………..…………………………………
A6: IČ | E6: 47184442 | G6: ORG | I6: 1309
E7: ……………………………… ………….…..……………………………
E11: Schválený | F11: Upravený | G11: Skutečnost | H11: z toho:
E12: rozpočet | F12: rozpočet | G12: celkem | H12: Hlavní činnost | I12: Doplňková činnost
E13: celkem | F13: celkem | H13: jednotka - tis. Kč na 2 des. místa
A15: a) Náklady a výnosy
A16: Náklady | E16: 2865 | F16: 19781 | G16: =H16+I16 -> 20015 | H16: 20002 | I16: 13
A18: Výnosy | E18: 3015 | F18: 19874 | G18: =H18+I18 -> 20168 | H18: 20010 | I18: 158
A21: Doplňující údaje :
C22: daň z příjmů,dodatečné odvody daně z příjmů (nákladová položka) | G22: =H22+I22 -> 0 | H22: 0 | I22: 0
A24: Výsledek hospodaření /po zdanění/ | G24: =G18-G16-G22 -> 153 | H24: =H18-H16-H22 -> 8 | I24: =I18-I16-I22 -> 145
A28: b) | B28: Rozdělení výsledku hospodaření | G28: =G29+G30+G31 -> 153270.69 | H28: v Kč
C29: - Návrh na příděly do fondů: | F29: Fond odměn | G29: 10000 | H29: v Kč
F30: Fond rezervní | G30: 143270.69 | H30: v Kč
C31: - Způsob krytí ztráty : | F31: Částka | G31: 0 | H31: v Kč
A35: c) | B35: Závazné ukazatele
F36: Schválená částka | G36: Skutečnost | I36: % plnění
A37: Limit mzdových prostředků | F37: 0 | G37: 0 | H37: v tis. Kč | I37: 0
A38: Neinvestiční příspěvek /odpisy/ | F38: 308 | G38: 307.488 | H38: v tis. Kč | I38: =G38/F38 -> 0.99833766
A39: Neinvestiční příspěvek /nájemné/ | F39: 0 | G39: 0 | H39: v tis. Kč | I39: nerozp.
A40: Odvody z investičního fondu /odpisy/ | F40: 231 | G40: 231 | H40: v tis. Kč | I40: =G40/F40 -> 1
A41: Odvody z investičního fondu | E41: /spolufin. akcí/ | F41: 0 | G41: 0 | H41: v tis. Kč | I41: nerozp.
A44: d) | B44: Fondy | H44: jednotka - Kč na 2 des. místa
E45: Stav k 1.1.2010 | F45: Tvorba | G45: Čerpání | H45: Stav k | I45: Finanční krytí k
H46: 40543 | I46: 40543
C49: Fond odměn | E49: 229612 | F49: 10000 | G49: 51000 | H49: =E49+F49-G49 -> 188612 | I49: =H49 -> 188612
C50: FKSP | E50: 194435.61 | F50: 244080 | G50: 292943.8 | H50: =E50+F50-G50 -> 145571.81 | I50: 127125.81
C51: Fond rezervní | E51: 277885.24 | F51: =147095.58+4000 -> 151095.58 | G51: =391479+4000 -> 395479 | H51: =E51+F51-G51 -> 33501.82 | I51: =H51 -> 33501.82
C52: Investiční fond | E52: 12070.66 | F52: 544289 | G52: 451376 | H52: =E52+F52-G52 -> 104983.66 | I52: 105495.66
A53: celkem | E53: =E49+E50+E51+E52 -> 714003.51 | F53: =F49+F50+F51+F52 -> 949464.58 | G53: =G49+G50+G51+G52 -> 1190798.8 | H53: =H49+H50+H51+H52 -> 472669.29 | I53: =I49+I50+I51+I52 -> 454735.29

Sheet 1310
A1: REKAPITULACE ZA ORGANIZACI :
A2: Název organizace : | E2: ZUŠ Antonína Dvořáka, Havlíčkova 643, Lipník nad Bečvou
E3: ……………………………………….……..………………………………………..…………………………………
A4: Adresa : | E4: Havlíčkova 643, Lipník nad Bečvou
E5: ……………………………………….……..………………………………………..…………………………………
A6: IČ | E6: 61985228 | G6: ORG | I6: 1310
E7: ……………………………… ………….…..……………………………
E11: Schválený | F11: Upravený | G11: Skutečnost | H11: z toho:
E12: rozpočet | F12: rozpočet | G12: celkem | H12: Hlavní činnost | I12: Doplňková činnost
E13: celkem | F13: celkem | H13: jednotka - tis. Kč na 2 des. místa
A15: a) Náklady a výnosy
A16: Náklady | E16: 982 | F16: 6554 | G16: =H16+I16 -> 6668 | H16: 6668 | I16: 0
A18: Výnosy | E18: 982 | F18: 6554 | G18: =H18+I18 -> 6661 | H18: 6661 | I18: 0
A21: Doplňující údaje :
C22: daň z příjmů,dodatečné odvody daně z příjmů (nákladová položka) | G22: =H22+I22 -> 0 | H22: 0 | I22: 0
A24: Výsledek hospodaření /po zdanění/ | G24: =G18-G16-G22 -> -7 | H24: =H18-H16-H22 -> -7 | I24: =I18-I16-I22 -> 0
A28: b) | B28: Rozdělení výsledku hospodaření | G28: =G29+G30+G31 -> -7542.2 | H28: v Kč
C29: - Návrh na příděly do fondů: | F29: Fond odměn | G29: 0 | H29: v Kč
F30: Fond rezervní | G30: 0 | H30: v Kč
C31: - Způsob krytí ztráty : | F31: Částka | G31: -7542.2 | H31: v Kč
A32: Ztráta 7 542,20 Kč bude pokryta z prostředků rezervního fondu v souladu s ust. § 30, odst. 3d) zákona č. 250/2000 Sb., o rozpočtových pravidlech územních rozpočtů ve znění pozdějších předpisů - použití prostředků rezervního fondu, vyjma poskytnutých darů.
A35: c) | B35: Závazné ukazatele
F36: Schválená částka | G36: Skutečnost | I36: % plnění
A37: Limit mzdových prostředků | F37: 0 | G37: 0 | H37: v tis. Kč | I37: 0
A38: Neinvestiční příspěvek /odpisy/ | F38: 17.363 | G38: 17.363 | H38: v tis. Kč | I38: =G38/F38 -> 1
A39: Neinvestiční příspěvek /nájemné/ | F39: 0 | G39: 0 | H39: v tis. Kč | I39: nerozp.
A40: Odvody z investičního fondu /odpisy/ | F40: 13 | G40: 13 | H40: v tis. Kč | I40: =G40/F40 -> 1
A41: Odvody z investičního fondu | E41: /spolufin. akcí/ | F41: 0 | G41: 0 | H41: v tis. Kč | I41: nerozp.
A43: d) | B43: Fondy | H43: jednotka - Kč na 2 des. místa
E44: Stav k 1.1.2010 | F44: Tvorba | G44: Čerpání | H44: Stav k | I44: Finanční krytí k
H45: 40543 | I45: 40543
C48: Fond odměn | E48: 28135 | F48: 3270 | G48: 0 | H48: =E48+F48-G48 -> 31405 | I48: =H48 -> 31405
C49: FKSP | E49: 53068.86 | F49: 81720 | G49: 71927 | H49: =E49+F49-G49 -> 62861.86 | I49: 55519.76
C50: Fond rezervní | E50: 63175.58 | F50: =5000.3+15000 -> 20000.3 | G50: 15000 | H50: =E50+F50-G50 -> 68175.88 | I50: =H50 -> 68175.88
C51: Investiční fond | E51: 47628 | F51: 17363 | G51: 13000 | H51: =E51+F51-G51 -> 51991 | I51: =H51 -> 51991
A52: celkem | E52: =E48+E49+E50+E51 -> 192007.44 | F52: =F48+F49+F50+F51 -> 122353.3 | G52: =G48+G49+G50+G51 -> 99927 | H52: =H48+H49+H50+H51 -> 214433.74 | I52: =I48+I49+I50+I51 -> 207091.64

Sheet 1353
A1: REKAPITULACE ZA ORGANIZACI :
A2: Název organizace : | E2: Středisko volného času ATLAS a BIOS, Přerov, Žižkova 12
E3: ……………………………………….……..………………………………………..…………………………………
A4: Adresa : | E4: Žižkova 12, Přerov
E5: ……………………………………….……..………………………………………..…………………………………
A6: IČ | E6: 47184469 | G6: ORG | I6: 1353
E7: ……………………………… ………….…..……………………………
E11: Schválený | F11: Upravený | G11: Skutečnost | H11: z toho:
E12: rozpočet | F12: rozpočet | G12: celkem | H12: Hlavní činnost | I12: Doplňková činnost
E13: celkem | F13: celkem | H13: jednotka - tis. Kč na 2 des. místa
A15: a) Náklady a výnosy
A16: Náklady | E16: 3139 | F16: 10070 | G16: =H16+I16 -> 10417 | H16: 10149 | I16: 268
A18: Výnosy | E18: 3139 | F18: 10070 | G18: =H18+I18 -> 10453 | H18: 10038 | I18: 415
A21: Doplňující údaje :
C22: daň z příjmů,dodatečné odvody daně z příjmů (nákladová položka) | G22: =H22+I22 -> 0 | H22: 0 | I22: 0
A24: Výsledek hospodaření /po zdanění/ | G24: =G18-G16-G22 -> 36 | H24: =H18-H16-H22 -> -111 | I24: =I18-I16-I22 -> 147
A28: b) | B28: Rozdělení výsledku hospodaření | G28: =G29+G30+G31 -> 35937.37 | H28: v Kč
C29: - Návrh na příděly do fondů: | F29: Fond odměn | G29: 8000 | H29: v Kč
F30: Fond rezervní | G30: 27937.37 | H30: v Kč
C31: - Způsob krytí ztráty : | F31: Částka | G31: 0 | H31: v Kč
A35: c) | B35: Závazné ukazatele
F36: Schválená částka | G36: Skutečnost | I36: % plnění
A37: Limit mzdových prostředků | F37: 165 | G37: 106.29 | H37: v tis. Kč | I37: =G37/F37 -> 0.64418182
A38: Neinvestiční příspěvek /odpisy/ | F38: 93.408 | G38: 93.4082 | H38: v tis. Kč | I38: =G38/F38 -> 1.0000021
A39: Neinvestiční příspěvek /nájemné/ | F39: 0 | G39: 0 | H39: v tis. Kč | I39: nerozp.
A40: Odvody z investičního fondu /odpisy/ | F40: 70 | G40: 70 | H40: v tis. Kč | I40: =G40/F40 -> 1
A41: Odvody z investičního fondu | E41: /spolufin. akcí/ | F41: 0 | G41: 0 | H41: v tis. Kč | I41: nerozp.
A42: Pozn.: Vynaložené odpisy nad stanovený limit byly finančně pokryty z provozních prostředků organizace- 0,20 Kč.
A44: d) | B44: Fondy | H44: jednotka - Kč na 2 des. místa
E45: Stav k 1.1.2010 | F45: Tvorba | G45: Čerpání | H45: Stav k | I45: Finanční krytí k
H46: 40543 | I46: 40543
C49: Fond odměn | E49: 83357 | F49: 10000 | G49: 8271 | H49: =E49+F49-G49 -> 85086 | I49: =H49 -> 85086
C50: FKSP | E50: 101563.15 | F50: 85368.82 | G50: 82025 | H50: =E50+F50-G50 -> 104906.97 | I50: 98069.56
C51: Fond rezervní | E51: =294858.24+25925.5 -> 320783.74 | F51: =47448.77+23920 -> 71368.77 | G51: =59067+4397 -> 63464 | H51: =E51+F51-G51 -> 328688.51 | I51: =H51 -> 328688.51
C52: Investiční fond | E52: 162633.08 | F52: 115440 | G52: 70000 | H52: =E52+F52-G52 -> 208073.08 | I52: =H52 -> 208073.08
A53: celkem | E53: =E49+E50+E51+E52 -> 668336.97 | F53: =F49+F50+F51+F52 -> 282177.59 | G53: =G49+G50+G51+G52 -> 223760 | H53: =H49+H50+H51+H52 -> 726754.56 | I53: =I49+I50+I51+I52 -> 719917.15

Sheet 1403
A1: REKAPITULACE ZA ORGANIZACI :
A2: Název organizace : | E2: Dětský domov a Školní jídelna, Hranice, Purgešova 847
E3: ……………………………………….……..………………………………………..…………………………………
A4: Adresa : | E4: Purgešova 847, Hranice
E5: ……………………………………….……..………………………………………..…………………………………
A6: IČ | E6: 62350277 | G6: ORG | I6: 1403
E7: ……………………………… ………….…..……………………………
E11: Schválený | F11: Upravený | G11: Skutečnost | H11: z toho:
E12: rozpočet | F12: rozpočet | G12: celkem | H12: Hlavní činnost | I12: Doplňková činnost
E13: celkem | F13: celkem | H13: jednotka - tis. Kč na 2 des. místa
A15: a) Náklady a výnosy
A16: Náklady | E16: 2681 | F16: 10331 | G16: =H16+I16 -> 10166 | H16: 10166 | I16: 0
A18: Výnosy | E18: 2681 | F18: 10377 | G18: =H18+I18 -> 10333 | H18: 10333 | I18: 0
A21: Doplňující údaje :
C22: daň z příjmů,dodatečné odvody daně z příjmů (nákladová položka) | G22: =H22+I22 -> 0 | H22: 0 | I22: 0
A24: Výsledek hospodaření /po zdanění/ | G24: =G18-G16-G22 -> 167 | H24: =H18-H16-H22 -> 167 | I24: =I18-I16-I22 -> 0
A28: b) | B28: Rozdělení výsledku hospodaření | G28: =G29+G30+G31 -> 166511.37 | H28: v Kč
C29: - Návrh na příděly do fondů: | F29: Fond odměn | G29: 6511 | H29: v Kč
F30: Fond rezervní | G30: 160000.37 | H30: v Kč
C31: - Způsob krytí ztráty : | F31: Částka | G31: 0 | H31: v Kč
A35: c) | B35: Závazné ukazatele
F36: Schválená částka | G36: Skutečnost | I36: % plnění
A37: Limit mzdových prostředků | F37: 0 | G37: 0 | H37: v tis. Kč | I37: 0
A38: Neinvestiční příspěvek /odpisy/ | F38: 164.25 | G38: 156.406 | H38: v tis. Kč | I38: =G38/F38 -> 0.95224353
A39: Neinvestiční příspěvek /nájemné/ | F39: 0 | G39: 0 | H39: v tis. Kč | I39: nerozp.
A40: Odvody z investičního fondu /odpisy/ | F40: 123 | G40: 123 | H40: v tis. Kč | I40: =G40/F40 -> 1
A41: Odvody z investičního fondu | E41: /spolufin. akcí/ | F41: 0 | G41: 0 | H41: v tis. Kč | I41: nerozp.
A43: d) | B43: Fondy | H43: jednotka - Kč na 2 des. místa
E44: Stav k 1.1.2010 | F44: Tvorba | G44: Čerpání | H44: Stav k | I44: Finanční krytí k
H45: 40543 | I45: 40543
C48: Fond odměn | E48: 69542 | F48: 15000 | G48: 2000 | H48: =E48+F48-G48 -> 82542 | I48: =H48 -> 82542
C49: FKSP | E49: 62102.89 | F49: 111666 | G49: 116974 | H49: =E49+F49-G49 -> 56794.89 | I49: 45550.74
C50: Fond rezervní | E50: 142289.42 | F50: =108518.64+128999 -> 237517.64 | G50: 6300 | H50: =E50+F50-G50 -> 373507.06 | I50: =H50 -> 373507.06
C51: Investiční fond | E51: 162848 | F51: 156406 | G51: 169551 | H51: =E51+F51-G51 -> 149703 | I51: =H51 -> 149703
A52: celkem | E52: =E48+E49+E50+E51 -> 436782.31 | F52: =F48+F49+F50+F51 -> 520589.64 | G52: =G48+G49+G50+G51 -> 294825 | H52: =H48+H49+H50+H51 -> 662546.95 | I52: =I48+I49+I50+I51 -> 651302.8

Sheet 1404
A1: REKAPITULACE ZA ORGANIZACI :
A2: Název organizace : | E2: Dětský domov a Školní jídelna, Lipník nad Bečvou, Tyršova 772
E3: ……………………………………….……..………………………………………..…………………………………
A4: Adresa : | E4: Tyršova 772, Lipník nad Bečvou
E5: ……………………………………….……..………………………………………..…………………………………
A6: IČ | E6: 63701294 | G6: ORG | I6: 1404
E7: ……………………………… ………….…..……………………………
E11: Schválený | F11: Upravený | G11: Skutečnost | H11: z toho:
E12: rozpočet | F12: rozpočet | G12: celkem | H12: Hlavní činnost | I12: Doplňková činnost
E13: celkem | F13: celkem | H13: jednotka - tis. Kč na 2 des. místa
A15: a) Náklady a výnosy
A16: Náklady | E16: 2058 | F16: 7720 | G16: =H16+I16 -> 7805 | H16: 7805 | I16: 0
A18: Výnosy | E18: 2058 | F18: 7916 | G18: =H18+I18 -> 7942 | H18: 7942 | I18: 0
A21: Doplňující údaje :
C22: daň z příjmů,dodatečné odvody daně z příjmů (nákladová položka) | G22: =H22+I22 -> 0 | H22: 0 | I22: 0
A24: Výsledek hospodaření /po zdanění/ | G24: =G18-G16-G22 -> 137 | H24: =H18-H16-H22 -> 137 | I24: =I18-I16-I22 -> 0
A28: b) | B28: Rozdělení výsledku hospodaření | G28: =G29+G30+G31 -> 137057.42 | H28: v Kč
C29: - Návrh na příděly do fondů: | F29: Fond odměn | G29: 1000 | H29: v Kč
F30: Fond rezervní | G30: 136057.42 | H30: v Kč
C31: - Způsob krytí ztráty : | F31: Částka | G31: 0 | H31: v Kč
A35: c) | B35: Závazné ukazatele
F36: Schválená částka | G36: Skutečnost | I36: % plnění
A37: Limit mzdových prostředků | F37: 0 | G37: 0 | H37: v tis. Kč | I37: 0
A38: Neinvestiční příspěvek /odpisy/ | F38: 305.223 | G38: 305.255 | H38: v tis. Kč | I38: =G38/F38 -> 1.0001048
A39: Neinvestiční příspěvek /nájemné/ | F39: 0 | G39: 0 | H39: v tis. Kč | I39: nerozp.
A40: Odvody z investičního fondu /odpisy/ | F40: 229 | G40: 229 | H40: v tis. Kč | I40: =G40/F40 -> 1
A41: Odvody z investičního fondu | E41: /spolufin. akcí/ | F41: 0 | G41: 0 | H41: v tis. Kč | I41: nerozp.
A42: Pozn.: Vynaložené odpisy nad stanovený limit byly finančně pokryty z provozních prostředků organizace- 32,- Kč.
A44: d) | B44: Fondy | H44: jednotka - Kč na 2 des. místa
E45: Stav k 1.1.2010 | F45: Tvorba | G45: Čerpání | H45: Stav k | I45: Finanční krytí k
H46: 40543 | I46: 40543
C49: Fond odměn | E49: 7250 | F49: 1000 | G49: 0 | H49: =E49+F49-G49 -> 8250 | I49: =H49 -> 8250
C50: FKSP | E50: 12628.99 | F50: 82531 | G50: 87529 | H50: =E50+F50-G50 -> 7630.99 | I50: 7452.22
C51: Fond rezervní | E51: =254031.55+40212.52 -> 294244.07 | F51: 49046.56 | G51: 39684 | H51: =E51+F51-G51 -> 303606.63 | I51: =H51 -> 303606.63
C52: Investiční fond | E52: 488405.88 | F52: 305255 | G52: 720654 | H52: =E52+F52-G52 -> 73006.88 | I52: 72924.13
A53: celkem | E53: =E49+E50+E51+E52 -> 802528.94 | F53: =F49+F50+F51+F52 -> 437832.56 | G53: =G49+G50+G51+G52 -> 847867 | H53: =H49+H50+H51+H52 -> 392494.5 | I53: =I49+I50+I51+I52 -> 392232.98

Sheet 1405
A1: REKAPITULACE ZA ORGANIZACI :
A2: Název organizace : | E2: Dětský domov a Školní jídelna, Přerov, Sušilova 25
E3: ……………………………………….……..………………………………………..…………………………………
A4: Adresa : | E4: Sušilova 25/2392, Přerov
E5: ……………………………………….……..………………………………………..…………………………………
A6: IČ | E6: 63701332 | G6: ORG | I6: 1405
E7: ……………………………… ………….…..……………………………
E11: Schválený | F11: Upravený | G11: Skutečnost | H11: z toho:
E12: rozpočet | F12: rozpočet | G12: celkem | H12: Hlavní činnost | I12: Doplňková činnost
E13: celkem | F13: celkem | H13: jednotka - tis. Kč na 2 des. místa
A15: a) Náklady a výnosy
A16: Náklady | E16: 1859 | F16: 7696 | G16: =H16+I16 -> 8008 | H16: 8008 | I16: 0
A18: Výnosy | E18: 1859 | F18: 7696 | G18: =H18+I18 -> 8096 | H18: 8096 | I18: 0
A21: Doplňující údaje :
C22: daň z příjmů,dodatečné odvody daně z příjmů (nákladová položka) | G22: =H22+I22 -> 0 | H22: 0 | I22: 0
A24: Výsledek hospodaření /po zdanění/ | G24: =G18-G16-G22 -> 88 | H24: =H18-H16-H22 -> 88 | I24: =I18-I16-I22 -> 0
A28: b) | B28: Rozdělení výsledku hospodaření | G28: =G29+G30+G31 -> 87484.65 | H28: v Kč
C29: - Návrh na příděly do fondů: | F29: Fond odměn | G29: 2000 | H29: v Kč
F30: Fond rezervní | G30: 85484.65 | H30: v Kč
C31: - Způsob krytí ztráty : | F31: Částka | G31: 0 | H31: v Kč
A35: c) | B35: Závazné ukazatele
F36: Schválená částka | G36: Skutečnost | I36: % plnění
A37: Limit mzdových prostředků | F37: 0 | G37: 0 | H37: v tis. Kč | I37: 0
A38: Neinvestiční příspěvek /odpisy/ | F38: 35 | G38: 35.996 | H38: v tis. Kč | I38: =G38/F38 -> 1.0284571
A39: Neinvestiční příspěvek /nájemné/ | F39: 0 | G39: 0 | H39: v tis. Kč | I39: nerozp.
A40: Odvody z investičního fondu /odpisy/ | F40: 26 | G40: 26 | H40: v tis. Kč | I40: =G40/F40 -> 1
A41: Odvody z investičního fondu | E41: /spolufin. akcí/ | F41: 0 | G41: 0 | H41: v tis. Kč | I41: nerozp.
A42: Pozn.1: Odvod z investičního fondu (úhrada pozemku) ve výši 14,24 tis. Kč
A43: Pozn.2: Vynaložené odpisy nad stanovený limit byly finančně pokryty z provozních prostředků organizace- 996,- Kč.
A45: d) | B45: Fondy | H45: jednotka - Kč na 2 des. místa
E46: Stav k 1.1.2010 | F46: Tvorba | G46: Čerpání | H46: Stav k | I46: Finanční krytí k
H47: 40543 | I47: 40543
C50: Fond odměn | E50: 138610 | F50: 20000 | G50: 0 | H50: =E50+F50-G50 -> 158610 | I50: =H50 -> 158610
C51: FKSP | E51: 58388.9 | F51: 84820 | G51: 81602 | H51: =E51+F51-G51 -> 61606.9 | I51: 51648.72
C52: Fond rezervní | E52: =645544.45+13992 -> 659536.45 | F52: =163013.9+117000 -> 280013.9 | G52: =161967+119371 -> 281338 | H52: =E52+F52-G52 -> 658212.35 | I52: =197867.35+11621 -> 209488.35
C53: Investiční fond | E53: 128671 | F53: 35996 | G53: 40235 | H53: =E53+F53-G53 -> 124432 | I53: =H53 -> 124432
A54: celkem | E54: =E50+E51+E52+E53 -> 985206.35 | F54: =F50+F51+F52+F53 -> 420829.9 | G54: =G50+G51+G52+G53 -> 403175 | H54: =H50+H51+H52+H53 -> 1002861.2 | I54: =I50+I51+I52+I53 -> 544179.07
