Workbook

Sheet Kultura
A1: c) Příspěvkové organizace v oblasti kultury | L1: ORJ -13
A2: Správce: vedoucí odboru kultury a památkové péče
A3: PhDr. Jindřich Garčic
A5: Rekapitulace hospodaření / výsledek hospodaření 2010/
L8: v tis - Kč | P8: v Kč
A9: ORG | B9: § | C9: Název zařízení | D9: Adresa | F9: Náklady | G9: Výnosy | I9: Daň | K9: Výsledek hospodaření | M9: Rozdělení do fondů - v Kč | O9: Pokrytí ztáty z minulých období | S9: Pozn. :
H10: HV | J10: HV po zdanění | K10: zlepšený VH | L10: ztráta | M10: Fond odměn | N10: Fond rezervní | P10: Celkem
A11: 1601 | B11: § 3314 | C11: Vědecká knihovna v Olomouci, příspěvková organizace | D11: Bezručova 3 | E11: 779 11 Olomouc | M11: ='1. Vědecká knihovna'!G29 -> 0 | N11: ='1. Vědecká knihovna'!G30 -> 167477.95 | P11: ='1. Vědecká knihovna'!G28 -> 167477.95 | S11: NEMÁ DOPL. ČINNOST
F12: ='1. Vědecká knihovna'!G16 -> 41199 | G12: ='1. Vědecká knihovna'!G18 -> 41367 | H12: =G12-F12 -> 168 | I12: ='1. Vědecká knihovna'!G22 -> 0 | J12: =H12-I12 -> 168 | K12: =IF((J12<0),0,J12) -> 168 | L12: =IF((J12<0),J12,0) -> 0 | M12: ='1. Vědecká knihovna'!G29 -> 0 | N12: =N11/$P11 -> 1 | P12: =O12+N12+M12 -> 1
A13: 1602 | B13: § 3315 | C13: Vlastivědné muzeum v Olomouci, příspěvková organizace | D13: Náměstí Republiky 5 | E13: 771 73 Olomouc | M13: ='2. Vlastivědné muzeum Ol.'!G29 -> 0 | N13: ='2. Vlastivědné muzeum Ol.'!G30 -> 12110.27 | P13: ='2. Vlastivědné muzeum Ol.'!G28 -> 12110.27 | S13: NEMÁ DOPL. ČINNOST
F14: ='2. Vlastivědné muzeum Ol.'!G16 -> 29877 | G14: ='2. Vlastivědné muzeum Ol.'!G18 -> 29889 | H14: =G14-F14 -> 12 | I14: ='2. Vlastivědné muzeum Ol.'!G22 -> 0 | J14: =ROUND(H14-I14,2) -> 12 | K14: =IF((J14<0),0,J14) -> 12 | L14: =IF((J14<0),J14,0) -> 0 | M14: =M13/$P13 -> 0 | N14: =N13/$P13 -> 1 | P14: =O14+N14+M14 -> 1
A15: 1603 | B15: § 3315 | C15: Vlastivědné muzeum Jesenicka, | D15: Zámecké náměstí 1 | E15: 790 01 Jeseník | M15: ='3. Vlast. muzeum Jesenicka'!G29 -> 0 | N15: ='3. Vlast. muzeum Jesenicka'!G30 -> 9486.48 | P15: ='3. Vlast. muzeum Jesenicka'!G28 -> 9486.48 | S15: NEMÁ DOPL. ČINNOST
C16: příspěvková organizace | F16: ='3. Vlast. muzeum Jesenicka'!G16 -> 5858 | G16: ='3. Vlast. muzeum Jesenicka'!G18 -> 5867 | H16: =G16-F16 -> 9 | I16: ='3. Vlast. muzeum Jesenicka'!G22 -> 0 | J16: =H16-I16 -> 9 | K16: =IF((J16<0),0,J16) -> 9 | L16: =IF((J16<0),J16,0) -> 0 | M16: =M15/$P15 -> 0 | N16: =N15/$P15 -> 1 | P16: =O16+N16+M16 -> 1
A17: 1604 | B17: § 3315 | C17: Muzeum Prostějovska v Prostějově, | D17: nám. T.G.Masaryka 2 | E17: 796 01 Prostějov | M17: ='4. Muzeum Prostějovska'!G29 -> 0 | N17: ='4. Muzeum Prostějovska'!G30 -> 97553.66 | P17: ='4. Muzeum Prostějovska'!G28 -> 97553.66 | S17: NEMÁ DOPL. ČINNOST
C18: příspěvková organizace | F18: ='4. Muzeum Prostějovska'!G16 -> 11162 | G18: ='4. Muzeum Prostějovska'!G18 -> 11259 | H18: =G18-F18 -> 97 | I18: ='4. Muzeum Prostějovska'!G22 -> 0 | J18: =H18-I18 -> 97 | K18: =IF((J18<0),0,J18) -> 97 | L18: =IF((J18<0),J18,0) -> 0 | M18: =M17/$P17 -> 0 | N18: =N17/$P17 -> 1 | P18: =O18+N18+M18 -> 1
A19: 1605 | B19: § 3319 | C19: Lidová hvězdárna v Prostějově, | D19: Kolářovy sady 3348 | E19: 796 01 Prostějov | M19: ='5. Lidová hvězdárna'!G29 -> 0 | N19: ='5. Lidová hvězdárna'!G30 -> 211140.9 | P19: ='5. Lidová hvězdárna'!G28 -> 211140.9 | S19: NEMÁ DOPL. ČINNOST
C20: příspěvková organizace | F20: ='5. Lidová hvězdárna'!G16 -> 2296 | G20: ='5. Lidová hvězdárna'!G18 -> 2507 | H20: =G20-F20 -> 211 | I20: ='4. Muzeum Prostějovska'!G22 -> 0 | J20: =H20-I20 -> 211 | K20: =IF((J20<0),0,J20) -> 211 | L20: =IF((J20<0),J20,0) -> 0 | M20: =M19/$P19 -> 0 | N20: =N19/$P19 -> 1 | P20: =O20+N20+M20 -> 1
A21: 1606 | B21: § 3315 | C21: Muzeum Komenského v Přerově, | D21: Horní náměstí 7 | E21: 751 52 Přerov | M21: ='6. Muzeum Komenského Přer.'!G29 -> 0 | N21: ='6. Muzeum Komenského Přer.'!G30 -> 0 | P21: 0 | S21: NEMÁ DOPL. ČINNOST
C22: příspěvková organizace | F22: ='6. Muzeum Komenského Přer.'!G16 -> 23515 | G22: ='6. Muzeum Komenského Přer.'!G18 -> 22722 | H22: =G22-F22 -> -793 | I22: ='6. Muzeum Komenského Přer.'!G22 -> 0 | J22: =H22-I22 -> -793 | K22: =IF((J22<0),0,J22) -> 0 | L22: =IF((J22<0),J22,0) -> -793
A23: 1607 | B23: § 3315 | C23: Vlastivědné muzeum v Šumperku, | D23: Hlavní tř. 22 | E23: 787 31 Šumperk | M23: ='7. Vlastivěd. muzeum Šumperk'!G29 -> 0 | N23: ='7. Vlastivěd. muzeum Šumperk'!G30 -> 742740.26 | P23: ='7. Vlastivěd. muzeum Šumperk'!G28 -> 742740.26 | S23: PO má doplňkovou činnost
C24: příspěvková organizace | F24: ='7. Vlastivěd. muzeum Šumperk'!G16 -> 23278 | G24: ='7. Vlastivěd. muzeum Šumperk'!G18 -> 24022 | H24: =G24-F24 -> 744 | I24: ='7. Vlastivěd. muzeum Šumperk'!G22 -> 0 | J24: =H24-I24 -> 744 | K24: =IF((J24<0),0,J24) -> 744 | L24: =IF((J24<0),J24,0) -> 0 | M24: =M23/$P23 -> 0 | N24: =N23/$P23 -> 1 | P24: =O24+N24+M24 -> 1
A25: 1608 | B25: § 3315 | C25: Archeologické centrum Olomouc, | D25: Klášterní Hradisko, U Hradiska 42/6 | E25: 771 00 Olomouc | M25: ='8. Archeolog. centrum'!G29 -> 0 | N25: ='8. Archeolog. centrum'!G30 -> 1227364.1 | P25: ='8. Archeolog. centrum'!G28 -> 1227364.1 | S25: NEMÁ DOPL. ČINNOST
C26: příspěvková organizace | F26: ='8. Archeolog. centrum'!G16 -> 15234 | G26: ='8. Archeolog. centrum'!G18 -> 16456 | H26: =G26-F26 -> 1222 | I26: ='8. Archeolog. centrum'!G22 -> 0 | J26: =H26-I26 -> 1222 | K26: =IF((J26<0),0,J26) -> 1222 | L26: =IF((J26<0),J26,0) -> 0 | M26: =M25/$P25 -> 0 | N26: =N25/$P25 -> 1 | P26: =O26+N26+M26 -> 1
A27: CELKEM | F27: =SUM(F11:F26) -> 152419 | G27: =ROUND(SUM(G11:G26),2) -> 154089 | H27: =SUM(H11:H26) -> 1670 | I27: =SUM(I11:I26) -> 0 | J27: =SUM(J11:J26) -> 1670 | K27: =ROUND(SUM(K11:K26),2) -> 2463 | L27: =SUM(L11:L26) -> -793 | M27: =M23+M21+M19+M17+M15+M25+M13+M11 -> 0 | N27: =N23+N21+N19+N17+N15+N25+N13+N11 -> 2467873.6 | P27: =ROUND(P23+P21+P19+P17+P15+P25+P13+P11,2) -> 2467873.6 | R27: =K12+K14+K16+K18+K20+K22+K24+K26 -> 2463
R28: =614.7+250.14 -> 864.84
K29: saldo | L29: =ROUND(K27+L27,2) -> 1670
A30: Kontrolní sestava: | F30: =F31+F32 -> 158612.32 | G30: =G31+G32 -> 159907.82 | H30: =H31+H32 -> 1295.5 | I30: =I31+I32 -> -91.08 | J30: =J31+J32 -> 1386.58 | K30: =G30-F30-I30 -> 1386.58
C31: hlavní činnost | F31: 158500.79 | G31: 159573.43 | H31: 1072.64 | I31: -91.08 | J31: 1163.72
C32: vedlejší činnost | F32: 111.53 | G32: 334.39 | H32: 222.86 | I32: 0 | J32: 222.86
A33: Rozdíl : | F33: =F27-F30 -> -6193.32 | G33: =G27-G30 -> -5818.82 | H33: =H27-H30 -> 374.5 | I33: =I27-I30 -> 91.08 | J33: =J27-J30 -> 283.42
C34: § 3314 | D34: počet PO | E34: =1 -> 1 | F34: =F12 -> 41199 | G34: =G12 -> 41367 | H34: =H12 -> 168 | I34: =I12 -> 0 | J34: =J12 -> 168 | K34: =K12 -> 168 | L34: =L12 -> 0
C35: § 3315 | D35: počet PO | E35: =6 -> 6 | F35: =F14+F16+F18+F22+F24+F26 -> 108924 | G35: =G14+G16+G18+G22+G24+G26 -> 110215 | H35: =H14+H16+H18+H22+H24+H26 -> 1291 | I35: =I14+I16+I18+I22+I24+I26 -> 0 | J35: =J14+J16+J18+J22+J24+J26 -> 1291 | K35: =K14+K16+K18+K22+K24+K26 -> 2084 | L35: =L14+L16+L18+L22+L24+L26 -> -793
C36: § 3319 | D36: počet PO | E36: 1 | F36: =F20 -> 2296 | G36: =G20 -> 2507 | H36: =H20 -> 211 | I36: =I20 -> 0 | J36: =J20 -> 211 | K36: =K20 -> 211 | L36: =L20 -> 0
C37: celkem | D37: celkem | E37: =SUM(E34:E36) -> 8 | F37: =SUM(F34:F36) -> 152419 | G37: =SUM(G34:G36) -> 154089 | H37: =SUM(H34:H36) -> 1670 | I37: =SUM(I34:I36) -> 0 | J37: =SUM(J34:J36) -> 1670 | K37: =SUM(K34:K36) -> 2463 | L37: =SUM(L34:L36) -> -793
A39: Z celkového počtu 8 organizací skončilo :
C40: - 7 organizací se zlepšeným hospodářským výsledkem, v celkové výši | H40: =K27 -> 2463 | I40: =K27 -> 2463 | K40: tis. Kč | M40: =P27 -> 2467873.6 | N40: Kč
C41: - 1 organizace se záporným hospodářským výsledkem, v celkové výši | H41: =K28 -> 0 | I41: =L27 -> -793 | K41: tis. Kč | M41: ='6. Muzeum Komenského Přer.'!G28 -> -794328.52 | N41: Kč
M42: =SUM(M40:M41) -> 1673545.1 | N42: Kč
A45: Rekapitulace podle § :
B46: 1 | C46: § 3314 - Činnosti knihovnické | F46: =F12 -> 41199 | G46: =G12 -> 41367 | H46: =H12 -> 168 | I46: =I12 -> 0 | J46: =J12 -> 168 | K46: =K12 -> 168 | L46: =L12 -> 0 | M46: =M12 -> 0 | ... P46: =P12 -> 1 | R46: =#REF! -> #REF!
B47: 6 | C47: § 3315 - Činnosti muzeí a galerií | F47: =F26+F24+F22+F18+F16+F14 -> 108924 | G47: =G26+G24+G22+G18+G16+G14 -> 110215 | H47: =H26+H24+H22+H18+H16+H14 -> 1291 | I47: =I26+I24+I22+I18+I16+I14 -> 0 | J47: =J26+J24+J22+J18+J16+J14 -> 1291 | K47: =K26+K24+K22+K18+K16+K14 -> 2084 | L47: =L26+L24+L22+L18+L16+L14 -> -793 | M47: =M26+M24+M22+M18+M16+M14 -> 0 | ... P47: =P26+P24+P22+P18+P16+P14 -> 5
B48: 1 | C48: § 3319 -Ostatní záležitosti kultury | F48: =F20 -> 2296 | G48: =G20 -> 2507 | H48: =H20 -> 211 | I48: =I20 -> 0 | J48: =J20 -> 211 | K48: =K20 -> 211 | L48: =L20 -> 0 | M48: =M20 -> 0 | ... P48: =P20 -> 1
A49: CELKEM | C49: =B48+B47+B46 -> 8 | F49: =SUM(F46:F48) -> 152419 | G49: =SUM(G46:G48) -> 154089 | H49: =SUM(H46:H48) -> 1670 | I49: =SUM(I46:I48) -> 0 | J49: =SUM(J46:J48) -> 1670 | K49: =SUM(K46:K48) -> 2463 | L49: =SUM(L46:L48) -> -793 | M49: =SUM(M46:M48) -> 0 | ... P49: =SUM(P46:P48) -> 7
R50: =#REF!+R7+#REF! -> #REF!
R51: =#REF!+#REF! -> #REF!
R52: =R21+R19+R17+R15+#REF!+R13+R11+R9+R5+R3+R1+#REF!+#REF!+#REF!+#REF!+#REF!+#REF!+#REF!+#REF!+#REF!+#REF!+#REF!+#REF!+#REF! -> #REF!
R53: =#REF!+#REF! -> #REF!
R54: =#REF! -> #REF!

Sheet 1. Vědecká knihovna
A1: REKAPITULACE ZA ORGANIZACI :
A2: Název organizace : | E2: Vědecká knihovna v Olomouci
E3: ……………………………………….……..………………………………………..…………………………………
A4: Adresa : | E4: Bezručova 3, 779 11 Olomouc
E5: ……………………………………….……..………………………………………..…………………………………
A6: IĆ | E6: 00100625 | H6: ORG | I6: 1601
E7: ……………………………… ………….…..……………………………
E11: Schválený | F11: Upravený | G11: Skutečnost | H11: z toho:
E12: rozpočet | F12: rozpočet | G12: celkem | H12: Hlavní činnost | I12: Doplňková činnost
E13: celkem | F13: celkem | H13: jednotka - tis. Kč na 2 des. místa
A15: a) Náklady a výnosy
A16: Náklady | E16: 37512 | F16: 40934.23 | G16: =H16+I16 -> 41199 | H16: 41199 | I16: 0
A18: Výnosy | E18: 37512 | F18: 40934.23 | G18: =H18+I18 -> 41367 | H18: 41367 | I18: 0
A21: Doplňující údaje :
C22: daň z příjmů,dodatečné odvody daně z příjmů (nákladová položka) | G22: =H22+I22 -> 0 | H22: 0 | I22: 0
A24: Výsledek hospodaření /po zdanění/ | G24: =ROUND(G18-G16-G22,2) -> 168 | H24: =H18-H16-H22 -> 168 | I24: =I18-I16-I22 -> 0
A28: b) | B28: Rozdělení výsledku hospodaření | G28: 167477.95 | H28: v Kč
C29: - Návrh na příděly do fondů: | F29: Fond odměn | G29: 0 | H29: v Kč
F30: Fond rezervní | G30: 167477.95 | H30: v Kč
C31: - Způsob krytí ztráty : | F31: Ćástka | G31: 0 | H31: v Kč
A35: c) | B35: Závazné ukazatele
F36: Schválená částka | G36: Skutečnost | I36: % plnění
A37: Limit mzdových prostředků | F37: 17522 | G37: 17581 | H37: v tis. Kč | I37: =IF(F37=0,"nerozp.",G37/F37) -> 1.0033672
A38: Neinvestiční příspěvek /odpisy/ | F38: 2626.4654 | G38: =F38 -> 2626.4654 | H38: v tis. Kč | I38: =IF(F38=0,"nerozp.",G38/F38) -> 1
A39: Neinvestiční příspěvek/nájemné/ | F39: 0 | G39: 0 | H39: v tis. Kč | I39: =IF(F39=0,"nerozp.",G39/F39) -> nerozp.
A40: Odvody z investičního fondu /odpisy/ | F40: 1969.849 | G40: 1969.849 | H40: v tis. Kč | I40: =IF(F40=0,"nerozp.",G40/F40) -> 1
A41: Odvody z investičního fondu /spolufin. akcí/ | F41: 0 | G41: 0 | H41: v tis. Kč | I41: =IF(F41=0,"nerozp.",G41/F41) -> nerozp.
A42: Pozn. :
B43: Překročení limitu mzdových prostředků o 59 002,- Kč bylo způsobeno zapojením prostředků na mzdy, poskytnuté v rámci projektu EOD, z Univerzitní knihovny v Innsbrucku.
A44: d) | B44: Fondy | H44: jednotka - Kč na 2 des. místa
E45: Stav k 1.1.2010 | F45: Tvorba | G45: Čerpání | H45: Stav k | I45: Finanční krytí k
H46: 40543 | I46: 40543
C49: Fond odměn | E49: 120269 | F49: 0 | G49: 0 | H49: =E49+F49-G49 -> 120269 | I49: 120269
C50: FKSP | E50: 231690.34 | F50: 342916 | G50: 261553 | H50: =E50+F50-G50 -> 313053.34 | I50: 265177.8
C51: Fond rezervní | E51: 488589.82 | F51: 407912.14 | G51: 29053.36 | H51: =E51+F51-G51 -> 867448.6 | I51: 768360.98
C52: Investiční fond | E52: 6632.6 | F52: 3042315.4 | G52: 2472496 | H52: =E52+F52-G52 -> 576452 | I52: 576452
A53: celkem | E53: =SUM(E49:E52) -> 847181.76 | F53: =SUM(F49:F52) -> 3793143.5 | G53: =SUM(G49:G52) -> 2763102.4 | H53: =SUM(H49:H52) -> 1877222.9 | I53: =SUM(I49:I52) -> 1730259.8

Sheet 2. Vlastivědné muzeum Ol.
A1: REKAPITULACE ZA ORGANIZACI :
A2: Název organizace : | E2: Vlastivědné muzeum v Olomouci
E3: ……………………………………….……..………………………………………..…………………………………
A4: Adresa : | E4: nám. Republiky 5
E5: ……………………………………….……..………………………………………..…………………………………
A6: IĆ | E6: 00100609 | H6: ORG | I6: 1602
E7: ……………………………… ………….…..……………………………
E11: Schválený | F11: Upravený | G11: Skutečnost | H11: z toho:
E12: rozpočet | F12: rozpočet | G12: celkem | H12: Hlavní činnost | I12: Doplňková činnost
E13: celkem | F13: celkem | H13: jednotka - tis. Kč na 2 des. místa
A15: a) Náklady a výnosy
A16: Náklady | E16: 28915 | F16: 29353.74 | G16: =H16+I16 -> 29877 | H16: 29877 | I16: 0
A18: Výnosy | E18: 28915 | F18: 29353.74 | G18: =H18+I18 -> 29889 | H18: 29889 | I18: 0
A21: Doplňující údaje :
C22: daň z příjmů,dodatečné odvody daně z příjmů (nákladová položka) | G22: =H22+I22 -> 0 | H22: 0 | I22: 0
A24: Výsledek hospodaření /po zdanění/ | G24: =ROUND(G18-G16-G22,2) -> 12 | H24: =H18-H16-H22 -> 12 | I24: =I18-I16-I22 -> 0
A28: b) | B28: Rozdělení výsledku hospodaření | G28: 12110.27 | H28: v Kč
C29: - Návrh na příděly do fondů: | F29: Fond odměn | G29: 0 | H29: v Kč
F30: Fond rezervní | G30: 12110.27 | H30: v Kč
C31: - Způsob krytí ztráty : | F31: Ćástka | G31: 0 | H31: v Kč
A35: c) | B35: Závazné ukazatele
F36: Schválená částka | G36: Skutečnost | I36: % plnění
A37: Limit mzdových prostředků | F37: 12734 | G37: 12734 | H37: v tis. Kč | I37: =IF(F37=0,"nerozp.",G37/F37) -> 1
A38: Neinvestiční příspěvek /odpisy/ | F38: 3492.74 | G38: 3497.741 | H38: v tis. Kč | I38: =IF(F38=0,"nerozp.",G38/F38) -> 1.0014318
A39: Neinvestiční příspěvek/nájemné/ | F39: 0 | G39: 0 | H39: v tis. Kč | I39: =IF(F39=0,"nerozp.",G39/F39) -> nerozp.
A40: Odvody z investičního fondu /odpisy/ | F40: 2687.74 | G40: 2687.74 | H40: v tis. Kč | I40: =IF(F40=0,"nerozp.",G40/F40) -> 1
A41: Odvody z investičního fondu /spolufin. akcí/ | F41: 100 | G41: 100 | H41: v tis. Kč | I41: =IF(F41=0,"nerozp.",G41/F41) -> 1
A42: Pozn. : | B42: Vynaložené odpisy nad stanovený limit byly finančně pokryty z provozních prostředků organizace-5 001,- Kč.
A44: d) | B44: Fondy | H44: jednotka - Kč na 2 des. místa
E45: Stav k 1.1.2010 | F45: Tvorba | G45: Čerpání | H45: Stav k | I45: Finanční krytí k
H46: 40543 | I46: 40543
C49: Fond odměn | E49: 906012.39 | F49: 0 | G49: 0 | H49: =E49+F49-G49 -> 906012.39 | I49: 27100
C50: FKSP | E50: 106180.78 | F50: 237567 | G50: 251815 | H50: =E50+F50-G50 -> 91932.78 | I50: 22845.78
C51: Fond rezervní | E51: 1051729.7 | F51: 100014.81 | G51: 0 | H51: =E51+F51-G51 -> 1151744.6 | I51: 150409.14
C52: Investiční fond | E52: 165545.19 | F52: 5697021 | G52: 4987020 | H52: =E52+F52-G52 -> 875546.19 | I52: 875466
A53: celkem | E53: =SUM(E49:E52) -> 2229468.1 | F53: =SUM(F49:F52) -> 6034602.8 | G53: =SUM(G49:G52) -> 5238835 | H53: =SUM(H49:H52) -> 3025235.9 | I53: =SUM(I49:I52) -> 1075820.9

Sheet 3. Vlast. muzeum Jesenicka
A1: REKAPITULACE ZA ORGANIZACI :
A2: Název organizace : | E2: Vlastivědné muzeum Jesenicka, příspěvková organizace
E3: ……………………………………….……..………………………………………..…………………………………
A4: Adresa : | E4: Zámecké náměstí 1, 79001 Jeseník
E5: ……………………………………….……..………………………………………..…………………………………
A6: IĆ | E6: 64095410 | H6: ORG | I6: 1603
E7: ……………………………… ………….…..……………………………
E11: Schválený | F11: Upravený | G11: Skutečnost | H11: z toho:
E12: rozpočet | F12: rozpočet | G12: celkem | H12: Hlavní činnost | I12: Doplňková činnost
E13: celkem | F13: celkem | H13: jednotka - tis. Kč na 2 des. místa
A15: a) Náklady a výnosy
A16: Náklady | E16: 4982 | F16: 5476.73 | G16: =H16+I16 -> 5858 | H16: 5858 | I16: 0
A18: Výnosy | E18: 4982 | F18: 5476.725 | G18: =H18+I18 -> 5867 | H18: 5867 | I18: 0
A21: Doplňující údaje :
C22: daň z příjmů,dodatečné odvody daně z příjmů (nákladová položka) | G22: =H22+I22 -> 0 | H22: 0 | I22: 0
A24: Výsledek hospodaření /po zdanění/ | G24: =ROUND(G18-G16-G22,2) -> 9 | H24: =H18-H16-H22 -> 9 | I24: =I18-I16-I22 -> 0
A28: b) | B28: Rozdělení výsledku hospodaření | G28: 9486.48 | H28: v Kč
C29: - Návrh na příděly do fondů: | F29: Fond odměn | G29: 0 | H29: v Kč
F30: Fond rezervní | G30: 9486.48 | H30: v Kč
C31: - Způsob krytí ztráty : | F31: Ćástka | G31: 0 | H31: v Kč
A35: c) | B35: Závazné ukazatele
F36: Schválená částka | G36: Skutečnost | I36: % plnění
A37: Limit mzdových prostředků | F37: 2170 | G37: 2373.266 | H37: v tis. Kč | I37: =IF(F37=0,"nerozp.",G37/F37) -> 1.093671 | K37: =G37-F37 -> 203.266
A38: Neinvestiční příspěvek /odpisy/ | F38: 292.035 | G38: 292.035 | H38: v tis. Kč | I38: =IF(F38=0,"nerozp.",G38/F38) -> 1
A39: Neinvestiční příspěvek/nájemné/ | F39: 0 | G39: 0 | H39: v tis. Kč | I39: =IF(F39=0,"nerozp.",G39/F39) -> nerozp.
A40: Odvody z investičního fondu /odpisy/ | F40: 233.035 | G40: 233.035 | H40: v tis. Kč | I40: =IF(F40=0,"nerozp.",G40/F40) -> 1
A41: Odvody z investičního fondu /spolufin. akcí/ | F41: 0 | G41: 0 | H41: v tis. Kč | I41: =IF(F41=0,"nerozp.",G41/F41) -> nerozp.
A42: Pozn. :
B43: Překročení limitu mzdových prostředků o 203 266,- Kč bylo způsobeno zapojením prostředků na mzdy, poskytnuté Úřadem práce v Jeseníku.
A44: d) | B44: Fondy | H44: jednotka - Kč na 2 des. místa
E45: Stav k 1.1.2010 | F45: Tvorba | G45: Čerpání | H45: Stav k | I45: Finanční krytí k
H46: 40543 | I46: 40543
C49: Fond odměn | E49: 62129 | F49: 0 | G49: 0 | H49: =E49+F49-G49 -> 62129 | I49: 62129
C50: FKSP | E50: 49326.44 | F50: 44130 | G50: 62328 | H50: =E50+F50-G50 -> 31128.44 | I50: 35894.44
C51: Fond rezervní | E51: 164149.91 | F51: 167186.72 | G51: 184341.6 | H51: =E51+F51-G51 -> 146995.03 | I51: 146995.03
C52: Investiční fond | E52: 51813.3 | F52: 982035 | G52: 984658 | H52: =E52+F52-G52 -> 49190.3 | I52: 49190.3
A53: celkem | E53: =SUM(E49:E52) -> 327418.65 | F53: =SUM(F49:F52) -> 1193351.7 | G53: =SUM(G49:G52) -> 1231327.6 | H53: =SUM(H49:H52) -> 289442.77 | I53: =SUM(I49:I52) -> 294208.77

Sheet 4. Muzeum Prostějovska
A1: REKAPITULACE ZA ORGANIZACI :
A2: Název organizace : | E2: Muzeum Prostějovska v Prostějově
E3: ……………………………………….……..………………………………………..…………………………………
A4: Adresa : | E4: Nám. T. G. Masaryka 2, 796 01 Prostějov
E5: ……………………………………….……..………………………………………..…………………………………
A6: IĆ | E6: 00091405 | H6: ORG | I6: 1604
E7: ……………………………… ………….…..……………………………
E11: Schválený | F11: Upravený | G11: Skutečnost | H11: z toho:
E12: rozpočet | F12: rozpočet | G12: celkem | H12: Hlavní činnost | I12: Doplňková činnost
E13: celkem | F13: celkem | H13: jednotka - tis. Kč na 2 des. místa
A15: a) Náklady a výnosy
A16: Náklady | E16: 11308 | F16: 11252.2 | G16: =H16+I16 -> 11162 | H16: 11162 | I16: 0
A18: Výnosy | E18: 11308 | F18: 11252.2 | G18: =H18+I18 -> 11259 | H18: 11259 | I18: 0
A21: Doplňující údaje :
C22: daň z příjmů,dodatečné odvody daně z příjmů (nákladová položka) | G22: =H22+I22 -> 0 | H22: 0 | I22: 0
A24: Výsledek hospodaření /po zdanění/ | G24: =ROUND(G18-G16-G22,2) -> 97 | H24: =H18-H16-H22 -> 97 | I24: =I18-I16-I22 -> 0
A28: b) | B28: Rozdělení výsledku hospodaření | G28: 97553.66 | H28: v Kč
C29: - Návrh na příděly do fondů: | F29: Fond odměn | G29: 0 | H29: v Kč
F30: Fond rezervní | G30: 97553.66 | H30: v Kč
C31: - Způsob krytí ztráty : | F31: Ćástka | G31: 0 | H31: v Kč
A35: c) | B35: Závazné ukazatele
F36: Schválená částka | G36: Skutečnost | I36: % plnění
A37: Limit mzdových prostředků | F37: =20+5613 -> 5633 | G37: 5638.856 | H37: v tis. Kč | I37: =IF(F37=0,"nerozp.",G37/F37) -> 1.0010396
A38: Neinvestiční příspěvek /odpisy/ | F38: 759.199 | G38: 759.464 | H38: v tis. Kč | I38: =IF(F38=0,"nerozp.",G38/F38) -> 1.0003491
A39: Neinvestiční příspěvek/nájemné/ | F39: 0 | G39: 0 | H39: v tis. Kč | I39: =IF(F39=0,"nerozp.",G39/F39) -> nerozp.
A40: Odvody z investičního fondu /odpisy/ | F40: 569.199 | G40: 569.199 | H40: v tis. Kč | I40: =IF(F40=0,"nerozp.",G40/F40) -> 1
A41: Odvody z investičního fondu /spolufin. akcí/ | F41: 0 | G41: 0 | H41: v tis. Kč | I41: =IF(F41=0,"nerozp.",G41/F41) -> nerozp.
A42: Pozn. : | B42: Vynaložené odpisy nad stanovený limit byly finančně pokryty z provozních prostředků organizace-265,- Kč.
B43: Překročení limitu mzdových prostředků o 5 856,- Kč bylo pokryto finančními prostředky z fondu odměn příspěvkové organizace.
A44: d) | B44: Fondy | H44: jednotka - Kč na 2 des. místa
E45: Stav k 1.1.2010 | F45: Tvorba | G45: Čerpání | H45: Stav k | I45: Finanční krytí k
H46: 40543 | I46: 40543
C49: Fond odměn | E49: 113719 | F49: 0 | G49: 5856 | H49: =E49+F49-G49 -> 107863 | I49: 107863
C50: FKSP | E50: 7167.29 | F50: 108538.56 | G50: 103580 | H50: =E50+F50-G50 -> 12125.85 | I50: 12128.91
C51: Fond rezervní | E51: 208551.24 | F51: 22000 | G51: 20000 | H51: =E51+F51-G51 -> 210551.24 | I51: 210551.24
C52: Investiční fond | E52: 103012.8 | F52: 1359464 | G52: 1341360 | H52: =E52+F52-G52 -> 121116.8 | I52: 121116.8
A53: celkem | E53: =SUM(E49:E52) -> 432450.33 | F53: =SUM(F49:F52) -> 1490002.6 | G53: =SUM(G49:G52) -> 1470796 | H53: =SUM(H49:H52) -> 451656.89 | I53: =SUM(I49:I52) -> 451659.95

Sheet 5. Lidová hvězdárna
A1: REKAPITULACE ZA ORGANIZACI :
A2: Název organizace : | E2: Lidová hvězdárna v Prostějově, p.o.
E3: ……………………………………….……..………………………………………..…………………………………
A4: Adresa : | E4: Kolářovy sady 3348, 79601 Prostějov
E5: ……………………………………….……..………………………………………..…………………………………
A6: IĆ | E6: 0009130 | H6: ORG | I6: 1605
E7: ……………………………… ………….…..……………………………
E11: Schválený | F11: Upravený | G11: Skutečnost | H11: z toho:
E12: rozpočet | F12: rozpočet | G12: celkem | H12: Hlavní činnost | I12: Doplňková činnost
E13: celkem | F13: celkem | H13: jednotka - tis. Kč na 2 des. místa
A15: a) Náklady a výnosy
A16: Náklady | E16: 2611 | F16: 2488.03 | G16: =H16+I16 -> 2296 | H16: 2296 | I16: 0
A18: Výnosy | E18: 2611 | F18: 2488.03 | G18: =H18+I18 -> 2507 | H18: 2507 | I18: 0
A21: Doplňující údaje :
C22: daň z příjmů,dodatečné odvody daně z příjmů (nákladová položka) | G22: =H22+I22 -> 0 | H22: 0 | I22: 0
A24: Výsledek hospodaření /po zdanění/ | G24: =ROUND(G18-G16-G22,2) -> 211 | H24: =H18-H16-H22 -> 211 | I24: =I18-I16-I22 -> 0
A28: b) | B28: Rozdělení výsledku hospodaření | G28: 211140.9 | H28: v Kč
C29: - Návrh na příděly do fondů: | F29: Fond odměn | G29: 0 | H29: v Kč
F30: Fond rezervní | G30: 211140.9 | H30: v Kč
C31: - Způsob krytí ztráty : | F31: Ćástka | G31: 0 | H31: v Kč
A35: c) | B35: Závazné ukazatele
F36: Schválená částka | G36: Skutečnost | I36: % plnění
A37: Limit mzdových prostředků | F37: 1152 | G37: 1152 | H37: v tis. Kč | I37: =IF(F37=0,"nerozp.",G37/F37) -> 1
A38: Neinvestiční příspěvek /odpisy/ | F38: 122.03 | G38: 122.03 | H38: v tis. Kč | I38: =IF(F38=0,"nerozp.",G38/F38) -> 1
A39: Neinvestiční příspěvek/nájemné/ | F39: 0 | G39: 0 | H39: v tis. Kč | I39: =IF(F39=0,"nerozp.",G39/F39) -> nerozp.
A40: Odvody z investičního fondu /odpisy/ | F40: 91.773 | G40: 91.773 | H40: v tis. Kč | I40: =IF(F40=0,"nerozp.",G40/F40) -> 1
A41: Odvody z investičního fondu /spolufin. akcí/ | F41: 0 | G41: 0 | H41: v tis. Kč | I41: =IF(F41=0,"nerozp.",G41/F41) -> nerozp.
A42: Pozn. :
A44: d) | B44: Fondy | H44: jednotka - Kč na 2 des. místa
E45: Stav k 1.1.2010 | F45: Tvorba | G45: Čerpání | H45: Stav k | I45: Finanční krytí k
H46: 40543 | I46: 40543
C49: Fond odměn | E49: 36760 | F49: 0 | G49: 0 | H49: =E49+F49-G49 -> 36760 | I49: 36760
C50: FKSP | E50: 6466.38 | F50: 22770 | G50: 28656 | H50: =E50+F50-G50 -> 580.38 | I50: 2539.43
C51: Fond rezervní | E51: 153148.33 | F51: 65027.15 | G51: 0 | H51: =E51+F51-G51 -> 218175.48 | I51: 218175.48
C52: Investiční fond | E52: 36264.5 | F52: 122030 | G52: 91773 | H52: =E52+F52-G52 -> 66521.5 | I52: 66521.5
A53: celkem | E53: =SUM(E49:E52) -> 232639.21 | F53: =SUM(F49:F52) -> 209827.15 | G53: =SUM(G49:G52) -> 120429 | H53: =SUM(H49:H52) -> 322037.36 | I53: =SUM(I49:I52) -> 323996.41

Sheet 6. Muzeum Komenského Přer.
A1: REKAPITULACE ZA ORGANIZACI :
A2: Název organizace : | E2: Muzeum Komenského v Přerově, p.o.
E3: ……………………………………….……..………………………………………..…………………………………
A4: Adresa : | E4: Horní náměstí 7
E5: ……………………………………….……..………………………………………..…………………………………
A6: IĆ | E6: 00097969 | H6: ORG | I6: 1606
E7: ……………………………… ………….…..……………………………
E11: Schválený | F11: Upravený | G11: Skutečnost | H11: z toho:
E12: rozpočet | F12: rozpočet | G12: celkem | H12: Hlavní činnost | I12: Doplňková činnost
E13: celkem | F13: celkem | H13: jednotka - tis. Kč na 2 des. místa
A15: a) Náklady a výnosy
A16: Náklady | E16: 22664 | F16: 23917 | G16: =H16+I16 -> 23515 | H16: 23515 | I16: 0
A18: Výnosy | E18: 22664 | F18: 23917 | G18: =H18+I18 -> 22722 | H18: 22722 | I18: 0
A21: Doplňující údaje :
C22: daň z příjmů,dodatečné odvody daně z příjmů (nákladová položka) | G22: =H22+I22 -> 0 | H22: 0 | I22: 0
A24: Výsledek hospodaření /po zdanění/ | G24: =ROUND(G18-G16-G22,2) -> -793 | H24: =H18-H16-H22 -> -793 | I24: =I18-I16-I22 -> 0
A28: b) | B28: Rozdělení výsledku hospodaření | G28: -794328.52 | H28: v Kč
C29: - Návrh na příděly do fondů: | F29: Fond odměn | G29: 0 | H29: v Kč
F30: Fond rezervní | G30: 0 | H30: v Kč
C31: - Způsob krytí ztráty : | F31: Ćástka | G31: -794328.52 | H31: v Kč
A32: Ztráta za rok 2010 bude ve výši 2 192,06 Kč pokryta z prostředků rezervního fondu roku 2010 v souladu s ust. § 30, odst. 3d) zákona č. 250/2000 Sb., o rozpočtových pravidlech územních rozpočtů, ve znění pozdějších předpisů - použití prostředků rezervního fondu, vyjma poskytnutých darů a částka 792 136,46 Kč bude pokryta ze zlepšeného výsledku hospodaření v následujících letech.
A35: c) | B35: Závazné ukazatele
F36: Schválená částka | G36: Skutečnost | I36: % plnění
A37: Limit mzdových prostředků | F37: 10194 | G37: 10568.483 | H37: v tis. Kč | I37: =IF(F37=0,"nerozp.",G37/F37) -> 1.0367356 | K37: =G37-F37 -> 374.483 | L37: =10000+161441+94342+29697+79003 -> 374483
A38: Neinvestiční příspěvek /odpisy/ | F38: 455.2 | G38: 461.482 | H38: v tis. Kč | I38: =IF(F38=0,"nerozp.",G38/F38) -> 1.0138005 | K38: =G38-F38 -> 6.282
A39: Neinvestiční příspěvek/nájemné/ | F39: 0 | G39: 0 | H39: v tis. Kč | I39: =IF(F39=0,"nerozp.",G39/F39) -> nerozp.
A40: Odvody z investičního fondu /odpisy/ | F40: 341.65 | G40: 341.65 | H40: v tis. Kč | I40: =IF(F40=0,"nerozp.",G40/F40) -> 1
A41: Odvody z investičního fondu /spolufin. akcí/ | F41: 0 | G41: 0 | H41: v tis. Kč | I41: =IF(F41=0,"nerozp.",G41/F41) -> nerozp.
A42: Pozn. : | B42: Vynaložené odpisy nad stanovený limit byly finančně pokryty z provozních prostředků organizace-6 282,- Kč. Tato částka byla převedena z běžného účtu příspěvkové organizace na investiční až 9.2.2011.
B43: Překročení limitu mzdových prostředků o 374 483,- Kč bylo pokryto z grantů a projektů. Z grantu Ministerstva kultury se jednalo o částku 10 000,- Kč, ze St. města Přerov na projekt "Přírodě OK +" - 161 441,- Kč; projekt "Přírodě OK 2" -94 342,- Kč; projekt "záchranná stanice 2009/2010" - 29 697,- Kč a "záchranná stanice 2010/2011" - 79 003,- Kč.
A44: d) | B44: Fondy | H44: jednotka - Kč na 2 des. místa
E45: Stav k 1.1.2010 | F45: Tvorba | G45: Čerpání | H45: Stav k | I45: Finanční krytí k
H46: 40543 | I46: 40543
C49: Fond odměn | E49: 125447 | F49: 0 | G49: 0 | H49: =E49+F49-G49 -> 125447 | I49: 125447
C50: FKSP | E50: 90132.09 | F50: 207404 | G50: 266300 | H50: =E50+F50-G50 -> 31236.09 | I50: 34692.08
C51: Fond rezervní | E51: 352011.94 | F51: 84680.12 | G51: 81000 | H51: =E51+F51-G51 -> 355692.06 | I51: 319133.56
C52: Investiční fond | E52: 33734.29 | F52: 1897104 | G52: 1917778 | H52: =E52+F52-G52 -> 13060.29 | I52: 6975.73
A53: celkem | E53: =SUM(E49:E52) -> 601325.32 | F53: =SUM(F49:F52) -> 2189188.1 | G53: =SUM(G49:G52) -> 2265078 | H53: =SUM(H49:H52) -> 525435.44 | I53: =SUM(I49:I52) -> 486248.37

Sheet 7. Vlastivěd. muzeum Šumperk
A1: REKAPITULACE ZA ORGANIZACI :
A2: Název organizace : | E2: Vlastivědné muzeum v Šumperku, příspěvková organizace
E3: ……………………………………….……..………………………………………..…………………………………
A4: Adresa : | E4: Hlavní třída 342/22, 787 31 Šumperk
E5: ……………………………………….……..………………………………………..…………………………………
A6: IĆ | E6: 00098311 | H6: ORG | I6: 1607
E7: ……………………………… ………….…..……………………………
E11: Schválený | F11: Upravený | G11: Skutečnost | H11: z toho:
E12: rozpočet | F12: rozpočet | G12: celkem | H12: Hlavní činnost | I12: Doplňková činnost
E13: celkem | F13: celkem | H13: jednotka - tis. Kč na 2 des. místa
A15: a) Náklady a výnosy
A16: Náklady | E16: 22439 | F16: 23175 | G16: =H16+I16 -> 23278 | H16: 22704 | I16: 574
A18: Výnosy | E18: 22439 | F18: 23175 | G18: =H18+I18 -> 24022 | H18: 23177 | I18: 845
A21: Doplňující údaje :
C22: daň z příjmů,dodatečné odvody daně z příjmů (nákladová položka) | G22: =H22+I22 -> 0 | H22: 0 | I22: 0
A24: Výsledek hospodaření /po zdanění/ | G24: =ROUND(G18-G16-G22,2) -> 744 | H24: =H18-H16-H22 -> 473 | I24: =I18-I16-I22 -> 271
A28: b) | B28: Rozdělení výsledku hospodaření | G28: 742740.26 | H28: v Kč
C29: - Návrh na příděly do fondů: | F29: Fond odměn | G29: 0 | H29: v Kč
F30: Fond rezervní | G30: 742740.26 | H30: v Kč
C31: - Způsob krytí ztráty : | F31: Ćástka | G31: 0 | H31: v Kč
A35: c) | B35: Závazné ukazatele
F36: Schválená částka | G36: Skutečnost | I36: % plnění
A37: Limit mzdových prostředků | F37: 10666 | G37: =10666+128.314 -> 10794.314 | H37: v tis. Kč | I37: =IF(F37=0,"nerozp.",G37/F37) -> 1.0120302
A38: Neinvestiční příspěvek /odpisy/ | F38: 647.77 | G38: 646.94 | H38: v tis. Kč | I38: =IF(F38=0,"nerozp.",G38/F38) -> 0.99871868
A39: Neinvestiční příspěvek/nájemné/ | F39: 0 | G39: 0 | H39: v tis. Kč | I39: =IF(F39=0,"nerozp.",G39/F39) -> nerozp.
A40: Odvody z investičního fondu /odpisy/ | F40: 485.328 | G40: 485.328 | H40: v tis. Kč | I40: =IF(F40=0,"nerozp.",G40/F40) -> 1
A41: Odvody z investičního fondu /spolufin. akcí/ | F41: 25 | G41: 25 | H41: v tis. Kč | I41: =IF(F41=0,"nerozp.",G41/F41) -> 1
A42: Pozn. : | B42: Neinvestiční příspěvek - odpisy - příspěvková organizace vrátila částku 831,40,- Kč dne 5.1.2011 na účet Olom. kraje .
B43: Překročení limitu mzdových prostředků o 128 314,- Kč bylo pokryto z příspěvku města Šumperk (Klášterní kostel a RMIC).
A44: d) | B44: Fondy | H44: jednotka - Kč na 2 des. místa
E45: Stav k 1.1.2010 | F45: Tvorba | G45: Čerpání | H45: Stav k | I45: Finanční krytí k
H46: 40543 | I46: 40543
C49: Fond odměn | E49: 442470.32 | F49: 0 | G49: 0 | H49: =E49+F49-G49 -> 442470.32 | I49: 442470.32
C50: FKSP | E50: 94051.34 | F50: 217796 | G50: 267967 | H50: =E50+F50-G50 -> 43880.34 | I50: 35196.34
C51: Fond rezervní | E51: 367527.87 | F51: 202714.93 | G51: 0 | H51: =E51+F51-G51 -> 570242.8 | I51: 570242.8
C52: Investiční fond | E52: 99369.79 | F52: 776938.6 | G52: 719201.04 | H52: =E52+F52-G52 -> 157107.35 | I52: 157107.35
A53: celkem | E53: =SUM(E49:E52) -> 1003419.3 | F53: =SUM(F49:F52) -> 1197449.5 | G53: =SUM(G49:G52) -> 987168.04 | H53: =SUM(H49:H52) -> 1213700.8 | I53: =SUM(I49:I52) -> 1205016.8

Sheet 8. Archeolog. centrum
A1: REKAPITULACE ZA ORGANIZACI :
A2: Název organizace : | E2: Archeologické centrum Olomouc
E3: ……………………………………….……..………………………………………..…………………………………
A4: Adresa : | E4: 779 00 Olomouc, U Hradiska 42/6
E5: ……………………………………….……..………………………………………..…………………………………
A6: IĆ | E6: 75008271 | H6: ORG | I6: 1608
E7: ……………………………… ………….…..……………………………
E11: Schválený | F11: Upravený | G11: Skutečnost | H11: z toho:
E12: rozpočet | F12: rozpočet | G12: celkem | H12: Hlavní činnost | I12: Doplňková činnost
E13: celkem | F13: celkem | H13: jednotka - tis. Kč na 2 des. místa
A15: a) Náklady a výnosy
A16: Náklady | E16: 13339 | F16: 15438.05 | G16: =H16+I16 -> 15234 | H16: 15234 | I16: 0
A18: Výnosy | E18: 13339 | F18: 15438.05 | G18: =H18+I18 -> 16456 | H18: 16456 | I18: 0
A21: Doplňující údaje :
C22: daň z příjmů,dodatečné odvody daně z příjmů (nákladová položka) | G22: =H22+I22 -> 0 | H22: 0 | I22: 0
A24: Výsledek hospodaření /po zdanění/ | G24: =ROUND(G18-G16-G22,2) -> 1222 | H24: =H18-H16-H22 -> 1222 | I24: =I18-I16-I22 -> 0
A28: b) | B28: Rozdělení výsledku hospodaření | G28: 1227364.1 | H28: v Kč
C29: - Návrh na příděly do fondů: | F29: Fond odměn | G29: 0 | H29: v Kč
F30: Fond rezervní | G30: 1227364.1 | H30: v Kč
C31: - Způsob krytí ztráty : | F31: Ćástka | G31: 0 | H31: v Kč
A32: Ztráta za rok 2009 ve výši 13 624,64 Kč byla pokryta z prostředků rezervního fondu v souladu s ust. § 30, odst. 3d) zákona č. 250/2000 Sb., o rozpočtových pravidlech územních rozpočtů, ve znění pozdějších předpisů - použití prostředků rezervního fondu, vyjma poskytnutých darů.
A35: c) | B35: Závazné ukazatele
F36: Schválená částka | G36: Skutečnost | I36: % plnění
A37: Limit mzdových prostředků | F37: 5514 | G37: 5372.74 | H37: v tis. Kč | I37: =IF(F37=0,"nerozp.",G37/F37) -> 0.97438157 | K37: =G37-F37 -> -141.26
A38: Neinvestiční příspěvek /odpisy/ | F38: 1508.21 | G38: 1512.06 | H38: v tis. Kč | I38: =IF(F38=0,"nerozp.",G38/F38) -> 1.0025527 | K38: =G38-F38 -> 3.85
A39: Neinvestiční příspěvek/nájemné/ | F39: 0 | G39: 0 | H39: v tis. Kč | I39: =IF(F39=0,"nerozp.",G39/F39) -> nerozp.
A40: Odvody z investičního fondu /odpisy/ | F40: 1159.206 | G40: 1159.206 | H40: v tis. Kč | I40: =IF(F40=0,"nerozp.",G40/F40) -> 1
A41: Odvody z investičního fondu /spolufin. akcí/ | F41: 0 | G41: 0 | H41: v tis. Kč | I41: =IF(F41=0,"nerozp.",G41/F41) -> nerozp.
A42: Pozn. : | B42: Vynaložené odpisy nad stanovený limit byly finančně pokryty z provozních prostředků organizace-3 849,10 Kč.
A44: d) | B44: Fondy | H44: jednotka - Kč na 2 des. místa
E45: Stav k 1.1.2010 | F45: Tvorba | G45: Čerpání | H45: Stav k | I45: Finanční krytí k
H46: 40543 | I46: 40543
C49: Fond odměn | E49: 102208 | F49: 0 | G49: 0 | H49: =E49+F49-G49 -> 102208 | I49: 102208
C50: FKSP | E50: 213445.06 | F50: 94261.1 | G50: 86668 | H50: =E50+F50-G50 -> 221038.16 | I50: 222238.88
C51: Fond rezervní | E51: 264057 | F51: 0 | G51: 13624.64 | H51: =E51+F51-G51 -> 250432.36 | I51: 250432.36
C52: Investiční fond | E52: 100653.74 | F52: 3262055.1 | G52: 2909206 | H52: =E52+F52-G52 -> 453502.84 | I52: 453502.84
A53: celkem | E53: =SUM(E49:E52) -> 680363.8 | F53: =SUM(F49:F52) -> 3356316.2 | G53: =SUM(G49:G52) -> 3009498.6 | H53: =SUM(H49:H52) -> 1027181.4 | I53: =SUM(I49:I52) -> 1028382.1

Sheet CELKEM
A1: REKAPITULACE ZA ORGANIZACI :
E2: CELKEM - PO OBLAST KULTURY
E3: ……………………………………….……..………………………………………..…………………………………
E11: Schválený | F11: Upravený | G11: Skutečnost | H11: z toho:
E12: rozpočet | F12: rozpočet | G12: celkem | H12: Hlavní činnost | I12: Doplňková činnost
E13: celkem | F13: celkem | H13: jednotka - tis. Kč na 2 des. místa
A15: a) Náklady a výnosy
A16: Náklady | E16: =SUM('1. Vědecká knihovna:8. Archeolog. centrum'!E16) -> 143770 | F16: =SUM('1. Vědecká knihovna:8. Archeolog. centrum'!F16) -> 152034.98 | G16: =SUM('1. Vědecká knihovna:8. Archeolog. centrum'!G16) -> 152419 | H16: =SUM('1. Vědecká knihovna:8. Archeolog. centrum'!H16) -> 151845 | I16: =SUM('1. Vědecká knihovna:8. Archeolog. centrum'!I16) -> 574
A18: Výnosy | E18: =SUM('1. Vědecká knihovna:8. Archeolog. centrum'!E18) -> 143770 | F18: =SUM('1. Vědecká knihovna:8. Archeolog. centrum'!F18) -> 152034.97 | G18: =SUM('1. Vědecká knihovna:8. Archeolog. centrum'!G18) -> 154089 | H18: =SUM('1. Vědecká knihovna:8. Archeolog. centrum'!H18) -> 153244 | I18: =SUM('1. Vědecká knihovna:8. Archeolog. centrum'!I18) -> 845
A21: Doplňující údaje :
C22: daň z příjmů,dodatečné odvody daně z příjmů (nákladová položka) | G22: =SUM('1. Vědecká knihovna:8. Archeolog. centrum'!G22) -> 0 | H22: =SUM('1. Vědecká knihovna:8. Archeolog. centrum'!H22) -> 0 | I22: =SUM('1. Vědecká knihovna:8. Archeolog. centrum'!I22) -> 0
A24: Výsledek hospodaření /po zdanění/ | G24: =SUM('1. Vědecká knihovna:8. Archeolog. centrum'!G24) -> 1670 | H24: =SUM('1. Vědecká knihovna:8. Archeolog. centrum'!H24) -> 1399 | I24: =SUM('1. Vědecká knihovna:8. Archeolog. centrum'!I24) -> 271
A28: b) | B28: Rozdělení výsledku hospodaření | G28: =SUM('1. Vědecká knihovna:8. Archeolog. centrum'!G28) -> 1673545.1 | H28: v Kč
C29: - Návrh na příděly do fondů: | F29: Fond odměn | G29: =SUM('1. Vědecká knihovna:8. Archeolog. centrum'!G29) -> 0 | H29: v Kč
F30: Fond rezervní | G30: =SUM('1. Vědecká knihovna:8. Archeolog. centrum'!G30) -> 2467873.6 | H30: v Kč
C31: - Způsob krytí ztráty : | F31: Ćástka | G31: =SUM('1. Vědecká knihovna:8. Archeolog. centrum'!G31) -> -794328.52 | H31: v Kč
A35: c) | B35: Závazné ukazatele
A37: Limit mzdových prostředků | F37: =SUM('1. Vědecká knihovna:8. Archeolog. centrum'!F37) -> 65585 | G37: =SUM('1. Vědecká knihovna:8. Archeolog. centrum'!G37) -> 66214.659 | H37: v tis. Kč | I37: =IF(F37=0,"nerozp.",G37/F37) -> 1.0096007
A38: Neinvestiční příspěvek /odpisy/ | F38: =SUM('1. Vědecká knihovna:8. Archeolog. centrum'!F38) -> 9903.6494 | G38: =SUM('1. Vědecká knihovna:8. Archeolog. centrum'!G38) -> 9918.2174 | H38: v tis. Kč | I38: =IF(F38=0,"nerozp.",G38/F38) -> 1.001471
A39: Neinvestiční příspěvek/nájemné/ | F39: =SUM('1. Vědecká knihovna:8. Archeolog. centrum'!F39) -> 0 | G39: =SUM('1. Vědecká knihovna:8. Archeolog. centrum'!G39) -> 0 | H39: v tis. Kč | I39: =IF(F39=0,"nerozp.",G39/F39) -> nerozp.
A40: Odvody z investičního fondu /odpisy/ | F40: =SUM('1. Vědecká knihovna:8. Archeolog. centrum'!F40) -> 7537.78 | G40: =SUM('1. Vědecká knihovna:8. Archeolog. centrum'!G40) -> 7537.78 | H40: v tis. Kč | I40: =IF(F40=0,"nerozp.",G40/F40) -> 1
A41: Odvody z investičního fondu /spolufin. akcí/ | F41: =SUM('1. Vědecká knihovna:8. Archeolog. centrum'!F41) -> 125 | G41: =SUM('1. Vědecká knihovna:8. Archeolog. centrum'!G41) -> 125 | H41: v tis. Kč | I41: =IF(F41=0,"nerozp.",G41/F41) -> 1
A42: Pozn. :
A44: d) | B44: Fondy | H44: jednotka - Kč na 2 des. místa
E45: Stav k 1.1.2010 | F45: Tvorba | G45: Čerpání | H45: Stav k | I45: Finanční krytí k
H46: 40543 | I46: 40543
C49: Fond odměn | E49: =ROUND(SUM('1. Vědecká knihovna:8. Archeolog. centrum'!E49),2) -> 1909014.7 | F49: =ROUND(SUM('1. Vědecká knihovna:8. Archeolog. centrum'!F49),2) -> 0 | G49: =ROUND(SUM('1. Vědecká knihovna:8. Archeolog. centrum'!G49),2) -> 5856 | H49: =ROUND(SUM('1. Vědecká knihovna:8. Archeolog. centrum'!H49),2) -> 1903158.7 | I49: =ROUND(SUM('1. Vědecká knihovna:8. Archeolog. centrum'!I49),2) -> 1024246.3
C50: FKSP | E50: =ROUND(SUM('1. Vědecká knihovna:8. Archeolog. centrum'!E50),2) -> 798459.72 | F50: =ROUND(SUM('1. Vědecká knihovna:8. Archeolog. centrum'!F50),2) -> 1275382.7 | G50: =ROUND(SUM('1. Vědecká knihovna:8. Archeolog. centrum'!G50),2) -> 1328867 | H50: =ROUND(SUM('1. Vědecká knihovna:8. Archeolog. centrum'!H50),2) -> 744975.38 | I50: =ROUND(SUM('1. Vědecká knihovna:8. Archeolog. centrum'!I50),2) -> 630713.66
C51: Fond rezervní | E51: =ROUND(SUM('1. Vědecká knihovna:8. Archeolog. centrum'!E51),2) -> 3049765.9 | F51: =ROUND(SUM('1. Vědecká knihovna:8. Archeolog. centrum'!F51),2) -> 1049535.9 | G51: =ROUND(SUM('1. Vědecká knihovna:8. Archeolog. centrum'!G51),2) -> 328019.6 | H51: =ROUND(SUM('1. Vědecká knihovna:8. Archeolog. centrum'!H51),2) -> 3771282.1 | I51: =ROUND(SUM('1. Vědecká knihovna:8. Archeolog. centrum'!I51),2) -> 2634300.6
C52: Investiční fond | E52: =ROUND(SUM('1. Vědecká knihovna:8. Archeolog. centrum'!E52),2) -> 597026.21 | F52: =ROUND(SUM('1. Vědecká knihovna:8. Archeolog. centrum'!F52),2) -> 17138963 | G52: =ROUND(SUM('1. Vědecká knihovna:8. Archeolog. centrum'!G52),2) -> 15423492 | H52: =ROUND(SUM('1. Vědecká knihovna:8. Archeolog. centrum'!H52),2) -> 2312497.3 | I52: =ROUND(SUM('1. Vědecká knihovna:8. Archeolog. centrum'!I52),2) -> 2306332.5
A53: celkem | E53: =ROUND(SUM('1. Vědecká knihovna:8. Archeolog. centrum'!E53),2) -> 6354266.5 | F53: =ROUND(SUM('1. Vědecká knihovna:8. Archeolog. centrum'!F53),2) -> 19463882 | G53: =ROUND(SUM('1. Vědecká knihovna:8. Archeolog. centrum'!G53),2) -> 17086235 | H53: =ROUND(SUM('1. Vědecká knihovna:8. Archeolog. centrum'!H53),2) -> 8731913.5 | I53: =ROUND(SUM('1. Vědecká knihovna:8. Archeolog. centrum'!I53),2) -> 6595593.1
