Workbook

Sheet PID
L3: PID: | M3: Vyplňte PID kód žádosti
L5: Pořadové číslo žádosti: | M5: =IF($M$3=N5,VLOOKUP($M$3,'PID abecedně'!$A$2:$J$1500,8),"Nenalezeno") -> 0 | N5: =VLOOKUP($M$3,'PID abecedně'!$A$2:$J$1500,1,TRUE) -> Vyplňte PID kód žádosti
L7: Datum elektronické evidence žádosti: | M7: =IF($M$3="vyplňte PID kód žádosti"," ",(VLOOKUP($M$3,'PID abecedně'!$A$2:$J$1500,2)))
L9: Datum doručení listinné verze žádosti: | M9: =IF(N9=0," ",N9) | N9: =IF($M$3="vyplňte PID kód žádosti"," ",(VLOOKUP($M$3,'PID abecedně'!A2:I1500,3)))
L11: STAV žádosti: | M11: =IF($M$3="vyplňte PID kód žádosti"," ",(VLOOKUP($M$3,'PID abecedně'!$A$2:$J$1500,7)))
L13: SCHVÁLENO v Kč: | M13: =IF($M$3="vyplňte PID kód žádosti"," ",(VLOOKUP($M$3,'PID abecedně'!$A$2:$J$1500,4)))
L15: PROPLACENO v Kč: | M15: =IF($M$3="vyplňte PID kód žádosti"," ",(VLOOKUP($M$3,'PID abecedně'!$A$2:$J$1500,5)))
L17: PROPLACENO: | M17: =IF(N17=0," ",N17) | N17: =IF($M$3="vyplňte PID kód žádosti"," ",(VLOOKUP($M$3,'PID abecedně'!$A$2:$I$1500,9)))
L19: Aktualizováno 30. 11. 2025
B21: Komentář ke stavu žádosti: | G21: =IF(M21>M23,"Předpokládaný termín předložení žádosti ke schválení Radě Olomouckého kraje","Datum schválení Radou Olomouckého kraje") -> Předpokládaný termín předložení žádosti ke schválení Radě Olomouckého kraje | M21: =IF($M$3="vyplňte PID kód žádosti"," ",(VLOOKUP($M$3,'PID abecedně'!$A$2:$J$1500,10)))
B23: =IF(M11="EVIDOVÁNO",stavy!B3,IF(M11="NEDOLOŽENA LISTINNÁ VERZE",stavy!B5,IF(M11="VYŘAZENO",stavy!B7,IF(M11="schváleno FORMÁLNĚ A VĚCNĚ",stavy!B9,IF(OR(M11="Schváleno k podpoře", M11="AMO-SCHVÁLENO"),stavy!B11,IF(M11="PROPLACENO",stavy!B13,IF(M11="ZÁSOBNÍK",stavy!B15," "))))))) | M23: =TODAY() -> 45992

Sheet PID abecedně
A1: PID | B1: Datum podání (= elektronická evidence) | C1: #3 Datum podání listinné verze žádosti | D1: dotace - schválená | E1: dotace - PROPLACENÁ | F1: STAV skutečný | G1: STAV k zobrazení | H1: pořadí | I1: PROPLACENO | J1: ROK (schválení/ revokace)
A2: KUOLX01OC89K | B2: 44722 | C2: 44726 | D2: 100000 | E2: 100000 | F2: SCHVÁLENO k podpoře | G2: =IF(I2>0,"PROPLACENO",F2) -> PROPLACENO | H2: 204 | I2: 44916 | J2: 44858
A3: KUOLX01OC8K1 | B3: 44735 | C3: 44756 | D3: 130000 | E3: 130000 | F3: SCHVÁLENO k podpoře | G3: =IF(I3>0,"PROPLACENO",F3) -> PROPLACENO | H3: 759 | I3: 45152 | J3: 44886
A4: KUOLX01OCCUV | B4: 44722 | C4: 44726 | D4: 180000 | E4: 180000 | F4: SCHVÁLENO k podpoře | G4: =IF(I4>0,"PROPLACENO",F4) -> PROPLACENO | H4: 346 | I4: 44963 | J4: 44858
A5: KUOLX01OCD4A | B5: 44722 | C5: 44729 | D5: 180000 | E5: 180000 | F5: SCHVÁLENO k podpoře | G5: =IF(I5>0,"PROPLACENO",F5) -> PROPLACENO | H5: 111 | I5: 45573 | J5: 44823
A6: KUOLX01OCD55 | B6: 44722 | C6: 44725 | D6: 130000 | E6: 130000 | F6: SCHVÁLENO k podpoře | G6: =IF(I6>0,"PROPLACENO",F6) -> PROPLACENO | H6: 100 | I6: 45271 | J6: 44823
A7: KUOLX01OCEHA | B7: 44722 | C7: 44726 | D7: 180000 | E7: 180000 | F7: SCHVÁLENO k podpoře | G7: =IF(I7>0,"PROPLACENO",F7) -> PROPLACENO | H7: 406 | I7: 45131 | J7: 44858
A8: KUOLX01OCF1B | B8: 44722 | C8: 44732 | D8: 100000 | E8: 76475 | F8: SCHVÁLENO k podpoře | G8: =IF(I8>0,"PROPLACENO",F8) -> PROPLACENO | H8: 335 | I8: 44963 | J8: 44858
A9: KUOLX01OCFO4 | B9: 44722 | C9: 44725 | D9: 180000 | E9: 180000 | F9: SCHVÁLENO k podpoře | G9: =IF(I9>0,"PROPLACENO",F9) -> PROPLACENO | H9: 26 | I9: 44879 | J9: 44823
A10: KUOLX01OCJ7P | B10: 44722 | C10: 44725 | D10: 180000 | E10: 180000 | F10: SCHVÁLENO k podpoře | G10: =IF(I10>0,"PROPLACENO",F10) -> PROPLACENO | H10: 434 | I10: 44991 | J10: 44858
A11: KUOLX01OCJI6 | B11: 44741 | C11: 44753 | D11: 180000 | E11: 180000 | F11: SCHVÁLENO k podpoře | G11: =IF(I11>0,"PROPLACENO",F11) -> PROPLACENO | H11: 812 | I11: 45041 | J11: 44886
A12: KUOLX01OCKBY | B12: 44723 | C12: 44797 | D12: 180000 | E12: 180000 | F12: SCHVÁLENO k podpoře | G12: =IF(I12>0,"PROPLACENO",F12) -> PROPLACENO | H12: 531 | I12: 45257 | J12: 44886
A13: KUOLX01OCL86 | B13: 44722 | C13: 44726 | D13: 180000 | E13: 180000 | F13: SCHVÁLENO k podpoře | G13: =IF(I13>0,"PROPLACENO",F13) -> PROPLACENO | H13: 121 | I13: 44872 | J13: 44823
... A15: KUOLX01OCM3O | B15: 44722 | C15: 44727 | D15: 130000 | E15: 130000 | F15: SCHVÁLENO k podpoře | G15: =IF(I15>0,"PROPLACENO",F15) -> PROPLACENO | H15: 380 | I15: 45243 | J15: 44858
A16: KUOLX01OCNPF | B16: 44775 | C16: 44790 | E16: 0 | F16: VYŘAZENO | G16: =IF(I16>0,"PROPLACENO",F16) -> VYŘAZENO | H16: 1035 | J16: 44956
A17: KUOLX01OCNQA | B17: 44722 | C17: 44732 | D17: 130000 | E17: 130000 | F17: SCHVÁLENO k podpoře | G17: =IF(I17>0,"PROPLACENO",F17) -> PROPLACENO | H17: 179 | I17: 45008 | J17: 44823
A18: KUOLX01OCSEZ | B18: 44735 | C18: 44743 | D18: 180000 | E18: 180000 | F18: SCHVÁLENO k podpoře | G18: =IF(I18>0,"PROPLACENO",F18) -> PROPLACENO | H18: 772 | I18: 45005 | J18: 44886
A19: KUOLX01OCWUZ | B19: 44722 | C19: 44729 | D19: 87167.25 | E19: 87167.25 | F19: SCHVÁLENO k podpoře | G19: =IF(I19>0,"PROPLACENO",F19) -> PROPLACENO | H19: 154 | I19: 44998 | J19: 44823
A20: KUOLX01OCY47 | B20: 44723 | C20: 44727 | D20: 180000 | E20: 180000 | F20: SCHVÁLENO k podpoře | G20: =IF(I20>0,"PROPLACENO",F20) -> PROPLACENO | H20: 511 | I20: 45274 | J20: 44886
A21: KUOLX01OCYKZ | B21: 44724 | C21: 44733 | D21: 130000 | E21: 130000 | F21: SCHVÁLENO k podpoře | G21: =IF(I21>0,"PROPLACENO",F21) -> PROPLACENO | H21: 542 | I21: 45264 | J21: 44886
A22: KUOLX01OCYMP | B22: 44722 | C22: 44725 | D22: 180000 | E22: 180000 | F22: SCHVÁLENO k podpoře | G22: =IF(I22>0,"PROPLACENO",F22) -> PROPLACENO | H22: 96 | I22: 45215 | J22: 44823
A23: KUOLX01OCYQ5 | B23: 44734 | C23: 44734 | D23: 130000 | E23: 130000 | F23: SCHVÁLENO k podpoře | G23: =IF(I23>0,"PROPLACENO",F23) -> PROPLACENO | H23: 749 | I23: 45357 | J23: 44886
A24: KUOLX01OCYR0 | B24: 44725 | C24: 44727 | D24: 100000 | E24: 100000 | F24: SCHVÁLENO k podpoře | G24: =IF(I24>0,"PROPLACENO",F24) -> PROPLACENO | H24: 583 | I24: 45000 | J24: 44886
A25: KUOLX01OCYSV | B25: 44738 | C25: 44757 | D25: 180000 | E25: 180000 | F25: SCHVÁLENO k podpoře | G25: =IF(I25>0,"PROPLACENO",F25) -> PROPLACENO | H25: 783 | I25: 45021 | J25: 44886
A26: KUOLX01OCYTQ | B26: 44761 | C26: 44797 | E26: 0 | F26: VYŘAZENO | G26: =IF(I26>0,"PROPLACENO",F26) -> VYŘAZENO | H26: 953 | J26: 44956
A27: KUOLX01OCYWB | B27: 44722 | C27: 44725 | D27: 180000 | E27: 180000 | F27: SCHVÁLENO k podpoře | G27: =IF(I27>0,"PROPLACENO",F27) -> PROPLACENO | H27: 427 | I27: 45602 | J27: 44858
A28: KUOLX01OCZ35 | B28: 44722 | C28: 44755 | D28: 180000 | E28: 180000 | F28: SCHVÁLENO k podpoře | G28: =IF(I28>0,"PROPLACENO",F28) -> PROPLACENO | H28: 259 | I28: 44978 | J28: 44858
A29: KUOLX01OCZ5V | B29: 44722 | C29: 44804 | D29: 180000 | E29: 180000 | F29: SCHVÁLENO k podpoře | G29: =IF(I29>0,"PROPLACENO",F29) -> PROPLACENO | H29: 492 | I29: 45033 | J29: 44886
A30: KUOLX01ODH7Q | B30: 44726 | C30: 44770 | D30: 130000 | E30: 130000 | F30: SCHVÁLENO k podpoře | G30: =IF(I30>0,"PROPLACENO",F30) -> PROPLACENO | H30: 615 | I30: 45439 | J30: 44886
A31: KUOLX01ODHGH | B31: 44722 | C31: 44743 | E31: 0 | F31: VYŘAZENO | G31: =IF(I31>0,"PROPLACENO",F31) -> VYŘAZENO | H31: 347 | J31: 44858
A32: KUOLX01ODL63 | B32: 44725 | C32: 44725 | D32: 180000 | E32: 180000 | F32: SCHVÁLENO k podpoře | G32: =IF(I32>0,"PROPLACENO",F32) -> PROPLACENO | H32: 572 | I32: 44994 | J32: 44886
A33: KUOLX01ODLGP | B33: 44722 | C33: 44733 | E33: 0 | F33: VYŘAZENO | G33: =IF(I33>0,"PROPLACENO",F33) -> VYŘAZENO | H33: 153 | J33: 44823
A34: KUOLX01ODPZA | B34: 44726 | C34: 44735 | D34: 130000 | E34: 130000 | F34: SCHVÁLENO k podpoře | G34: =IF(I34>0,"PROPLACENO",F34) -> PROPLACENO | H34: 612 | I34: 45278 | J34: 44886
A35: KUOLX01ODRTQ | B35: 44722 | C35: 44728 | E35: 0 | F35: Schváleno/NENAPLNĚNÍ ÚČELU | G35: NENAPLNĚNÍ ÚČELU | H35: 281 | J35: 44858
A36: KUOLX01ODWJ5 | B36: 44726 | C36: 44763 | E36: 0 | F36: Schváleno/NENAPLNĚNÍ ÚČELU | G36: NENAPLNĚNÍ ÚČELU | H36: 614 | J36: 44886
A37: KUOLX01OE1BX | B37: 44722 | C37: 44734 | D37: 54195.6 | E37: 54195.6 | F37: SCHVÁLENO k podpoře | G37: =IF(I37>0,"PROPLACENO",F37) -> PROPLACENO | H37: 92 | I37: 44867 | J37: 44823
A38: KUOLX01OE4Z0 | B38: 44725 | C38: 44750 | D38: 130000 | E38: 130000 | F38: SCHVÁLENO k podpoře | G38: =IF(I38>0,"PROPLACENO",F38) -> PROPLACENO | H38: 554 | I38: 45442 | J38: 44886
A39: KUOLX01OE698 | B39: 44722 | C39: 44725 | D39: 130000 | E39: 130000 | F39: SCHVÁLENO k podpoře | G39: =IF(I39>0,"PROPLACENO",F39) -> PROPLACENO | H39: 500 | I39: 45126 | J39: 44886
A40: KUOLX01OE6YR | B40: 44722 | C40: 44783 | D40: 130000 | E40: 130000 | F40: SCHVÁLENO/DODATEK | G40: =IF(I40>0,"PROPLACENO",F40) -> PROPLACENO | H40: 407 | I40: 45988 | J40: 44858
A41: KUOLX01OE76G | B41: 44767 | C41: 44788 | D41: 100000 | E41: 100000 | F41: SCHVÁLENO k podpoře | G41: =IF(I41>0,"PROPLACENO",F41) -> PROPLACENO | H41: 991 | I41: 45700 | J41: 44956
A42: KUOLX01OE7CM | B42: 44722 | C42: 44734 | D42: 64660.8 | E42: 64660.8 | F42: SCHVÁLENO k podpoře | G42: =IF(I42>0,"PROPLACENO",F42) -> PROPLACENO | H42: 498 | I42: 45327 | J42: 44886
A43: KUOLX01OE7IS | B43: 44739 | C43: 44768 | E43: 0 | F43: ODSTOUPENÍ | G43: =IF(I43>0,"PROPLACENO",F43) -> ODSTOUPENÍ | H43: 789
A44: KUOLX01OEAC1 | B44: 44732 | C44: 44798 | D44: 130000 | E44: 25362.387 | F44: SCHVÁLENO k podpoře | G44: =IF(I44>0,"PROPLACENO",F44) -> PROPLACENO | H44: 725 | I44: 45328 | J44: 44886
A45: KUOLX01OEFB7 | B45: 44722 | C45: 44728 | E45: 0 | F45: Schváleno/NENAPLNĚNÍ ÚČELU | G45: NENAPLNĚNÍ ÚČELU | H45: 30 | J45: 44823
A46: KUOLX01OEINY | B46: 44795 | C46: 44797 | D46: 130000 | E46: 130000 | F46: SCHVÁLENO k podpoře | G46: =IF(I46>0,"PROPLACENO",F46) -> PROPLACENO | H46: 1246 | I46: 45806 | J46: 44998
A47: KUOLX01OEKJ4 | B47: 44742 | C47: 44749 | D47: 130000 | E47: 130000 | F47: SCHVÁLENO k podpoře | G47: =IF(I47>0,"PROPLACENO",F47) -> PROPLACENO | H47: 820 | I47: 45265 | J47: 44886
A48: KUOLX01OEKNK | B48: 44722 | C48: 44726 | D48: 130000 | E48: 130000 | F48: SCHVÁLENO k podpoře | G48: =IF(I48>0,"PROPLACENO",F48) -> PROPLACENO | H48: 133 | I48: 44986 | J48: 44823
A49: KUOLX01OEP8O | B49: 44722 | C49: 44727 | D49: 180000 | E49: 180000 | F49: SCHVÁLENO k podpoře | G49: =IF(I49>0,"PROPLACENO",F49) -> PROPLACENO | H49: 35 | I49: 44916 | J49: 44823
A50: KUOLX01OEQVA | B50: 44792 | C50: 44795 | D50: 97850 | E50: 97850 | F50: SCHVÁLENO k podpoře | G50: =IF(I50>0,"PROPLACENO",F50) -> PROPLACENO | H50: 1229 | I50: 45699 | J50: 44998
A51: KUOLX01OESQL | B51: 44722 | C51: 44789 | D51: 100000 | E51: 100000 | F51: SCHVÁLENO k podpoře | G51: =IF(I51>0,"PROPLACENO",F51) -> PROPLACENO | H51: 228 | I51: 44971 | J51: 44858
A52: KUOLX01OESU1 | B52: 44722 | C52: 44727 | E52: 0 | F52: VYŘAZENO | G52: =IF(I52>0,"PROPLACENO",F52) -> VYŘAZENO | H52: 423 | J52: 44858
A53: KUOLX01OESWR | B53: 44723 | C53: 44732 | D53: 180000 | E53: 180000 | F53: SCHVÁLENO k podpoře | G53: =IF(I53>0,"PROPLACENO",F53) -> PROPLACENO | H53: 532 | I53: 45021 | J53: 44886
A54: KUOLX01OEX2Y | B54: 44722 | C54: 44728 | D54: 100000 | E54: 100000 | F54: SCHVÁLENO k podpoře | G54: =IF(I54>0,"PROPLACENO",F54) -> PROPLACENO | H54: 17 | I54: 45244 | J54: 44823
A55: KUOLX01OEZQ8 | B55: 44722 | C55: 44742 | D55: 130000 | E55: 130000 | F55: SCHVÁLENO k podpoře | G55: =IF(I55>0,"PROPLACENO",F55) -> PROPLACENO | H55: 440 | I55: 45082 | J55: 44858
A56: KUOLX01OF7R6 | B56: 44722 | C56: 44726 | D56: 130000 | E56: 130000 | F56: SCHVÁLENO k podpoře | G56: =IF(I56>0,"PROPLACENO",F56) -> PROPLACENO | H56: 231 | I56: 44977 | J56: 44858
A57: KUOLX01OFD6X | B57: 44723 | C57: 44727 | D57: 130000 | E57: 130000 | F57: SCHVÁLENO k podpoře | G57: =IF(I57>0,"PROPLACENO",F57) -> PROPLACENO | H57: 517 | I57: 44986 | J57: 44886
A58: KUOLX01OFE40 | B58: 44725 | C58: 44728 | D58: 180000 | E58: 180000 | F58: SCHVÁLENO k podpoře | G58: =IF(I58>0,"PROPLACENO",F58) -> PROPLACENO | H58: 560 | I58: 45063 | J58: 44886
A59: KUOLX01OFE9B | B59: 44722 | C59: 44736 | D59: 180000 | E59: 180000 | F59: SCHVÁLENO/DODATEK | G59: =IF(I59>0,"PROPLACENO",F59) -> PROPLACENO | H59: 471 | I59: 45252 | J59: 44886
A60: KUOLX01OFFBU | B60: 44722 | C60: 44728 | E60: 0 | F60: VYŘAZENO | G60: =IF(I60>0,"PROPLACENO",F60) -> VYŘAZENO | H60: 82 | J60: 44823
A61: KUOLX01OFFDK | B61: 44724 | C61: 44733 | D61: 180000 | E61: 180000 | F61: SCHVÁLENO k podpoře | G61: =IF(I61>0,"PROPLACENO",F61) -> PROPLACENO | H61: 546 | I61: 45012 | J61: 44886
A62: KUOLX01OFFG5 | B62: 44722 | C62: 44725 | D62: 180000 | E62: 180000 | F62: SCHVÁLENO k podpoře | G62: =IF(I62>0,"PROPLACENO",F62) -> PROPLACENO | H62: 88 | I62: 44915 | J62: 44823
A63: KUOLX01OFFJQ | B63: 44722 | C63: 44725 | D63: 180000 | E63: 180000 | F63: SCHVÁLENO k podpoře | G63: =IF(I63>0,"PROPLACENO",F63) -> PROPLACENO | H63: 212 | I63: 44952 | J63: 44858
A64: KUOLX01OFFMB | B64: 44773 | C64: 44775 | D64: 100000 | E64: 100000 | F64: SCHVÁLENO k podpoře | G64: =IF(I64>0,"PROPLACENO",F64) -> PROPLACENO | H64: 1024 | I64: 45061 | J64: 44956
A65: KUOLX01OFFN6 | B65: 44723 | C65: 44733 | D65: 180000 | E65: 180000 | F65: SCHVÁLENO k podpoře | G65: =IF(I65>0,"PROPLACENO",F65) -> PROPLACENO | H65: 502 | I65: 45104 | J65: 44886
A66: KUOLX01OFFTC | B66: 44722 | C66: 44741 | D66: 130000 | E66: 130000 | F66: SCHVÁLENO k podpoře | G66: =IF(I66>0,"PROPLACENO",F66) -> PROPLACENO | H66: 178 | I66: 45321 | J66: 44823
A67: KUOLX01OFG3R | B67: 44722 | C67: 44733 | D67: 180000 | E67: 180000 | F67: SCHVÁLENO k podpoře | G67: =IF(I67>0,"PROPLACENO",F67) -> PROPLACENO | H67: 130 | I67: 44952 | J67: 44823
A68: KUOLX01OFG4M | B68: 44723 | C68: 44732 | D68: 130000 | E68: 130000 | F68: SCHVÁLENO k podpoře | G68: =IF(I68>0,"PROPLACENO",F68) -> PROPLACENO | H68: 528 | I68: 45006 | J68: 44886
A69: KUOLX01OFJA7 | B69: 44722 | C69: 44726 | D69: 180000 | E69: 180000 | F69: SCHVÁLENO k podpoře | G69: =IF(I69>0,"PROPLACENO",F69) -> PROPLACENO | H69: 227 | I69: 45642 | J69: 44858
A70: KUOLX01OFJMJ | B70: 44722 | C70: 44726 | D70: 180000 | E70: 180000 | F70: SCHVÁLENO k podpoře | G70: =IF(I70>0,"PROPLACENO",F70) -> PROPLACENO | H70: 264 | I70: 44963 | J70: 44858
A71: KUOLX01OFKTD | B71: 44722 | C71: 44726 | D71: 100000 | E71: 88758.5 | F71: SCHVÁLENO k podpoře | G71: =IF(I71>0,"PROPLACENO",F71) -> PROPLACENO | H71: 173 | I71: 44963 | J71: 44823
A72: KUOLX01OFME2 | B72: 44722 | C72: 44776 | D72: 180000 | E72: 180000 | F72: SCHVÁLENO k podpoře | G72: =IF(I72>0,"PROPLACENO",F72) -> PROPLACENO | H72: 134 | I72: 45328 | J72: 44823
... A74: KUOLX01OFOZR | B74: 44722 | C74: 44726 | D74: 180000 | E74: 180000 | F74: SCHVÁLENO k podpoře | G74: =IF(I74>0,"PROPLACENO",F74) -> PROPLACENO | H74: 18 | I74: 44915 | J74: 44823
A75: KUOLX01OFSD1 | B75: 44722 | C75: 44726 | E75: 0 | F75: Schváleno/NENAPLNĚNÍ ÚČELU | G75: NENAPLNĚNÍ ÚČELU | H75: 247 | J75: 44858
A76: KUOLX01OFSPD | B76: 44722 | C76: 44753 | D76: 180000 | E76: 180000 | F76: SCHVÁLENO k podpoře | G76: =IF(I76>0,"PROPLACENO",F76) -> PROPLACENO | H76: 405 | I76: 44977 | J76: 44858
A77: KUOLX01OFU1B | B77: 44722 | C77: 44726 | E77: 0 | F77: VYŘAZENO | G77: =IF(I77>0,"PROPLACENO",F77) -> VYŘAZENO | H77: 215 | J77: 44858
A78: KUOLX01OFWIK | B78: 44732 | C78: 44739 | D78: 130000 | E78: 130000 | F78: SCHVÁLENO k podpoře | G78: =IF(I78>0,"PROPLACENO",F78) -> PROPLACENO | H78: 718 | I78: 45320 | J78: 44886
A79: KUOLX01OG2QX | B79: 44722 | C79: 44727 | D79: 180000 | E79: 180000 | F79: SCHVÁLENO k podpoře | G79: =IF(I79>0,"PROPLACENO",F79) -> PROPLACENO | H79: 443 | I79: 45188 | J79: 44858
A80: KUOLX01OG818 | B80: 44722 | C80: 44726 | D80: 180000 | E80: 180000 | F80: SCHVÁLENO k podpoře | G80: =IF(I80>0,"PROPLACENO",F80) -> PROPLACENO | H80: 222 | I80: 45320 | J80: 44858
A81: KUOLX01OG9M4 | B81: 44722 | C81: 44726 | D81: 180000 | E81: 180000 | F81: SCHVÁLENO k podpoře | G81: =IF(I81>0,"PROPLACENO",F81) -> PROPLACENO | H81: 80 | I81: 44963 | J81: 44823
A82: KUOLX01OGAVO | B82: 44722 | C82: 44726 | D82: 130000 | E82: 130000 | F82: SCHVÁLENO k podpoře | G82: =IF(I82>0,"PROPLACENO",F82) -> PROPLACENO | H82: 10 | I82: 45140 | J82: 44823
A83: KUOLX01OGB3D | B83: 44722 | C83: 44726 | E83: 0 | F83: Schváleno/NENAPLNĚNÍ ÚČELU | G83: NENAPLNĚNÍ ÚČELU | H83: 101 | J83: 44823
A84: KUOLX01OGBR1 | B84: 44722 | C84: 44725 | D84: 130000 | E84: 130000 | F84: SCHVÁLENO k podpoře | G84: =IF(I84>0,"PROPLACENO",F84) -> PROPLACENO | H84: 229 | I84: 45068 | J84: 44858
A85: KUOLX01OGC6R | B85: 44722 | C85: 44726 | D85: 180000 | E85: 180000 | F85: SCHVÁLENO k podpoře | G85: =IF(I85>0,"PROPLACENO",F85) -> PROPLACENO | H85: 21 | I85: 44979 | J85: 44823
A86: KUOLX01OGDMC | B86: 44722 | C86: 44726 | D86: 130000 | E86: 130000 | F86: SCHVÁLENO k podpoře | G86: =IF(I86>0,"PROPLACENO",F86) -> PROPLACENO | H86: 217 | I86: 45239 | J86: 44858
A87: KUOLX01OGDTD | B87: 44722 | C87: 44797 | D87: 130000 | E87: 130000 | F87: SCHVÁLENO/DODATEK | G87: =IF(I87>0,"PROPLACENO",F87) -> PROPLACENO | H87: 430 | I87: 45747 | J87: 44858
A88: KUOLX01OGF71 | B88: 44722 | C88: 44732 | D88: 180000 | E88: 180000 | F88: SCHVÁLENO k podpoře | G88: =IF(I88>0,"PROPLACENO",F88) -> PROPLACENO | H88: 34 | I88: 44963 | J88: 44823
A89: KUOLX01OGGVI | B89: 44722 | C89: 44726 | E89: 0 | F89: Schváleno/ODSTOUPENÍ | G89: ODSTOUPENÍ | H89: 22 | J89: 44823
A90: KUOLX01OGJ5J | B90: 44722 | E90: 0 | F90: NEDOLOŽENA LISTINNÁ VERZE | G90: =IF(I90>0,"PROPLACENO",F90) -> NEDOLOŽENA LISTINNÁ VERZE | H90: 245
A91: KUOLX01OGJSC | B91: 44722 | C91: 44726 | D91: 100000 | E91: 100000 | F91: SCHVÁLENO k podpoře | G91: =IF(I91>0,"PROPLACENO",F91) -> PROPLACENO | H91: 251 | I91: 45041 | J91: 44858
A92: KUOLX01OGJVX | B92: 44722 | C92: 44756 | D92: 180000 | E92: 180000 | F92: SCHVÁLENO k podpoře | G92: =IF(I92>0,"PROPLACENO",F92) -> PROPLACENO | H92: 297 | I92: 44998 | J92: 44858
A93: KUOLX01OGMCZ | B93: 44722 | C93: 44739 | D93: 130000 | E93: 130000 | F93: SCHVÁLENO k podpoře | G93: =IF(I93>0,"PROPLACENO",F93) -> PROPLACENO | H93: 90 | I93: 45194 | J93: 44823
A94: KUOLX01OGNO4 | B94: 44722 | C94: 44726 | D94: 180000 | E94: 180000 | F94: SCHVÁLENO/DODATEK | G94: =IF(I94>0,"PROPLACENO",F94) -> PROPLACENO | H94: 23 | I94: 45553 | J94: 44823
A95: KUOLX01OGQK3 | B95: 44789 | C95: 44792 | E95: 0 | F95: Schváleno/NENAPLNĚNÍ ÚČELU | G95: NENAPLNĚNÍ ÚČELU | H95: 1186 | J95: 44956
A96: KUOLX01OGS8D | B96: 44732 | C96: 44750 | D96: 130000 | E96: 130000 | F96: SCHVÁLENO k podpoře | G96: =IF(I96>0,"PROPLACENO",F96) -> PROPLACENO | H96: 720 | I96: 45337 | J96: 44886
A97: KUOLX01OGSDO | B97: 44726 | C97: 44741 | D97: 130000 | E97: 130000 | F97: SCHVÁLENO k podpoře | G97: =IF(I97>0,"PROPLACENO",F97) -> PROPLACENO | H97: 627 | I97: 45069 | J97: 44886
A98: KUOLX01OGSEJ | B98: 44722 | C98: 44727 | E98: 0 | F98: VYŘAZENO | G98: =IF(I98>0,"PROPLACENO",F98) -> VYŘAZENO | H98: 489 | J98: 44886
A99: KUOLX01OGSFE | B99: 44722 | C99: 44733 | D99: 100000 | E99: 100000 | F99: SCHVÁLENO k podpoře | G99: =IF(I99>0,"PROPLACENO",F99) -> PROPLACENO | H99: 354 | I99: 45027 | J99: 44858
A100: KUOLX01OGSKP | B100: 44722 | C100: 44754 | D100: 130000 | E100: 130000 | F100: SCHVÁLENO k podpoře | G100: =IF(I100>0,"PROPLACENO",F100) -> PROPLACENO | H100: 445 | I100: 44993 | J100: 44858
A101: KUOLX01OGSMF | B101: 44722 | C101: 44732 | D101: 130000 | E101: 130000 | F101: SCHVÁLENO k podpoře | G101: =IF(I101>0,"PROPLACENO",F101) -> PROPLACENO | H101: 371 | I101: 45342 | J101: 44858
A102: KUOLX01OGVD3 | B102: 44760 | C102: 44762 | D102: 130000 | E102: 130000 | F102: SCHVÁLENO k podpoře | G102: =IF(I102>0,"PROPLACENO",F102) -> PROPLACENO | H102: 940 | I102: 45278 | J102: 44956
...

Sheet stavy
B3: Stav "EVIDOVÁNO" znamená, že je žádost elektronicky zaevidována a současně byla ve stanoveném termínu doložena listinná verze žádosti. Žádost čeká na kontrolu formální a věcné správnosti ze strany pracovníků oddělení administrace kotlíkových dotací.
B5: Při stavu "NEDOLOŽENÁ LISTINNÁ VERZE" nesplnil žadatel povinnost doložit po elektronické evidenci žádosti i její listinnou podobu, a to nejpozději do 31. 8. 2022. O nesplnění povinnosti a o vyřazení žádosti bude každý žadatel neprodleně písemně informován.
B7: Stav "VYŘAZENO" je u žádosti, ve které bylo zjištěno nesplnění nebo porušení podmínek dotačního programu a taková žádost nemůže být schválena k podpoře. O vyřazení žádosti je žadatel neprodleně písemně informován.
B9: Stav "Schváleno FORMÁLNĚ A VĚCNĚ" znamená, že žádost prošla procesem kontroly, vyhovuje podmínkám dotačního programu a bude předložena Radě Olomouckého kraje k projednání. O výsledku rozhodnutí Rady bude žadatel písemně vyrozuměn a zároveň bude na webových stránkách ke kotlíkovým dotacím zveřejněn seznam žádostí schválených k podpoře.
B11: Stav "Schváleno K PODPOŘE" znamená, že žádost byla schválena Radou Olomouckého kraje k podpoře. O schválení žádosti bude žadatel písemně vyrozuměn a zároveň bude na webových stránkách ke kotlíkovým dotacím zveřejněn seznam žádostí schválených k podpoře.
B13: "PROPLACENO" znamená, že žadatel předložil vyúčtování dotace, které bylo schváleno a finanční prostředky byly zaslány žadateli v uvedené datum na bankovní účet uvedený v žádosti.
B15: "ZÁSOBNÍK" znamená, že žádost splnila podmínky dotačního programu, ale z důvodu vyčerpání finančních prostředků ji nebylo možné schválit k podpoře. Pokud bude možné žádost dodatečně podpořit, bude žadatel o této skutečnosti informován.
