Workbook

Sheet PID
L3: PID: | M3: Vyplňte PID kód žádosti
L5: Pořadové číslo žádosti: | M5: =IF($M$3=N5,VLOOKUP($M$3,'PID abecedně'!$A$2:$J$1500,8),"Nenalezeno") -> 0 | N5: =VLOOKUP($M$3,'PID abecedně'!$A$2:$J$1500,1,TRUE) -> Vyplňte PID kód žádosti
L7: Datum elektronické evidence žádosti: | M7: =IF($M$3="vyplňte PID kód žádosti"," ",(VLOOKUP($M$3,'PID abecedně'!$A$2:$J$1500,2)))
L9: Datum doručení listinné verze žádosti: | M9: =IF(N9=0," ",N9) | N9: =IF($M$3="vyplňte PID kód žádosti"," ",(VLOOKUP($M$3,'PID abecedně'!A2:I1500,3)))
L11: STAV žádosti: | M11: =IF($M$3="vyplňte PID kód žádosti"," ",(VLOOKUP($M$3,'PID abecedně'!$A$2:$J$1500,7)))
L13: SCHVÁLENO v Kč: | M13: =IF($M$3="vyplňte PID kód žádosti"," ",(VLOOKUP($M$3,'PID abecedně'!$A$2:$J$1500,4)))
L15: PROPLACENO v Kč: | M15: =IF($M$3="vyplňte PID kód žádosti"," ",(VLOOKUP($M$3,'PID abecedně'!$A$2:$J$1500,5)))
L17: PROPLACENO: | M17: =IF(N17=0," ",N17) | N17: =IF($M$3="vyplňte PID kód žádosti"," ",(VLOOKUP($M$3,'PID abecedně'!$A$2:$I$1500,9)))
L19: Aktualizováno 30. 11. 2025
B21: Komentář ke stavu žádosti: | G21: =IF(M21>M23,"Předpokládaný termín předložení žádosti ke schválení Radě Olomouckého kraje","Datum schválení Radou Olomouckého kraje") -> Předpokládaný termín předložení žádosti ke schválení Radě Olomouckého kraje | M21: =IF($M$3="vyplňte PID kód žádosti"," ",(VLOOKUP($M$3,'PID abecedně'!$A$2:$J$1500,10)))
B23: =IF(M11="EVIDOVÁNO",stavy!B3,IF(M11="NEDOLOŽENA LISTINNÁ VERZE",stavy!B5,IF(M11="VYŘAZENO",stavy!B7,IF(M11="schváleno FORMÁLNĚ A VĚCNĚ",stavy!B9,IF(OR(M11="Schváleno k podpoře", M11="AMO-SCHVÁLENO"),stavy!B11,IF(M11="PROPLACENO",stavy!B13,IF(M11="ZÁSOBNÍK",stavy!B15," "))))))) | M23: =TODAY() -> 45992

Sheet PID abecedně
A1: PID | B1: Datum podání (= elektronická evidence) | C1: #3 Datum podání listinné verze žádosti | D1: dotace - schválená | E1: dotace - PROPLACENÁ | F1: STAV skutečný | G1: STAV k zobrazení | H1: pořadí | I1: PROPLACENO | J1: ROK (schválení/ revokace)
A2: KUOLX01OC89K | B2: 44722 | C2: 44726 | D2: 100000 | E2: 100000 | F2: SCHVÁLENO k podpoře | G2: =IF(I2>0,"PROPLACENO",F2) -> PROPLACENO | H2: 204 | I2: 44916 | J2: 44858
A3: KUOLX01OC8K1 | B3: 44735 | C3: 44756 | D3: 130000 | E3: 130000 | F3: SCHVÁLENO k podpoře | G3: =IF(I3>0,"PROPLACENO",F3) -> PROPLACENO | H3: 759 | I3: 45152 | J3: 44886
A4: KUOLX01OCCUV | B4: 44722 | C4: 44726 | D4: 180000 | E4: 180000 | F4: SCHVÁLENO k podpoře | G4: =IF(I4>0,"PROPLACENO",F4) -> PROPLACENO | H4: 346 | I4: 44963 | J4: 44858
A5: KUOLX01OCD4A | B5: 44722 | C5: 44729 | D5: 180000 | E5: 180000 | F5: SCHVÁLENO k podpoře | G5: =IF(I5>0,"PROPLACENO",F5) -> PROPLACENO | H5: 111 | I5: 45573 | J5: 44823
A6: KUOLX01OCD55 | B6: 44722 | C6: 44725 | D6: 130000 | E6: 130000 | F6: SCHVÁLENO k podpoře | G6: =IF(I6>0,"PROPLACENO",F6) -> PROPLACENO | H6: 100 | I6: 45271 | J6: 44823
A7: KUOLX01OCEHA | B7: 44722 | C7: 44726 | D7: 180000 | E7: 180000 | F7: SCHVÁLENO k podpoře | G7: =IF(I7>0,"PROPLACENO",F7) -> PROPLACENO | H7: 406 | I7: 45131 | J7: 44858
A8: KUOLX01OCF1B | B8: 44722 | C8: 44732 | D8: 100000 | E8: 76475 | F8: SCHVÁLENO k podpoře | G8: =IF(I8>0,"PROPLACENO",F8) -> PROPLACENO | H8: 335 | I8: 44963 | J8: 44858
A9: KUOLX01OCFO4 | B9: 44722 | C9: 44725 | D9: 180000 | E9: 180000 | F9: SCHVÁLENO k podpoře | G9: =IF(I9>0,"PROPLACENO",F9) -> PROPLACENO | H9: 26 | I9: 44879 | J9: 44823
A10: KUOLX01OCJ7P | B10: 44722 | C10: 44725 | D10: 180000 | E10: 180000 | F10: SCHVÁLENO k podpoře | G10: =IF(I10>0,"PROPLACENO",F10) -> PROPLACENO | H10: 434 | I10: 44991 | J10: 44858
A11: KUOLX01OCJI6 | B11: 44741 | C11: 44753 | D11: 180000 | E11: 180000 | F11: SCHVÁLENO k podpoře | G11: =IF(I11>0,"PROPLACENO",F11) -> PROPLACENO | H11: 812 | I11: 45041 | J11: 44886
A12: KUOLX01OCKBY | B12: 44723 | C12: 44797 | D12: 180000 | E12: 180000 | F12: SCHVÁLENO k podpoře | G12: =IF(I12>0,"PROPLACENO",F12) -> PROPLACENO | H12: 531 | I12: 45257 | J12: 44886
A13: KUOLX01OCL86 | B13: 44722 | C13: 44726 | D13: 180000 | E13: 180000 | F13: SCHVÁLENO k podpoře | G13: =IF(I13>0,"PROPLACENO",F13) -> PROPLACENO | H13: 121 | I13: 44872 | J13: 44823
... A15: KUOLX01OCM3O | B15: 44722 | C15: 44727 | D15: 130000 | E15: 130000 | F15: SCHVÁLENO k podpoře | G15: =IF(I15>0,"PROPLACENO",F15) -> PROPLACENO | H15: 380 | I15: 45243 | J15: 44858
A16: KUOLX01OCNPF | B16: 44775 | C16: 44790 | E16: 0 | F16: VYŘAZENO | G16: =IF(I16>0,"PROPLACENO",F16) -> VYŘAZENO | H16: 1035 | J16: 44956
A17: KUOLX01OCNQA | B17: 44722 | C17: 44732 | D17: 130000 | E17: 130000 | F17: SCHVÁLENO k podpoře | G17: =IF(I17>0,"PROPLACENO",F17) -> PROPLACENO | H17: 179 | I17: 45008 | J17: 44823
A18: KUOLX01OCSEZ | B18: 44735 | C18: 44743 | D18: 180000 | E18: 180000 | F18: SCHVÁLENO k podpoře | G18: =IF(I18>0,"PROPLACENO",F18) -> PROPLACENO | H18: 772 | I18: 45005 | J18: 44886
A19: KUOLX01OCWUZ | B19: 44722 | C19: 44729 | D19: 87167.25 | E19: 87167.25 | F19: SCHVÁLENO k podpoře | G19: =IF(I19>0,"PROPLACENO",F19) -> PROPLACENO | H19: 154 | I19: 44998 | J19: 44823
A20: KUOLX01OCY47 | B20: 44723 | C20: 44727 | D20: 180000 | E20: 180000 | F20: SCHVÁLENO k podpoře | G20: =IF(I20>0,"PROPLACENO",F20) -> PROPLACENO | H20: 511 | I20: 45274 | J20: 44886
A21: KUOLX01OCYKZ | B21: 44724 | C21: 44733 | D21: 130000 | E21: 130000 | F21: SCHVÁLENO k podpoře | G21: =IF(I21>0,"PROPLACENO",F21) -> PROPLACENO | H21: 542 | I21: 45264 | J21: 44886
A22: KUOLX01OCYMP | B22: 44722 | C22: 44725 | D22: 180000 | E22: 180000 | F22: SCHVÁLENO k podpoře | G22: =IF(I22>0,"PROPLACENO",F22) -> PROPLACENO | H22: 96 | I22: 45215 | J22: 44823
A23: KUOLX01OCYQ5 | B23: 44734 | C23: 44734 | D23: 130000 | E23: 130000 | F23: SCHVÁLENO k podpoře | G23: =IF(I23>0,"PROPLACENO",F23) -> PROPLACENO | H23: 749 | I23: 45357 | J23: 44886
A24: KUOLX01OCYR0 | B24: 44725 | C24: 44727 | D24: 100000 | E24: 100000 | F24: SCHVÁLENO k podpoře | G24: =IF(I24>0,"PROPLACENO",F24) -> PROPLACENO | H24: 583 | I24: 45000 | J24: 44886
A25: KUOLX01OCYSV | B25: 44738 | C25: 44757 | D25: 180000 | E25: 180000 | F25: SCHVÁLENO k podpoře | G25: =IF(I25>0,"PROPLACENO",F25) -> PROPLACENO | H25: 783 | I25: 45021 | J25: 44886
A26: KUOLX01OCYTQ | B26: 44761 | C26: 44797 | E26: 0 | F26: VYŘAZENO | G26: =IF(I26>0,"PROPLACENO",F26) -> VYŘAZENO | H26: 953 | J26: 44956
A27: KUOLX01OCYWB | B27: 44722 | C27: 44725 | D27: 180000 | E27: 180000 | F27: SCHVÁLENO k podpoře | G27: =IF(I27>0,"PROPLACENO",F27) -> PROPLACENO | H27: 427 | I27: 45602 | J27: 44858
A28: KUOLX01OCZ35 | B28: 44722 | C28: 44755 | D28: 180000 | E28: 180000 | F28: SCHVÁLENO k podpoře | G28: =IF(I28>0,"PROPLACENO",F28) -> PROPLACENO | H28: 259 | I28: 44978 | J28: 44858
A29: KUOLX01OCZ5V | B29: 44722 | C29: 44804 | D29: 180000 | E29: 180000 | F29: SCHVÁLENO k podpoře | G29: =IF(I29>0,"PROPLACENO",F29) -> PROPLACENO | H29: 492 | I29: 45033 | J29: 44886
A30: KUOLX01ODH7Q | B30: 44726 | C30: 44770 | D30: 130000 | E30: 130000 | F30: SCHVÁLENO k podpoře | G30: =IF(I30>0,"PROPLACENO",F30) -> PROPLACENO | H30: 615 | I30: 45439 | J30: 44886
A31: KUOLX01ODHGH | B31: 44722 | C31: 44743 | E31: 0 | F31: VYŘAZENO | G31: =IF(I31>0,"PROPLACENO",F31) -> VYŘAZENO | H31: 347 | J31: 44858
A32: KUOLX01ODL63 | B32: 44725 | C32: 44725 | D32: 180000 | E32: 180000 | F32: SCHVÁLENO k podpoře | G32: =IF(I32>0,"PROPLACENO",F32) -> PROPLACENO | H32: 572 | I32: 44994 | J32: 44886
A33: KUOLX01ODLGP | B33: 44722 | C33: 44733 | E33: 0 | F33: VYŘAZENO | G33: =IF(I33>0,"PROPLACENO",F33) -> VYŘAZENO | H33: 153 | J33: 44823
A34: KUOLX01ODPZA | B34: 44726 | C34: 44735 | D34: 130000 | E34: 130000 | F34: SCHVÁLENO k podpoře | G34: =IF(I34>0,"PROPLACENO",F34) -> PROPLACENO | H34: 612 | I34: 45278 | J34: 44886
A35: KUOLX01ODRTQ | B35: 44722 | C35: 44728 | E35: 0 | F35: Schváleno/NENAPLNĚNÍ ÚČELU | G35: NENAPLNĚNÍ ÚČELU | H35: 281 | J35: 44858
A36: KUOLX01ODWJ5 | B36: 44726 | C36: 44763 | E36: 0 | F36: Schváleno/NENAPLNĚNÍ ÚČELU | G36: NENAPLNĚNÍ ÚČELU | H36: 614 | J36: 44886
A37: KUOLX01OE1BX | B37: 44722 | C37: 44734 | D37: 54195.6 | E37: 54195.6 | F37: SCHVÁLENO k podpoře | G37: =IF(I37>0,"PROPLACENO",F37) -> PROPLACENO | H37: 92 | I37: 44867 | J37: 44823
A38: KUOLX01OE4Z0 | B38: 44725 | C38: 44750 | D38: 130000 | E38: 130000 | F38: SCHVÁLENO k podpoře | G38: =IF(I38>0,"PROPLACENO",F38) -> PROPLACENO | H38: 554 | I38: 45442 | J38: 44886
A39: KUOLX01OE698 | B39: 44722 | C39: 44725 | D39: 130000 | E39: 130000 | F39: SCHVÁLENO k podpoře | G39: =IF(I39>0,"PROPLACENO",F39) -> PROPLACENO | H39: 500 | I39: 45126 | J39: 44886
A40: KUOLX01OE6YR | B40: 44722 | C40: 44783 | D40: 130000 | E40: 130000 | F40: SCHVÁLENO/DODATEK | G40: =IF(I40>0,"PROPLACENO",F40) -> PROPLACENO | H40: 407 | I40: 45988 | J40: 44858
A41: KUOLX01OE76G | B41: 44767 | C41: 44788 | D41: 100000 | E41: 100000 | F41: SCHVÁLENO k podpoře | G41: =IF(I41>0,"PROPLACENO",F41) -> PROPLACENO | H41: 991 | I41: 45700 | J41: 44956
...

Sheet stavy
B3: Stav "EVIDOVÁNO" znamená, že je žádost elektronicky zaevidována a současně byla ve stanoveném termínu doložena listinná verze žádosti. Žádost čeká na kontrolu formální a věcné správnosti ze strany pracovníků oddělení administrace kotlíkových dotací.
B5: Při stavu "NEDOLOŽENÁ LISTINNÁ VERZE" nesplnil žadatel povinnost doložit po elektronické evidenci žádosti i její listinnou podobu, a to nejpozději do 31. 8. 2022. O nesplnění povinnosti a o vyřazení žádosti bude každý žadatel neprodleně písemně informován.
B7: Stav "VYŘAZENO" je u žádosti, ve které bylo zjištěno nesplnění nebo porušení podmínek dotačního programu a taková žádost nemůže být schválena k podpoře. O vyřazení žádosti je žadatel neprodleně písemně informován.
B9: Stav "Schváleno FORMÁLNĚ A VĚCNĚ" znamená, že žádost prošla procesem kontroly, vyhovuje podmínkám dotačního programu a bude předložena Radě Olomouckého kraje k projednání. O výsledku rozhodnutí Rady bude žadatel písemně vyrozuměn a zároveň bude na webových stránkách ke kotlíkovým dotacím zveřejněn seznam žádostí schválených k podpoře.
B11: Stav "Schváleno K PODPOŘE" znamená, že žádost byla schválena Radou Olomouckého kraje k podpoře. O schválení žádosti bude žadatel písemně vyrozuměn a zároveň bude na webových stránkách ke kotlíkovým dotacím zveřejněn seznam žádostí schválených k podpoře.
B13: "PROPLACENO" znamená, že žadatel předložil vyúčtování dotace, které bylo schváleno a finanční prostředky byly zaslány žadateli v uvedené datum na bankovní účet uvedený v žádosti.
B15: "ZÁSOBNÍK" znamená, že žádost splnila podmínky dotačního programu, ale z důvodu vyčerpání finančních prostředků ji nebylo možné schválit k podpoře. Pokud bude možné žádost dodatečně podpořit, bude žadatel o této skutečnosti informován.
